{"text_format":"1","workbook":"xlsx","n_sheets":13,"sheets":["Intro","Maths Summary Paper1","Maths Paper1 Data","Maths Summary Paper2","Maths Paper2 Data","Maths Summary Paper3","Maths Paper3 Data","Reading Summary","Reading Data","GP Summary","GP Data","Spell Summary","Spell Data"],"not_rendered":{"charts":0,"images":4,"macros":1,"external_links":2,"defined_names":44,"comments":0,"pivot_tables":10},"unopened":[],"bounds":{"document_bytes":16777216,"sheet_cells":100000,"rows_first":2000,"rows_last":500,"rows_between":2000,"halvings":0,"cell_chars":16384,"cell_head_chars":4096},"cells_cut":0,"cells_raw":0,"read":"whole","date_system":"1900"}

{"sheet":"Intro","index":0,"n_rows":32,"n_cols":2,"rows_kept":32,"cut":false,"hidden":false,"merged":[]}
[]
[]
[]
[]
[]
[]
[]
[]
[null,"Instructions"]
[null,"Click Enable Content at the top of your screen (if this appears).  Goto File>Save As and save your own version"]
[null,"Follow the instructions on each '*Subject* Data' sheet to record the marks from your pupils and to enable your own analysis.  The more information you complete on the Data sheet (FSM, SEN Group etc) the more detailed your analysis.  Pupil information entered on Maths Paper 1 Data, will be automatically populated in the other papers but can be overwritten if needed."]
[]
[null,"Once data has been entered on the Data sheet, move to the '*Subject* Summary' sheet for that test and Refresh the data using the icon on that sheet that looks like: "]
[null,"On each '*Subject* Summary' sheet, the 'Nat' column is the % of correct marks achieved nationally for ALL children.  "]
[null,"The yellow 'Your Correct' column shows the % of correct marks achieved for your cohort.  Filtering the relevant 'Data' sheet, will filter the results on the Summary sheet"]
[null,"Use the filters to look at different Objectives or Domains, questions or indicative year group"]
[null,"Sorting the 'Gap to Nat' column from 'Smallest to Largest' gives those questions with the biggest gap (negatively) to national averages at the top of your list.  Sorting 'Largest to Smallest' will give your best successes on the paper."]
[null,"Look for common subject domains for areas of the curriculum to investigate.  Consider the type of question, how it is laid out, where on the paper the question is placed, eg: low responses to questions near the end of the paper potentially suggests issues with stamina and accessing the whole test"]
[null,"Use the 'slicers' on each Summary sheet to filter the results to various groups of pupils"]
[null,"Papers can be accessed via the link on each sheet, to remind yourself of the questions"]
[]
[null,"The QLA Tool may help you to identify areas where additional CPD may be required."]
[null,"We have a number of sessions planned that may help, at Training & Events | Educator Solutions (norfolk.gov.uk), eg:"]
[]
[null,"•Accurate Primary Statutory Assessment - English  (title TBC)"]
[null,"•Accurate Primary Statutory Assessment - Maths  (title TBC)"]
[null,"•Developing Calculations in Years 3 and 4"]
[null,"•Developing Calculations in Years 5 and 6"]
[null,"•KS2 Assessment Networks"]
[null,"•Supporting Struggling Writers in Years 5 & 6"]
[null,"•Using formative assessment effectively to improve outcomes for all"]
[null,"•Write like an Expert"]

{"sheet":"Maths Summary Paper1","index":1,"n_rows":37,"n_cols":16,"rows_kept":37,"cut":false,"hidden":false,"merged":[]}
["Correct Count","Possible","Ques","Domain","Fine Domain","Year Group","Av Marks","Your Correct","Nat Domain","Nat","Gap to Nat",null,"Maths Paper 1 2019"]
[{"$f":"SUM(B2*H2%)","v":1},{"$f":"'Maths Paper1 Data'!$F$4*G2","v":1},1,"3. Number and place value","Addition of a four digit integer and a two digit integer which are both multiples of 10",4,{"$f":"'Maths Paper1 Data'!$H$2","v":1},{"$f":"'Maths Paper1 Data'!$H$4","v":100},96,97.5,{"$f":"H2-J2","v":2.5},null,"Link to Maths papers"]
[{"$f":"SUM(B3*H3%)","v":1},{"$f":"'Maths Paper1 Data'!$F$4*G3","v":1},2,"1. Addition, subtraction, multiplication and division (calculations)","Addition of a four digit integer and a two digit integer",4,{"$f":"'Maths Paper1 Data'!$I$2","v":1},{"$f":"'Maths Paper1 Data'!$I$4","v":100},83,94.2,5.7999999999999972]
[1,{"$f":"'Maths Paper1 Data'!$F$4*G4","v":1},3,"3. Number and place value","Subtraction of a hundreds number and a ones number from a three digit integer",3,{"$f":"'Maths Paper1 Data'!$J$2","v":1},{"$f":"'Maths Paper1 Data'!$J$4","v":100},96,93.5,6.5]
[1,{"$f":"'Maths Paper1 Data'!$F$4*G5","v":1},4,"1. Addition, subtraction, multiplication and division (calculations)","Subtraction of a one digit integer from a three digit integer",3,{"$f":"'Maths Paper1 Data'!$K$2","v":1},{"$f":"'Maths Paper1 Data'!$K$4","v":100},83,90.2,9.7999999999999972,null,"Domain"," Av Marks","% Domain Correct","National Domain %"]
[1,{"$f":"'Maths Paper1 Data'!$F$4*G6","v":1},5,"1. Addition, subtraction, multiplication and division (calculations)","Multiplication of a two digit integer by a one digit integer",3,{"$f":"'Maths Paper1 Data'!$L$2","v":1},{"$f":"'Maths Paper1 Data'!$L$4","v":100},83,93.8,6.2000000000000028,null,"1. Addition, subtraction, multiplication and division (calculations)",21,80.952380952380949,83]
[1,{"$f":"'Maths Paper1 Data'!$F$4*G7","v":1},6,"2. Fractions, decimals and percentages","Addition of a one digit 2.d.p number to a one digit 3.d.p number",5,{"$f":"'Maths Paper1 Data'!$M$2","v":1},{"$f":"'Maths Paper1 Data'!$M$4","v":100},72,90.9,9.0999999999999943,null,"2. Fractions, decimals and percentages",13,53.846153846153847,72]
[0,{"$f":"'Maths Paper1 Data'!$F$4*G8","v":1},7,"1. Addition, subtraction, multiplication and division (calculations)","Division of a three digit integer by a one digit integer",4,{"$f":"'Maths Paper1 Data'!$N$2","v":1},{"$f":"'Maths Paper1 Data'!$N$4","v":0},83,94,-94,null,"3. Number and place value",2,100,96]
[1,{"$f":"'Maths Paper1 Data'!$F$4*G9","v":1},8,"1. Addition, subtraction, multiplication and division (calculations)","Use division facts for multiplication tables up to 12x12",4,{"$f":"'Maths Paper1 Data'!$O$2","v":1},{"$f":"'Maths Paper1 Data'!$O$4","v":100},83,94.8,5.2000000000000028,null,"4. Ratio and proportion",4,50,69]
[1,{"$f":"'Maths Paper1 Data'!$F$4*G10","v":1},9,"1. Addition, subtraction, multiplication and division (calculations)","Use Known number facts",4,{"$f":"'Maths Paper1 Data'!$P$2","v":1},{"$f":"'Maths Paper1 Data'!$P$4","v":100},83,94.7,5.2999999999999972]
[1,{"$f":"'Maths Paper1 Data'!$F$4*G11","v":1},10,"1. Addition, subtraction, multiplication and division (calculations)","Division of a two digit integer by a one digit integer",4,{"$f":"'Maths Paper1 Data'!$Q$2","v":1},{"$f":"'Maths Paper1 Data'!$Q$4","v":100},83,92.9,7.0999999999999943]
[1,{"$f":"'Maths Paper1 Data'!$F$4*G12","v":1},11,"1. Addition, subtraction, multiplication and division (calculations)","Subtraction of a two digit integer from a two digit integer",3,{"$f":"'Maths Paper1 Data'!$R$2","v":1},{"$f":"'Maths Paper1 Data'!$R$4","v":100},83,93.7,6.2999999999999972]
[1,{"$f":"'Maths Paper1 Data'!$F$4*G13","v":1},12,"1. Addition, subtraction, multiplication and division (calculations)","Subtraction of a three digit integer from a three digit integer",4,{"$f":"'Maths Paper1 Data'!$S$2","v":1},{"$f":"'Maths Paper1 Data'!$S$4","v":100},83,80.2,19.799999999999997]
[1,{"$f":"'Maths Paper1 Data'!$F$4*G14","v":1},13,"1. Addition, subtraction, multiplication and division (calculations)","Division of a four digit integer by a two digit integer",6,{"$f":"'Maths Paper1 Data'!$T$2","v":1},{"$f":"'Maths Paper1 Data'!$T$4","v":100},83,88.8,11.200000000000003,null,"Year Group"," Av Marks","% Domain Correct"]
[0,{"$f":"'Maths Paper1 Data'!$F$4*G15","v":1},14,"2. Fractions, decimals and percentages","Multiplication of a two digit 2.d.p number by 10, 100 or 1000",5,{"$f":"'Maths Paper1 Data'!$U$2","v":1},{"$f":"'Maths Paper1 Data'!$U$4","v":0},72,86.7,-86.7,null,3,4,100]
[1,{"$f":"'Maths Paper1 Data'!$F$4*G16","v":1},15,"1. Addition, subtraction, multiplication and division (calculations)","Apply the order of operations to a calculation.",6,{"$f":"'Maths Paper1 Data'!$V$2","v":1},{"$f":"'Maths Paper1 Data'!$V$4","v":100},83,90,10,null,4,7,85.714285714285708]
[1,{"$f":"'Maths Paper1 Data'!$F$4*G17","v":1},16,"1. Addition, subtraction, multiplication and division (calculations)","Calculate a cubed number",5,{"$f":"'Maths Paper1 Data'!$W$2","v":1},{"$f":"'Maths Paper1 Data'!$W$4","v":100},83,83.2,16.799999999999997,null,5,16,56.25]
[1,{"$f":"'Maths Paper1 Data'!$F$4*G18","v":1},17,"1. Addition, subtraction, multiplication and division (calculations)","Multiply a three digit integer by 10, 100 or 1000",5,{"$f":"'Maths Paper1 Data'!$X$2","v":1},{"$f":"'Maths Paper1 Data'!$X$4","v":100},83,80.2,19.799999999999997,null,6,13,69.230769230769226]
[1,{"$f":"'Maths Paper1 Data'!$F$4*G19","v":1},18,"4. Ratio and proportion","Calculate the percentage of a number",6,{"$f":"'Maths Paper1 Data'!$Y$2","v":1},{"$f":"'Maths Paper1 Data'!$Y$4","v":100},69,81.900000000000006,18.099999999999994]
[0,{"$f":"'Maths Paper1 Data'!$F$4*G20","v":1},19,"2. Fractions, decimals and percentages","Subtraction of a one digit 2.d.p number from a one digit integer",5,{"$f":"'Maths Paper1 Data'!$Z$2","v":1},{"$f":"'Maths Paper1 Data'!$Z$4","v":0},72,80.2,-80.2]
[1,{"$f":"'Maths Paper1 Data'!$F$4*G21","v":1},20,"2. Fractions, decimals and percentages","Division of a one digit 1.d.p number by 10, 100 or 1000",5,{"$f":"'Maths Paper1 Data'!$AA$2","v":1},{"$f":"'Maths Paper1 Data'!$AA$4","v":100},72,77.599999999999994,22.400000000000006]
[0,{"$f":"'Maths Paper1 Data'!$F$4*G22","v":1},21,"2. Fractions, decimals and percentages","Subtraction of a one digit 1.d.p number from a one digit integer",5,{"$f":"'Maths Paper1 Data'!$AB$2","v":1},{"$f":"'Maths Paper1 Data'!$AB$4","v":0},72,80.599999999999994,-80.599999999999994]
[1,{"$f":"'Maths Paper1 Data'!$F$4*G23","v":1},22,"2. Fractions, decimals and percentages","Subtraction of a fraction from mixed number with a common denominator ",5,{"$f":"'Maths Paper1 Data'!$AC$2","v":1},{"$f":"'Maths Paper1 Data'!$AC$4","v":100},72,74.7,25.299999999999997]
[0,{"$f":"'Maths Paper1 Data'!$F$4*G24","v":2},23,"1. Addition, subtraction, multiplication and division (calculations)","Multiplication of a three digit integer by a two digit integer ",5,{"$f":"'Maths Paper1 Data'!$AD$2","v":2},{"$f":"'Maths Paper1 Data'!$AD$4","v":0},83,80.900000000000006,-80.900000000000006]
[0,{"$f":"'Maths Paper1 Data'!$F$4*G25","v":1},24,"2. Fractions, decimals and percentages","Addition of fractions with different denominators ",6,{"$f":"'Maths Paper1 Data'!$AE$2","v":1},{"$f":"'Maths Paper1 Data'!$AE$4","v":0},72,81.3,-81.3]
[2,{"$f":"'Maths Paper1 Data'!$F$4*G26","v":2},25,"1. Addition, subtraction, multiplication and division (calculations)","Division of a three digit integer by a two digit integer ",6,{"$f":"'Maths Paper1 Data'!$AF$2","v":2},{"$f":"'Maths Paper1 Data'!$AF$4","v":100},83,76.7,23.299999999999997]
[1,{"$f":"'Maths Paper1 Data'!$F$4*G27","v":1},26,"2. Fractions, decimals and percentages","Addition of mixed numbers with denominators, which are multiples of the same number.",5,{"$f":"'Maths Paper1 Data'!$AG$2","v":1},{"$f":"'Maths Paper1 Data'!$AG$4","v":100},72,74.2,25.799999999999997]
[0,{"$f":"'Maths Paper1 Data'!$F$4*G28","v":1},27,"4. Ratio and proportion","Calculate a percentage of a number which is a multiple of 10",6,{"$f":"'Maths Paper1 Data'!$AH$2","v":1},{"$f":"'Maths Paper1 Data'!$AH$4","v":0},69,69.599999999999994,-69.599999999999994]
[0,{"$f":"'Maths Paper1 Data'!$F$4*G29","v":1},28,"2. Fractions, decimals and percentages","Subtraction of proper fractions with different denominators",6,{"$f":"'Maths Paper1 Data'!$AI$2","v":1},{"$f":"'Maths Paper1 Data'!$AI$4","v":0},72,63.4,-63.4]
[0,{"$f":"'Maths Paper1 Data'!$F$4*G30","v":1},29,"4. Ratio and proportion","Calculate a percentage of a number which is a multiple of 10",6,{"$f":"'Maths Paper1 Data'!$AJ$2","v":1},{"$f":"'Maths Paper1 Data'!$AJ$4","v":0},69,72.099999999999994,-72.099999999999994]
[1,{"$f":"'Maths Paper1 Data'!$F$4*G31","v":2},30,"1. Addition, subtraction, multiplication and division (calculations)","Multiplication of a four digit integer by a two digit integer",5,{"$f":"'Maths Paper1 Data'!$AK$2","v":2},{"$f":"'Maths Paper1 Data'!$AK$4","v":50},83,74.099999999999994,-24.099999999999994]
[1,{"$f":"'Maths Paper1 Data'!$F$4*G32","v":1},31,"2. Fractions, decimals and percentages","Division of a proper fraction by a one digit number",6,{"$f":"'Maths Paper1 Data'!$AL$2","v":1},{"$f":"'Maths Paper1 Data'!$AL$4","v":100},72,73,27]
[1,{"$f":"'Maths Paper1 Data'!$F$4*G33","v":1},32,"2. Fractions, decimals and percentages","Subtraction of a fraction from a mixed number, with denominators which are multiples of the same number",5,{"$f":"'Maths Paper1 Data'!$AM$2","v":1},{"$f":"'Maths Paper1 Data'!$AM$4","v":100},72,61.4,38.6]
[1,{"$f":"'Maths Paper1 Data'!$F$4*G34","v":1},33,"4. Ratio and proportion","Calculate a percentage of a number which is a multiple of 10",6,{"$f":"'Maths Paper1 Data'!$AN$2","v":1},{"$f":"'Maths Paper1 Data'!$AN$4","v":100},69,52.8,47.2]
[1,{"$f":"'Maths Paper1 Data'!$F$4*G35","v":1},34,"2. Fractions, decimals and percentages","Multiplication of a mixed number by a two digit integer which is a multiple of 10",5,{"$f":"'Maths Paper1 Data'!$AO$2","v":1},{"$f":"'Maths Paper1 Data'!$AO$4","v":100},72,48.4,51.6]
[0,{"$f":"'Maths Paper1 Data'!$F$4*G36","v":1},35,"2. Fractions, decimals and percentages","Multiplication of a fraction by a three digit integer which is a multiple of 10",5,{"$f":"'Maths Paper1 Data'!$AP$2","v":1},{"$f":"'Maths Paper1 Data'!$AP$4","v":0},72,43.5,-43.5]
[2,{"$f":"'Maths Paper1 Data'!$F$4*G37","v":2},36,"1. Addition, subtraction, multiplication and division (calculations)","Division of a four digit number by a two digit number",6,{"$f":"'Maths Paper1 Data'!$AQ$2","v":2},{"$f":"'Maths Paper1 Data'!$AQ$4","v":100},83,50.1,49.9]

{"sheet":"Maths Paper1 Data","index":2,"n_rows":500,"n_cols":43,"rows_kept":500,"cut":false,"hidden":false,"merged":[]}
["Maths Paper 1 2019",null,null,null,"Link to Maths Papers",null,"DfE Domain","3. Number and place value","1. Addition, subtraction, multiplication and division (calculations)","3. Number and place value","1. Addition, subtraction, multiplication and division (calculations)","1. Addition, subtraction, multiplication and division (calculations)","2. Fractions, decimals and percentages","1. Addition, subtraction, multiplication and division (calculations)","1. Addition, subtraction, multiplication and division (calculations)","1. Addition, subtraction, multiplication and division (calculations)","1. Addition, subtraction, multiplication and division (calculations)","1. Addition, subtraction, multiplication and division (calculations)","1. Addition, subtraction, multiplication and division (calculations)","1. Addition, subtraction, multiplication and division (calculations)","2. Fractions, decimals and percentages","1. Addition, subtraction, multiplication and division (calculations)","1. Addition, subtraction, multiplication and division (calculations)","1. Addition, subtraction, multiplication and division (calculations)","4. Ratio and proportion","2. Fractions, decimals and percentages","2. Fractions, decimals and percentages","2. Fractions, decimals and percentages","2. Fractions, decimals and percentages","1. Addition, subtraction, multiplication and division (calculations)","2. Fractions, decimals and percentages","1. Addition, subtraction, multiplication and division (calculations)","2. Fractions, decimals and percentages","4. Ratio and proportion","2. Fractions, decimals and percentages","4. Ratio and proportion","1. Addition, subtraction, multiplication and division (calculations)","2. Fractions, decimals and percentages","2. Fractions, decimals and percentages","4. Ratio and proportion","2. Fractions, decimals and percentages","2. Fractions, decimals and percentages","1. Addition, subtraction, multiplication and division (calculations)"]
[null,null,null,null,"Link to Mark Scheme",{"$f":"IF(H2=\"\",\"\",(SUM(H2:AQ2)))","v":40},"Av Marks",1,1,1,1,1,1,1,1,1,1,1,1,1,1,1,1,1,1,1,1,1,1,2,1,2,1,1,1,1,2,1,1,1,1,1,2]
[null,null,null,null,null,null,"Nat Correct %",97.5,94.2,93.5,90.2,93.8,90.9,94,94.8,94.7,92.9,93.7,80.2,88.8,86.7,90,83.2,80.2,81.900000000000006,80.2,77.599999999999994,80.599999999999994,74.7,80.900000000000006,81.3,76.7,74.2,69.599999999999994,63.4,72.099999999999994,74.099999999999994,73,61.4,52.8,48.4,43.5,50.1]
[null,null,null,null,"Pupil Count",{"$f":"SUBTOTAL(9,Table1[Question No])","v":1},"Your Correct %",{"$f":"SUM(SUBTOTAL(9,H6:H985)/SUM(H2*$F$4))*100","v":100},100,100,100,100,100,0,100,100,100,100,100,100,0,100,100,100,100,0,100,0,100,0,0,100,100,0,0,0,50,100,100,100,100,0,100]
["School/Group Name","Pupil Name","Gender (M/F)","DisAdv (Y/N)","SEND (E,K,N)","Marks scored","Question No","1","2","3","4","5","6","7","8","9","10","11","12","13","14","15","16","17","18","19","20","21","22","23","24","25","26","27","28","29","30","31","32","33","34","35","36"]
["Hogwarts","Harry","M","Y","K",{"$f":"IF(H6=\"\",\"\",(SUM(H6:AQ6)))","v":28},{"$f":"IF(LEN(Table1[[#This Row],[Pupil Name]])>0,1,0)","v":1},1,1,1,1,1,1,0,1,1,1,1,1,1,0,1,1,1,1,0,1,0,1,0,0,2,1,0,0,0,1,1,1,1,1,0,2]
[null,null,null,null,null,{"$f":"IF(H7=\"\",\"\",(SUM(H7:AQ7)))","v":""},{"$f":"IF(LEN(Table1[[#This Row],[Pupil Name]])>0,1,0)","v":0}]
[null,null,null,null,null,"",{"$f":"IF(LEN(Table1[[#This Row],[Pupil Name]])>0,1,0)","v":0}]
[null,null,null,null,null,"",{"$f":"IF(LEN(Table1[[#This Row],[Pupil Name]])>0,1,0)","v":0}]
[null,null,null,null,null,"",{"$f":"IF(LEN(Table1[[#This Row],[Pupil Name]])>0,1,0)","v":0}]
[null,null,null,null,null,"",{"$f":"IF(LEN(Table1[[#This Row],[Pupil Name]])>0,1,0)","v":0}]
[null,null,null,null,null,"",{"$f":"IF(LEN(Table1[[#This Row],[Pupil Name]])>0,1,0)","v":0}]
[null,null,null,null,null,"",{"$f":"IF(LEN(Table1[[#This Row],[Pupil Name]])>0,1,0)","v":0}]
[null,null,null,null,null,"",{"$f":"IF(LEN(Table1[[#This Row],[Pupil Name]])>0,1,0)","v":0}]
[null,null,null,null,null,"",{"$f":"IF(LEN(Table1[[#This Row],[Pupil Name]])>0,1,0)","v":0}]
[null,null,null,null,null,"",{"$f":"IF(LEN(Table1[[#This Row],[Pupil Name]])>0,1,0)","v":0}]
[null,null,null,null,null,"",{"$f":"IF(LEN(Table1[[#This Row],[Pupil Name]])>0,1,0)","v":0}]
[null,null,null,null,null,"",{"$f":"IF(LEN(Table1[[#This Row],[Pupil Name]])>0,1,0)","v":0}]
[null,null,null,null,null,"",{"$f":"IF(LEN(Table1[[#This Row],[Pupil Name]])>0,1,0)","v":0}]
[null,null,null,null,null,"",{"$f":"IF(LEN(Table1[[#This Row],[Pupil Name]])>0,1,0)","v":0}]
[null,null,null,null,null,"",{"$f":"IF(LEN(Table1[[#This Row],[Pupil Name]])>0,1,0)","v":0}]
[null,null,null,null,null,"",{"$f":"IF(LEN(Table1[[#This Row],[Pupil Name]])>0,1,0)","v":0}]
[null,null,null,null,null,"",{"$f":"IF(LEN(Table1[[#This Row],[Pupil Name]])>0,1,0)","v":0}]
[null,null,null,null,null,"",{"$f":"IF(LEN(Table1[[#This Row],[Pupil Name]])>0,1,0)","v":0}]
[null,null,null,null,null,"",{"$f":"IF(LEN(Table1[[#This Row],[Pupil Name]])>0,1,0)","v":0}]
[null,null,null,null,null,"",{"$f":"IF(LEN(Table1[[#This Row],[Pupil Name]])>0,1,0)","v":0}]
[null,null,null,null,null,"",{"$f":"IF(LEN(Table1[[#This Row],[Pupil Name]])>0,1,0)","v":0}]
[null,null,null,null,null,"",{"$f":"IF(LEN(Table1[[#This Row],[Pupil Name]])>0,1,0)","v":0}]
[null,null,null,null,null,"",{"$f":"IF(LEN(Table1[[#This Row],[Pupil Name]])>0,1,0)","v":0}]
[null,null,null,null,null,"",{"$f":"IF(LEN(Table1[[#This Row],[Pupil Name]])>0,1,0)","v":0}]
[null,null,null,null,null,"",{"$f":"IF(LEN(Table1[[#This Row],[Pupil Name]])>0,1,0)","v":0}]
[null,null,null,null,null,"",{"$f":"IF(LEN(Table1[[#This Row],[Pupil Name]])>0,1,0)","v":0}]
[null,null,null,null,null,"",{"$f":"IF(LEN(Table1[[#This Row],[Pupil Name]])>0,1,0)","v":0}]
[null,null,null,null,null,"",{"$f":"IF(LEN(Table1[[#This Row],[Pupil Name]])>0,1,0)","v":0}]
[null,null,null,null,null,"",{"$f":"IF(LEN(Table1[[#This Row],[Pupil Name]])>0,1,0)","v":0}]
[null,null,null,null,null,"",{"$f":"IF(LEN(Table1[[#This Row],[Pupil Name]])>0,1,0)","v":0}]
[null,null,null,null,null,"",{"$f":"IF(LEN(Table1[[#This Row],[Pupil Name]])>0,1,0)","v":0}]
[null,null,null,null,null,"",{"$f":"IF(LEN(Table1[[#This Row],[Pupil Name]])>0,1,0)","v":0}]
[null,null,null,null,null,"",{"$f":"IF(LEN(Table1[[#This Row],[Pupil Name]])>0,1,0)","v":0}]
[null,null,null,null,null,"",{"$f":"IF(LEN(Table1[[#This Row],[Pupil Name]])>0,1,0)","v":0}]
[null,null,null,null,null,"",{"$f":"IF(LEN(Table1[[#This Row],[Pupil Name]])>0,1,0)","v":0}]
[null,null,null,null,null,"",{"$f":"IF(LEN(Table1[[#This Row],[Pupil Name]])>0,1,0)","v":0}]
[null,null,null,null,null,"",{"$f":"IF(LEN(Table1[[#This Row],[Pupil Name]])>0,1,0)","v":0}]
[null,null,null,null,null,"",{"$f":"IF(LEN(Table1[[#This Row],[Pupil Name]])>0,1,0)","v":0}]
[null,null,null,null,null,"",{"$f":"IF(LEN(Table1[[#This Row],[Pupil Name]])>0,1,0)","v":0}]
[null,null,null,null,null,"",{"$f":"IF(LEN(Table1[[#This Row],[Pupil Name]])>0,1,0)","v":0}]
[null,null,null,null,null,"",{"$f":"IF(LEN(Table1[[#This Row],[Pupil Name]])>0,1,0)","v":0}]
[null,null,null,null,null,"",{"$f":"IF(LEN(Table1[[#This Row],[Pupil Name]])>0,1,0)","v":0}]
[null,null,null,null,null,"",{"$f":"IF(LEN(Table1[[#This Row],[Pupil Name]])>0,1,0)","v":0}]
[null,null,null,null,null,"",{"$f":"IF(LEN(Table1[[#This Row],[Pupil Name]])>0,1,0)","v":0}]
[null,null,null,null,null,"",{"$f":"IF(LEN(Table1[[#This Row],[Pupil Name]])>0,1,0)","v":0}]
[null,null,null,null,null,"",{"$f":"IF(LEN(Table1[[#This Row],[Pupil Name]])>0,1,0)","v":0}]
[null,null,null,null,null,"",{"$f":"IF(LEN(Table1[[#This Row],[Pupil Name]])>0,1,0)","v":0}]
[null,null,null,null,null,"",{"$f":"IF(LEN(Table1[[#This Row],[Pupil Name]])>0,1,0)","v":0}]
[null,null,null,null,null,"",{"$f":"IF(LEN(Table1[[#This Row],[Pupil Name]])>0,1,0)","v":0}]
[null,null,null,null,null,"",{"$f":"IF(LEN(Table1[[#This Row],[Pupil Name]])>0,1,0)","v":0}]
[null,null,null,null,null,"",{"$f":"IF(LEN(Table1[[#This Row],[Pupil Name]])>0,1,0)","v":0}]
[null,null,null,null,null,"",{"$f":"IF(LEN(Table1[[#This Row],[Pupil Name]])>0,1,0)","v":0}]
[null,null,null,null,null,"",{"$f":"IF(LEN(Table1[[#This Row],[Pupil Name]])>0,1,0)","v":0}]
[null,null,null,null,null,"",{"$f":"IF(LEN(Table1[[#This Row],[Pupil Name]])>0,1,0)","v":0}]
[null,null,null,null,null,"",{"$f":"IF(LEN(Table1[[#This Row],[Pupil Name]])>0,1,0)","v":0}]
[null,null,null,null,null,"",{"$f":"IF(LEN(Table1[[#This Row],[Pupil Name]])>0,1,0)","v":0}]
[null,null,null,null,null,"",{"$f":"IF(LEN(Table1[[#This Row],[Pupil Name]])>0,1,0)","v":0}]
[null,null,null,null,null,"",{"$f":"IF(LEN(Table1[[#This Row],[Pupil Name]])>0,1,0)","v":0}]
[null,null,null,null,null,"",{"$f":"IF(LEN(Table1[[#This Row],[Pupil Name]])>0,1,0)","v":0}]
[null,null,null,null,null,"",{"$f":"IF(LEN(Table1[[#This Row],[Pupil Name]])>0,1,0)","v":0}]
[null,null,null,null,null,"",{"$f":"IF(LEN(Table1[[#This Row],[Pupil Name]])>0,1,0)","v":0}]
[null,null,null,null,null,"",{"$f":"IF(LEN(Table1[[#This Row],[Pupil Name]])>0,1,0)","v":0}]
[null,null,null,null,null,"",{"$f":"IF(LEN(Table1[[#This Row],[Pupil Name]])>0,1,0)","v":0}]
[null,null,null,null,null,"",{"$f":"IF(LEN(Table1[[#This Row],[Pupil Name]])>0,1,0)","v":0}]
[null,null,null,null,null,{"$f":"IF(H71=\"\",\"\",(SUM(H71:AQ71)))","v":""},{"$f":"IF(LEN(Table1[[#This Row],[Pupil Name]])>0,1,0)","v":0}]
[null,null,null,null,null,"",{"$f":"IF(LEN(Table1[[#This Row],[Pupil Name]])>0,1,0)","v":0}]
[null,null,null,null,null,"",{"$f":"IF(LEN(Table1[[#This Row],[Pupil Name]])>0,1,0)","v":0}]
[null,null,null,null,null,"",{"$f":"IF(LEN(Table1[[#This Row],[Pupil Name]])>0,1,0)","v":0}]
[null,null,null,null,null,"",{"$f":"IF(LEN(Table1[[#This Row],[Pupil Name]])>0,1,0)","v":0}]
[null,null,null,null,null,"",{"$f":"IF(LEN(Table1[[#This Row],[Pupil Name]])>0,1,0)","v":0}]
[null,null,null,null,null,"",{"$f":"IF(LEN(Table1[[#This Row],[Pupil Name]])>0,1,0)","v":0}]
[null,null,null,null,null,"",{"$f":"IF(LEN(Table1[[#This Row],[Pupil Name]])>0,1,0)","v":0}]
[null,null,null,null,null,"",{"$f":"IF(LEN(Table1[[#This Row],[Pupil Name]])>0,1,0)","v":0}]
[null,null,null,null,null,"",{"$f":"IF(LEN(Table1[[#This Row],[Pupil Name]])>0,1,0)","v":0}]
[null,null,null,null,null,"",{"$f":"IF(LEN(Table1[[#This Row],[Pupil Name]])>0,1,0)","v":0}]
[null,null,null,null,null,"",{"$f":"IF(LEN(Table1[[#This Row],[Pupil Name]])>0,1,0)","v":0}]
[null,null,null,null,null,"",{"$f":"IF(LEN(Table1[[#This Row],[Pupil Name]])>0,1,0)","v":0}]
[null,null,null,null,null,"",{"$f":"IF(LEN(Table1[[#This Row],[Pupil Name]])>0,1,0)","v":0}]
[null,null,null,null,null,"",{"$f":"IF(LEN(Table1[[#This Row],[Pupil Name]])>0,1,0)","v":0}]
[null,null,null,null,null,"",{"$f":"IF(LEN(Table1[[#This Row],[Pupil Name]])>0,1,0)","v":0}]
[null,null,null,null,null,"",{"$f":"IF(LEN(Table1[[#This Row],[Pupil Name]])>0,1,0)","v":0}]
[null,null,null,null,null,"",{"$f":"IF(LEN(Table1[[#This Row],[Pupil Name]])>0,1,0)","v":0}]
[null,null,null,null,null,"",{"$f":"IF(LEN(Table1[[#This Row],[Pupil Name]])>0,1,0)","v":0}]
[null,null,null,null,null,"",{"$f":"IF(LEN(Table1[[#This Row],[Pupil Name]])>0,1,0)","v":0}]
[null,null,null,null,null,"",{"$f":"IF(LEN(Table1[[#This Row],[Pupil Name]])>0,1,0)","v":0}]
[null,null,null,null,null,"",{"$f":"IF(LEN(Table1[[#This Row],[Pupil Name]])>0,1,0)","v":0}]
[null,null,null,null,null,"",{"$f":"IF(LEN(Table1[[#This Row],[Pupil Name]])>0,1,0)","v":0}]
[null,null,null,null,null,"",{"$f":"IF(LEN(Table1[[#This Row],[Pupil Name]])>0,1,0)","v":0}]
[null,null,null,null,null,"",{"$f":"IF(LEN(Table1[[#This Row],[Pupil Name]])>0,1,0)","v":0}]
[null,null,null,null,null,"",{"$f":"IF(LEN(Table1[[#This Row],[Pupil Name]])>0,1,0)","v":0}]
[null,null,null,null,null,"",{"$f":"IF(LEN(Table1[[#This Row],[Pupil Name]])>0,1,0)","v":0}]
[null,null,null,null,null,"",{"$f":"IF(LEN(Table1[[#This Row],[Pupil Name]])>0,1,0)","v":0}]
[null,null,null,null,null,"",{"$f":"IF(LEN(Table1[[#This Row],[Pupil Name]])>0,1,0)","v":0}]
[null,null,null,null,null,"",{"$f":"IF(LEN(Table1[[#This Row],[Pupil Name]])>0,1,0)","v":0}]
[null,null,null,null,null,"",{"$f":"IF(LEN(Table1[[#This Row],[Pupil Name]])>0,1,0)","v":0}]
[null,null,null,null,null,"",{"$f":"IF(LEN(Table1[[#This Row],[Pupil Name]])>0,1,0)","v":0}]
[null,null,null,null,null,"",{"$f":"IF(LEN(Table1[[#This Row],[Pupil Name]])>0,1,0)","v":0}]
[null,null,null,null,null,"",{"$f":"IF(LEN(Table1[[#This Row],[Pupil Name]])>0,1,0)","v":0}]
[null,null,null,null,null,"",{"$f":"IF(LEN(Table1[[#This Row],[Pupil Name]])>0,1,0)","v":0}]
[null,null,null,null,null,"",{"$f":"IF(LEN(Table1[[#This Row],[Pupil Name]])>0,1,0)","v":0}]
[null,null,null,null,null,"",{"$f":"IF(LEN(Table1[[#This Row],[Pupil Name]])>0,1,0)","v":0}]
[null,null,null,null,null,"",{"$f":"IF(LEN(Table1[[#This Row],[Pupil Name]])>0,1,0)","v":0}]
[null,null,null,null,null,"",{"$f":"IF(LEN(Table1[[#This Row],[Pupil Name]])>0,1,0)","v":0}]
[null,null,null,null,null,"",{"$f":"IF(LEN(Table1[[#This Row],[Pupil Name]])>0,1,0)","v":0}]
[null,null,null,null,null,"",{"$f":"IF(LEN(Table1[[#This Row],[Pupil Name]])>0,1,0)","v":0}]
[null,null,null,null,null,"",{"$f":"IF(LEN(Table1[[#This Row],[Pupil Name]])>0,1,0)","v":0}]
[null,null,null,null,null,"",{"$f":"IF(LEN(Table1[[#This Row],[Pupil Name]])>0,1,0)","v":0}]
[null,null,null,null,null,"",{"$f":"IF(LEN(Table1[[#This Row],[Pupil Name]])>0,1,0)","v":0}]
[null,null,null,null,null,"",{"$f":"IF(LEN(Table1[[#This Row],[Pupil Name]])>0,1,0)","v":0}]
[null,null,null,null,null,"",{"$f":"IF(LEN(Table1[[#This Row],[Pupil Name]])>0,1,0)","v":0}]
[null,null,null,null,null,"",{"$f":"IF(LEN(Table1[[#This Row],[Pupil Name]])>0,1,0)","v":0}]
[null,null,null,null,null,"",{"$f":"IF(LEN(Table1[[#This Row],[Pupil Name]])>0,1,0)","v":0}]
[null,null,null,null,null,"",{"$f":"IF(LEN(Table1[[#This Row],[Pupil Name]])>0,1,0)","v":0}]
[null,null,null,null,null,"",{"$f":"IF(LEN(Table1[[#This Row],[Pupil Name]])>0,1,0)","v":0}]
[null,null,null,null,null,"",{"$f":"IF(LEN(Table1[[#This Row],[Pupil Name]])>0,1,0)","v":0}]
[null,null,null,null,null,"",{"$f":"IF(LEN(Table1[[#This Row],[Pupil Name]])>0,1,0)","v":0}]
[null,null,null,null,null,"",{"$f":"IF(LEN(Table1[[#This Row],[Pupil Name]])>0,1,0)","v":0}]
[null,null,null,null,null,"",{"$f":"IF(LEN(Table1[[#This Row],[Pupil Name]])>0,1,0)","v":0}]
[null,null,null,null,null,"",{"$f":"IF(LEN(Table1[[#This Row],[Pupil Name]])>0,1,0)","v":0}]
[null,null,null,null,null,"",{"$f":"IF(LEN(Table1[[#This Row],[Pupil Name]])>0,1,0)","v":0}]
[null,null,null,null,null,"",{"$f":"IF(LEN(Table1[[#This Row],[Pupil Name]])>0,1,0)","v":0}]
[null,null,null,null,null,"",{"$f":"IF(LEN(Table1[[#This Row],[Pupil Name]])>0,1,0)","v":0}]
[null,null,null,null,null,"",{"$f":"IF(LEN(Table1[[#This Row],[Pupil Name]])>0,1,0)","v":0}]
[null,null,null,null,null,"",{"$f":"IF(LEN(Table1[[#This Row],[Pupil Name]])>0,1,0)","v":0}]
[null,null,null,null,null,"",{"$f":"IF(LEN(Table1[[#This Row],[Pupil Name]])>0,1,0)","v":0}]
[null,null,null,null,null,"",{"$f":"IF(LEN(Table1[[#This Row],[Pupil Name]])>0,1,0)","v":0}]
[null,null,null,null,null,"",{"$f":"IF(LEN(Table1[[#This Row],[Pupil Name]])>0,1,0)","v":0}]
[null,null,null,null,null,"",{"$f":"IF(LEN(Table1[[#This Row],[Pupil Name]])>0,1,0)","v":0}]
[null,null,null,null,null,{"$f":"IF(H135=\"\",\"\",(SUM(H135:AQ135)))","v":""},{"$f":"IF(LEN(Table1[[#This Row],[Pupil Name]])>0,1,0)","v":0}]
[null,null,null,null,null,"",{"$f":"IF(LEN(Table1[[#This Row],[Pupil Name]])>0,1,0)","v":0}]
[null,null,null,null,null,"",{"$f":"IF(LEN(Table1[[#This Row],[Pupil Name]])>0,1,0)","v":0}]
[null,null,null,null,null,"",{"$f":"IF(LEN(Table1[[#This Row],[Pupil Name]])>0,1,0)","v":0}]
[null,null,null,null,null,"",{"$f":"IF(LEN(Table1[[#This Row],[Pupil Name]])>0,1,0)","v":0}]
[null,null,null,null,null,"",{"$f":"IF(LEN(Table1[[#This Row],[Pupil Name]])>0,1,0)","v":0}]
[null,null,null,null,null,"",{"$f":"IF(LEN(Table1[[#This Row],[Pupil Name]])>0,1,0)","v":0}]
[null,null,null,null,null,"",{"$f":"IF(LEN(Table1[[#This Row],[Pupil Name]])>0,1,0)","v":0}]
[null,null,null,null,null,"",{"$f":"IF(LEN(Table1[[#This Row],[Pupil Name]])>0,1,0)","v":0}]
[null,null,null,null,null,"",{"$f":"IF(LEN(Table1[[#This Row],[Pupil Name]])>0,1,0)","v":0}]
[null,null,null,null,null,"",{"$f":"IF(LEN(Table1[[#This Row],[Pupil Name]])>0,1,0)","v":0}]
[null,null,null,null,null,"",{"$f":"IF(LEN(Table1[[#This Row],[Pupil Name]])>0,1,0)","v":0}]
[null,null,null,null,null,"",{"$f":"IF(LEN(Table1[[#This Row],[Pupil Name]])>0,1,0)","v":0}]
[null,null,null,null,null,"",{"$f":"IF(LEN(Table1[[#This Row],[Pupil Name]])>0,1,0)","v":0}]
[null,null,null,null,null,"",{"$f":"IF(LEN(Table1[[#This Row],[Pupil Name]])>0,1,0)","v":0}]
[null,null,null,null,null,"",{"$f":"IF(LEN(Table1[[#This Row],[Pupil Name]])>0,1,0)","v":0}]
[null,null,null,null,null,"",{"$f":"IF(LEN(Table1[[#This Row],[Pupil Name]])>0,1,0)","v":0}]
[null,null,null,null,null,"",{"$f":"IF(LEN(Table1[[#This Row],[Pupil Name]])>0,1,0)","v":0}]
[null,null,null,null,null,"",{"$f":"IF(LEN(Table1[[#This Row],[Pupil Name]])>0,1,0)","v":0}]
[null,null,null,null,null,"",{"$f":"IF(LEN(Table1[[#This Row],[Pupil Name]])>0,1,0)","v":0}]
[null,null,null,null,null,"",{"$f":"IF(LEN(Table1[[#This Row],[Pupil Name]])>0,1,0)","v":0}]
[null,null,null,null,null,"",{"$f":"IF(LEN(Table1[[#This Row],[Pupil Name]])>0,1,0)","v":0}]
[null,null,null,null,null,"",{"$f":"IF(LEN(Table1[[#This Row],[Pupil Name]])>0,1,0)","v":0}]
[null,null,null,null,null,"",{"$f":"IF(LEN(Table1[[#This Row],[Pupil Name]])>0,1,0)","v":0}]
[null,null,null,null,null,"",{"$f":"IF(LEN(Table1[[#This Row],[Pupil Name]])>0,1,0)","v":0}]
[null,null,null,null,null,"",{"$f":"IF(LEN(Table1[[#This Row],[Pupil Name]])>0,1,0)","v":0}]
[null,null,null,null,null,"",{"$f":"IF(LEN(Table1[[#This Row],[Pupil Name]])>0,1,0)","v":0}]
[null,null,null,null,null,"",{"$f":"IF(LEN(Table1[[#This Row],[Pupil Name]])>0,1,0)","v":0}]
[null,null,null,null,null,"",{"$f":"IF(LEN(Table1[[#This Row],[Pupil Name]])>0,1,0)","v":0}]
[null,null,null,null,null,"",{"$f":"IF(LEN(Table1[[#This Row],[Pupil Name]])>0,1,0)","v":0}]
[null,null,null,null,null,"",{"$f":"IF(LEN(Table1[[#This Row],[Pupil Name]])>0,1,0)","v":0}]
[null,null,null,null,null,"",{"$f":"IF(LEN(Table1[[#This Row],[Pupil Name]])>0,1,0)","v":0}]
[null,null,null,null,null,"",{"$f":"IF(LEN(Table1[[#This Row],[Pupil Name]])>0,1,0)","v":0}]
[null,null,null,null,null,"",{"$f":"IF(LEN(Table1[[#This Row],[Pupil Name]])>0,1,0)","v":0}]
[null,null,null,null,null,"",{"$f":"IF(LEN(Table1[[#This Row],[Pupil Name]])>0,1,0)","v":0}]
[null,null,null,null,null,"",{"$f":"IF(LEN(Table1[[#This Row],[Pupil Name]])>0,1,0)","v":0}]
[null,null,null,null,null,"",{"$f":"IF(LEN(Table1[[#This Row],[Pupil Name]])>0,1,0)","v":0}]
[null,null,null,null,null,"",{"$f":"IF(LEN(Table1[[#This Row],[Pupil Name]])>0,1,0)","v":0}]
[null,null,null,null,null,"",{"$f":"IF(LEN(Table1[[#This Row],[Pupil Name]])>0,1,0)","v":0}]
[null,null,null,null,null,"",{"$f":"IF(LEN(Table1[[#This Row],[Pupil Name]])>0,1,0)","v":0}]
[null,null,null,null,null,"",{"$f":"IF(LEN(Table1[[#This Row],[Pupil Name]])>0,1,0)","v":0}]
[null,null,null,null,null,"",{"$f":"IF(LEN(Table1[[#This Row],[Pupil Name]])>0,1,0)","v":0}]
[null,null,null,null,null,"",{"$f":"IF(LEN(Table1[[#This Row],[Pupil Name]])>0,1,0)","v":0}]
[null,null,null,null,null,"",{"$f":"IF(LEN(Table1[[#This Row],[Pupil Name]])>0,1,0)","v":0}]
[null,null,null,null,null,"",{"$f":"IF(LEN(Table1[[#This Row],[Pupil Name]])>0,1,0)","v":0}]
[null,null,null,null,null,"",{"$f":"IF(LEN(Table1[[#This Row],[Pupil Name]])>0,1,0)","v":0}]
[null,null,null,null,null,"",{"$f":"IF(LEN(Table1[[#This Row],[Pupil Name]])>0,1,0)","v":0}]
[null,null,null,null,null,"",{"$f":"IF(LEN(Table1[[#This Row],[Pupil Name]])>0,1,0)","v":0}]
[null,null,null,null,null,"",{"$f":"IF(LEN(Table1[[#This Row],[Pupil Name]])>0,1,0)","v":0}]
[null,null,null,null,null,"",{"$f":"IF(LEN(Table1[[#This Row],[Pupil Name]])>0,1,0)","v":0}]
[null,null,null,null,null,"",{"$f":"IF(LEN(Table1[[#This Row],[Pupil Name]])>0,1,0)","v":0}]
[null,null,null,null,null,"",{"$f":"IF(LEN(Table1[[#This Row],[Pupil Name]])>0,1,0)","v":0}]
[null,null,null,null,null,"",{"$f":"IF(LEN(Table1[[#This Row],[Pupil Name]])>0,1,0)","v":0}]
[null,null,null,null,null,"",{"$f":"IF(LEN(Table1[[#This Row],[Pupil Name]])>0,1,0)","v":0}]
[null,null,null,null,null,"",{"$f":"IF(LEN(Table1[[#This Row],[Pupil Name]])>0,1,0)","v":0}]
[null,null,null,null,null,"",{"$f":"IF(LEN(Table1[[#This Row],[Pupil Name]])>0,1,0)","v":0}]
[null,null,null,null,null,"",{"$f":"IF(LEN(Table1[[#This Row],[Pupil Name]])>0,1,0)","v":0}]
[null,null,null,null,null,"",{"$f":"IF(LEN(Table1[[#This Row],[Pupil Name]])>0,1,0)","v":0}]
[null,null,null,null,null,"",{"$f":"IF(LEN(Table1[[#This Row],[Pupil Name]])>0,1,0)","v":0}]
[null,null,null,null,null,"",{"$f":"IF(LEN(Table1[[#This Row],[Pupil Name]])>0,1,0)","v":0}]
[null,null,null,null,null,"",{"$f":"IF(LEN(Table1[[#This Row],[Pupil Name]])>0,1,0)","v":0}]
[null,null,null,null,null,"",{"$f":"IF(LEN(Table1[[#This Row],[Pupil Name]])>0,1,0)","v":0}]
[null,null,null,null,null,"",{"$f":"IF(LEN(Table1[[#This Row],[Pupil Name]])>0,1,0)","v":0}]
[null,null,null,null,null,"",{"$f":"IF(LEN(Table1[[#This Row],[Pupil Name]])>0,1,0)","v":0}]
[null,null,null,null,null,{"$f":"IF(H199=\"\",\"\",(SUM(H199:AQ199)))","v":""},{"$f":"IF(LEN(Table1[[#This Row],[Pupil Name]])>0,1,0)","v":0}]
[null,null,null,null,null,"",{"$f":"IF(LEN(Table1[[#This Row],[Pupil Name]])>0,1,0)","v":0}]
[null,null,null,null,null,"",{"$f":"IF(LEN(Table1[[#This Row],[Pupil Name]])>0,1,0)","v":0}]
[null,null,null,null,null,"",{"$f":"IF(LEN(Table1[[#This Row],[Pupil Name]])>0,1,0)","v":0}]
[null,null,null,null,null,"",{"$f":"IF(LEN(Table1[[#This Row],[Pupil Name]])>0,1,0)","v":0}]
[null,null,null,null,null,"",{"$f":"IF(LEN(Table1[[#This Row],[Pupil Name]])>0,1,0)","v":0}]
[null,null,null,null,null,"",{"$f":"IF(LEN(Table1[[#This Row],[Pupil Name]])>0,1,0)","v":0}]
[null,null,null,null,null,"",{"$f":"IF(LEN(Table1[[#This Row],[Pupil Name]])>0,1,0)","v":0}]
[null,null,null,null,null,"",{"$f":"IF(LEN(Table1[[#This Row],[Pupil Name]])>0,1,0)","v":0}]
[null,null,null,null,null,"",{"$f":"IF(LEN(Table1[[#This Row],[Pupil Name]])>0,1,0)","v":0}]
[null,null,null,null,null,"",{"$f":"IF(LEN(Table1[[#This Row],[Pupil Name]])>0,1,0)","v":0}]
[null,null,null,null,null,"",{"$f":"IF(LEN(Table1[[#This Row],[Pupil Name]])>0,1,0)","v":0}]
[null,null,null,null,null,"",{"$f":"IF(LEN(Table1[[#This Row],[Pupil Name]])>0,1,0)","v":0}]
[null,null,null,null,null,"",{"$f":"IF(LEN(Table1[[#This Row],[Pupil Name]])>0,1,0)","v":0}]
[null,null,null,null,null,"",{"$f":"IF(LEN(Table1[[#This Row],[Pupil Name]])>0,1,0)","v":0}]
[null,null,null,null,null,"",{"$f":"IF(LEN(Table1[[#This Row],[Pupil Name]])>0,1,0)","v":0}]
[null,null,null,null,null,"",{"$f":"IF(LEN(Table1[[#This Row],[Pupil Name]])>0,1,0)","v":0}]
[null,null,null,null,null,"",{"$f":"IF(LEN(Table1[[#This Row],[Pupil Name]])>0,1,0)","v":0}]
[null,null,null,null,null,"",{"$f":"IF(LEN(Table1[[#This Row],[Pupil Name]])>0,1,0)","v":0}]
[null,null,null,null,null,"",{"$f":"IF(LEN(Table1[[#This Row],[Pupil Name]])>0,1,0)","v":0}]
[null,null,null,null,null,"",{"$f":"IF(LEN(Table1[[#This Row],[Pupil Name]])>0,1,0)","v":0}]
[null,null,null,null,null,"",{"$f":"IF(LEN(Table1[[#This Row],[Pupil Name]])>0,1,0)","v":0}]
[null,null,null,null,null,"",{"$f":"IF(LEN(Table1[[#This Row],[Pupil Name]])>0,1,0)","v":0}]
[null,null,null,null,null,"",{"$f":"IF(LEN(Table1[[#This Row],[Pupil Name]])>0,1,0)","v":0}]
[null,null,null,null,null,"",{"$f":"IF(LEN(Table1[[#This Row],[Pupil Name]])>0,1,0)","v":0}]
[null,null,null,null,null,"",{"$f":"IF(LEN(Table1[[#This Row],[Pupil Name]])>0,1,0)","v":0}]
[null,null,null,null,null,"",{"$f":"IF(LEN(Table1[[#This Row],[Pupil Name]])>0,1,0)","v":0}]
[null,null,null,null,null,"",{"$f":"IF(LEN(Table1[[#This Row],[Pupil Name]])>0,1,0)","v":0}]
[null,null,null,null,null,"",{"$f":"IF(LEN(Table1[[#This Row],[Pupil Name]])>0,1,0)","v":0}]
[null,null,null,null,null,"",{"$f":"IF(LEN(Table1[[#This Row],[Pupil Name]])>0,1,0)","v":0}]
[null,null,null,null,null,"",{"$f":"IF(LEN(Table1[[#This Row],[Pupil Name]])>0,1,0)","v":0}]
[null,null,null,null,null,"",{"$f":"IF(LEN(Table1[[#This Row],[Pupil Name]])>0,1,0)","v":0}]
[null,null,null,null,null,"",{"$f":"IF(LEN(Table1[[#This Row],[Pupil Name]])>0,1,0)","v":0}]
[null,null,null,null,null,"",{"$f":"IF(LEN(Table1[[#This Row],[Pupil Name]])>0,1,0)","v":0}]
[null,null,null,null,null,"",{"$f":"IF(LEN(Table1[[#This Row],[Pupil Name]])>0,1,0)","v":0}]
[null,null,null,null,null,"",{"$f":"IF(LEN(Table1[[#This Row],[Pupil Name]])>0,1,0)","v":0}]
[null,null,null,null,null,"",{"$f":"IF(LEN(Table1[[#This Row],[Pupil Name]])>0,1,0)","v":0}]
[null,null,null,null,null,"",{"$f":"IF(LEN(Table1[[#This Row],[Pupil Name]])>0,1,0)","v":0}]
[null,null,null,null,null,"",{"$f":"IF(LEN(Table1[[#This Row],[Pupil Name]])>0,1,0)","v":0}]
[null,null,null,null,null,"",{"$f":"IF(LEN(Table1[[#This Row],[Pupil Name]])>0,1,0)","v":0}]
[null,null,null,null,null,"",{"$f":"IF(LEN(Table1[[#This Row],[Pupil Name]])>0,1,0)","v":0}]
[null,null,null,null,null,"",{"$f":"IF(LEN(Table1[[#This Row],[Pupil Name]])>0,1,0)","v":0}]
[null,null,null,null,null,"",{"$f":"IF(LEN(Table1[[#This Row],[Pupil Name]])>0,1,0)","v":0}]
[null,null,null,null,null,"",{"$f":"IF(LEN(Table1[[#This Row],[Pupil Name]])>0,1,0)","v":0}]
[null,null,null,null,null,"",{"$f":"IF(LEN(Table1[[#This Row],[Pupil Name]])>0,1,0)","v":0}]
[null,null,null,null,null,"",{"$f":"IF(LEN(Table1[[#This Row],[Pupil Name]])>0,1,0)","v":0}]
[null,null,null,null,null,"",{"$f":"IF(LEN(Table1[[#This Row],[Pupil Name]])>0,1,0)","v":0}]
[null,null,null,null,null,"",{"$f":"IF(LEN(Table1[[#This Row],[Pupil Name]])>0,1,0)","v":0}]
[null,null,null,null,null,"",{"$f":"IF(LEN(Table1[[#This Row],[Pupil Name]])>0,1,0)","v":0}]
[null,null,null,null,null,"",{"$f":"IF(LEN(Table1[[#This Row],[Pupil Name]])>0,1,0)","v":0}]
[null,null,null,null,null,"",{"$f":"IF(LEN(Table1[[#This Row],[Pupil Name]])>0,1,0)","v":0}]
[null,null,null,null,null,"",{"$f":"IF(LEN(Table1[[#This Row],[Pupil Name]])>0,1,0)","v":0}]
[null,null,null,null,null,"",{"$f":"IF(LEN(Table1[[#This Row],[Pupil Name]])>0,1,0)","v":0}]
[null,null,null,null,null,"",{"$f":"IF(LEN(Table1[[#This Row],[Pupil Name]])>0,1,0)","v":0}]
[null,null,null,null,null,"",{"$f":"IF(LEN(Table1[[#This Row],[Pupil Name]])>0,1,0)","v":0}]
[null,null,null,null,null,"",{"$f":"IF(LEN(Table1[[#This Row],[Pupil Name]])>0,1,0)","v":0}]
[null,null,null,null,null,"",{"$f":"IF(LEN(Table1[[#This Row],[Pupil Name]])>0,1,0)","v":0}]
[null,null,null,null,null,"",{"$f":"IF(LEN(Table1[[#This Row],[Pupil Name]])>0,1,0)","v":0}]
[null,null,null,null,null,"",{"$f":"IF(LEN(Table1[[#This Row],[Pupil Name]])>0,1,0)","v":0}]
[null,null,null,null,null,"",{"$f":"IF(LEN(Table1[[#This Row],[Pupil Name]])>0,1,0)","v":0}]
[null,null,null,null,null,"",{"$f":"IF(LEN(Table1[[#This Row],[Pupil Name]])>0,1,0)","v":0}]
[null,null,null,null,null,"",{"$f":"IF(LEN(Table1[[#This Row],[Pupil Name]])>0,1,0)","v":0}]
[null,null,null,null,null,"",{"$f":"IF(LEN(Table1[[#This Row],[Pupil Name]])>0,1,0)","v":0}]
[null,null,null,null,null,"",{"$f":"IF(LEN(Table1[[#This Row],[Pupil Name]])>0,1,0)","v":0}]
[null,null,null,null,null,{"$f":"IF(H263=\"\",\"\",(SUM(H263:AQ263)))","v":""},{"$f":"IF(LEN(Table1[[#This Row],[Pupil Name]])>0,1,0)","v":0}]
[null,null,null,null,null,"",{"$f":"IF(LEN(Table1[[#This Row],[Pupil Name]])>0,1,0)","v":0}]
[null,null,null,null,null,"",{"$f":"IF(LEN(Table1[[#This Row],[Pupil Name]])>0,1,0)","v":0}]
[null,null,null,null,null,"",{"$f":"IF(LEN(Table1[[#This Row],[Pupil Name]])>0,1,0)","v":0}]
[null,null,null,null,null,"",{"$f":"IF(LEN(Table1[[#This Row],[Pupil Name]])>0,1,0)","v":0}]
[null,null,null,null,null,"",{"$f":"IF(LEN(Table1[[#This Row],[Pupil Name]])>0,1,0)","v":0}]
[null,null,null,null,null,"",{"$f":"IF(LEN(Table1[[#This Row],[Pupil Name]])>0,1,0)","v":0}]
[null,null,null,null,null,"",{"$f":"IF(LEN(Table1[[#This Row],[Pupil Name]])>0,1,0)","v":0}]
[null,null,null,null,null,"",{"$f":"IF(LEN(Table1[[#This Row],[Pupil Name]])>0,1,0)","v":0}]
[null,null,null,null,null,"",{"$f":"IF(LEN(Table1[[#This Row],[Pupil Name]])>0,1,0)","v":0}]
[null,null,null,null,null,"",{"$f":"IF(LEN(Table1[[#This Row],[Pupil Name]])>0,1,0)","v":0}]
[null,null,null,null,null,"",{"$f":"IF(LEN(Table1[[#This Row],[Pupil Name]])>0,1,0)","v":0}]
[null,null,null,null,null,"",{"$f":"IF(LEN(Table1[[#This Row],[Pupil Name]])>0,1,0)","v":0}]
[null,null,null,null,null,"",{"$f":"IF(LEN(Table1[[#This Row],[Pupil Name]])>0,1,0)","v":0}]
[null,null,null,null,null,"",{"$f":"IF(LEN(Table1[[#This Row],[Pupil Name]])>0,1,0)","v":0}]
[null,null,null,null,null,"",{"$f":"IF(LEN(Table1[[#This Row],[Pupil Name]])>0,1,0)","v":0}]
[null,null,null,null,null,"",{"$f":"IF(LEN(Table1[[#This Row],[Pupil Name]])>0,1,0)","v":0}]
[null,null,null,null,null,"",{"$f":"IF(LEN(Table1[[#This Row],[Pupil Name]])>0,1,0)","v":0}]
[null,null,null,null,null,"",{"$f":"IF(LEN(Table1[[#This Row],[Pupil Name]])>0,1,0)","v":0}]
[null,null,null,null,null,"",{"$f":"IF(LEN(Table1[[#This Row],[Pupil Name]])>0,1,0)","v":0}]
[null,null,null,null,null,"",{"$f":"IF(LEN(Table1[[#This Row],[Pupil Name]])>0,1,0)","v":0}]
[null,null,null,null,null,"",{"$f":"IF(LEN(Table1[[#This Row],[Pupil Name]])>0,1,0)","v":0}]
[null,null,null,null,null,"",{"$f":"IF(LEN(Table1[[#This Row],[Pupil Name]])>0,1,0)","v":0}]
[null,null,null,null,null,"",{"$f":"IF(LEN(Table1[[#This Row],[Pupil Name]])>0,1,0)","v":0}]
[null,null,null,null,null,"",{"$f":"IF(LEN(Table1[[#This Row],[Pupil Name]])>0,1,0)","v":0}]
[null,null,null,null,null,"",{"$f":"IF(LEN(Table1[[#This Row],[Pupil Name]])>0,1,0)","v":0}]
[null,null,null,null,null,"",{"$f":"IF(LEN(Table1[[#This Row],[Pupil Name]])>0,1,0)","v":0}]
[null,null,null,null,null,"",{"$f":"IF(LEN(Table1[[#This Row],[Pupil Name]])>0,1,0)","v":0}]
[null,null,null,null,null,"",{"$f":"IF(LEN(Table1[[#This Row],[Pupil Name]])>0,1,0)","v":0}]
[null,null,null,null,null,"",{"$f":"IF(LEN(Table1[[#This Row],[Pupil Name]])>0,1,0)","v":0}]
[null,null,null,null,null,"",{"$f":"IF(LEN(Table1[[#This Row],[Pupil Name]])>0,1,0)","v":0}]
[null,null,null,null,null,"",{"$f":"IF(LEN(Table1[[#This Row],[Pupil Name]])>0,1,0)","v":0}]
[null,null,null,null,null,"",{"$f":"IF(LEN(Table1[[#This Row],[Pupil Name]])>0,1,0)","v":0}]
[null,null,null,null,null,"",{"$f":"IF(LEN(Table1[[#This Row],[Pupil Name]])>0,1,0)","v":0}]
[null,null,null,null,null,"",{"$f":"IF(LEN(Table1[[#This Row],[Pupil Name]])>0,1,0)","v":0}]
[null,null,null,null,null,"",{"$f":"IF(LEN(Table1[[#This Row],[Pupil Name]])>0,1,0)","v":0}]
[null,null,null,null,null,"",{"$f":"IF(LEN(Table1[[#This Row],[Pupil Name]])>0,1,0)","v":0}]
[null,null,null,null,null,"",{"$f":"IF(LEN(Table1[[#This Row],[Pupil Name]])>0,1,0)","v":0}]
[null,null,null,null,null,"",{"$f":"IF(LEN(Table1[[#This Row],[Pupil Name]])>0,1,0)","v":0}]
[null,null,null,null,null,"",{"$f":"IF(LEN(Table1[[#This Row],[Pupil Name]])>0,1,0)","v":0}]
[null,null,null,null,null,"",{"$f":"IF(LEN(Table1[[#This Row],[Pupil Name]])>0,1,0)","v":0}]
[null,null,null,null,null,"",{"$f":"IF(LEN(Table1[[#This Row],[Pupil Name]])>0,1,0)","v":0}]
[null,null,null,null,null,"",{"$f":"IF(LEN(Table1[[#This Row],[Pupil Name]])>0,1,0)","v":0}]
[null,null,null,null,null,"",{"$f":"IF(LEN(Table1[[#This Row],[Pupil Name]])>0,1,0)","v":0}]
[null,null,null,null,null,"",{"$f":"IF(LEN(Table1[[#This Row],[Pupil Name]])>0,1,0)","v":0}]
[null,null,null,null,null,"",{"$f":"IF(LEN(Table1[[#This Row],[Pupil Name]])>0,1,0)","v":0}]
[null,null,null,null,null,"",{"$f":"IF(LEN(Table1[[#This Row],[Pupil Name]])>0,1,0)","v":0}]
[null,null,null,null,null,"",{"$f":"IF(LEN(Table1[[#This Row],[Pupil Name]])>0,1,0)","v":0}]
[null,null,null,null,null,"",{"$f":"IF(LEN(Table1[[#This Row],[Pupil Name]])>0,1,0)","v":0}]
[null,null,null,null,null,"",{"$f":"IF(LEN(Table1[[#This Row],[Pupil Name]])>0,1,0)","v":0}]
[null,null,null,null,null,"",{"$f":"IF(LEN(Table1[[#This Row],[Pupil Name]])>0,1,0)","v":0}]
[null,null,null,null,null,"",{"$f":"IF(LEN(Table1[[#This Row],[Pupil Name]])>0,1,0)","v":0}]
[null,null,null,null,null,"",{"$f":"IF(LEN(Table1[[#This Row],[Pupil Name]])>0,1,0)","v":0}]
[null,null,null,null,null,"",{"$f":"IF(LEN(Table1[[#This Row],[Pupil Name]])>0,1,0)","v":0}]
[null,null,null,null,null,"",{"$f":"IF(LEN(Table1[[#This Row],[Pupil Name]])>0,1,0)","v":0}]
[null,null,null,null,null,"",{"$f":"IF(LEN(Table1[[#This Row],[Pupil Name]])>0,1,0)","v":0}]
[null,null,null,null,null,"",{"$f":"IF(LEN(Table1[[#This Row],[Pupil Name]])>0,1,0)","v":0}]
[null,null,null,null,null,"",{"$f":"IF(LEN(Table1[[#This Row],[Pupil Name]])>0,1,0)","v":0}]
[null,null,null,null,null,"",{"$f":"IF(LEN(Table1[[#This Row],[Pupil Name]])>0,1,0)","v":0}]
[null,null,null,null,null,"",{"$f":"IF(LEN(Table1[[#This Row],[Pupil Name]])>0,1,0)","v":0}]
[null,null,null,null,null,"",{"$f":"IF(LEN(Table1[[#This Row],[Pupil Name]])>0,1,0)","v":0}]
[null,null,null,null,null,"",{"$f":"IF(LEN(Table1[[#This Row],[Pupil Name]])>0,1,0)","v":0}]
[null,null,null,null,null,"",{"$f":"IF(LEN(Table1[[#This Row],[Pupil Name]])>0,1,0)","v":0}]
[null,null,null,null,null,"",{"$f":"IF(LEN(Table1[[#This Row],[Pupil Name]])>0,1,0)","v":0}]
[null,null,null,null,null,{"$f":"IF(H327=\"\",\"\",(SUM(H327:AQ327)))","v":""},{"$f":"IF(LEN(Table1[[#This Row],[Pupil Name]])>0,1,0)","v":0}]
[null,null,null,null,null,"",{"$f":"IF(LEN(Table1[[#This Row],[Pupil Name]])>0,1,0)","v":0}]
[null,null,null,null,null,"",{"$f":"IF(LEN(Table1[[#This Row],[Pupil Name]])>0,1,0)","v":0}]
[null,null,null,null,null,"",{"$f":"IF(LEN(Table1[[#This Row],[Pupil Name]])>0,1,0)","v":0}]
[null,null,null,null,null,"",{"$f":"IF(LEN(Table1[[#This Row],[Pupil Name]])>0,1,0)","v":0}]
[null,null,null,null,null,"",{"$f":"IF(LEN(Table1[[#This Row],[Pupil Name]])>0,1,0)","v":0}]
[null,null,null,null,null,"",{"$f":"IF(LEN(Table1[[#This Row],[Pupil Name]])>0,1,0)","v":0}]
[null,null,null,null,null,"",{"$f":"IF(LEN(Table1[[#This Row],[Pupil Name]])>0,1,0)","v":0}]
[null,null,null,null,null,"",{"$f":"IF(LEN(Table1[[#This Row],[Pupil Name]])>0,1,0)","v":0}]
[null,null,null,null,null,"",{"$f":"IF(LEN(Table1[[#This Row],[Pupil Name]])>0,1,0)","v":0}]
[null,null,null,null,null,"",{"$f":"IF(LEN(Table1[[#This Row],[Pupil Name]])>0,1,0)","v":0}]
[null,null,null,null,null,"",{"$f":"IF(LEN(Table1[[#This Row],[Pupil Name]])>0,1,0)","v":0}]
[null,null,null,null,null,"",{"$f":"IF(LEN(Table1[[#This Row],[Pupil Name]])>0,1,0)","v":0}]
[null,null,null,null,null,"",{"$f":"IF(LEN(Table1[[#This Row],[Pupil Name]])>0,1,0)","v":0}]
[null,null,null,null,null,"",{"$f":"IF(LEN(Table1[[#This Row],[Pupil Name]])>0,1,0)","v":0}]
[null,null,null,null,null,"",{"$f":"IF(LEN(Table1[[#This Row],[Pupil Name]])>0,1,0)","v":0}]
[null,null,null,null,null,"",{"$f":"IF(LEN(Table1[[#This Row],[Pupil Name]])>0,1,0)","v":0}]
[null,null,null,null,null,"",{"$f":"IF(LEN(Table1[[#This Row],[Pupil Name]])>0,1,0)","v":0}]
[null,null,null,null,null,"",{"$f":"IF(LEN(Table1[[#This Row],[Pupil Name]])>0,1,0)","v":0}]
[null,null,null,null,null,"",{"$f":"IF(LEN(Table1[[#This Row],[Pupil Name]])>0,1,0)","v":0}]
[null,null,null,null,null,"",{"$f":"IF(LEN(Table1[[#This Row],[Pupil Name]])>0,1,0)","v":0}]
[null,null,null,null,null,"",{"$f":"IF(LEN(Table1[[#This Row],[Pupil Name]])>0,1,0)","v":0}]
[null,null,null,null,null,"",{"$f":"IF(LEN(Table1[[#This Row],[Pupil Name]])>0,1,0)","v":0}]
[null,null,null,null,null,"",{"$f":"IF(LEN(Table1[[#This Row],[Pupil Name]])>0,1,0)","v":0}]
[null,null,null,null,null,"",{"$f":"IF(LEN(Table1[[#This Row],[Pupil Name]])>0,1,0)","v":0}]
[null,null,null,null,null,"",{"$f":"IF(LEN(Table1[[#This Row],[Pupil Name]])>0,1,0)","v":0}]
[null,null,null,null,null,"",{"$f":"IF(LEN(Table1[[#This Row],[Pupil Name]])>0,1,0)","v":0}]
[null,null,null,null,null,"",{"$f":"IF(LEN(Table1[[#This Row],[Pupil Name]])>0,1,0)","v":0}]
[null,null,null,null,null,"",{"$f":"IF(LEN(Table1[[#This Row],[Pupil Name]])>0,1,0)","v":0}]
[null,null,null,null,null,"",{"$f":"IF(LEN(Table1[[#This Row],[Pupil Name]])>0,1,0)","v":0}]
[null,null,null,null,null,"",{"$f":"IF(LEN(Table1[[#This Row],[Pupil Name]])>0,1,0)","v":0}]
[null,null,null,null,null,"",{"$f":"IF(LEN(Table1[[#This Row],[Pupil Name]])>0,1,0)","v":0}]
[null,null,null,null,null,"",{"$f":"IF(LEN(Table1[[#This Row],[Pupil Name]])>0,1,0)","v":0}]
[null,null,null,null,null,"",{"$f":"IF(LEN(Table1[[#This Row],[Pupil Name]])>0,1,0)","v":0}]
[null,null,null,null,null,"",{"$f":"IF(LEN(Table1[[#This Row],[Pupil Name]])>0,1,0)","v":0}]
[null,null,null,null,null,"",{"$f":"IF(LEN(Table1[[#This Row],[Pupil Name]])>0,1,0)","v":0}]
[null,null,null,null,null,"",{"$f":"IF(LEN(Table1[[#This Row],[Pupil Name]])>0,1,0)","v":0}]
[null,null,null,null,null,"",{"$f":"IF(LEN(Table1[[#This Row],[Pupil Name]])>0,1,0)","v":0}]
[null,null,null,null,null,"",{"$f":"IF(LEN(Table1[[#This Row],[Pupil Name]])>0,1,0)","v":0}]
[null,null,null,null,null,"",{"$f":"IF(LEN(Table1[[#This Row],[Pupil Name]])>0,1,0)","v":0}]
[null,null,null,null,null,"",{"$f":"IF(LEN(Table1[[#This Row],[Pupil Name]])>0,1,0)","v":0}]
[null,null,null,null,null,"",{"$f":"IF(LEN(Table1[[#This Row],[Pupil Name]])>0,1,0)","v":0}]
[null,null,null,null,null,"",{"$f":"IF(LEN(Table1[[#This Row],[Pupil Name]])>0,1,0)","v":0}]
[null,null,null,null,null,"",{"$f":"IF(LEN(Table1[[#This Row],[Pupil Name]])>0,1,0)","v":0}]
[null,null,null,null,null,"",{"$f":"IF(LEN(Table1[[#This Row],[Pupil Name]])>0,1,0)","v":0}]
[null,null,null,null,null,"",{"$f":"IF(LEN(Table1[[#This Row],[Pupil Name]])>0,1,0)","v":0}]
[null,null,null,null,null,"",{"$f":"IF(LEN(Table1[[#This Row],[Pupil Name]])>0,1,0)","v":0}]
[null,null,null,null,null,"",{"$f":"IF(LEN(Table1[[#This Row],[Pupil Name]])>0,1,0)","v":0}]
[null,null,null,null,null,"",{"$f":"IF(LEN(Table1[[#This Row],[Pupil Name]])>0,1,0)","v":0}]
[null,null,null,null,null,"",{"$f":"IF(LEN(Table1[[#This Row],[Pupil Name]])>0,1,0)","v":0}]
[null,null,null,null,null,"",{"$f":"IF(LEN(Table1[[#This Row],[Pupil Name]])>0,1,0)","v":0}]
[null,null,null,null,null,"",{"$f":"IF(LEN(Table1[[#This Row],[Pupil Name]])>0,1,0)","v":0}]
[null,null,null,null,null,"",{"$f":"IF(LEN(Table1[[#This Row],[Pupil Name]])>0,1,0)","v":0}]
[null,null,null,null,null,"",{"$f":"IF(LEN(Table1[[#This Row],[Pupil Name]])>0,1,0)","v":0}]
[null,null,null,null,null,"",{"$f":"IF(LEN(Table1[[#This Row],[Pupil Name]])>0,1,0)","v":0}]
[null,null,null,null,null,"",{"$f":"IF(LEN(Table1[[#This Row],[Pupil Name]])>0,1,0)","v":0}]
[null,null,null,null,null,"",{"$f":"IF(LEN(Table1[[#This Row],[Pupil Name]])>0,1,0)","v":0}]
[null,null,null,null,null,"",{"$f":"IF(LEN(Table1[[#This Row],[Pupil Name]])>0,1,0)","v":0}]
[null,null,null,null,null,"",{"$f":"IF(LEN(Table1[[#This Row],[Pupil Name]])>0,1,0)","v":0}]
[null,null,null,null,null,"",{"$f":"IF(LEN(Table1[[#This Row],[Pupil Name]])>0,1,0)","v":0}]
[null,null,null,null,null,"",{"$f":"IF(LEN(Table1[[#This Row],[Pupil Name]])>0,1,0)","v":0}]
[null,null,null,null,null,"",{"$f":"IF(LEN(Table1[[#This Row],[Pupil Name]])>0,1,0)","v":0}]
[null,null,null,null,null,"",{"$f":"IF(LEN(Table1[[#This Row],[Pupil Name]])>0,1,0)","v":0}]
[null,null,null,null,null,"",{"$f":"IF(LEN(Table1[[#This Row],[Pupil Name]])>0,1,0)","v":0}]
[null,null,null,null,null,{"$f":"IF(H391=\"\",\"\",(SUM(H391:AQ391)))","v":""},{"$f":"IF(LEN(Table1[[#This Row],[Pupil Name]])>0,1,0)","v":0}]
[null,null,null,null,null,"",{"$f":"IF(LEN(Table1[[#This Row],[Pupil Name]])>0,1,0)","v":0}]
[null,null,null,null,null,"",{"$f":"IF(LEN(Table1[[#This Row],[Pupil Name]])>0,1,0)","v":0}]
[null,null,null,null,null,"",{"$f":"IF(LEN(Table1[[#This Row],[Pupil Name]])>0,1,0)","v":0}]
[null,null,null,null,null,"",{"$f":"IF(LEN(Table1[[#This Row],[Pupil Name]])>0,1,0)","v":0}]
[null,null,null,null,null,"",{"$f":"IF(LEN(Table1[[#This Row],[Pupil Name]])>0,1,0)","v":0}]
[null,null,null,null,null,"",{"$f":"IF(LEN(Table1[[#This Row],[Pupil Name]])>0,1,0)","v":0}]
[null,null,null,null,null,"",{"$f":"IF(LEN(Table1[[#This Row],[Pupil Name]])>0,1,0)","v":0}]
[null,null,null,null,null,"",{"$f":"IF(LEN(Table1[[#This Row],[Pupil Name]])>0,1,0)","v":0}]
[null,null,null,null,null,"",{"$f":"IF(LEN(Table1[[#This Row],[Pupil Name]])>0,1,0)","v":0}]
[null,null,null,null,null,"",{"$f":"IF(LEN(Table1[[#This Row],[Pupil Name]])>0,1,0)","v":0}]
[null,null,null,null,null,"",{"$f":"IF(LEN(Table1[[#This Row],[Pupil Name]])>0,1,0)","v":0}]
[null,null,null,null,null,"",{"$f":"IF(LEN(Table1[[#This Row],[Pupil Name]])>0,1,0)","v":0}]
[null,null,null,null,null,"",{"$f":"IF(LEN(Table1[[#This Row],[Pupil Name]])>0,1,0)","v":0}]
[null,null,null,null,null,"",{"$f":"IF(LEN(Table1[[#This Row],[Pupil Name]])>0,1,0)","v":0}]
[null,null,null,null,null,"",{"$f":"IF(LEN(Table1[[#This Row],[Pupil Name]])>0,1,0)","v":0}]
[null,null,null,null,null,"",{"$f":"IF(LEN(Table1[[#This Row],[Pupil Name]])>0,1,0)","v":0}]
[null,null,null,null,null,"",{"$f":"IF(LEN(Table1[[#This Row],[Pupil Name]])>0,1,0)","v":0}]
[null,null,null,null,null,"",{"$f":"IF(LEN(Table1[[#This Row],[Pupil Name]])>0,1,0)","v":0}]
[null,null,null,null,null,"",{"$f":"IF(LEN(Table1[[#This Row],[Pupil Name]])>0,1,0)","v":0}]
[null,null,null,null,null,"",{"$f":"IF(LEN(Table1[[#This Row],[Pupil Name]])>0,1,0)","v":0}]
[null,null,null,null,null,"",{"$f":"IF(LEN(Table1[[#This Row],[Pupil Name]])>0,1,0)","v":0}]
[null,null,null,null,null,"",{"$f":"IF(LEN(Table1[[#This Row],[Pupil Name]])>0,1,0)","v":0}]
[null,null,null,null,null,"",{"$f":"IF(LEN(Table1[[#This Row],[Pupil Name]])>0,1,0)","v":0}]
[null,null,null,null,null,"",{"$f":"IF(LEN(Table1[[#This Row],[Pupil Name]])>0,1,0)","v":0}]
[null,null,null,null,null,"",{"$f":"IF(LEN(Table1[[#This Row],[Pupil Name]])>0,1,0)","v":0}]
[null,null,null,null,null,"",{"$f":"IF(LEN(Table1[[#This Row],[Pupil Name]])>0,1,0)","v":0}]
[null,null,null,null,null,"",{"$f":"IF(LEN(Table1[[#This Row],[Pupil Name]])>0,1,0)","v":0}]
[null,null,null,null,null,"",{"$f":"IF(LEN(Table1[[#This Row],[Pupil Name]])>0,1,0)","v":0}]
[null,null,null,null,null,"",{"$f":"IF(LEN(Table1[[#This Row],[Pupil Name]])>0,1,0)","v":0}]
[null,null,null,null,null,"",{"$f":"IF(LEN(Table1[[#This Row],[Pupil Name]])>0,1,0)","v":0}]
[null,null,null,null,null,"",{"$f":"IF(LEN(Table1[[#This Row],[Pupil Name]])>0,1,0)","v":0}]
[null,null,null,null,null,"",{"$f":"IF(LEN(Table1[[#This Row],[Pupil Name]])>0,1,0)","v":0}]
[null,null,null,null,null,"",{"$f":"IF(LEN(Table1[[#This Row],[Pupil Name]])>0,1,0)","v":0}]
[null,null,null,null,null,"",{"$f":"IF(LEN(Table1[[#This Row],[Pupil Name]])>0,1,0)","v":0}]
[null,null,null,null,null,"",{"$f":"IF(LEN(Table1[[#This Row],[Pupil Name]])>0,1,0)","v":0}]
[null,null,null,null,null,"",{"$f":"IF(LEN(Table1[[#This Row],[Pupil Name]])>0,1,0)","v":0}]
[null,null,null,null,null,"",{"$f":"IF(LEN(Table1[[#This Row],[Pupil Name]])>0,1,0)","v":0}]
[null,null,null,null,null,"",{"$f":"IF(LEN(Table1[[#This Row],[Pupil Name]])>0,1,0)","v":0}]
[null,null,null,null,null,"",{"$f":"IF(LEN(Table1[[#This Row],[Pupil Name]])>0,1,0)","v":0}]
[null,null,null,null,null,"",{"$f":"IF(LEN(Table1[[#This Row],[Pupil Name]])>0,1,0)","v":0}]
[null,null,null,null,null,"",{"$f":"IF(LEN(Table1[[#This Row],[Pupil Name]])>0,1,0)","v":0}]
[null,null,null,null,null,"",{"$f":"IF(LEN(Table1[[#This Row],[Pupil Name]])>0,1,0)","v":0}]
[null,null,null,null,null,"",{"$f":"IF(LEN(Table1[[#This Row],[Pupil Name]])>0,1,0)","v":0}]
[null,null,null,null,null,"",{"$f":"IF(LEN(Table1[[#This Row],[Pupil Name]])>0,1,0)","v":0}]
[null,null,null,null,null,"",{"$f":"IF(LEN(Table1[[#This Row],[Pupil Name]])>0,1,0)","v":0}]
[null,null,null,null,null,"",{"$f":"IF(LEN(Table1[[#This Row],[Pupil Name]])>0,1,0)","v":0}]
[null,null,null,null,null,"",{"$f":"IF(LEN(Table1[[#This Row],[Pupil Name]])>0,1,0)","v":0}]
[null,null,null,null,null,"",{"$f":"IF(LEN(Table1[[#This Row],[Pupil Name]])>0,1,0)","v":0}]
[null,null,null,null,null,"",{"$f":"IF(LEN(Table1[[#This Row],[Pupil Name]])>0,1,0)","v":0}]
[null,null,null,null,null,"",{"$f":"IF(LEN(Table1[[#This Row],[Pupil Name]])>0,1,0)","v":0}]
[null,null,null,null,null,"",{"$f":"IF(LEN(Table1[[#This Row],[Pupil Name]])>0,1,0)","v":0}]
[null,null,null,null,null,"",{"$f":"IF(LEN(Table1[[#This Row],[Pupil Name]])>0,1,0)","v":0}]
[null,null,null,null,null,"",{"$f":"IF(LEN(Table1[[#This Row],[Pupil Name]])>0,1,0)","v":0}]
[null,null,null,null,null,"",{"$f":"IF(LEN(Table1[[#This Row],[Pupil Name]])>0,1,0)","v":0}]
[null,null,null,null,null,"",{"$f":"IF(LEN(Table1[[#This Row],[Pupil Name]])>0,1,0)","v":0}]
[null,null,null,null,null,"",{"$f":"IF(LEN(Table1[[#This Row],[Pupil Name]])>0,1,0)","v":0}]
[null,null,null,null,null,"",{"$f":"IF(LEN(Table1[[#This Row],[Pupil Name]])>0,1,0)","v":0}]
[null,null,null,null,null,"",{"$f":"IF(LEN(Table1[[#This Row],[Pupil Name]])>0,1,0)","v":0}]
[null,null,null,null,null,"",{"$f":"IF(LEN(Table1[[#This Row],[Pupil Name]])>0,1,0)","v":0}]
[null,null,null,null,null,"",{"$f":"IF(LEN(Table1[[#This Row],[Pupil Name]])>0,1,0)","v":0}]
[null,null,null,null,null,"",{"$f":"IF(LEN(Table1[[#This Row],[Pupil Name]])>0,1,0)","v":0}]
[null,null,null,null,null,"",{"$f":"IF(LEN(Table1[[#This Row],[Pupil Name]])>0,1,0)","v":0}]
[null,null,null,null,null,"",{"$f":"IF(LEN(Table1[[#This Row],[Pupil Name]])>0,1,0)","v":0}]
[null,null,null,null,null,{"$f":"IF(H455=\"\",\"\",(SUM(H455:AQ455)))","v":""},{"$f":"IF(LEN(Table1[[#This Row],[Pupil Name]])>0,1,0)","v":0}]
[null,null,null,null,null,"",{"$f":"IF(LEN(Table1[[#This Row],[Pupil Name]])>0,1,0)","v":0}]
[null,null,null,null,null,"",{"$f":"IF(LEN(Table1[[#This Row],[Pupil Name]])>0,1,0)","v":0}]
[null,null,null,null,null,"",{"$f":"IF(LEN(Table1[[#This Row],[Pupil Name]])>0,1,0)","v":0}]
[null,null,null,null,null,"",{"$f":"IF(LEN(Table1[[#This Row],[Pupil Name]])>0,1,0)","v":0}]
[null,null,null,null,null,"",{"$f":"IF(LEN(Table1[[#This Row],[Pupil Name]])>0,1,0)","v":0}]
[null,null,null,null,null,"",{"$f":"IF(LEN(Table1[[#This Row],[Pupil Name]])>0,1,0)","v":0}]
[null,null,null,null,null,"",{"$f":"IF(LEN(Table1[[#This Row],[Pupil Name]])>0,1,0)","v":0}]
[null,null,null,null,null,"",{"$f":"IF(LEN(Table1[[#This Row],[Pupil Name]])>0,1,0)","v":0}]
[null,null,null,null,null,"",{"$f":"IF(LEN(Table1[[#This Row],[Pupil Name]])>0,1,0)","v":0}]
[null,null,null,null,null,"",{"$f":"IF(LEN(Table1[[#This Row],[Pupil Name]])>0,1,0)","v":0}]
[null,null,null,null,null,"",{"$f":"IF(LEN(Table1[[#This Row],[Pupil Name]])>0,1,0)","v":0}]
[null,null,null,null,null,"",{"$f":"IF(LEN(Table1[[#This Row],[Pupil Name]])>0,1,0)","v":0}]
[null,null,null,null,null,"",{"$f":"IF(LEN(Table1[[#This Row],[Pupil Name]])>0,1,0)","v":0}]
[null,null,null,null,null,"",{"$f":"IF(LEN(Table1[[#This Row],[Pupil Name]])>0,1,0)","v":0}]
[null,null,null,null,null,"",{"$f":"IF(LEN(Table1[[#This Row],[Pupil Name]])>0,1,0)","v":0}]
[null,null,null,null,null,"",{"$f":"IF(LEN(Table1[[#This Row],[Pupil Name]])>0,1,0)","v":0}]
[null,null,null,null,null,"",{"$f":"IF(LEN(Table1[[#This Row],[Pupil Name]])>0,1,0)","v":0}]
[null,null,null,null,null,"",{"$f":"IF(LEN(Table1[[#This Row],[Pupil Name]])>0,1,0)","v":0}]
[null,null,null,null,null,"",{"$f":"IF(LEN(Table1[[#This Row],[Pupil Name]])>0,1,0)","v":0}]
[null,null,null,null,null,"",{"$f":"IF(LEN(Table1[[#This Row],[Pupil Name]])>0,1,0)","v":0}]
[null,null,null,null,null,"",{"$f":"IF(LEN(Table1[[#This Row],[Pupil Name]])>0,1,0)","v":0}]
[null,null,null,null,null,"",{"$f":"IF(LEN(Table1[[#This Row],[Pupil Name]])>0,1,0)","v":0}]
[null,null,null,null,null,"",{"$f":"IF(LEN(Table1[[#This Row],[Pupil Name]])>0,1,0)","v":0}]
[null,null,null,null,null,"",{"$f":"IF(LEN(Table1[[#This Row],[Pupil Name]])>0,1,0)","v":0}]
[null,null,null,null,null,"",{"$f":"IF(LEN(Table1[[#This Row],[Pupil Name]])>0,1,0)","v":0}]
[null,null,null,null,null,"",{"$f":"IF(LEN(Table1[[#This Row],[Pupil Name]])>0,1,0)","v":0}]
[null,null,null,null,null,"",{"$f":"IF(LEN(Table1[[#This Row],[Pupil Name]])>0,1,0)","v":0}]
[null,null,null,null,null,"",{"$f":"IF(LEN(Table1[[#This Row],[Pupil Name]])>0,1,0)","v":0}]
[null,null,null,null,null,"",{"$f":"IF(LEN(Table1[[#This Row],[Pupil Name]])>0,1,0)","v":0}]
[null,null,null,null,null,"",{"$f":"IF(LEN(Table1[[#This Row],[Pupil Name]])>0,1,0)","v":0}]
[null,null,null,null,null,"",{"$f":"IF(LEN(Table1[[#This Row],[Pupil Name]])>0,1,0)","v":0}]
[null,null,null,null,null,"",{"$f":"IF(LEN(Table1[[#This Row],[Pupil Name]])>0,1,0)","v":0}]
[null,null,null,null,null,"",{"$f":"IF(LEN(Table1[[#This Row],[Pupil Name]])>0,1,0)","v":0}]
[null,null,null,null,null,"",{"$f":"IF(LEN(Table1[[#This Row],[Pupil Name]])>0,1,0)","v":0}]
[null,null,null,null,null,"",{"$f":"IF(LEN(Table1[[#This Row],[Pupil Name]])>0,1,0)","v":0}]
[null,null,null,null,null,"",{"$f":"IF(LEN(Table1[[#This Row],[Pupil Name]])>0,1,0)","v":0}]
[null,null,null,null,null,"",{"$f":"IF(LEN(Table1[[#This Row],[Pupil Name]])>0,1,0)","v":0}]
[null,null,null,null,null,"",{"$f":"IF(LEN(Table1[[#This Row],[Pupil Name]])>0,1,0)","v":0}]
[null,null,null,null,null,"",{"$f":"IF(LEN(Table1[[#This Row],[Pupil Name]])>0,1,0)","v":0}]
[null,null,null,null,null,"",{"$f":"IF(LEN(Table1[[#This Row],[Pupil Name]])>0,1,0)","v":0}]
[null,null,null,null,null,"",{"$f":"IF(LEN(Table1[[#This Row],[Pupil Name]])>0,1,0)","v":0}]
[null,null,null,null,null,"",{"$f":"IF(LEN(Table1[[#This Row],[Pupil Name]])>0,1,0)","v":0}]
[null,null,null,null,null,"",{"$f":"IF(LEN(Table1[[#This Row],[Pupil Name]])>0,1,0)","v":0}]
[null,null,null,null,null,"",{"$f":"IF(LEN(Table1[[#This Row],[Pupil Name]])>0,1,0)","v":0}]
[null,null,null,null,null,"",{"$f":"IF(LEN(Table1[[#This Row],[Pupil Name]])>0,1,0)","v":0}]

{"sheet":"Maths Summary Paper2","index":3,"n_rows":27,"n_cols":16,"rows_kept":27,"cut":false,"hidden":false,"merged":[]}
["Correct Count","Possible","Ques","Domain","Fine Domain","Year Group","Av Marks","Your Correct","Nat Domain","Nat","Gap to Nat",null,"Maths Paper 2 2019"]
[{"$f":"SUM(B2*H2%)","v":1},{"$f":"'Maths Paper2 Data'!$F$4*G2","v":1},1,"1.Addition, subtraction, multiplication and division (calculations)","Use multiplication and division facts for multiplication tables up to 12x12",4,{"$f":"'Maths Paper2 Data'!$H$2","v":1},{"$f":"'Maths Paper2 Data'!$H$4","v":100},74,{"$f":"'Maths Paper2 Data'!$H$3","v":91.8},{"$f":"H2-J2","v":8.2000000000000028},null,"Link to Maths papers"]
[{"$f":"SUM(B3*H3%)","v":1},{"$f":"'Maths Paper2 Data'!$F$4*G3","v":1},2,"7.Number and place value","Find 1000 more or less than a given number",4,{"$f":"'Maths Paper2 Data'!$I$2","v":1},{"$f":"'Maths Paper2 Data'!$I$4","v":100},81,{"$f":"'Maths Paper2 Data'!$I$3","v":94.1},{"$f":"H3-J3","v":5.9000000000000057}]
[1,{"$f":"'Maths Paper2 Data'!$F$4*G4","v":1},3,"7.Number and place value","Order numbers up to 10 000 000.",6,{"$f":"'Maths Paper2 Data'!$J$2","v":1},{"$f":"'Maths Paper2 Data'!$J$4","v":100},81,{"$f":"'Maths Paper2 Data'!$J$3","v":91.3},8.7000000000000028]
[0,{"$f":"'Maths Paper2 Data'!$F$4*G5","v":1},4,"4.Geometry - position and direction","Complete a reflection of a shape given a mirror line on a grid",4,{"$f":"'Maths Paper2 Data'!$K$2","v":1},{"$f":"'Maths Paper2 Data'!$K$4","v":0},85,{"$f":"'Maths Paper2 Data'!$K$3","v":85.2},-85.2]
[0,{"$f":"'Maths Paper2 Data'!$F$4*G6","v":2},5,"1.Addition, subtraction, multiplication and division (calculations)","Find numbers in a number sequence given the term to term rule",6,{"$f":"'Maths Paper2 Data'!$L$2","v":2},{"$f":"'Maths Paper2 Data'!$L$4","v":0},74,{"$f":"'Maths Paper2 Data'!$L$3","v":91},-91,null,"Domain","Av Marks","% Domain Correct","National Domain %"]
[1,{"$f":"'Maths Paper2 Data'!$F$4*G7","v":1},6,"3.Fractions, decimals and percentages","Divide decimal numbers by 10, 100 and 1000",5,{"$f":"'Maths Paper2 Data'!$M$2","v":1},{"$f":"'Maths Paper2 Data'!$M$4","v":100},59,{"$f":"'Maths Paper2 Data'!$M$3","v":90.4},9.5999999999999943,null,"1.Addition, subtraction, multiplication and division (calculations)",7,0.11544011544011544,74]
[1,{"$f":"'Maths Paper2 Data'!$F$4*G8","v":1},7,"6.Measurement","Read a measuring scale to an appropriate unit",3,{"$f":"'Maths Paper2 Data'!$N$2","v":1},{"$f":"'Maths Paper2 Data'!$N$4","v":100},52,{"$f":"'Maths Paper2 Data'!$N$3","v":76.400000000000006},23.599999999999994,null,"2.Algebra",3,0.20202020202020202,76]
[1,{"$f":"'Maths Paper2 Data'!$F$4*G9","v":1},8.1,"2.Algebra","Find numbers in a number sequence given the term to term rule",6,{"$f":"'Maths Paper2 Data'!$O$2","v":1},{"$f":"'Maths Paper2 Data'!$O$4","v":100},76,{"$f":"'Maths Paper2 Data'!$O$3","v":72.599999999999994},27.400000000000006,null,"3.Fractions, decimals and percentages",6,6.7340067340067339E-2,59]
[1,{"$f":"'Maths Paper2 Data'!$F$4*G10","v":1},8.1999999999999993,"2.Algebra","Find numbers in a number sequence given the term to term rule",6,{"$f":"'Maths Paper2 Data'!$P$2","v":1},{"$f":"'Maths Paper2 Data'!$P$4","v":100},76,{"$f":"'Maths Paper2 Data'!$P$3","v":86.6},13.400000000000006,null,"4.Geometry - position and direction",1,0,85]
[2,{"$f":"'Maths Paper2 Data'!$F$4*G11","v":2},9,"1.Addition, subtraction, multiplication and division (calculations)","Construct and solve an equation with one unknown.",6,{"$f":"'Maths Paper2 Data'!$Q$2","v":2},{"$f":"'Maths Paper2 Data'!$Q$4","v":100},74,{"$f":"'Maths Paper2 Data'!$Q$3","v":79.599999999999994},20.400000000000006,null,"5.Geometry - properties of shapes",3,6.7340067340067339E-2,59]
[1,{"$f":"'Maths Paper2 Data'!$F$4*G12","v":1},10,"2.Algebra","Construct a word formula for a word problem",6,{"$f":"'Maths Paper2 Data'!$R$2","v":1},{"$f":"'Maths Paper2 Data'!$R$4","v":100},76,{"$f":"'Maths Paper2 Data'!$R$3","v":68.7},31.299999999999997,null,"6.Measurement",6,0.16835016835016833,52]
[1,{"$f":"'Maths Paper2 Data'!$F$4*G13","v":1},11.1,"3.Fractions, decimals and percentages","Know common fraction and decimal equivalences.",4,{"$f":"'Maths Paper2 Data'!$S$2","v":1},{"$f":"'Maths Paper2 Data'!$S$4","v":100},59,{"$f":"'Maths Paper2 Data'!$S$3","v":67.8},32.200000000000003,null,"7.Number and place value",4,0.15151515151515152,81]
[1,{"$f":"'Maths Paper2 Data'!$F$4*G14","v":1},11.2,"6.Measurement","Solve money problem by subtracting numbers with 2.d.p",4,{"$f":"'Maths Paper2 Data'!$T$2","v":1},{"$f":"'Maths Paper2 Data'!$T$4","v":100},52,{"$f":"'Maths Paper2 Data'!$T$3","v":85.6},14.400000000000006,null,"8.Ratio and proportion",2,0.20202020202020202,43]
[0,{"$f":"'Maths Paper2 Data'!$F$4*G15","v":1},12,"3.Fractions, decimals and percentages","Order fractions & decimals using equivalences and using inequality symbols",5,{"$f":"'Maths Paper2 Data'!$U$2","v":1},{"$f":"'Maths Paper2 Data'!$U$4","v":0},59,{"$f":"'Maths Paper2 Data'!$U$3","v":57},-57,null,"9.Statistics",3,6.7340067340067339E-2,52]
[0,{"$f":"'Maths Paper2 Data'!$F$4*G16","v":2},13,"5.Geometry - properties of shapes","Draw a given angle in degrees using a ruler and protractor",5,{"$f":"'Maths Paper2 Data'!$V$2","v":2},{"$f":"'Maths Paper2 Data'!$V$4","v":0},59,{"$f":"'Maths Paper2 Data'!$V$3","v":70.8},-70.8]
[1,{"$f":"'Maths Paper2 Data'!$F$4*G17","v":2},14,"7.Number and place value","Round any number up to 1 000 000 to the nearest 100, 1000, 10000",5,{"$f":"'Maths Paper2 Data'!$W$2","v":2},{"$f":"'Maths Paper2 Data'!$W$4","v":50},81,{"$f":"'Maths Paper2 Data'!$W$3","v":68.599999999999994},-18.599999999999994]
[0,{"$f":"'Maths Paper2 Data'!$F$4*G18","v":1},15,"3.Fractions, decimals and percentages","Calculate a percentage of a number",6,{"$f":"'Maths Paper2 Data'!$X$2","v":1},{"$f":"'Maths Paper2 Data'!$X$4","v":0},59,{"$f":"'Maths Paper2 Data'!$X$3","v":50.3},-50.3]
[0,{"$f":"'Maths Paper2 Data'!$F$4*G19","v":1},16,"1.Addition, subtraction, multiplication and division (calculations)","Use knowledge of the order of operations to complete a calculation",6,{"$f":"'Maths Paper2 Data'!$Y$2","v":1},{"$f":"'Maths Paper2 Data'!$Y$4","v":0},74,{"$f":"'Maths Paper2 Data'!$Y$3","v":54.9},-54.9,null,"Year Group","Av Marks","% Domain Correct"]
[1,{"$f":"'Maths Paper2 Data'!$F$4*G20","v":2},17,"6.Measurement","Use the relation between perimeter and area to find an unknown length ",5,{"$f":"'Maths Paper2 Data'!$Z$2","v":2},{"$f":"'Maths Paper2 Data'!$Z$4","v":50},52,{"$f":"'Maths Paper2 Data'!$Z$3","v":46.2},3.7999999999999972,null,3,1,0.20202020202020202]
[1,{"$f":"'Maths Paper2 Data'!$F$4*G21","v":1},18,"1.Addition, subtraction, multiplication and division (calculations)","Establish if a number up to 100 is Prime",5,{"$f":"'Maths Paper2 Data'!$AA$2","v":1},{"$f":"'Maths Paper2 Data'!$AA$4","v":100},74,{"$f":"'Maths Paper2 Data'!$AA$3","v":30.8},69.2,null,4,5,0.1616161616161616]
[2,{"$f":"'Maths Paper2 Data'!$F$4*G22","v":2},19,"8.Ratio and proportion","Solve problems involving simple rates using multiplication and division ",5,{"$f":"'Maths Paper2 Data'!$AB$2","v":2},{"$f":"'Maths Paper2 Data'!$AB$4","v":100},43,{"$f":"'Maths Paper2 Data'!$AB$3","v":42.9},57.1,null,5,15,9.4276094276094277E-2]
[0,{"$f":"'Maths Paper2 Data'!$F$4*G23","v":2},20,"3.Fractions, decimals and percentages","Write percentages as a fraction with a denominator of 100 & find equivalent fractions ",5,{"$f":"'Maths Paper2 Data'!$AC$2","v":2},{"$f":"'Maths Paper2 Data'!$AC$4","v":0},59,{"$f":"'Maths Paper2 Data'!$AC$3","v":45.2},-45.2,null,6,14,0.12987012987012986]
[1,{"$f":"'Maths Paper2 Data'!$F$4*G24","v":1},21,"5.Geometry - properties of shapes","Solve diagrammatic problems using properties of quadrilaterals",5,{"$f":"'Maths Paper2 Data'!$AD$2","v":1},{"$f":"'Maths Paper2 Data'!$AD$4","v":100},59,{"$f":"'Maths Paper2 Data'!$AD$3","v":35.5},64.5]
[0,{"$f":"'Maths Paper2 Data'!$F$4*G25","v":1},22.1,"9.Statistics","Identify a given fraction represented visually",5,{"$f":"'Maths Paper2 Data'!$AE$2","v":1},{"$f":"'Maths Paper2 Data'!$AE$4","v":0},52,{"$f":"'Maths Paper2 Data'!$AE$3","v":65.5},-65.5]
[1,{"$f":"'Maths Paper2 Data'!$F$4*G26","v":2},22.2,"9.Statistics","Calculate the mean for a small set of data",6,{"$f":"'Maths Paper2 Data'!$AF$2","v":2},{"$f":"'Maths Paper2 Data'!$AF$4","v":50},52,{"$f":"'Maths Paper2 Data'!$AF$3","v":45},5]
[2,{"$f":"'Maths Paper2 Data'!$F$4*G27","v":2},23,"6.Measurement","Compare volumes of cuboids using 1cm3 blocks and the formula for volume ",6,{"$f":"'Maths Paper2 Data'!$AG$2","v":2},{"$f":"'Maths Paper2 Data'!$AG$4","v":100},52,{"$f":"'Maths Paper2 Data'!$AG$3","v":29.7},70.3]

{"sheet":"Maths Paper2 Data","index":4,"n_rows":500,"n_cols":33,"rows_kept":500,"cut":false,"hidden":false,"merged":[]}
["Maths Paper 2 2019",null,null,null,"Link to Maths Papers",null,"DfE Domain","1. Addition, subtraction, multiplication and division (calculations)","7. Number and place value","7. Number and place value","4. Geometry - position and direction","1. Addition, subtraction, multiplication and division (calculations)","3. Fractions, decimals and percentages","6. Measurement","2. Algebra","2. Algebra","1. Addition, subtraction, multiplication and division (calculations)","2. Algebra","3. Fractions, decimals and percentages","6. Measurement","3. Fractions, decimals and percentages","5. Geometry - properties of shapes","7. Number and place value","3. Fractions, decimals and percentages","1. Addition, subtraction, multiplication and division (calculations)","6. Measurement","1. Addition, subtraction, multiplication and division (calculations)","8. Ratio and proportion","3. Fractions, decimals and percentages","5. Geometry - properties of shapes","9. Statistics","9. Statistics","6. Measurement"]
[null,null,null,null,"Link to Mark Scheme",{"$f":"IF(H2=\"\",\"\",(SUM(H2:AG2)))","v":35},"Av Marks",1,1,1,1,2,1,1,1,1,2,1,1,1,1,2,2,1,1,2,1,2,2,1,1,2,2]
[null,null,null,null,null,null,"Nat Correct %",91.8,94.1,91.3,85.2,91,90.4,76.400000000000006,72.599999999999994,86.6,79.599999999999994,68.7,67.8,85.6,57,70.8,68.599999999999994,50.3,54.9,46.2,30.8,42.9,45.2,35.5,65.5,45,29.7]
[null,null,null,null,"Pupil Count",{"$f":"SUBTOTAL(9,Table2[Question No])","v":1},"Your Correct %",{"$f":"SUM(SUBTOTAL(9,H6:H985)/SUM(H2*$F$4))*100","v":100},100,100,0,0,100,100,100,100,100,100,100,100,0,0,50,0,0,50,100,100,0,100,0,50,100]
["School/Group Name","Pupil Name","Gender (M/F)","DisAdv (Y/N)","SEND (E,K,N)","Marks scored","Question No","1","2","3","4","5","6","7","8a","8b","9","10","11a","11b","12","13","14","15","16","17","18","19","20","21","22a","22b","23"]
[{"$f":"IF(Table1[[#This Row],[School/Group Name]]=\"\",\"\",Table1[[#This Row],[School/Group Name]])","v":"Hogwarts"},{"$f":"IF(Table1[[#This Row],[Pupil Name]]=\"\",\"\",Table1[[#This Row],[Pupil Name]])","v":"Harry"},{"$f":"IF(Table1[[#This Row],[Gender (M/F)]]=\"\",\"\",Table1[[#This Row],[Gender (M/F)]])","v":"M"},{"$f":"IF(Table1[[#This Row],[DisAdv (Y/N)]]=\"\",\"\",Table1[[#This Row],[DisAdv (Y/N)]])","v":"Y"},{"$f":"IF(Table1[[#This Row],[SEND (E,K,N)]]=\"\",\"\",Table1[[#This Row],[SEND (E,K,N)]])","v":"K"},{"$f":"IF(H6=\"\",\"\",(SUM(H6:AG6)))","v":21},{"$f":"IF(LEN(Table2[[#This Row],[Pupil Name]])>0,1,0)","v":1},1,1,1,0,0,1,1,1,1,2,1,1,1,"X",0,1,0,0,1,1,2,0,1,0,1,2]
[{"$f":"IF(Table1[[#This Row],[School/Group Name]]=\"\",\"\",Table1[[#This Row],[School/Group Name]])","v":""},{"$f":"IF(Table1[[#This Row],[Pupil Name]]=\"\",\"\",Table1[[#This Row],[Pupil Name]])","v":""},{"$f":"IF(Table1[[#This Row],[Gender (M/F)]]=\"\",\"\",Table1[[#This Row],[Gender (M/F)]])","v":""},{"$f":"IF(Table1[[#This Row],[DisAdv (Y/N)]]=\"\",\"\",Table1[[#This Row],[DisAdv (Y/N)]])","v":""},{"$f":"IF(Table1[[#This Row],[SEND (E,K,N)]]=\"\",\"\",Table1[[#This Row],[SEND (E,K,N)]])","v":""},{"$f":"IF(H7=\"\",\"\",(SUM(H7:AG7)))","v":""},{"$f":"IF(LEN(Table2[[#This Row],[Pupil Name]])>0,1,0)","v":0}]
[{"$f":"IF(Table1[[#This Row],[School/Group Name]]=\"\",\"\",Table1[[#This Row],[School/Group Name]])","v":""},{"$f":"IF(Table1[[#This Row],[Pupil Name]]=\"\",\"\",Table1[[#This Row],[Pupil Name]])","v":""},{"$f":"IF(Table1[[#This Row],[Gender (M/F)]]=\"\",\"\",Table1[[#This Row],[Gender (M/F)]])","v":""},{"$f":"IF(Table1[[#This Row],[DisAdv (Y/N)]]=\"\",\"\",Table1[[#This Row],[DisAdv (Y/N)]])","v":""},{"$f":"IF(Table1[[#This Row],[SEND (E,K,N)]]=\"\",\"\",Table1[[#This Row],[SEND (E,K,N)]])","v":""},"",{"$f":"IF(LEN(Table2[[#This Row],[Pupil Name]])>0,1,0)","v":0}]
[{"$f":"IF(Table1[[#This Row],[School/Group Name]]=\"\",\"\",Table1[[#This Row],[School/Group Name]])","v":""},{"$f":"IF(Table1[[#This Row],[Pupil Name]]=\"\",\"\",Table1[[#This Row],[Pupil Name]])","v":""},{"$f":"IF(Table1[[#This Row],[Gender (M/F)]]=\"\",\"\",Table1[[#This Row],[Gender (M/F)]])","v":""},{"$f":"IF(Table1[[#This Row],[DisAdv (Y/N)]]=\"\",\"\",Table1[[#This Row],[DisAdv (Y/N)]])","v":""},{"$f":"IF(Table1[[#This Row],[SEND (E,K,N)]]=\"\",\"\",Table1[[#This Row],[SEND (E,K,N)]])","v":""},"",{"$f":"IF(LEN(Table2[[#This Row],[Pupil Name]])>0,1,0)","v":0}]
[{"$f":"IF(Table1[[#This Row],[School/Group Name]]=\"\",\"\",Table1[[#This Row],[School/Group Name]])","v":""},{"$f":"IF(Table1[[#This Row],[Pupil Name]]=\"\",\"\",Table1[[#This Row],[Pupil Name]])","v":""},{"$f":"IF(Table1[[#This Row],[Gender (M/F)]]=\"\",\"\",Table1[[#This Row],[Gender (M/F)]])","v":""},{"$f":"IF(Table1[[#This Row],[DisAdv (Y/N)]]=\"\",\"\",Table1[[#This Row],[DisAdv (Y/N)]])","v":""},{"$f":"IF(Table1[[#This Row],[SEND (E,K,N)]]=\"\",\"\",Table1[[#This Row],[SEND (E,K,N)]])","v":""},"",{"$f":"IF(LEN(Table2[[#This Row],[Pupil Name]])>0,1,0)","v":0}]
[{"$f":"IF(Table1[[#This Row],[School/Group Name]]=\"\",\"\",Table1[[#This Row],[School/Group Name]])","v":""},{"$f":"IF(Table1[[#This Row],[Pupil Name]]=\"\",\"\",Table1[[#This Row],[Pupil Name]])","v":""},{"$f":"IF(Table1[[#This Row],[Gender (M/F)]]=\"\",\"\",Table1[[#This Row],[Gender (M/F)]])","v":""},{"$f":"IF(Table1[[#This Row],[DisAdv (Y/N)]]=\"\",\"\",Table1[[#This Row],[DisAdv (Y/N)]])","v":""},{"$f":"IF(Table1[[#This Row],[SEND (E,K,N)]]=\"\",\"\",Table1[[#This Row],[SEND (E,K,N)]])","v":""},"",{"$f":"IF(LEN(Table2[[#This Row],[Pupil Name]])>0,1,0)","v":0}]
[{"$f":"IF(Table1[[#This Row],[School/Group Name]]=\"\",\"\",Table1[[#This Row],[School/Group Name]])","v":""},{"$f":"IF(Table1[[#This Row],[Pupil Name]]=\"\",\"\",Table1[[#This Row],[Pupil Name]])","v":""},{"$f":"IF(Table1[[#This Row],[Gender (M/F)]]=\"\",\"\",Table1[[#This Row],[Gender (M/F)]])","v":""},{"$f":"IF(Table1[[#This Row],[DisAdv (Y/N)]]=\"\",\"\",Table1[[#This Row],[DisAdv (Y/N)]])","v":""},{"$f":"IF(Table1[[#This Row],[SEND (E,K,N)]]=\"\",\"\",Table1[[#This Row],[SEND (E,K,N)]])","v":""},"",{"$f":"IF(LEN(Table2[[#This Row],[Pupil Name]])>0,1,0)","v":0}]
[{"$f":"IF(Table1[[#This Row],[School/Group Name]]=\"\",\"\",Table1[[#This Row],[School/Group Name]])","v":""},{"$f":"IF(Table1[[#This Row],[Pupil Name]]=\"\",\"\",Table1[[#This Row],[Pupil Name]])","v":""},{"$f":"IF(Table1[[#This Row],[Gender (M/F)]]=\"\",\"\",Table1[[#This Row],[Gender (M/F)]])","v":""},{"$f":"IF(Table1[[#This Row],[DisAdv (Y/N)]]=\"\",\"\",Table1[[#This Row],[DisAdv (Y/N)]])","v":""},{"$f":"IF(Table1[[#This Row],[SEND (E,K,N)]]=\"\",\"\",Table1[[#This Row],[SEND (E,K,N)]])","v":""},"",{"$f":"IF(LEN(Table2[[#This Row],[Pupil Name]])>0,1,0)","v":0}]
[{"$f":"IF(Table1[[#This Row],[School/Group Name]]=\"\",\"\",Table1[[#This Row],[School/Group Name]])","v":""},{"$f":"IF(Table1[[#This Row],[Pupil Name]]=\"\",\"\",Table1[[#This Row],[Pupil Name]])","v":""},{"$f":"IF(Table1[[#This Row],[Gender (M/F)]]=\"\",\"\",Table1[[#This Row],[Gender (M/F)]])","v":""},{"$f":"IF(Table1[[#This Row],[DisAdv (Y/N)]]=\"\",\"\",Table1[[#This Row],[DisAdv (Y/N)]])","v":""},{"$f":"IF(Table1[[#This Row],[SEND (E,K,N)]]=\"\",\"\",Table1[[#This Row],[SEND (E,K,N)]])","v":""},"",{"$f":"IF(LEN(Table2[[#This Row],[Pupil Name]])>0,1,0)","v":0}]
[{"$f":"IF(Table1[[#This Row],[School/Group Name]]=\"\",\"\",Table1[[#This Row],[School/Group Name]])","v":""},{"$f":"IF(Table1[[#This Row],[Pupil Name]]=\"\",\"\",Table1[[#This Row],[Pupil Name]])","v":""},{"$f":"IF(Table1[[#This Row],[Gender (M/F)]]=\"\",\"\",Table1[[#This Row],[Gender (M/F)]])","v":""},{"$f":"IF(Table1[[#This Row],[DisAdv (Y/N)]]=\"\",\"\",Table1[[#This Row],[DisAdv (Y/N)]])","v":""},{"$f":"IF(Table1[[#This Row],[SEND (E,K,N)]]=\"\",\"\",Table1[[#This Row],[SEND (E,K,N)]])","v":""},"",{"$f":"IF(LEN(Table2[[#This Row],[Pupil Name]])>0,1,0)","v":0}]
[{"$f":"IF(Table1[[#This Row],[School/Group Name]]=\"\",\"\",Table1[[#This Row],[School/Group Name]])","v":""},{"$f":"IF(Table1[[#This Row],[Pupil Name]]=\"\",\"\",Table1[[#This Row],[Pupil Name]])","v":""},{"$f":"IF(Table1[[#This Row],[Gender (M/F)]]=\"\",\"\",Table1[[#This Row],[Gender (M/F)]])","v":""},{"$f":"IF(Table1[[#This Row],[DisAdv (Y/N)]]=\"\",\"\",Table1[[#This Row],[DisAdv (Y/N)]])","v":""},{"$f":"IF(Table1[[#This Row],[SEND (E,K,N)]]=\"\",\"\",Table1[[#This Row],[SEND (E,K,N)]])","v":""},"",{"$f":"IF(LEN(Table2[[#This Row],[Pupil Name]])>0,1,0)","v":0}]
[{"$f":"IF(Table1[[#This Row],[School/Group Name]]=\"\",\"\",Table1[[#This Row],[School/Group Name]])","v":""},{"$f":"IF(Table1[[#This Row],[Pupil Name]]=\"\",\"\",Table1[[#This Row],[Pupil Name]])","v":""},{"$f":"IF(Table1[[#This Row],[Gender (M/F)]]=\"\",\"\",Table1[[#This Row],[Gender (M/F)]])","v":""},{"$f":"IF(Table1[[#This Row],[DisAdv (Y/N)]]=\"\",\"\",Table1[[#This Row],[DisAdv (Y/N)]])","v":""},{"$f":"IF(Table1[[#This Row],[SEND (E,K,N)]]=\"\",\"\",Table1[[#This Row],[SEND (E,K,N)]])","v":""},"",{"$f":"IF(LEN(Table2[[#This Row],[Pupil Name]])>0,1,0)","v":0}]
[{"$f":"IF(Table1[[#This Row],[School/Group Name]]=\"\",\"\",Table1[[#This Row],[School/Group Name]])","v":""},{"$f":"IF(Table1[[#This Row],[Pupil Name]]=\"\",\"\",Table1[[#This Row],[Pupil Name]])","v":""},{"$f":"IF(Table1[[#This Row],[Gender (M/F)]]=\"\",\"\",Table1[[#This Row],[Gender (M/F)]])","v":""},{"$f":"IF(Table1[[#This Row],[DisAdv (Y/N)]]=\"\",\"\",Table1[[#This Row],[DisAdv (Y/N)]])","v":""},{"$f":"IF(Table1[[#This Row],[SEND (E,K,N)]]=\"\",\"\",Table1[[#This Row],[SEND (E,K,N)]])","v":""},"",{"$f":"IF(LEN(Table2[[#This Row],[Pupil Name]])>0,1,0)","v":0}]
[{"$f":"IF(Table1[[#This Row],[School/Group Name]]=\"\",\"\",Table1[[#This Row],[School/Group Name]])","v":""},{"$f":"IF(Table1[[#This Row],[Pupil Name]]=\"\",\"\",Table1[[#This Row],[Pupil Name]])","v":""},{"$f":"IF(Table1[[#This Row],[Gender (M/F)]]=\"\",\"\",Table1[[#This Row],[Gender (M/F)]])","v":""},{"$f":"IF(Table1[[#This Row],[DisAdv (Y/N)]]=\"\",\"\",Table1[[#This Row],[DisAdv (Y/N)]])","v":""},{"$f":"IF(Table1[[#This Row],[SEND (E,K,N)]]=\"\",\"\",Table1[[#This Row],[SEND (E,K,N)]])","v":""},"",{"$f":"IF(LEN(Table2[[#This Row],[Pupil Name]])>0,1,0)","v":0}]
[{"$f":"IF(Table1[[#This Row],[School/Group Name]]=\"\",\"\",Table1[[#This Row],[School/Group Name]])","v":""},{"$f":"IF(Table1[[#This Row],[Pupil Name]]=\"\",\"\",Table1[[#This Row],[Pupil Name]])","v":""},{"$f":"IF(Table1[[#This Row],[Gender (M/F)]]=\"\",\"\",Table1[[#This Row],[Gender (M/F)]])","v":""},{"$f":"IF(Table1[[#This Row],[DisAdv (Y/N)]]=\"\",\"\",Table1[[#This Row],[DisAdv (Y/N)]])","v":""},{"$f":"IF(Table1[[#This Row],[SEND (E,K,N)]]=\"\",\"\",Table1[[#This Row],[SEND (E,K,N)]])","v":""},"",{"$f":"IF(LEN(Table2[[#This Row],[Pupil Name]])>0,1,0)","v":0}]
[{"$f":"IF(Table1[[#This Row],[School/Group Name]]=\"\",\"\",Table1[[#This Row],[School/Group Name]])","v":""},{"$f":"IF(Table1[[#This Row],[Pupil Name]]=\"\",\"\",Table1[[#This Row],[Pupil Name]])","v":""},{"$f":"IF(Table1[[#This Row],[Gender (M/F)]]=\"\",\"\",Table1[[#This Row],[Gender (M/F)]])","v":""},{"$f":"IF(Table1[[#This Row],[DisAdv (Y/N)]]=\"\",\"\",Table1[[#This Row],[DisAdv (Y/N)]])","v":""},{"$f":"IF(Table1[[#This Row],[SEND (E,K,N)]]=\"\",\"\",Table1[[#This Row],[SEND (E,K,N)]])","v":""},"",{"$f":"IF(LEN(Table2[[#This Row],[Pupil Name]])>0,1,0)","v":0}]
[{"$f":"IF(Table1[[#This Row],[School/Group Name]]=\"\",\"\",Table1[[#This Row],[School/Group Name]])","v":""},{"$f":"IF(Table1[[#This Row],[Pupil Name]]=\"\",\"\",Table1[[#This Row],[Pupil Name]])","v":""},{"$f":"IF(Table1[[#This Row],[Gender (M/F)]]=\"\",\"\",Table1[[#This Row],[Gender (M/F)]])","v":""},{"$f":"IF(Table1[[#This Row],[DisAdv (Y/N)]]=\"\",\"\",Table1[[#This Row],[DisAdv (Y/N)]])","v":""},{"$f":"IF(Table1[[#This Row],[SEND (E,K,N)]]=\"\",\"\",Table1[[#This Row],[SEND (E,K,N)]])","v":""},"",{"$f":"IF(LEN(Table2[[#This Row],[Pupil Name]])>0,1,0)","v":0}]
[{"$f":"IF(Table1[[#This Row],[School/Group Name]]=\"\",\"\",Table1[[#This Row],[School/Group Name]])","v":""},{"$f":"IF(Table1[[#This Row],[Pupil Name]]=\"\",\"\",Table1[[#This Row],[Pupil Name]])","v":""},{"$f":"IF(Table1[[#This Row],[Gender (M/F)]]=\"\",\"\",Table1[[#This Row],[Gender (M/F)]])","v":""},{"$f":"IF(Table1[[#This Row],[DisAdv (Y/N)]]=\"\",\"\",Table1[[#This Row],[DisAdv (Y/N)]])","v":""},{"$f":"IF(Table1[[#This Row],[SEND (E,K,N)]]=\"\",\"\",Table1[[#This Row],[SEND (E,K,N)]])","v":""},"",{"$f":"IF(LEN(Table2[[#This Row],[Pupil Name]])>0,1,0)","v":0}]
[{"$f":"IF(Table1[[#This Row],[School/Group Name]]=\"\",\"\",Table1[[#This Row],[School/Group Name]])","v":""},{"$f":"IF(Table1[[#This Row],[Pupil Name]]=\"\",\"\",Table1[[#This Row],[Pupil Name]])","v":""},{"$f":"IF(Table1[[#This Row],[Gender (M/F)]]=\"\",\"\",Table1[[#This Row],[Gender (M/F)]])","v":""},{"$f":"IF(Table1[[#This Row],[DisAdv (Y/N)]]=\"\",\"\",Table1[[#This Row],[DisAdv (Y/N)]])","v":""},{"$f":"IF(Table1[[#This Row],[SEND (E,K,N)]]=\"\",\"\",Table1[[#This Row],[SEND (E,K,N)]])","v":""},"",{"$f":"IF(LEN(Table2[[#This Row],[Pupil Name]])>0,1,0)","v":0}]
[{"$f":"IF(Table1[[#This Row],[School/Group Name]]=\"\",\"\",Table1[[#This Row],[School/Group Name]])","v":""},{"$f":"IF(Table1[[#This Row],[Pupil Name]]=\"\",\"\",Table1[[#This Row],[Pupil Name]])","v":""},{"$f":"IF(Table1[[#This Row],[Gender (M/F)]]=\"\",\"\",Table1[[#This Row],[Gender (M/F)]])","v":""},{"$f":"IF(Table1[[#This Row],[DisAdv (Y/N)]]=\"\",\"\",Table1[[#This Row],[DisAdv (Y/N)]])","v":""},{"$f":"IF(Table1[[#This Row],[SEND (E,K,N)]]=\"\",\"\",Table1[[#This Row],[SEND (E,K,N)]])","v":""},"",{"$f":"IF(LEN(Table2[[#This Row],[Pupil Name]])>0,1,0)","v":0}]
[{"$f":"IF(Table1[[#This Row],[School/Group Name]]=\"\",\"\",Table1[[#This Row],[School/Group Name]])","v":""},{"$f":"IF(Table1[[#This Row],[Pupil Name]]=\"\",\"\",Table1[[#This Row],[Pupil Name]])","v":""},{"$f":"IF(Table1[[#This Row],[Gender (M/F)]]=\"\",\"\",Table1[[#This Row],[Gender (M/F)]])","v":""},{"$f":"IF(Table1[[#This Row],[DisAdv (Y/N)]]=\"\",\"\",Table1[[#This Row],[DisAdv (Y/N)]])","v":""},{"$f":"IF(Table1[[#This Row],[SEND (E,K,N)]]=\"\",\"\",Table1[[#This Row],[SEND (E,K,N)]])","v":""},"",{"$f":"IF(LEN(Table2[[#This Row],[Pupil Name]])>0,1,0)","v":0}]
[{"$f":"IF(Table1[[#This Row],[School/Group Name]]=\"\",\"\",Table1[[#This Row],[School/Group Name]])","v":""},{"$f":"IF(Table1[[#This Row],[Pupil Name]]=\"\",\"\",Table1[[#This Row],[Pupil Name]])","v":""},{"$f":"IF(Table1[[#This Row],[Gender (M/F)]]=\"\",\"\",Table1[[#This Row],[Gender (M/F)]])","v":""},{"$f":"IF(Table1[[#This Row],[DisAdv (Y/N)]]=\"\",\"\",Table1[[#This Row],[DisAdv (Y/N)]])","v":""},{"$f":"IF(Table1[[#This Row],[SEND (E,K,N)]]=\"\",\"\",Table1[[#This Row],[SEND (E,K,N)]])","v":""},"",{"$f":"IF(LEN(Table2[[#This Row],[Pupil Name]])>0,1,0)","v":0}]
[{"$f":"IF(Table1[[#This Row],[School/Group Name]]=\"\",\"\",Table1[[#This Row],[School/Group Name]])","v":""},{"$f":"IF(Table1[[#This Row],[Pupil Name]]=\"\",\"\",Table1[[#This Row],[Pupil Name]])","v":""},{"$f":"IF(Table1[[#This Row],[Gender (M/F)]]=\"\",\"\",Table1[[#This Row],[Gender (M/F)]])","v":""},{"$f":"IF(Table1[[#This Row],[DisAdv (Y/N)]]=\"\",\"\",Table1[[#This Row],[DisAdv (Y/N)]])","v":""},{"$f":"IF(Table1[[#This Row],[SEND (E,K,N)]]=\"\",\"\",Table1[[#This Row],[SEND (E,K,N)]])","v":""},"",{"$f":"IF(LEN(Table2[[#This Row],[Pupil Name]])>0,1,0)","v":0}]
[{"$f":"IF(Table1[[#This Row],[School/Group Name]]=\"\",\"\",Table1[[#This Row],[School/Group Name]])","v":""},{"$f":"IF(Table1[[#This Row],[Pupil Name]]=\"\",\"\",Table1[[#This Row],[Pupil Name]])","v":""},{"$f":"IF(Table1[[#This Row],[Gender (M/F)]]=\"\",\"\",Table1[[#This Row],[Gender (M/F)]])","v":""},{"$f":"IF(Table1[[#This Row],[DisAdv (Y/N)]]=\"\",\"\",Table1[[#This Row],[DisAdv (Y/N)]])","v":""},{"$f":"IF(Table1[[#This Row],[SEND (E,K,N)]]=\"\",\"\",Table1[[#This Row],[SEND (E,K,N)]])","v":""},"",{"$f":"IF(LEN(Table2[[#This Row],[Pupil Name]])>0,1,0)","v":0}]
[{"$f":"IF(Table1[[#This Row],[School/Group Name]]=\"\",\"\",Table1[[#This Row],[School/Group Name]])","v":""},{"$f":"IF(Table1[[#This Row],[Pupil Name]]=\"\",\"\",Table1[[#This Row],[Pupil Name]])","v":""},{"$f":"IF(Table1[[#This Row],[Gender (M/F)]]=\"\",\"\",Table1[[#This Row],[Gender (M/F)]])","v":""},{"$f":"IF(Table1[[#This Row],[DisAdv (Y/N)]]=\"\",\"\",Table1[[#This Row],[DisAdv (Y/N)]])","v":""},{"$f":"IF(Table1[[#This Row],[SEND (E,K,N)]]=\"\",\"\",Table1[[#This Row],[SEND (E,K,N)]])","v":""},"",{"$f":"IF(LEN(Table2[[#This Row],[Pupil Name]])>0,1,0)","v":0}]
[{"$f":"IF(Table1[[#This Row],[School/Group Name]]=\"\",\"\",Table1[[#This Row],[School/Group Name]])","v":""},{"$f":"IF(Table1[[#This Row],[Pupil Name]]=\"\",\"\",Table1[[#This Row],[Pupil Name]])","v":""},{"$f":"IF(Table1[[#This Row],[Gender (M/F)]]=\"\",\"\",Table1[[#This Row],[Gender (M/F)]])","v":""},{"$f":"IF(Table1[[#This Row],[DisAdv (Y/N)]]=\"\",\"\",Table1[[#This Row],[DisAdv (Y/N)]])","v":""},{"$f":"IF(Table1[[#This Row],[SEND (E,K,N)]]=\"\",\"\",Table1[[#This Row],[SEND (E,K,N)]])","v":""},"",{"$f":"IF(LEN(Table2[[#This Row],[Pupil Name]])>0,1,0)","v":0}]
[{"$f":"IF(Table1[[#This Row],[School/Group Name]]=\"\",\"\",Table1[[#This Row],[School/Group Name]])","v":""},{"$f":"IF(Table1[[#This Row],[Pupil Name]]=\"\",\"\",Table1[[#This Row],[Pupil Name]])","v":""},{"$f":"IF(Table1[[#This Row],[Gender (M/F)]]=\"\",\"\",Table1[[#This Row],[Gender (M/F)]])","v":""},{"$f":"IF(Table1[[#This Row],[DisAdv (Y/N)]]=\"\",\"\",Table1[[#This Row],[DisAdv (Y/N)]])","v":""},{"$f":"IF(Table1[[#This Row],[SEND (E,K,N)]]=\"\",\"\",Table1[[#This Row],[SEND (E,K,N)]])","v":""},"",{"$f":"IF(LEN(Table2[[#This Row],[Pupil Name]])>0,1,0)","v":0}]
[{"$f":"IF(Table1[[#This Row],[School/Group Name]]=\"\",\"\",Table1[[#This Row],[School/Group Name]])","v":""},{"$f":"IF(Table1[[#This Row],[Pupil Name]]=\"\",\"\",Table1[[#This Row],[Pupil Name]])","v":""},{"$f":"IF(Table1[[#This Row],[Gender (M/F)]]=\"\",\"\",Table1[[#This Row],[Gender (M/F)]])","v":""},{"$f":"IF(Table1[[#This Row],[DisAdv (Y/N)]]=\"\",\"\",Table1[[#This Row],[DisAdv (Y/N)]])","v":""},{"$f":"IF(Table1[[#This Row],[SEND (E,K,N)]]=\"\",\"\",Table1[[#This Row],[SEND (E,K,N)]])","v":""},"",{"$f":"IF(LEN(Table2[[#This Row],[Pupil Name]])>0,1,0)","v":0}]
[{"$f":"IF(Table1[[#This Row],[School/Group Name]]=\"\",\"\",Table1[[#This Row],[School/Group Name]])","v":""},{"$f":"IF(Table1[[#This Row],[Pupil Name]]=\"\",\"\",Table1[[#This Row],[Pupil Name]])","v":""},{"$f":"IF(Table1[[#This Row],[Gender (M/F)]]=\"\",\"\",Table1[[#This Row],[Gender (M/F)]])","v":""},{"$f":"IF(Table1[[#This Row],[DisAdv (Y/N)]]=\"\",\"\",Table1[[#This Row],[DisAdv (Y/N)]])","v":""},{"$f":"IF(Table1[[#This Row],[SEND (E,K,N)]]=\"\",\"\",Table1[[#This Row],[SEND (E,K,N)]])","v":""},"",{"$f":"IF(LEN(Table2[[#This Row],[Pupil Name]])>0,1,0)","v":0}]
[{"$f":"IF(Table1[[#This Row],[School/Group Name]]=\"\",\"\",Table1[[#This Row],[School/Group Name]])","v":""},{"$f":"IF(Table1[[#This Row],[Pupil Name]]=\"\",\"\",Table1[[#This Row],[Pupil Name]])","v":""},{"$f":"IF(Table1[[#This Row],[Gender (M/F)]]=\"\",\"\",Table1[[#This Row],[Gender (M/F)]])","v":""},{"$f":"IF(Table1[[#This Row],[DisAdv (Y/N)]]=\"\",\"\",Table1[[#This Row],[DisAdv (Y/N)]])","v":""},{"$f":"IF(Table1[[#This Row],[SEND (E,K,N)]]=\"\",\"\",Table1[[#This Row],[SEND (E,K,N)]])","v":""},"",{"$f":"IF(LEN(Table2[[#This Row],[Pupil Name]])>0,1,0)","v":0}]
[{"$f":"IF(Table1[[#This Row],[School/Group Name]]=\"\",\"\",Table1[[#This Row],[School/Group Name]])","v":""},{"$f":"IF(Table1[[#This Row],[Pupil Name]]=\"\",\"\",Table1[[#This Row],[Pupil Name]])","v":""},{"$f":"IF(Table1[[#This Row],[Gender (M/F)]]=\"\",\"\",Table1[[#This Row],[Gender (M/F)]])","v":""},{"$f":"IF(Table1[[#This Row],[DisAdv (Y/N)]]=\"\",\"\",Table1[[#This Row],[DisAdv (Y/N)]])","v":""},{"$f":"IF(Table1[[#This Row],[SEND (E,K,N)]]=\"\",\"\",Table1[[#This Row],[SEND (E,K,N)]])","v":""},"",{"$f":"IF(LEN(Table2[[#This Row],[Pupil Name]])>0,1,0)","v":0}]
[{"$f":"IF(Table1[[#This Row],[School/Group Name]]=\"\",\"\",Table1[[#This Row],[School/Group Name]])","v":""},{"$f":"IF(Table1[[#This Row],[Pupil Name]]=\"\",\"\",Table1[[#This Row],[Pupil Name]])","v":""},{"$f":"IF(Table1[[#This Row],[Gender (M/F)]]=\"\",\"\",Table1[[#This Row],[Gender (M/F)]])","v":""},{"$f":"IF(Table1[[#This Row],[DisAdv (Y/N)]]=\"\",\"\",Table1[[#This Row],[DisAdv (Y/N)]])","v":""},{"$f":"IF(Table1[[#This Row],[SEND (E,K,N)]]=\"\",\"\",Table1[[#This Row],[SEND (E,K,N)]])","v":""},"",{"$f":"IF(LEN(Table2[[#This Row],[Pupil Name]])>0,1,0)","v":0}]
[{"$f":"IF(Table1[[#This Row],[School/Group Name]]=\"\",\"\",Table1[[#This Row],[School/Group Name]])","v":""},{"$f":"IF(Table1[[#This Row],[Pupil Name]]=\"\",\"\",Table1[[#This Row],[Pupil Name]])","v":""},{"$f":"IF(Table1[[#This Row],[Gender (M/F)]]=\"\",\"\",Table1[[#This Row],[Gender (M/F)]])","v":""},{"$f":"IF(Table1[[#This Row],[DisAdv (Y/N)]]=\"\",\"\",Table1[[#This Row],[DisAdv (Y/N)]])","v":""},{"$f":"IF(Table1[[#This Row],[SEND (E,K,N)]]=\"\",\"\",Table1[[#This Row],[SEND (E,K,N)]])","v":""},"",{"$f":"IF(LEN(Table2[[#This Row],[Pupil Name]])>0,1,0)","v":0}]
[{"$f":"IF(Table1[[#This Row],[School/Group Name]]=\"\",\"\",Table1[[#This Row],[School/Group Name]])","v":""},{"$f":"IF(Table1[[#This Row],[Pupil Name]]=\"\",\"\",Table1[[#This Row],[Pupil Name]])","v":""},{"$f":"IF(Table1[[#This Row],[Gender (M/F)]]=\"\",\"\",Table1[[#This Row],[Gender (M/F)]])","v":""},{"$f":"IF(Table1[[#This Row],[DisAdv (Y/N)]]=\"\",\"\",Table1[[#This Row],[DisAdv (Y/N)]])","v":""},{"$f":"IF(Table1[[#This Row],[SEND (E,K,N)]]=\"\",\"\",Table1[[#This Row],[SEND (E,K,N)]])","v":""},"",{"$f":"IF(LEN(Table2[[#This Row],[Pupil Name]])>0,1,0)","v":0}]
[{"$f":"IF(Table1[[#This Row],[School/Group Name]]=\"\",\"\",Table1[[#This Row],[School/Group Name]])","v":""},{"$f":"IF(Table1[[#This Row],[Pupil Name]]=\"\",\"\",Table1[[#This Row],[Pupil Name]])","v":""},{"$f":"IF(Table1[[#This Row],[Gender (M/F)]]=\"\",\"\",Table1[[#This Row],[Gender (M/F)]])","v":""},{"$f":"IF(Table1[[#This Row],[DisAdv (Y/N)]]=\"\",\"\",Table1[[#This Row],[DisAdv (Y/N)]])","v":""},{"$f":"IF(Table1[[#This Row],[SEND (E,K,N)]]=\"\",\"\",Table1[[#This Row],[SEND (E,K,N)]])","v":""},"",{"$f":"IF(LEN(Table2[[#This Row],[Pupil Name]])>0,1,0)","v":0}]
[{"$f":"IF(Table1[[#This Row],[School/Group Name]]=\"\",\"\",Table1[[#This Row],[School/Group Name]])","v":""},{"$f":"IF(Table1[[#This Row],[Pupil Name]]=\"\",\"\",Table1[[#This Row],[Pupil Name]])","v":""},{"$f":"IF(Table1[[#This Row],[Gender (M/F)]]=\"\",\"\",Table1[[#This Row],[Gender (M/F)]])","v":""},{"$f":"IF(Table1[[#This Row],[DisAdv (Y/N)]]=\"\",\"\",Table1[[#This Row],[DisAdv (Y/N)]])","v":""},{"$f":"IF(Table1[[#This Row],[SEND (E,K,N)]]=\"\",\"\",Table1[[#This Row],[SEND (E,K,N)]])","v":""},"",{"$f":"IF(LEN(Table2[[#This Row],[Pupil Name]])>0,1,0)","v":0}]
[{"$f":"IF(Table1[[#This Row],[School/Group Name]]=\"\",\"\",Table1[[#This Row],[School/Group Name]])","v":""},{"$f":"IF(Table1[[#This Row],[Pupil Name]]=\"\",\"\",Table1[[#This Row],[Pupil Name]])","v":""},{"$f":"IF(Table1[[#This Row],[Gender (M/F)]]=\"\",\"\",Table1[[#This Row],[Gender (M/F)]])","v":""},{"$f":"IF(Table1[[#This Row],[DisAdv (Y/N)]]=\"\",\"\",Table1[[#This Row],[DisAdv (Y/N)]])","v":""},{"$f":"IF(Table1[[#This Row],[SEND (E,K,N)]]=\"\",\"\",Table1[[#This Row],[SEND (E,K,N)]])","v":""},"",{"$f":"IF(LEN(Table2[[#This Row],[Pupil Name]])>0,1,0)","v":0}]
[{"$f":"IF(Table1[[#This Row],[School/Group Name]]=\"\",\"\",Table1[[#This Row],[School/Group Name]])","v":""},{"$f":"IF(Table1[[#This Row],[Pupil Name]]=\"\",\"\",Table1[[#This Row],[Pupil Name]])","v":""},{"$f":"IF(Table1[[#This Row],[Gender (M/F)]]=\"\",\"\",Table1[[#This Row],[Gender (M/F)]])","v":""},{"$f":"IF(Table1[[#This Row],[DisAdv (Y/N)]]=\"\",\"\",Table1[[#This Row],[DisAdv (Y/N)]])","v":""},{"$f":"IF(Table1[[#This Row],[SEND (E,K,N)]]=\"\",\"\",Table1[[#This Row],[SEND (E,K,N)]])","v":""},"",{"$f":"IF(LEN(Table2[[#This Row],[Pupil Name]])>0,1,0)","v":0}]
[{"$f":"IF(Table1[[#This Row],[School/Group Name]]=\"\",\"\",Table1[[#This Row],[School/Group Name]])","v":""},{"$f":"IF(Table1[[#This Row],[Pupil Name]]=\"\",\"\",Table1[[#This Row],[Pupil Name]])","v":""},{"$f":"IF(Table1[[#This Row],[Gender (M/F)]]=\"\",\"\",Table1[[#This Row],[Gender (M/F)]])","v":""},{"$f":"IF(Table1[[#This Row],[DisAdv (Y/N)]]=\"\",\"\",Table1[[#This Row],[DisAdv (Y/N)]])","v":""},{"$f":"IF(Table1[[#This Row],[SEND (E,K,N)]]=\"\",\"\",Table1[[#This Row],[SEND (E,K,N)]])","v":""},"",{"$f":"IF(LEN(Table2[[#This Row],[Pupil Name]])>0,1,0)","v":0}]
[{"$f":"IF(Table1[[#This Row],[School/Group Name]]=\"\",\"\",Table1[[#This Row],[School/Group Name]])","v":""},{"$f":"IF(Table1[[#This Row],[Pupil Name]]=\"\",\"\",Table1[[#This Row],[Pupil Name]])","v":""},{"$f":"IF(Table1[[#This Row],[Gender (M/F)]]=\"\",\"\",Table1[[#This Row],[Gender (M/F)]])","v":""},{"$f":"IF(Table1[[#This Row],[DisAdv (Y/N)]]=\"\",\"\",Table1[[#This Row],[DisAdv (Y/N)]])","v":""},{"$f":"IF(Table1[[#This Row],[SEND (E,K,N)]]=\"\",\"\",Table1[[#This Row],[SEND (E,K,N)]])","v":""},"",{"$f":"IF(LEN(Table2[[#This Row],[Pupil Name]])>0,1,0)","v":0}]
[{"$f":"IF(Table1[[#This Row],[School/Group Name]]=\"\",\"\",Table1[[#This Row],[School/Group Name]])","v":""},{"$f":"IF(Table1[[#This Row],[Pupil Name]]=\"\",\"\",Table1[[#This Row],[Pupil Name]])","v":""},{"$f":"IF(Table1[[#This Row],[Gender (M/F)]]=\"\",\"\",Table1[[#This Row],[Gender (M/F)]])","v":""},{"$f":"IF(Table1[[#This Row],[DisAdv (Y/N)]]=\"\",\"\",Table1[[#This Row],[DisAdv (Y/N)]])","v":""},{"$f":"IF(Table1[[#This Row],[SEND (E,K,N)]]=\"\",\"\",Table1[[#This Row],[SEND (E,K,N)]])","v":""},"",{"$f":"IF(LEN(Table2[[#This Row],[Pupil Name]])>0,1,0)","v":0}]
[{"$f":"IF(Table1[[#This Row],[School/Group Name]]=\"\",\"\",Table1[[#This Row],[School/Group Name]])","v":""},{"$f":"IF(Table1[[#This Row],[Pupil Name]]=\"\",\"\",Table1[[#This Row],[Pupil Name]])","v":""},{"$f":"IF(Table1[[#This Row],[Gender (M/F)]]=\"\",\"\",Table1[[#This Row],[Gender (M/F)]])","v":""},{"$f":"IF(Table1[[#This Row],[DisAdv (Y/N)]]=\"\",\"\",Table1[[#This Row],[DisAdv (Y/N)]])","v":""},{"$f":"IF(Table1[[#This Row],[SEND (E,K,N)]]=\"\",\"\",Table1[[#This Row],[SEND (E,K,N)]])","v":""},"",{"$f":"IF(LEN(Table2[[#This Row],[Pupil Name]])>0,1,0)","v":0}]
[{"$f":"IF(Table1[[#This Row],[School/Group Name]]=\"\",\"\",Table1[[#This Row],[School/Group Name]])","v":""},{"$f":"IF(Table1[[#This Row],[Pupil Name]]=\"\",\"\",Table1[[#This Row],[Pupil Name]])","v":""},{"$f":"IF(Table1[[#This Row],[Gender (M/F)]]=\"\",\"\",Table1[[#This Row],[Gender (M/F)]])","v":""},{"$f":"IF(Table1[[#This Row],[DisAdv (Y/N)]]=\"\",\"\",Table1[[#This Row],[DisAdv (Y/N)]])","v":""},{"$f":"IF(Table1[[#This Row],[SEND (E,K,N)]]=\"\",\"\",Table1[[#This Row],[SEND (E,K,N)]])","v":""},"",{"$f":"IF(LEN(Table2[[#This Row],[Pupil Name]])>0,1,0)","v":0}]
[{"$f":"IF(Table1[[#This Row],[School/Group Name]]=\"\",\"\",Table1[[#This Row],[School/Group Name]])","v":""},{"$f":"IF(Table1[[#This Row],[Pupil Name]]=\"\",\"\",Table1[[#This Row],[Pupil Name]])","v":""},{"$f":"IF(Table1[[#This Row],[Gender (M/F)]]=\"\",\"\",Table1[[#This Row],[Gender (M/F)]])","v":""},{"$f":"IF(Table1[[#This Row],[DisAdv (Y/N)]]=\"\",\"\",Table1[[#This Row],[DisAdv (Y/N)]])","v":""},{"$f":"IF(Table1[[#This Row],[SEND (E,K,N)]]=\"\",\"\",Table1[[#This Row],[SEND (E,K,N)]])","v":""},"",{"$f":"IF(LEN(Table2[[#This Row],[Pupil Name]])>0,1,0)","v":0}]
[{"$f":"IF(Table1[[#This Row],[School/Group Name]]=\"\",\"\",Table1[[#This Row],[School/Group Name]])","v":""},{"$f":"IF(Table1[[#This Row],[Pupil Name]]=\"\",\"\",Table1[[#This Row],[Pupil Name]])","v":""},{"$f":"IF(Table1[[#This Row],[Gender (M/F)]]=\"\",\"\",Table1[[#This Row],[Gender (M/F)]])","v":""},{"$f":"IF(Table1[[#This Row],[DisAdv (Y/N)]]=\"\",\"\",Table1[[#This Row],[DisAdv (Y/N)]])","v":""},{"$f":"IF(Table1[[#This Row],[SEND (E,K,N)]]=\"\",\"\",Table1[[#This Row],[SEND (E,K,N)]])","v":""},"",{"$f":"IF(LEN(Table2[[#This Row],[Pupil Name]])>0,1,0)","v":0}]
[{"$f":"IF(Table1[[#This Row],[School/Group Name]]=\"\",\"\",Table1[[#This Row],[School/Group Name]])","v":""},{"$f":"IF(Table1[[#This Row],[Pupil Name]]=\"\",\"\",Table1[[#This Row],[Pupil Name]])","v":""},{"$f":"IF(Table1[[#This Row],[Gender (M/F)]]=\"\",\"\",Table1[[#This Row],[Gender (M/F)]])","v":""},{"$f":"IF(Table1[[#This Row],[DisAdv (Y/N)]]=\"\",\"\",Table1[[#This Row],[DisAdv (Y/N)]])","v":""},{"$f":"IF(Table1[[#This Row],[SEND (E,K,N)]]=\"\",\"\",Table1[[#This Row],[SEND (E,K,N)]])","v":""},"",{"$f":"IF(LEN(Table2[[#This Row],[Pupil Name]])>0,1,0)","v":0}]
[{"$f":"IF(Table1[[#This Row],[School/Group Name]]=\"\",\"\",Table1[[#This Row],[School/Group Name]])","v":""},{"$f":"IF(Table1[[#This Row],[Pupil Name]]=\"\",\"\",Table1[[#This Row],[Pupil Name]])","v":""},{"$f":"IF(Table1[[#This Row],[Gender (M/F)]]=\"\",\"\",Table1[[#This Row],[Gender (M/F)]])","v":""},{"$f":"IF(Table1[[#This Row],[DisAdv (Y/N)]]=\"\",\"\",Table1[[#This Row],[DisAdv (Y/N)]])","v":""},{"$f":"IF(Table1[[#This Row],[SEND (E,K,N)]]=\"\",\"\",Table1[[#This Row],[SEND (E,K,N)]])","v":""},"",{"$f":"IF(LEN(Table2[[#This Row],[Pupil Name]])>0,1,0)","v":0}]
[{"$f":"IF(Table1[[#This Row],[School/Group Name]]=\"\",\"\",Table1[[#This Row],[School/Group Name]])","v":""},{"$f":"IF(Table1[[#This Row],[Pupil Name]]=\"\",\"\",Table1[[#This Row],[Pupil Name]])","v":""},{"$f":"IF(Table1[[#This Row],[Gender (M/F)]]=\"\",\"\",Table1[[#This Row],[Gender (M/F)]])","v":""},{"$f":"IF(Table1[[#This Row],[DisAdv (Y/N)]]=\"\",\"\",Table1[[#This Row],[DisAdv (Y/N)]])","v":""},{"$f":"IF(Table1[[#This Row],[SEND (E,K,N)]]=\"\",\"\",Table1[[#This Row],[SEND (E,K,N)]])","v":""},"",{"$f":"IF(LEN(Table2[[#This Row],[Pupil Name]])>0,1,0)","v":0}]
[{"$f":"IF(Table1[[#This Row],[School/Group Name]]=\"\",\"\",Table1[[#This Row],[School/Group Name]])","v":""},{"$f":"IF(Table1[[#This Row],[Pupil Name]]=\"\",\"\",Table1[[#This Row],[Pupil Name]])","v":""},{"$f":"IF(Table1[[#This Row],[Gender (M/F)]]=\"\",\"\",Table1[[#This Row],[Gender (M/F)]])","v":""},{"$f":"IF(Table1[[#This Row],[DisAdv (Y/N)]]=\"\",\"\",Table1[[#This Row],[DisAdv (Y/N)]])","v":""},{"$f":"IF(Table1[[#This Row],[SEND (E,K,N)]]=\"\",\"\",Table1[[#This Row],[SEND (E,K,N)]])","v":""},"",{"$f":"IF(LEN(Table2[[#This Row],[Pupil Name]])>0,1,0)","v":0}]
[{"$f":"IF(Table1[[#This Row],[School/Group Name]]=\"\",\"\",Table1[[#This Row],[School/Group Name]])","v":""},{"$f":"IF(Table1[[#This Row],[Pupil Name]]=\"\",\"\",Table1[[#This Row],[Pupil Name]])","v":""},{"$f":"IF(Table1[[#This Row],[Gender (M/F)]]=\"\",\"\",Table1[[#This Row],[Gender (M/F)]])","v":""},{"$f":"IF(Table1[[#This Row],[DisAdv (Y/N)]]=\"\",\"\",Table1[[#This Row],[DisAdv (Y/N)]])","v":""},{"$f":"IF(Table1[[#This Row],[SEND (E,K,N)]]=\"\",\"\",Table1[[#This Row],[SEND (E,K,N)]])","v":""},"",{"$f":"IF(LEN(Table2[[#This Row],[Pupil Name]])>0,1,0)","v":0}]
[{"$f":"IF(Table1[[#This Row],[School/Group Name]]=\"\",\"\",Table1[[#This Row],[School/Group Name]])","v":""},{"$f":"IF(Table1[[#This Row],[Pupil Name]]=\"\",\"\",Table1[[#This Row],[Pupil Name]])","v":""},{"$f":"IF(Table1[[#This Row],[Gender (M/F)]]=\"\",\"\",Table1[[#This Row],[Gender (M/F)]])","v":""},{"$f":"IF(Table1[[#This Row],[DisAdv (Y/N)]]=\"\",\"\",Table1[[#This Row],[DisAdv (Y/N)]])","v":""},{"$f":"IF(Table1[[#This Row],[SEND (E,K,N)]]=\"\",\"\",Table1[[#This Row],[SEND (E,K,N)]])","v":""},"",{"$f":"IF(LEN(Table2[[#This Row],[Pupil Name]])>0,1,0)","v":0}]
[{"$f":"IF(Table1[[#This Row],[School/Group Name]]=\"\",\"\",Table1[[#This Row],[School/Group Name]])","v":""},{"$f":"IF(Table1[[#This Row],[Pupil Name]]=\"\",\"\",Table1[[#This Row],[Pupil Name]])","v":""},{"$f":"IF(Table1[[#This Row],[Gender (M/F)]]=\"\",\"\",Table1[[#This Row],[Gender (M/F)]])","v":""},{"$f":"IF(Table1[[#This Row],[DisAdv (Y/N)]]=\"\",\"\",Table1[[#This Row],[DisAdv (Y/N)]])","v":""},{"$f":"IF(Table1[[#This Row],[SEND (E,K,N)]]=\"\",\"\",Table1[[#This Row],[SEND (E,K,N)]])","v":""},"",{"$f":"IF(LEN(Table2[[#This Row],[Pupil Name]])>0,1,0)","v":0}]
[{"$f":"IF(Table1[[#This Row],[School/Group Name]]=\"\",\"\",Table1[[#This Row],[School/Group Name]])","v":""},{"$f":"IF(Table1[[#This Row],[Pupil Name]]=\"\",\"\",Table1[[#This Row],[Pupil Name]])","v":""},{"$f":"IF(Table1[[#This Row],[Gender (M/F)]]=\"\",\"\",Table1[[#This Row],[Gender (M/F)]])","v":""},{"$f":"IF(Table1[[#This Row],[DisAdv (Y/N)]]=\"\",\"\",Table1[[#This Row],[DisAdv (Y/N)]])","v":""},{"$f":"IF(Table1[[#This Row],[SEND (E,K,N)]]=\"\",\"\",Table1[[#This Row],[SEND (E,K,N)]])","v":""},"",{"$f":"IF(LEN(Table2[[#This Row],[Pupil Name]])>0,1,0)","v":0}]
[{"$f":"IF(Table1[[#This Row],[School/Group Name]]=\"\",\"\",Table1[[#This Row],[School/Group Name]])","v":""},{"$f":"IF(Table1[[#This Row],[Pupil Name]]=\"\",\"\",Table1[[#This Row],[Pupil Name]])","v":""},{"$f":"IF(Table1[[#This Row],[Gender (M/F)]]=\"\",\"\",Table1[[#This Row],[Gender (M/F)]])","v":""},{"$f":"IF(Table1[[#This Row],[DisAdv (Y/N)]]=\"\",\"\",Table1[[#This Row],[DisAdv (Y/N)]])","v":""},{"$f":"IF(Table1[[#This Row],[SEND (E,K,N)]]=\"\",\"\",Table1[[#This Row],[SEND (E,K,N)]])","v":""},"",{"$f":"IF(LEN(Table2[[#This Row],[Pupil Name]])>0,1,0)","v":0}]
[{"$f":"IF(Table1[[#This Row],[School/Group Name]]=\"\",\"\",Table1[[#This Row],[School/Group Name]])","v":""},{"$f":"IF(Table1[[#This Row],[Pupil Name]]=\"\",\"\",Table1[[#This Row],[Pupil Name]])","v":""},{"$f":"IF(Table1[[#This Row],[Gender (M/F)]]=\"\",\"\",Table1[[#This Row],[Gender (M/F)]])","v":""},{"$f":"IF(Table1[[#This Row],[DisAdv (Y/N)]]=\"\",\"\",Table1[[#This Row],[DisAdv (Y/N)]])","v":""},{"$f":"IF(Table1[[#This Row],[SEND (E,K,N)]]=\"\",\"\",Table1[[#This Row],[SEND (E,K,N)]])","v":""},"",{"$f":"IF(LEN(Table2[[#This Row],[Pupil Name]])>0,1,0)","v":0}]
[{"$f":"IF(Table1[[#This Row],[School/Group Name]]=\"\",\"\",Table1[[#This Row],[School/Group Name]])","v":""},{"$f":"IF(Table1[[#This Row],[Pupil Name]]=\"\",\"\",Table1[[#This Row],[Pupil Name]])","v":""},{"$f":"IF(Table1[[#This Row],[Gender (M/F)]]=\"\",\"\",Table1[[#This Row],[Gender (M/F)]])","v":""},{"$f":"IF(Table1[[#This Row],[DisAdv (Y/N)]]=\"\",\"\",Table1[[#This Row],[DisAdv (Y/N)]])","v":""},{"$f":"IF(Table1[[#This Row],[SEND (E,K,N)]]=\"\",\"\",Table1[[#This Row],[SEND (E,K,N)]])","v":""},"",{"$f":"IF(LEN(Table2[[#This Row],[Pupil Name]])>0,1,0)","v":0}]
[{"$f":"IF(Table1[[#This Row],[School/Group Name]]=\"\",\"\",Table1[[#This Row],[School/Group Name]])","v":""},{"$f":"IF(Table1[[#This Row],[Pupil Name]]=\"\",\"\",Table1[[#This Row],[Pupil Name]])","v":""},{"$f":"IF(Table1[[#This Row],[Gender (M/F)]]=\"\",\"\",Table1[[#This Row],[Gender (M/F)]])","v":""},{"$f":"IF(Table1[[#This Row],[DisAdv (Y/N)]]=\"\",\"\",Table1[[#This Row],[DisAdv (Y/N)]])","v":""},{"$f":"IF(Table1[[#This Row],[SEND (E,K,N)]]=\"\",\"\",Table1[[#This Row],[SEND (E,K,N)]])","v":""},"",{"$f":"IF(LEN(Table2[[#This Row],[Pupil Name]])>0,1,0)","v":0}]
[{"$f":"IF(Table1[[#This Row],[School/Group Name]]=\"\",\"\",Table1[[#This Row],[School/Group Name]])","v":""},{"$f":"IF(Table1[[#This Row],[Pupil Name]]=\"\",\"\",Table1[[#This Row],[Pupil Name]])","v":""},{"$f":"IF(Table1[[#This Row],[Gender (M/F)]]=\"\",\"\",Table1[[#This Row],[Gender (M/F)]])","v":""},{"$f":"IF(Table1[[#This Row],[DisAdv (Y/N)]]=\"\",\"\",Table1[[#This Row],[DisAdv (Y/N)]])","v":""},{"$f":"IF(Table1[[#This Row],[SEND (E,K,N)]]=\"\",\"\",Table1[[#This Row],[SEND (E,K,N)]])","v":""},"",{"$f":"IF(LEN(Table2[[#This Row],[Pupil Name]])>0,1,0)","v":0}]
[{"$f":"IF(Table1[[#This Row],[School/Group Name]]=\"\",\"\",Table1[[#This Row],[School/Group Name]])","v":""},{"$f":"IF(Table1[[#This Row],[Pupil Name]]=\"\",\"\",Table1[[#This Row],[Pupil Name]])","v":""},{"$f":"IF(Table1[[#This Row],[Gender (M/F)]]=\"\",\"\",Table1[[#This Row],[Gender (M/F)]])","v":""},{"$f":"IF(Table1[[#This Row],[DisAdv (Y/N)]]=\"\",\"\",Table1[[#This Row],[DisAdv (Y/N)]])","v":""},{"$f":"IF(Table1[[#This Row],[SEND (E,K,N)]]=\"\",\"\",Table1[[#This Row],[SEND (E,K,N)]])","v":""},"",{"$f":"IF(LEN(Table2[[#This Row],[Pupil Name]])>0,1,0)","v":0}]
[{"$f":"IF(Table1[[#This Row],[School/Group Name]]=\"\",\"\",Table1[[#This Row],[School/Group Name]])","v":""},{"$f":"IF(Table1[[#This Row],[Pupil Name]]=\"\",\"\",Table1[[#This Row],[Pupil Name]])","v":""},{"$f":"IF(Table1[[#This Row],[Gender (M/F)]]=\"\",\"\",Table1[[#This Row],[Gender (M/F)]])","v":""},{"$f":"IF(Table1[[#This Row],[DisAdv (Y/N)]]=\"\",\"\",Table1[[#This Row],[DisAdv (Y/N)]])","v":""},{"$f":"IF(Table1[[#This Row],[SEND (E,K,N)]]=\"\",\"\",Table1[[#This Row],[SEND (E,K,N)]])","v":""},"",{"$f":"IF(LEN(Table2[[#This Row],[Pupil Name]])>0,1,0)","v":0}]
[{"$f":"IF(Table1[[#This Row],[School/Group Name]]=\"\",\"\",Table1[[#This Row],[School/Group Name]])","v":""},{"$f":"IF(Table1[[#This Row],[Pupil Name]]=\"\",\"\",Table1[[#This Row],[Pupil Name]])","v":""},{"$f":"IF(Table1[[#This Row],[Gender (M/F)]]=\"\",\"\",Table1[[#This Row],[Gender (M/F)]])","v":""},{"$f":"IF(Table1[[#This Row],[DisAdv (Y/N)]]=\"\",\"\",Table1[[#This Row],[DisAdv (Y/N)]])","v":""},{"$f":"IF(Table1[[#This Row],[SEND (E,K,N)]]=\"\",\"\",Table1[[#This Row],[SEND (E,K,N)]])","v":""},"",{"$f":"IF(LEN(Table2[[#This Row],[Pupil Name]])>0,1,0)","v":0}]
[{"$f":"IF(Table1[[#This Row],[School/Group Name]]=\"\",\"\",Table1[[#This Row],[School/Group Name]])","v":""},{"$f":"IF(Table1[[#This Row],[Pupil Name]]=\"\",\"\",Table1[[#This Row],[Pupil Name]])","v":""},{"$f":"IF(Table1[[#This Row],[Gender (M/F)]]=\"\",\"\",Table1[[#This Row],[Gender (M/F)]])","v":""},{"$f":"IF(Table1[[#This Row],[DisAdv (Y/N)]]=\"\",\"\",Table1[[#This Row],[DisAdv (Y/N)]])","v":""},{"$f":"IF(Table1[[#This Row],[SEND (E,K,N)]]=\"\",\"\",Table1[[#This Row],[SEND (E,K,N)]])","v":""},"",{"$f":"IF(LEN(Table2[[#This Row],[Pupil Name]])>0,1,0)","v":0}]
[{"$f":"IF(Table1[[#This Row],[School/Group Name]]=\"\",\"\",Table1[[#This Row],[School/Group Name]])","v":""},{"$f":"IF(Table1[[#This Row],[Pupil Name]]=\"\",\"\",Table1[[#This Row],[Pupil Name]])","v":""},{"$f":"IF(Table1[[#This Row],[Gender (M/F)]]=\"\",\"\",Table1[[#This Row],[Gender (M/F)]])","v":""},{"$f":"IF(Table1[[#This Row],[DisAdv (Y/N)]]=\"\",\"\",Table1[[#This Row],[DisAdv (Y/N)]])","v":""},{"$f":"IF(Table1[[#This Row],[SEND (E,K,N)]]=\"\",\"\",Table1[[#This Row],[SEND (E,K,N)]])","v":""},"",{"$f":"IF(LEN(Table2[[#This Row],[Pupil Name]])>0,1,0)","v":0}]
[{"$f":"IF(Table1[[#This Row],[School/Group Name]]=\"\",\"\",Table1[[#This Row],[School/Group Name]])","v":""},{"$f":"IF(Table1[[#This Row],[Pupil Name]]=\"\",\"\",Table1[[#This Row],[Pupil Name]])","v":""},{"$f":"IF(Table1[[#This Row],[Gender (M/F)]]=\"\",\"\",Table1[[#This Row],[Gender (M/F)]])","v":""},{"$f":"IF(Table1[[#This Row],[DisAdv (Y/N)]]=\"\",\"\",Table1[[#This Row],[DisAdv (Y/N)]])","v":""},{"$f":"IF(Table1[[#This Row],[SEND (E,K,N)]]=\"\",\"\",Table1[[#This Row],[SEND (E,K,N)]])","v":""},"",{"$f":"IF(LEN(Table2[[#This Row],[Pupil Name]])>0,1,0)","v":0}]
[{"$f":"IF(Table1[[#This Row],[School/Group Name]]=\"\",\"\",Table1[[#This Row],[School/Group Name]])","v":""},{"$f":"IF(Table1[[#This Row],[Pupil Name]]=\"\",\"\",Table1[[#This Row],[Pupil Name]])","v":""},{"$f":"IF(Table1[[#This Row],[Gender (M/F)]]=\"\",\"\",Table1[[#This Row],[Gender (M/F)]])","v":""},{"$f":"IF(Table1[[#This Row],[DisAdv (Y/N)]]=\"\",\"\",Table1[[#This Row],[DisAdv (Y/N)]])","v":""},{"$f":"IF(Table1[[#This Row],[SEND (E,K,N)]]=\"\",\"\",Table1[[#This Row],[SEND (E,K,N)]])","v":""},"",{"$f":"IF(LEN(Table2[[#This Row],[Pupil Name]])>0,1,0)","v":0}]
[{"$f":"IF(Table1[[#This Row],[School/Group Name]]=\"\",\"\",Table1[[#This Row],[School/Group Name]])","v":""},{"$f":"IF(Table1[[#This Row],[Pupil Name]]=\"\",\"\",Table1[[#This Row],[Pupil Name]])","v":""},{"$f":"IF(Table1[[#This Row],[Gender (M/F)]]=\"\",\"\",Table1[[#This Row],[Gender (M/F)]])","v":""},{"$f":"IF(Table1[[#This Row],[DisAdv (Y/N)]]=\"\",\"\",Table1[[#This Row],[DisAdv (Y/N)]])","v":""},{"$f":"IF(Table1[[#This Row],[SEND (E,K,N)]]=\"\",\"\",Table1[[#This Row],[SEND (E,K,N)]])","v":""},{"$f":"IF(H71=\"\",\"\",(SUM(H71:AG71)))","v":""},{"$f":"IF(LEN(Table2[[#This Row],[Pupil Name]])>0,1,0)","v":0}]
[{"$f":"IF(Table1[[#This Row],[School/Group Name]]=\"\",\"\",Table1[[#This Row],[School/Group Name]])","v":""},{"$f":"IF(Table1[[#This Row],[Pupil Name]]=\"\",\"\",Table1[[#This Row],[Pupil Name]])","v":""},{"$f":"IF(Table1[[#This Row],[Gender (M/F)]]=\"\",\"\",Table1[[#This Row],[Gender (M/F)]])","v":""},{"$f":"IF(Table1[[#This Row],[DisAdv (Y/N)]]=\"\",\"\",Table1[[#This Row],[DisAdv (Y/N)]])","v":""},{"$f":"IF(Table1[[#This Row],[SEND (E,K,N)]]=\"\",\"\",Table1[[#This Row],[SEND (E,K,N)]])","v":""},"",{"$f":"IF(LEN(Table2[[#This Row],[Pupil Name]])>0,1,0)","v":0}]
[{"$f":"IF(Table1[[#This Row],[School/Group Name]]=\"\",\"\",Table1[[#This Row],[School/Group Name]])","v":""},{"$f":"IF(Table1[[#This Row],[Pupil Name]]=\"\",\"\",Table1[[#This Row],[Pupil Name]])","v":""},{"$f":"IF(Table1[[#This Row],[Gender (M/F)]]=\"\",\"\",Table1[[#This Row],[Gender (M/F)]])","v":""},{"$f":"IF(Table1[[#This Row],[DisAdv (Y/N)]]=\"\",\"\",Table1[[#This Row],[DisAdv (Y/N)]])","v":""},{"$f":"IF(Table1[[#This Row],[SEND (E,K,N)]]=\"\",\"\",Table1[[#This Row],[SEND (E,K,N)]])","v":""},"",{"$f":"IF(LEN(Table2[[#This Row],[Pupil Name]])>0,1,0)","v":0}]
[{"$f":"IF(Table1[[#This Row],[School/Group Name]]=\"\",\"\",Table1[[#This Row],[School/Group Name]])","v":""},{"$f":"IF(Table1[[#This Row],[Pupil Name]]=\"\",\"\",Table1[[#This Row],[Pupil Name]])","v":""},{"$f":"IF(Table1[[#This Row],[Gender (M/F)]]=\"\",\"\",Table1[[#This Row],[Gender (M/F)]])","v":""},{"$f":"IF(Table1[[#This Row],[DisAdv (Y/N)]]=\"\",\"\",Table1[[#This Row],[DisAdv (Y/N)]])","v":""},{"$f":"IF(Table1[[#This Row],[SEND (E,K,N)]]=\"\",\"\",Table1[[#This Row],[SEND (E,K,N)]])","v":""},"",{"$f":"IF(LEN(Table2[[#This Row],[Pupil Name]])>0,1,0)","v":0}]
[{"$f":"IF(Table1[[#This Row],[School/Group Name]]=\"\",\"\",Table1[[#This Row],[School/Group Name]])","v":""},{"$f":"IF(Table1[[#This Row],[Pupil Name]]=\"\",\"\",Table1[[#This Row],[Pupil Name]])","v":""},{"$f":"IF(Table1[[#This Row],[Gender (M/F)]]=\"\",\"\",Table1[[#This Row],[Gender (M/F)]])","v":""},{"$f":"IF(Table1[[#This Row],[DisAdv (Y/N)]]=\"\",\"\",Table1[[#This Row],[DisAdv (Y/N)]])","v":""},{"$f":"IF(Table1[[#This Row],[SEND (E,K,N)]]=\"\",\"\",Table1[[#This Row],[SEND (E,K,N)]])","v":""},"",{"$f":"IF(LEN(Table2[[#This Row],[Pupil Name]])>0,1,0)","v":0}]
[{"$f":"IF(Table1[[#This Row],[School/Group Name]]=\"\",\"\",Table1[[#This Row],[School/Group Name]])","v":""},{"$f":"IF(Table1[[#This Row],[Pupil Name]]=\"\",\"\",Table1[[#This Row],[Pupil Name]])","v":""},{"$f":"IF(Table1[[#This Row],[Gender (M/F)]]=\"\",\"\",Table1[[#This Row],[Gender (M/F)]])","v":""},{"$f":"IF(Table1[[#This Row],[DisAdv (Y/N)]]=\"\",\"\",Table1[[#This Row],[DisAdv (Y/N)]])","v":""},{"$f":"IF(Table1[[#This Row],[SEND (E,K,N)]]=\"\",\"\",Table1[[#This Row],[SEND (E,K,N)]])","v":""},"",{"$f":"IF(LEN(Table2[[#This Row],[Pupil Name]])>0,1,0)","v":0}]
[{"$f":"IF(Table1[[#This Row],[School/Group Name]]=\"\",\"\",Table1[[#This Row],[School/Group Name]])","v":""},{"$f":"IF(Table1[[#This Row],[Pupil Name]]=\"\",\"\",Table1[[#This Row],[Pupil Name]])","v":""},{"$f":"IF(Table1[[#This Row],[Gender (M/F)]]=\"\",\"\",Table1[[#This Row],[Gender (M/F)]])","v":""},{"$f":"IF(Table1[[#This Row],[DisAdv (Y/N)]]=\"\",\"\",Table1[[#This Row],[DisAdv (Y/N)]])","v":""},{"$f":"IF(Table1[[#This Row],[SEND (E,K,N)]]=\"\",\"\",Table1[[#This Row],[SEND (E,K,N)]])","v":""},"",{"$f":"IF(LEN(Table2[[#This Row],[Pupil Name]])>0,1,0)","v":0}]
[{"$f":"IF(Table1[[#This Row],[School/Group Name]]=\"\",\"\",Table1[[#This Row],[School/Group Name]])","v":""},{"$f":"IF(Table1[[#This Row],[Pupil Name]]=\"\",\"\",Table1[[#This Row],[Pupil Name]])","v":""},{"$f":"IF(Table1[[#This Row],[Gender (M/F)]]=\"\",\"\",Table1[[#This Row],[Gender (M/F)]])","v":""},{"$f":"IF(Table1[[#This Row],[DisAdv (Y/N)]]=\"\",\"\",Table1[[#This Row],[DisAdv (Y/N)]])","v":""},{"$f":"IF(Table1[[#This Row],[SEND (E,K,N)]]=\"\",\"\",Table1[[#This Row],[SEND (E,K,N)]])","v":""},"",{"$f":"IF(LEN(Table2[[#This Row],[Pupil Name]])>0,1,0)","v":0}]
[{"$f":"IF(Table1[[#This Row],[School/Group Name]]=\"\",\"\",Table1[[#This Row],[School/Group Name]])","v":""},{"$f":"IF(Table1[[#This Row],[Pupil Name]]=\"\",\"\",Table1[[#This Row],[Pupil Name]])","v":""},{"$f":"IF(Table1[[#This Row],[Gender (M/F)]]=\"\",\"\",Table1[[#This Row],[Gender (M/F)]])","v":""},{"$f":"IF(Table1[[#This Row],[DisAdv (Y/N)]]=\"\",\"\",Table1[[#This Row],[DisAdv (Y/N)]])","v":""},{"$f":"IF(Table1[[#This Row],[SEND (E,K,N)]]=\"\",\"\",Table1[[#This Row],[SEND (E,K,N)]])","v":""},"",{"$f":"IF(LEN(Table2[[#This Row],[Pupil Name]])>0,1,0)","v":0}]
[{"$f":"IF(Table1[[#This Row],[School/Group Name]]=\"\",\"\",Table1[[#This Row],[School/Group Name]])","v":""},{"$f":"IF(Table1[[#This Row],[Pupil Name]]=\"\",\"\",Table1[[#This Row],[Pupil Name]])","v":""},{"$f":"IF(Table1[[#This Row],[Gender (M/F)]]=\"\",\"\",Table1[[#This Row],[Gender (M/F)]])","v":""},{"$f":"IF(Table1[[#This Row],[DisAdv (Y/N)]]=\"\",\"\",Table1[[#This Row],[DisAdv (Y/N)]])","v":""},{"$f":"IF(Table1[[#This Row],[SEND (E,K,N)]]=\"\",\"\",Table1[[#This Row],[SEND (E,K,N)]])","v":""},"",{"$f":"IF(LEN(Table2[[#This Row],[Pupil Name]])>0,1,0)","v":0}]
[{"$f":"IF(Table1[[#This Row],[School/Group Name]]=\"\",\"\",Table1[[#This Row],[School/Group Name]])","v":""},{"$f":"IF(Table1[[#This Row],[Pupil Name]]=\"\",\"\",Table1[[#This Row],[Pupil Name]])","v":""},{"$f":"IF(Table1[[#This Row],[Gender (M/F)]]=\"\",\"\",Table1[[#This Row],[Gender (M/F)]])","v":""},{"$f":"IF(Table1[[#This Row],[DisAdv (Y/N)]]=\"\",\"\",Table1[[#This Row],[DisAdv (Y/N)]])","v":""},{"$f":"IF(Table1[[#This Row],[SEND (E,K,N)]]=\"\",\"\",Table1[[#This Row],[SEND (E,K,N)]])","v":""},"",{"$f":"IF(LEN(Table2[[#This Row],[Pupil Name]])>0,1,0)","v":0}]
[{"$f":"IF(Table1[[#This Row],[School/Group Name]]=\"\",\"\",Table1[[#This Row],[School/Group Name]])","v":""},{"$f":"IF(Table1[[#This Row],[Pupil Name]]=\"\",\"\",Table1[[#This Row],[Pupil Name]])","v":""},{"$f":"IF(Table1[[#This Row],[Gender (M/F)]]=\"\",\"\",Table1[[#This Row],[Gender (M/F)]])","v":""},{"$f":"IF(Table1[[#This Row],[DisAdv (Y/N)]]=\"\",\"\",Table1[[#This Row],[DisAdv (Y/N)]])","v":""},{"$f":"IF(Table1[[#This Row],[SEND (E,K,N)]]=\"\",\"\",Table1[[#This Row],[SEND (E,K,N)]])","v":""},"",{"$f":"IF(LEN(Table2[[#This Row],[Pupil Name]])>0,1,0)","v":0}]
[{"$f":"IF(Table1[[#This Row],[School/Group Name]]=\"\",\"\",Table1[[#This Row],[School/Group Name]])","v":""},{"$f":"IF(Table1[[#This Row],[Pupil Name]]=\"\",\"\",Table1[[#This Row],[Pupil Name]])","v":""},{"$f":"IF(Table1[[#This Row],[Gender (M/F)]]=\"\",\"\",Table1[[#This Row],[Gender (M/F)]])","v":""},{"$f":"IF(Table1[[#This Row],[DisAdv (Y/N)]]=\"\",\"\",Table1[[#This Row],[DisAdv (Y/N)]])","v":""},{"$f":"IF(Table1[[#This Row],[SEND (E,K,N)]]=\"\",\"\",Table1[[#This Row],[SEND (E,K,N)]])","v":""},"",{"$f":"IF(LEN(Table2[[#This Row],[Pupil Name]])>0,1,0)","v":0}]
[{"$f":"IF(Table1[[#This Row],[School/Group Name]]=\"\",\"\",Table1[[#This Row],[School/Group Name]])","v":""},{"$f":"IF(Table1[[#This Row],[Pupil Name]]=\"\",\"\",Table1[[#This Row],[Pupil Name]])","v":""},{"$f":"IF(Table1[[#This Row],[Gender (M/F)]]=\"\",\"\",Table1[[#This Row],[Gender (M/F)]])","v":""},{"$f":"IF(Table1[[#This Row],[DisAdv (Y/N)]]=\"\",\"\",Table1[[#This Row],[DisAdv (Y/N)]])","v":""},{"$f":"IF(Table1[[#This Row],[SEND (E,K,N)]]=\"\",\"\",Table1[[#This Row],[SEND (E,K,N)]])","v":""},"",{"$f":"IF(LEN(Table2[[#This Row],[Pupil Name]])>0,1,0)","v":0}]
[{"$f":"IF(Table1[[#This Row],[School/Group Name]]=\"\",\"\",Table1[[#This Row],[School/Group Name]])","v":""},{"$f":"IF(Table1[[#This Row],[Pupil Name]]=\"\",\"\",Table1[[#This Row],[Pupil Name]])","v":""},{"$f":"IF(Table1[[#This Row],[Gender (M/F)]]=\"\",\"\",Table1[[#This Row],[Gender (M/F)]])","v":""},{"$f":"IF(Table1[[#This Row],[DisAdv (Y/N)]]=\"\",\"\",Table1[[#This Row],[DisAdv (Y/N)]])","v":""},{"$f":"IF(Table1[[#This Row],[SEND (E,K,N)]]=\"\",\"\",Table1[[#This Row],[SEND (E,K,N)]])","v":""},"",{"$f":"IF(LEN(Table2[[#This Row],[Pupil Name]])>0,1,0)","v":0}]
[{"$f":"IF(Table1[[#This Row],[School/Group Name]]=\"\",\"\",Table1[[#This Row],[School/Group Name]])","v":""},{"$f":"IF(Table1[[#This Row],[Pupil Name]]=\"\",\"\",Table1[[#This Row],[Pupil Name]])","v":""},{"$f":"IF(Table1[[#This Row],[Gender (M/F)]]=\"\",\"\",Table1[[#This Row],[Gender (M/F)]])","v":""},{"$f":"IF(Table1[[#This Row],[DisAdv (Y/N)]]=\"\",\"\",Table1[[#This Row],[DisAdv (Y/N)]])","v":""},{"$f":"IF(Table1[[#This Row],[SEND (E,K,N)]]=\"\",\"\",Table1[[#This Row],[SEND (E,K,N)]])","v":""},"",{"$f":"IF(LEN(Table2[[#This Row],[Pupil Name]])>0,1,0)","v":0}]
[{"$f":"IF(Table1[[#This Row],[School/Group Name]]=\"\",\"\",Table1[[#This Row],[School/Group Name]])","v":""},{"$f":"IF(Table1[[#This Row],[Pupil Name]]=\"\",\"\",Table1[[#This Row],[Pupil Name]])","v":""},{"$f":"IF(Table1[[#This Row],[Gender (M/F)]]=\"\",\"\",Table1[[#This Row],[Gender (M/F)]])","v":""},{"$f":"IF(Table1[[#This Row],[DisAdv (Y/N)]]=\"\",\"\",Table1[[#This Row],[DisAdv (Y/N)]])","v":""},{"$f":"IF(Table1[[#This Row],[SEND (E,K,N)]]=\"\",\"\",Table1[[#This Row],[SEND (E,K,N)]])","v":""},"",{"$f":"IF(LEN(Table2[[#This Row],[Pupil Name]])>0,1,0)","v":0}]
[{"$f":"IF(Table1[[#This Row],[School/Group Name]]=\"\",\"\",Table1[[#This Row],[School/Group Name]])","v":""},{"$f":"IF(Table1[[#This Row],[Pupil Name]]=\"\",\"\",Table1[[#This Row],[Pupil Name]])","v":""},{"$f":"IF(Table1[[#This Row],[Gender (M/F)]]=\"\",\"\",Table1[[#This Row],[Gender (M/F)]])","v":""},{"$f":"IF(Table1[[#This Row],[DisAdv (Y/N)]]=\"\",\"\",Table1[[#This Row],[DisAdv (Y/N)]])","v":""},{"$f":"IF(Table1[[#This Row],[SEND (E,K,N)]]=\"\",\"\",Table1[[#This Row],[SEND (E,K,N)]])","v":""},"",{"$f":"IF(LEN(Table2[[#This Row],[Pupil Name]])>0,1,0)","v":0}]
[{"$f":"IF(Table1[[#This Row],[School/Group Name]]=\"\",\"\",Table1[[#This Row],[School/Group Name]])","v":""},{"$f":"IF(Table1[[#This Row],[Pupil Name]]=\"\",\"\",Table1[[#This Row],[Pupil Name]])","v":""},{"$f":"IF(Table1[[#This Row],[Gender (M/F)]]=\"\",\"\",Table1[[#This Row],[Gender (M/F)]])","v":""},{"$f":"IF(Table1[[#This Row],[DisAdv (Y/N)]]=\"\",\"\",Table1[[#This Row],[DisAdv (Y/N)]])","v":""},{"$f":"IF(Table1[[#This Row],[SEND (E,K,N)]]=\"\",\"\",Table1[[#This Row],[SEND (E,K,N)]])","v":""},"",{"$f":"IF(LEN(Table2[[#This Row],[Pupil Name]])>0,1,0)","v":0}]
[{"$f":"IF(Table1[[#This Row],[School/Group Name]]=\"\",\"\",Table1[[#This Row],[School/Group Name]])","v":""},{"$f":"IF(Table1[[#This Row],[Pupil Name]]=\"\",\"\",Table1[[#This Row],[Pupil Name]])","v":""},{"$f":"IF(Table1[[#This Row],[Gender (M/F)]]=\"\",\"\",Table1[[#This Row],[Gender (M/F)]])","v":""},{"$f":"IF(Table1[[#This Row],[DisAdv (Y/N)]]=\"\",\"\",Table1[[#This Row],[DisAdv (Y/N)]])","v":""},{"$f":"IF(Table1[[#This Row],[SEND (E,K,N)]]=\"\",\"\",Table1[[#This Row],[SEND (E,K,N)]])","v":""},"",{"$f":"IF(LEN(Table2[[#This Row],[Pupil Name]])>0,1,0)","v":0}]
[{"$f":"IF(Table1[[#This Row],[School/Group Name]]=\"\",\"\",Table1[[#This Row],[School/Group Name]])","v":""},{"$f":"IF(Table1[[#This Row],[Pupil Name]]=\"\",\"\",Table1[[#This Row],[Pupil Name]])","v":""},{"$f":"IF(Table1[[#This Row],[Gender (M/F)]]=\"\",\"\",Table1[[#This Row],[Gender (M/F)]])","v":""},{"$f":"IF(Table1[[#This Row],[DisAdv (Y/N)]]=\"\",\"\",Table1[[#This Row],[DisAdv (Y/N)]])","v":""},{"$f":"IF(Table1[[#This Row],[SEND (E,K,N)]]=\"\",\"\",Table1[[#This Row],[SEND (E,K,N)]])","v":""},"",{"$f":"IF(LEN(Table2[[#This Row],[Pupil Name]])>0,1,0)","v":0}]
[{"$f":"IF(Table1[[#This Row],[School/Group Name]]=\"\",\"\",Table1[[#This Row],[School/Group Name]])","v":""},{"$f":"IF(Table1[[#This Row],[Pupil Name]]=\"\",\"\",Table1[[#This Row],[Pupil Name]])","v":""},{"$f":"IF(Table1[[#This Row],[Gender (M/F)]]=\"\",\"\",Table1[[#This Row],[Gender (M/F)]])","v":""},{"$f":"IF(Table1[[#This Row],[DisAdv (Y/N)]]=\"\",\"\",Table1[[#This Row],[DisAdv (Y/N)]])","v":""},{"$f":"IF(Table1[[#This Row],[SEND (E,K,N)]]=\"\",\"\",Table1[[#This Row],[SEND (E,K,N)]])","v":""},"",{"$f":"IF(LEN(Table2[[#This Row],[Pupil Name]])>0,1,0)","v":0}]
[{"$f":"IF(Table1[[#This Row],[School/Group Name]]=\"\",\"\",Table1[[#This Row],[School/Group Name]])","v":""},{"$f":"IF(Table1[[#This Row],[Pupil Name]]=\"\",\"\",Table1[[#This Row],[Pupil Name]])","v":""},{"$f":"IF(Table1[[#This Row],[Gender (M/F)]]=\"\",\"\",Table1[[#This Row],[Gender (M/F)]])","v":""},{"$f":"IF(Table1[[#This Row],[DisAdv (Y/N)]]=\"\",\"\",Table1[[#This Row],[DisAdv (Y/N)]])","v":""},{"$f":"IF(Table1[[#This Row],[SEND (E,K,N)]]=\"\",\"\",Table1[[#This Row],[SEND (E,K,N)]])","v":""},"",{"$f":"IF(LEN(Table2[[#This Row],[Pupil Name]])>0,1,0)","v":0}]
[{"$f":"IF(Table1[[#This Row],[School/Group Name]]=\"\",\"\",Table1[[#This Row],[School/Group Name]])","v":""},{"$f":"IF(Table1[[#This Row],[Pupil Name]]=\"\",\"\",Table1[[#This Row],[Pupil Name]])","v":""},{"$f":"IF(Table1[[#This Row],[Gender (M/F)]]=\"\",\"\",Table1[[#This Row],[Gender (M/F)]])","v":""},{"$f":"IF(Table1[[#This Row],[DisAdv (Y/N)]]=\"\",\"\",Table1[[#This Row],[DisAdv (Y/N)]])","v":""},{"$f":"IF(Table1[[#This Row],[SEND (E,K,N)]]=\"\",\"\",Table1[[#This Row],[SEND (E,K,N)]])","v":""},"",{"$f":"IF(LEN(Table2[[#This Row],[Pupil Name]])>0,1,0)","v":0}]
[{"$f":"IF(Table1[[#This Row],[School/Group Name]]=\"\",\"\",Table1[[#This Row],[School/Group Name]])","v":""},{"$f":"IF(Table1[[#This Row],[Pupil Name]]=\"\",\"\",Table1[[#This Row],[Pupil Name]])","v":""},{"$f":"IF(Table1[[#This Row],[Gender (M/F)]]=\"\",\"\",Table1[[#This Row],[Gender (M/F)]])","v":""},{"$f":"IF(Table1[[#This Row],[DisAdv (Y/N)]]=\"\",\"\",Table1[[#This Row],[DisAdv (Y/N)]])","v":""},{"$f":"IF(Table1[[#This Row],[SEND (E,K,N)]]=\"\",\"\",Table1[[#This Row],[SEND (E,K,N)]])","v":""},"",{"$f":"IF(LEN(Table2[[#This Row],[Pupil Name]])>0,1,0)","v":0}]
[{"$f":"IF(Table1[[#This Row],[School/Group Name]]=\"\",\"\",Table1[[#This Row],[School/Group Name]])","v":""},{"$f":"IF(Table1[[#This Row],[Pupil Name]]=\"\",\"\",Table1[[#This Row],[Pupil Name]])","v":""},{"$f":"IF(Table1[[#This Row],[Gender (M/F)]]=\"\",\"\",Table1[[#This Row],[Gender (M/F)]])","v":""},{"$f":"IF(Table1[[#This Row],[DisAdv (Y/N)]]=\"\",\"\",Table1[[#This Row],[DisAdv (Y/N)]])","v":""},{"$f":"IF(Table1[[#This Row],[SEND (E,K,N)]]=\"\",\"\",Table1[[#This Row],[SEND (E,K,N)]])","v":""},"",{"$f":"IF(LEN(Table2[[#This Row],[Pupil Name]])>0,1,0)","v":0}]
[{"$f":"IF(Table1[[#This Row],[School/Group Name]]=\"\",\"\",Table1[[#This Row],[School/Group Name]])","v":""},{"$f":"IF(Table1[[#This Row],[Pupil Name]]=\"\",\"\",Table1[[#This Row],[Pupil Name]])","v":""},{"$f":"IF(Table1[[#This Row],[Gender (M/F)]]=\"\",\"\",Table1[[#This Row],[Gender (M/F)]])","v":""},{"$f":"IF(Table1[[#This Row],[DisAdv (Y/N)]]=\"\",\"\",Table1[[#This Row],[DisAdv (Y/N)]])","v":""},{"$f":"IF(Table1[[#This Row],[SEND (E,K,N)]]=\"\",\"\",Table1[[#This Row],[SEND (E,K,N)]])","v":""},"",{"$f":"IF(LEN(Table2[[#This Row],[Pupil Name]])>0,1,0)","v":0}]
[{"$f":"IF(Table1[[#This Row],[School/Group Name]]=\"\",\"\",Table1[[#This Row],[School/Group Name]])","v":""},{"$f":"IF(Table1[[#This Row],[Pupil Name]]=\"\",\"\",Table1[[#This Row],[Pupil Name]])","v":""},{"$f":"IF(Table1[[#This Row],[Gender (M/F)]]=\"\",\"\",Table1[[#This Row],[Gender (M/F)]])","v":""},{"$f":"IF(Table1[[#This Row],[DisAdv (Y/N)]]=\"\",\"\",Table1[[#This Row],[DisAdv (Y/N)]])","v":""},{"$f":"IF(Table1[[#This Row],[SEND (E,K,N)]]=\"\",\"\",Table1[[#This Row],[SEND (E,K,N)]])","v":""},"",{"$f":"IF(LEN(Table2[[#This Row],[Pupil Name]])>0,1,0)","v":0}]
[{"$f":"IF(Table1[[#This Row],[School/Group Name]]=\"\",\"\",Table1[[#This Row],[School/Group Name]])","v":""},{"$f":"IF(Table1[[#This Row],[Pupil Name]]=\"\",\"\",Table1[[#This Row],[Pupil Name]])","v":""},{"$f":"IF(Table1[[#This Row],[Gender (M/F)]]=\"\",\"\",Table1[[#This Row],[Gender (M/F)]])","v":""},{"$f":"IF(Table1[[#This Row],[DisAdv (Y/N)]]=\"\",\"\",Table1[[#This Row],[DisAdv (Y/N)]])","v":""},{"$f":"IF(Table1[[#This Row],[SEND (E,K,N)]]=\"\",\"\",Table1[[#This Row],[SEND (E,K,N)]])","v":""},"",{"$f":"IF(LEN(Table2[[#This Row],[Pupil Name]])>0,1,0)","v":0}]
[{"$f":"IF(Table1[[#This Row],[School/Group Name]]=\"\",\"\",Table1[[#This Row],[School/Group Name]])","v":""},{"$f":"IF(Table1[[#This Row],[Pupil Name]]=\"\",\"\",Table1[[#This Row],[Pupil Name]])","v":""},{"$f":"IF(Table1[[#This Row],[Gender (M/F)]]=\"\",\"\",Table1[[#This Row],[Gender (M/F)]])","v":""},{"$f":"IF(Table1[[#This Row],[DisAdv (Y/N)]]=\"\",\"\",Table1[[#This Row],[DisAdv (Y/N)]])","v":""},{"$f":"IF(Table1[[#This Row],[SEND (E,K,N)]]=\"\",\"\",Table1[[#This Row],[SEND (E,K,N)]])","v":""},"",{"$f":"IF(LEN(Table2[[#This Row],[Pupil Name]])>0,1,0)","v":0}]
[{"$f":"IF(Table1[[#This Row],[School/Group Name]]=\"\",\"\",Table1[[#This Row],[School/Group Name]])","v":""},{"$f":"IF(Table1[[#This Row],[Pupil Name]]=\"\",\"\",Table1[[#This Row],[Pupil Name]])","v":""},{"$f":"IF(Table1[[#This Row],[Gender (M/F)]]=\"\",\"\",Table1[[#This Row],[Gender (M/F)]])","v":""},{"$f":"IF(Table1[[#This Row],[DisAdv (Y/N)]]=\"\",\"\",Table1[[#This Row],[DisAdv (Y/N)]])","v":""},{"$f":"IF(Table1[[#This Row],[SEND (E,K,N)]]=\"\",\"\",Table1[[#This Row],[SEND (E,K,N)]])","v":""},"",{"$f":"IF(LEN(Table2[[#This Row],[Pupil Name]])>0,1,0)","v":0}]
[{"$f":"IF(Table1[[#This Row],[School/Group Name]]=\"\",\"\",Table1[[#This Row],[School/Group Name]])","v":""},{"$f":"IF(Table1[[#This Row],[Pupil Name]]=\"\",\"\",Table1[[#This Row],[Pupil Name]])","v":""},{"$f":"IF(Table1[[#This Row],[Gender (M/F)]]=\"\",\"\",Table1[[#This Row],[Gender (M/F)]])","v":""},{"$f":"IF(Table1[[#This Row],[DisAdv (Y/N)]]=\"\",\"\",Table1[[#This Row],[DisAdv (Y/N)]])","v":""},{"$f":"IF(Table1[[#This Row],[SEND (E,K,N)]]=\"\",\"\",Table1[[#This Row],[SEND (E,K,N)]])","v":""},"",{"$f":"IF(LEN(Table2[[#This Row],[Pupil Name]])>0,1,0)","v":0}]
[{"$f":"IF(Table1[[#This Row],[School/Group Name]]=\"\",\"\",Table1[[#This Row],[School/Group Name]])","v":""},{"$f":"IF(Table1[[#This Row],[Pupil Name]]=\"\",\"\",Table1[[#This Row],[Pupil Name]])","v":""},{"$f":"IF(Table1[[#This Row],[Gender (M/F)]]=\"\",\"\",Table1[[#This Row],[Gender (M/F)]])","v":""},{"$f":"IF(Table1[[#This Row],[DisAdv (Y/N)]]=\"\",\"\",Table1[[#This Row],[DisAdv (Y/N)]])","v":""},{"$f":"IF(Table1[[#This Row],[SEND (E,K,N)]]=\"\",\"\",Table1[[#This Row],[SEND (E,K,N)]])","v":""},"",{"$f":"IF(LEN(Table2[[#This Row],[Pupil Name]])>0,1,0)","v":0}]
[{"$f":"IF(Table1[[#This Row],[School/Group Name]]=\"\",\"\",Table1[[#This Row],[School/Group Name]])","v":""},{"$f":"IF(Table1[[#This Row],[Pupil Name]]=\"\",\"\",Table1[[#This Row],[Pupil Name]])","v":""},{"$f":"IF(Table1[[#This Row],[Gender (M/F)]]=\"\",\"\",Table1[[#This Row],[Gender (M/F)]])","v":""},{"$f":"IF(Table1[[#This Row],[DisAdv (Y/N)]]=\"\",\"\",Table1[[#This Row],[DisAdv (Y/N)]])","v":""},{"$f":"IF(Table1[[#This Row],[SEND (E,K,N)]]=\"\",\"\",Table1[[#This Row],[SEND (E,K,N)]])","v":""},"",{"$f":"IF(LEN(Table2[[#This Row],[Pupil Name]])>0,1,0)","v":0}]
[{"$f":"IF(Table1[[#This Row],[School/Group Name]]=\"\",\"\",Table1[[#This Row],[School/Group Name]])","v":""},{"$f":"IF(Table1[[#This Row],[Pupil Name]]=\"\",\"\",Table1[[#This Row],[Pupil Name]])","v":""},{"$f":"IF(Table1[[#This Row],[Gender (M/F)]]=\"\",\"\",Table1[[#This Row],[Gender (M/F)]])","v":""},{"$f":"IF(Table1[[#This Row],[DisAdv (Y/N)]]=\"\",\"\",Table1[[#This Row],[DisAdv (Y/N)]])","v":""},{"$f":"IF(Table1[[#This Row],[SEND (E,K,N)]]=\"\",\"\",Table1[[#This Row],[SEND (E,K,N)]])","v":""},"",{"$f":"IF(LEN(Table2[[#This Row],[Pupil Name]])>0,1,0)","v":0}]
[{"$f":"IF(Table1[[#This Row],[School/Group Name]]=\"\",\"\",Table1[[#This Row],[School/Group Name]])","v":""},{"$f":"IF(Table1[[#This Row],[Pupil Name]]=\"\",\"\",Table1[[#This Row],[Pupil Name]])","v":""},{"$f":"IF(Table1[[#This Row],[Gender (M/F)]]=\"\",\"\",Table1[[#This Row],[Gender (M/F)]])","v":""},{"$f":"IF(Table1[[#This Row],[DisAdv (Y/N)]]=\"\",\"\",Table1[[#This Row],[DisAdv (Y/N)]])","v":""},{"$f":"IF(Table1[[#This Row],[SEND (E,K,N)]]=\"\",\"\",Table1[[#This Row],[SEND (E,K,N)]])","v":""},"",{"$f":"IF(LEN(Table2[[#This Row],[Pupil Name]])>0,1,0)","v":0}]
[{"$f":"IF(Table1[[#This Row],[School/Group Name]]=\"\",\"\",Table1[[#This Row],[School/Group Name]])","v":""},{"$f":"IF(Table1[[#This Row],[Pupil Name]]=\"\",\"\",Table1[[#This Row],[Pupil Name]])","v":""},{"$f":"IF(Table1[[#This Row],[Gender (M/F)]]=\"\",\"\",Table1[[#This Row],[Gender (M/F)]])","v":""},{"$f":"IF(Table1[[#This Row],[DisAdv (Y/N)]]=\"\",\"\",Table1[[#This Row],[DisAdv (Y/N)]])","v":""},{"$f":"IF(Table1[[#This Row],[SEND (E,K,N)]]=\"\",\"\",Table1[[#This Row],[SEND (E,K,N)]])","v":""},"",{"$f":"IF(LEN(Table2[[#This Row],[Pupil Name]])>0,1,0)","v":0}]
[{"$f":"IF(Table1[[#This Row],[School/Group Name]]=\"\",\"\",Table1[[#This Row],[School/Group Name]])","v":""},{"$f":"IF(Table1[[#This Row],[Pupil Name]]=\"\",\"\",Table1[[#This Row],[Pupil Name]])","v":""},{"$f":"IF(Table1[[#This Row],[Gender (M/F)]]=\"\",\"\",Table1[[#This Row],[Gender (M/F)]])","v":""},{"$f":"IF(Table1[[#This Row],[DisAdv (Y/N)]]=\"\",\"\",Table1[[#This Row],[DisAdv (Y/N)]])","v":""},{"$f":"IF(Table1[[#This Row],[SEND (E,K,N)]]=\"\",\"\",Table1[[#This Row],[SEND (E,K,N)]])","v":""},"",{"$f":"IF(LEN(Table2[[#This Row],[Pupil Name]])>0,1,0)","v":0}]
[{"$f":"IF(Table1[[#This Row],[School/Group Name]]=\"\",\"\",Table1[[#This Row],[School/Group Name]])","v":""},{"$f":"IF(Table1[[#This Row],[Pupil Name]]=\"\",\"\",Table1[[#This Row],[Pupil Name]])","v":""},{"$f":"IF(Table1[[#This Row],[Gender (M/F)]]=\"\",\"\",Table1[[#This Row],[Gender (M/F)]])","v":""},{"$f":"IF(Table1[[#This Row],[DisAdv (Y/N)]]=\"\",\"\",Table1[[#This Row],[DisAdv (Y/N)]])","v":""},{"$f":"IF(Table1[[#This Row],[SEND (E,K,N)]]=\"\",\"\",Table1[[#This Row],[SEND (E,K,N)]])","v":""},"",{"$f":"IF(LEN(Table2[[#This Row],[Pupil Name]])>0,1,0)","v":0}]
[{"$f":"IF(Table1[[#This Row],[School/Group Name]]=\"\",\"\",Table1[[#This Row],[School/Group Name]])","v":""},{"$f":"IF(Table1[[#This Row],[Pupil Name]]=\"\",\"\",Table1[[#This Row],[Pupil Name]])","v":""},{"$f":"IF(Table1[[#This Row],[Gender (M/F)]]=\"\",\"\",Table1[[#This Row],[Gender (M/F)]])","v":""},{"$f":"IF(Table1[[#This Row],[DisAdv (Y/N)]]=\"\",\"\",Table1[[#This Row],[DisAdv (Y/N)]])","v":""},{"$f":"IF(Table1[[#This Row],[SEND (E,K,N)]]=\"\",\"\",Table1[[#This Row],[SEND (E,K,N)]])","v":""},"",{"$f":"IF(LEN(Table2[[#This Row],[Pupil Name]])>0,1,0)","v":0}]
[{"$f":"IF(Table1[[#This Row],[School/Group Name]]=\"\",\"\",Table1[[#This Row],[School/Group Name]])","v":""},{"$f":"IF(Table1[[#This Row],[Pupil Name]]=\"\",\"\",Table1[[#This Row],[Pupil Name]])","v":""},{"$f":"IF(Table1[[#This Row],[Gender (M/F)]]=\"\",\"\",Table1[[#This Row],[Gender (M/F)]])","v":""},{"$f":"IF(Table1[[#This Row],[DisAdv (Y/N)]]=\"\",\"\",Table1[[#This Row],[DisAdv (Y/N)]])","v":""},{"$f":"IF(Table1[[#This Row],[SEND (E,K,N)]]=\"\",\"\",Table1[[#This Row],[SEND (E,K,N)]])","v":""},"",{"$f":"IF(LEN(Table2[[#This Row],[Pupil Name]])>0,1,0)","v":0}]
[{"$f":"IF(Table1[[#This Row],[School/Group Name]]=\"\",\"\",Table1[[#This Row],[School/Group Name]])","v":""},{"$f":"IF(Table1[[#This Row],[Pupil Name]]=\"\",\"\",Table1[[#This Row],[Pupil Name]])","v":""},{"$f":"IF(Table1[[#This Row],[Gender (M/F)]]=\"\",\"\",Table1[[#This Row],[Gender (M/F)]])","v":""},{"$f":"IF(Table1[[#This Row],[DisAdv (Y/N)]]=\"\",\"\",Table1[[#This Row],[DisAdv (Y/N)]])","v":""},{"$f":"IF(Table1[[#This Row],[SEND (E,K,N)]]=\"\",\"\",Table1[[#This Row],[SEND (E,K,N)]])","v":""},"",{"$f":"IF(LEN(Table2[[#This Row],[Pupil Name]])>0,1,0)","v":0}]
[{"$f":"IF(Table1[[#This Row],[School/Group Name]]=\"\",\"\",Table1[[#This Row],[School/Group Name]])","v":""},{"$f":"IF(Table1[[#This Row],[Pupil Name]]=\"\",\"\",Table1[[#This Row],[Pupil Name]])","v":""},{"$f":"IF(Table1[[#This Row],[Gender (M/F)]]=\"\",\"\",Table1[[#This Row],[Gender (M/F)]])","v":""},{"$f":"IF(Table1[[#This Row],[DisAdv (Y/N)]]=\"\",\"\",Table1[[#This Row],[DisAdv (Y/N)]])","v":""},{"$f":"IF(Table1[[#This Row],[SEND (E,K,N)]]=\"\",\"\",Table1[[#This Row],[SEND (E,K,N)]])","v":""},"",{"$f":"IF(LEN(Table2[[#This Row],[Pupil Name]])>0,1,0)","v":0}]
[{"$f":"IF(Table1[[#This Row],[School/Group Name]]=\"\",\"\",Table1[[#This Row],[School/Group Name]])","v":""},{"$f":"IF(Table1[[#This Row],[Pupil Name]]=\"\",\"\",Table1[[#This Row],[Pupil Name]])","v":""},{"$f":"IF(Table1[[#This Row],[Gender (M/F)]]=\"\",\"\",Table1[[#This Row],[Gender (M/F)]])","v":""},{"$f":"IF(Table1[[#This Row],[DisAdv (Y/N)]]=\"\",\"\",Table1[[#This Row],[DisAdv (Y/N)]])","v":""},{"$f":"IF(Table1[[#This Row],[SEND (E,K,N)]]=\"\",\"\",Table1[[#This Row],[SEND (E,K,N)]])","v":""},"",{"$f":"IF(LEN(Table2[[#This Row],[Pupil Name]])>0,1,0)","v":0}]
[{"$f":"IF(Table1[[#This Row],[School/Group Name]]=\"\",\"\",Table1[[#This Row],[School/Group Name]])","v":""},{"$f":"IF(Table1[[#This Row],[Pupil Name]]=\"\",\"\",Table1[[#This Row],[Pupil Name]])","v":""},{"$f":"IF(Table1[[#This Row],[Gender (M/F)]]=\"\",\"\",Table1[[#This Row],[Gender (M/F)]])","v":""},{"$f":"IF(Table1[[#This Row],[DisAdv (Y/N)]]=\"\",\"\",Table1[[#This Row],[DisAdv (Y/N)]])","v":""},{"$f":"IF(Table1[[#This Row],[SEND (E,K,N)]]=\"\",\"\",Table1[[#This Row],[SEND (E,K,N)]])","v":""},"",{"$f":"IF(LEN(Table2[[#This Row],[Pupil Name]])>0,1,0)","v":0}]
[{"$f":"IF(Table1[[#This Row],[School/Group Name]]=\"\",\"\",Table1[[#This Row],[School/Group Name]])","v":""},{"$f":"IF(Table1[[#This Row],[Pupil Name]]=\"\",\"\",Table1[[#This Row],[Pupil Name]])","v":""},{"$f":"IF(Table1[[#This Row],[Gender (M/F)]]=\"\",\"\",Table1[[#This Row],[Gender (M/F)]])","v":""},{"$f":"IF(Table1[[#This Row],[DisAdv (Y/N)]]=\"\",\"\",Table1[[#This Row],[DisAdv (Y/N)]])","v":""},{"$f":"IF(Table1[[#This Row],[SEND (E,K,N)]]=\"\",\"\",Table1[[#This Row],[SEND (E,K,N)]])","v":""},"",{"$f":"IF(LEN(Table2[[#This Row],[Pupil Name]])>0,1,0)","v":0}]
[{"$f":"IF(Table1[[#This Row],[School/Group Name]]=\"\",\"\",Table1[[#This Row],[School/Group Name]])","v":""},{"$f":"IF(Table1[[#This Row],[Pupil Name]]=\"\",\"\",Table1[[#This Row],[Pupil Name]])","v":""},{"$f":"IF(Table1[[#This Row],[Gender (M/F)]]=\"\",\"\",Table1[[#This Row],[Gender (M/F)]])","v":""},{"$f":"IF(Table1[[#This Row],[DisAdv (Y/N)]]=\"\",\"\",Table1[[#This Row],[DisAdv (Y/N)]])","v":""},{"$f":"IF(Table1[[#This Row],[SEND (E,K,N)]]=\"\",\"\",Table1[[#This Row],[SEND (E,K,N)]])","v":""},"",{"$f":"IF(LEN(Table2[[#This Row],[Pupil Name]])>0,1,0)","v":0}]
[{"$f":"IF(Table1[[#This Row],[School/Group Name]]=\"\",\"\",Table1[[#This Row],[School/Group Name]])","v":""},{"$f":"IF(Table1[[#This Row],[Pupil Name]]=\"\",\"\",Table1[[#This Row],[Pupil Name]])","v":""},{"$f":"IF(Table1[[#This Row],[Gender (M/F)]]=\"\",\"\",Table1[[#This Row],[Gender (M/F)]])","v":""},{"$f":"IF(Table1[[#This Row],[DisAdv (Y/N)]]=\"\",\"\",Table1[[#This Row],[DisAdv (Y/N)]])","v":""},{"$f":"IF(Table1[[#This Row],[SEND (E,K,N)]]=\"\",\"\",Table1[[#This Row],[SEND (E,K,N)]])","v":""},"",{"$f":"IF(LEN(Table2[[#This Row],[Pupil Name]])>0,1,0)","v":0}]
[{"$f":"IF(Table1[[#This Row],[School/Group Name]]=\"\",\"\",Table1[[#This Row],[School/Group Name]])","v":""},{"$f":"IF(Table1[[#This Row],[Pupil Name]]=\"\",\"\",Table1[[#This Row],[Pupil Name]])","v":""},{"$f":"IF(Table1[[#This Row],[Gender (M/F)]]=\"\",\"\",Table1[[#This Row],[Gender (M/F)]])","v":""},{"$f":"IF(Table1[[#This Row],[DisAdv (Y/N)]]=\"\",\"\",Table1[[#This Row],[DisAdv (Y/N)]])","v":""},{"$f":"IF(Table1[[#This Row],[SEND (E,K,N)]]=\"\",\"\",Table1[[#This Row],[SEND (E,K,N)]])","v":""},"",{"$f":"IF(LEN(Table2[[#This Row],[Pupil Name]])>0,1,0)","v":0}]
[{"$f":"IF(Table1[[#This Row],[School/Group Name]]=\"\",\"\",Table1[[#This Row],[School/Group Name]])","v":""},{"$f":"IF(Table1[[#This Row],[Pupil Name]]=\"\",\"\",Table1[[#This Row],[Pupil Name]])","v":""},{"$f":"IF(Table1[[#This Row],[Gender (M/F)]]=\"\",\"\",Table1[[#This Row],[Gender (M/F)]])","v":""},{"$f":"IF(Table1[[#This Row],[DisAdv (Y/N)]]=\"\",\"\",Table1[[#This Row],[DisAdv (Y/N)]])","v":""},{"$f":"IF(Table1[[#This Row],[SEND (E,K,N)]]=\"\",\"\",Table1[[#This Row],[SEND (E,K,N)]])","v":""},"",{"$f":"IF(LEN(Table2[[#This Row],[Pupil Name]])>0,1,0)","v":0}]
[{"$f":"IF(Table1[[#This Row],[School/Group Name]]=\"\",\"\",Table1[[#This Row],[School/Group Name]])","v":""},{"$f":"IF(Table1[[#This Row],[Pupil Name]]=\"\",\"\",Table1[[#This Row],[Pupil Name]])","v":""},{"$f":"IF(Table1[[#This Row],[Gender (M/F)]]=\"\",\"\",Table1[[#This Row],[Gender (M/F)]])","v":""},{"$f":"IF(Table1[[#This Row],[DisAdv (Y/N)]]=\"\",\"\",Table1[[#This Row],[DisAdv (Y/N)]])","v":""},{"$f":"IF(Table1[[#This Row],[SEND (E,K,N)]]=\"\",\"\",Table1[[#This Row],[SEND (E,K,N)]])","v":""},"",{"$f":"IF(LEN(Table2[[#This Row],[Pupil Name]])>0,1,0)","v":0}]
[{"$f":"IF(Table1[[#This Row],[School/Group Name]]=\"\",\"\",Table1[[#This Row],[School/Group Name]])","v":""},{"$f":"IF(Table1[[#This Row],[Pupil Name]]=\"\",\"\",Table1[[#This Row],[Pupil Name]])","v":""},{"$f":"IF(Table1[[#This Row],[Gender (M/F)]]=\"\",\"\",Table1[[#This Row],[Gender (M/F)]])","v":""},{"$f":"IF(Table1[[#This Row],[DisAdv (Y/N)]]=\"\",\"\",Table1[[#This Row],[DisAdv (Y/N)]])","v":""},{"$f":"IF(Table1[[#This Row],[SEND (E,K,N)]]=\"\",\"\",Table1[[#This Row],[SEND (E,K,N)]])","v":""},"",{"$f":"IF(LEN(Table2[[#This Row],[Pupil Name]])>0,1,0)","v":0}]
[{"$f":"IF(Table1[[#This Row],[School/Group Name]]=\"\",\"\",Table1[[#This Row],[School/Group Name]])","v":""},{"$f":"IF(Table1[[#This Row],[Pupil Name]]=\"\",\"\",Table1[[#This Row],[Pupil Name]])","v":""},{"$f":"IF(Table1[[#This Row],[Gender (M/F)]]=\"\",\"\",Table1[[#This Row],[Gender (M/F)]])","v":""},{"$f":"IF(Table1[[#This Row],[DisAdv (Y/N)]]=\"\",\"\",Table1[[#This Row],[DisAdv (Y/N)]])","v":""},{"$f":"IF(Table1[[#This Row],[SEND (E,K,N)]]=\"\",\"\",Table1[[#This Row],[SEND (E,K,N)]])","v":""},"",{"$f":"IF(LEN(Table2[[#This Row],[Pupil Name]])>0,1,0)","v":0}]
[{"$f":"IF(Table1[[#This Row],[School/Group Name]]=\"\",\"\",Table1[[#This Row],[School/Group Name]])","v":""},{"$f":"IF(Table1[[#This Row],[Pupil Name]]=\"\",\"\",Table1[[#This Row],[Pupil Name]])","v":""},{"$f":"IF(Table1[[#This Row],[Gender (M/F)]]=\"\",\"\",Table1[[#This Row],[Gender (M/F)]])","v":""},{"$f":"IF(Table1[[#This Row],[DisAdv (Y/N)]]=\"\",\"\",Table1[[#This Row],[DisAdv (Y/N)]])","v":""},{"$f":"IF(Table1[[#This Row],[SEND (E,K,N)]]=\"\",\"\",Table1[[#This Row],[SEND (E,K,N)]])","v":""},"",{"$f":"IF(LEN(Table2[[#This Row],[Pupil Name]])>0,1,0)","v":0}]
[{"$f":"IF(Table1[[#This Row],[School/Group Name]]=\"\",\"\",Table1[[#This Row],[School/Group Name]])","v":""},{"$f":"IF(Table1[[#This Row],[Pupil Name]]=\"\",\"\",Table1[[#This Row],[Pupil Name]])","v":""},{"$f":"IF(Table1[[#This Row],[Gender (M/F)]]=\"\",\"\",Table1[[#This Row],[Gender (M/F)]])","v":""},{"$f":"IF(Table1[[#This Row],[DisAdv (Y/N)]]=\"\",\"\",Table1[[#This Row],[DisAdv (Y/N)]])","v":""},{"$f":"IF(Table1[[#This Row],[SEND (E,K,N)]]=\"\",\"\",Table1[[#This Row],[SEND (E,K,N)]])","v":""},"",{"$f":"IF(LEN(Table2[[#This Row],[Pupil Name]])>0,1,0)","v":0}]
[{"$f":"IF(Table1[[#This Row],[School/Group Name]]=\"\",\"\",Table1[[#This Row],[School/Group Name]])","v":""},{"$f":"IF(Table1[[#This Row],[Pupil Name]]=\"\",\"\",Table1[[#This Row],[Pupil Name]])","v":""},{"$f":"IF(Table1[[#This Row],[Gender (M/F)]]=\"\",\"\",Table1[[#This Row],[Gender (M/F)]])","v":""},{"$f":"IF(Table1[[#This Row],[DisAdv (Y/N)]]=\"\",\"\",Table1[[#This Row],[DisAdv (Y/N)]])","v":""},{"$f":"IF(Table1[[#This Row],[SEND (E,K,N)]]=\"\",\"\",Table1[[#This Row],[SEND (E,K,N)]])","v":""},"",{"$f":"IF(LEN(Table2[[#This Row],[Pupil Name]])>0,1,0)","v":0}]
[{"$f":"IF(Table1[[#This Row],[School/Group Name]]=\"\",\"\",Table1[[#This Row],[School/Group Name]])","v":""},{"$f":"IF(Table1[[#This Row],[Pupil Name]]=\"\",\"\",Table1[[#This Row],[Pupil Name]])","v":""},{"$f":"IF(Table1[[#This Row],[Gender (M/F)]]=\"\",\"\",Table1[[#This Row],[Gender (M/F)]])","v":""},{"$f":"IF(Table1[[#This Row],[DisAdv (Y/N)]]=\"\",\"\",Table1[[#This Row],[DisAdv (Y/N)]])","v":""},{"$f":"IF(Table1[[#This Row],[SEND (E,K,N)]]=\"\",\"\",Table1[[#This Row],[SEND (E,K,N)]])","v":""},"",{"$f":"IF(LEN(Table2[[#This Row],[Pupil Name]])>0,1,0)","v":0}]
[{"$f":"IF(Table1[[#This Row],[School/Group Name]]=\"\",\"\",Table1[[#This Row],[School/Group Name]])","v":""},{"$f":"IF(Table1[[#This Row],[Pupil Name]]=\"\",\"\",Table1[[#This Row],[Pupil Name]])","v":""},{"$f":"IF(Table1[[#This Row],[Gender (M/F)]]=\"\",\"\",Table1[[#This Row],[Gender (M/F)]])","v":""},{"$f":"IF(Table1[[#This Row],[DisAdv (Y/N)]]=\"\",\"\",Table1[[#This Row],[DisAdv (Y/N)]])","v":""},{"$f":"IF(Table1[[#This Row],[SEND (E,K,N)]]=\"\",\"\",Table1[[#This Row],[SEND (E,K,N)]])","v":""},"",{"$f":"IF(LEN(Table2[[#This Row],[Pupil Name]])>0,1,0)","v":0}]
[{"$f":"IF(Table1[[#This Row],[School/Group Name]]=\"\",\"\",Table1[[#This Row],[School/Group Name]])","v":""},{"$f":"IF(Table1[[#This Row],[Pupil Name]]=\"\",\"\",Table1[[#This Row],[Pupil Name]])","v":""},{"$f":"IF(Table1[[#This Row],[Gender (M/F)]]=\"\",\"\",Table1[[#This Row],[Gender (M/F)]])","v":""},{"$f":"IF(Table1[[#This Row],[DisAdv (Y/N)]]=\"\",\"\",Table1[[#This Row],[DisAdv (Y/N)]])","v":""},{"$f":"IF(Table1[[#This Row],[SEND (E,K,N)]]=\"\",\"\",Table1[[#This Row],[SEND (E,K,N)]])","v":""},"",{"$f":"IF(LEN(Table2[[#This Row],[Pupil Name]])>0,1,0)","v":0}]
[{"$f":"IF(Table1[[#This Row],[School/Group Name]]=\"\",\"\",Table1[[#This Row],[School/Group Name]])","v":""},{"$f":"IF(Table1[[#This Row],[Pupil Name]]=\"\",\"\",Table1[[#This Row],[Pupil Name]])","v":""},{"$f":"IF(Table1[[#This Row],[Gender (M/F)]]=\"\",\"\",Table1[[#This Row],[Gender (M/F)]])","v":""},{"$f":"IF(Table1[[#This Row],[DisAdv (Y/N)]]=\"\",\"\",Table1[[#This Row],[DisAdv (Y/N)]])","v":""},{"$f":"IF(Table1[[#This Row],[SEND (E,K,N)]]=\"\",\"\",Table1[[#This Row],[SEND (E,K,N)]])","v":""},"",{"$f":"IF(LEN(Table2[[#This Row],[Pupil Name]])>0,1,0)","v":0}]
[{"$f":"IF(Table1[[#This Row],[School/Group Name]]=\"\",\"\",Table1[[#This Row],[School/Group Name]])","v":""},{"$f":"IF(Table1[[#This Row],[Pupil Name]]=\"\",\"\",Table1[[#This Row],[Pupil Name]])","v":""},{"$f":"IF(Table1[[#This Row],[Gender (M/F)]]=\"\",\"\",Table1[[#This Row],[Gender (M/F)]])","v":""},{"$f":"IF(Table1[[#This Row],[DisAdv (Y/N)]]=\"\",\"\",Table1[[#This Row],[DisAdv (Y/N)]])","v":""},{"$f":"IF(Table1[[#This Row],[SEND (E,K,N)]]=\"\",\"\",Table1[[#This Row],[SEND (E,K,N)]])","v":""},"",{"$f":"IF(LEN(Table2[[#This Row],[Pupil Name]])>0,1,0)","v":0}]
[{"$f":"IF(Table1[[#This Row],[School/Group Name]]=\"\",\"\",Table1[[#This Row],[School/Group Name]])","v":""},{"$f":"IF(Table1[[#This Row],[Pupil Name]]=\"\",\"\",Table1[[#This Row],[Pupil Name]])","v":""},{"$f":"IF(Table1[[#This Row],[Gender (M/F)]]=\"\",\"\",Table1[[#This Row],[Gender (M/F)]])","v":""},{"$f":"IF(Table1[[#This Row],[DisAdv (Y/N)]]=\"\",\"\",Table1[[#This Row],[DisAdv (Y/N)]])","v":""},{"$f":"IF(Table1[[#This Row],[SEND (E,K,N)]]=\"\",\"\",Table1[[#This Row],[SEND (E,K,N)]])","v":""},"",{"$f":"IF(LEN(Table2[[#This Row],[Pupil Name]])>0,1,0)","v":0}]
[{"$f":"IF(Table1[[#This Row],[School/Group Name]]=\"\",\"\",Table1[[#This Row],[School/Group Name]])","v":""},{"$f":"IF(Table1[[#This Row],[Pupil Name]]=\"\",\"\",Table1[[#This Row],[Pupil Name]])","v":""},{"$f":"IF(Table1[[#This Row],[Gender (M/F)]]=\"\",\"\",Table1[[#This Row],[Gender (M/F)]])","v":""},{"$f":"IF(Table1[[#This Row],[DisAdv (Y/N)]]=\"\",\"\",Table1[[#This Row],[DisAdv (Y/N)]])","v":""},{"$f":"IF(Table1[[#This Row],[SEND (E,K,N)]]=\"\",\"\",Table1[[#This Row],[SEND (E,K,N)]])","v":""},"",{"$f":"IF(LEN(Table2[[#This Row],[Pupil Name]])>0,1,0)","v":0}]
[{"$f":"IF(Table1[[#This Row],[School/Group Name]]=\"\",\"\",Table1[[#This Row],[School/Group Name]])","v":""},{"$f":"IF(Table1[[#This Row],[Pupil Name]]=\"\",\"\",Table1[[#This Row],[Pupil Name]])","v":""},{"$f":"IF(Table1[[#This Row],[Gender (M/F)]]=\"\",\"\",Table1[[#This Row],[Gender (M/F)]])","v":""},{"$f":"IF(Table1[[#This Row],[DisAdv (Y/N)]]=\"\",\"\",Table1[[#This Row],[DisAdv (Y/N)]])","v":""},{"$f":"IF(Table1[[#This Row],[SEND (E,K,N)]]=\"\",\"\",Table1[[#This Row],[SEND (E,K,N)]])","v":""},"",{"$f":"IF(LEN(Table2[[#This Row],[Pupil Name]])>0,1,0)","v":0}]
[{"$f":"IF(Table1[[#This Row],[School/Group Name]]=\"\",\"\",Table1[[#This Row],[School/Group Name]])","v":""},{"$f":"IF(Table1[[#This Row],[Pupil Name]]=\"\",\"\",Table1[[#This Row],[Pupil Name]])","v":""},{"$f":"IF(Table1[[#This Row],[Gender (M/F)]]=\"\",\"\",Table1[[#This Row],[Gender (M/F)]])","v":""},{"$f":"IF(Table1[[#This Row],[DisAdv (Y/N)]]=\"\",\"\",Table1[[#This Row],[DisAdv (Y/N)]])","v":""},{"$f":"IF(Table1[[#This Row],[SEND (E,K,N)]]=\"\",\"\",Table1[[#This Row],[SEND (E,K,N)]])","v":""},{"$f":"IF(H135=\"\",\"\",(SUM(H135:AG135)))","v":""},{"$f":"IF(LEN(Table2[[#This Row],[Pupil Name]])>0,1,0)","v":0}]
[{"$f":"IF(Table1[[#This Row],[School/Group Name]]=\"\",\"\",Table1[[#This Row],[School/Group Name]])","v":""},{"$f":"IF(Table1[[#This Row],[Pupil Name]]=\"\",\"\",Table1[[#This Row],[Pupil Name]])","v":""},{"$f":"IF(Table1[[#This Row],[Gender (M/F)]]=\"\",\"\",Table1[[#This Row],[Gender (M/F)]])","v":""},{"$f":"IF(Table1[[#This Row],[DisAdv (Y/N)]]=\"\",\"\",Table1[[#This Row],[DisAdv (Y/N)]])","v":""},{"$f":"IF(Table1[[#This Row],[SEND (E,K,N)]]=\"\",\"\",Table1[[#This Row],[SEND (E,K,N)]])","v":""},"",{"$f":"IF(LEN(Table2[[#This Row],[Pupil Name]])>0,1,0)","v":0}]
[{"$f":"IF(Table1[[#This Row],[School/Group Name]]=\"\",\"\",Table1[[#This Row],[School/Group Name]])","v":""},{"$f":"IF(Table1[[#This Row],[Pupil Name]]=\"\",\"\",Table1[[#This Row],[Pupil Name]])","v":""},{"$f":"IF(Table1[[#This Row],[Gender (M/F)]]=\"\",\"\",Table1[[#This Row],[Gender (M/F)]])","v":""},{"$f":"IF(Table1[[#This Row],[DisAdv (Y/N)]]=\"\",\"\",Table1[[#This Row],[DisAdv (Y/N)]])","v":""},{"$f":"IF(Table1[[#This Row],[SEND (E,K,N)]]=\"\",\"\",Table1[[#This Row],[SEND (E,K,N)]])","v":""},"",{"$f":"IF(LEN(Table2[[#This Row],[Pupil Name]])>0,1,0)","v":0}]
[{"$f":"IF(Table1[[#This Row],[School/Group Name]]=\"\",\"\",Table1[[#This Row],[School/Group Name]])","v":""},{"$f":"IF(Table1[[#This Row],[Pupil Name]]=\"\",\"\",Table1[[#This Row],[Pupil Name]])","v":""},{"$f":"IF(Table1[[#This Row],[Gender (M/F)]]=\"\",\"\",Table1[[#This Row],[Gender (M/F)]])","v":""},{"$f":"IF(Table1[[#This Row],[DisAdv (Y/N)]]=\"\",\"\",Table1[[#This Row],[DisAdv (Y/N)]])","v":""},{"$f":"IF(Table1[[#This Row],[SEND (E,K,N)]]=\"\",\"\",Table1[[#This Row],[SEND (E,K,N)]])","v":""},"",{"$f":"IF(LEN(Table2[[#This Row],[Pupil Name]])>0,1,0)","v":0}]
[{"$f":"IF(Table1[[#This Row],[School/Group Name]]=\"\",\"\",Table1[[#This Row],[School/Group Name]])","v":""},{"$f":"IF(Table1[[#This Row],[Pupil Name]]=\"\",\"\",Table1[[#This Row],[Pupil Name]])","v":""},{"$f":"IF(Table1[[#This Row],[Gender (M/F)]]=\"\",\"\",Table1[[#This Row],[Gender (M/F)]])","v":""},{"$f":"IF(Table1[[#This Row],[DisAdv (Y/N)]]=\"\",\"\",Table1[[#This Row],[DisAdv (Y/N)]])","v":""},{"$f":"IF(Table1[[#This Row],[SEND (E,K,N)]]=\"\",\"\",Table1[[#This Row],[SEND (E,K,N)]])","v":""},"",{"$f":"IF(LEN(Table2[[#This Row],[Pupil Name]])>0,1,0)","v":0}]
[{"$f":"IF(Table1[[#This Row],[School/Group Name]]=\"\",\"\",Table1[[#This Row],[School/Group Name]])","v":""},{"$f":"IF(Table1[[#This Row],[Pupil Name]]=\"\",\"\",Table1[[#This Row],[Pupil Name]])","v":""},{"$f":"IF(Table1[[#This Row],[Gender (M/F)]]=\"\",\"\",Table1[[#This Row],[Gender (M/F)]])","v":""},{"$f":"IF(Table1[[#This Row],[DisAdv (Y/N)]]=\"\",\"\",Table1[[#This Row],[DisAdv (Y/N)]])","v":""},{"$f":"IF(Table1[[#This Row],[SEND (E,K,N)]]=\"\",\"\",Table1[[#This Row],[SEND (E,K,N)]])","v":""},"",{"$f":"IF(LEN(Table2[[#This Row],[Pupil Name]])>0,1,0)","v":0}]
[{"$f":"IF(Table1[[#This Row],[School/Group Name]]=\"\",\"\",Table1[[#This Row],[School/Group Name]])","v":""},{"$f":"IF(Table1[[#This Row],[Pupil Name]]=\"\",\"\",Table1[[#This Row],[Pupil Name]])","v":""},{"$f":"IF(Table1[[#This Row],[Gender (M/F)]]=\"\",\"\",Table1[[#This Row],[Gender (M/F)]])","v":""},{"$f":"IF(Table1[[#This Row],[DisAdv (Y/N)]]=\"\",\"\",Table1[[#This Row],[DisAdv (Y/N)]])","v":""},{"$f":"IF(Table1[[#This Row],[SEND (E,K,N)]]=\"\",\"\",Table1[[#This Row],[SEND (E,K,N)]])","v":""},"",{"$f":"IF(LEN(Table2[[#This Row],[Pupil Name]])>0,1,0)","v":0}]
[{"$f":"IF(Table1[[#This Row],[School/Group Name]]=\"\",\"\",Table1[[#This Row],[School/Group Name]])","v":""},{"$f":"IF(Table1[[#This Row],[Pupil Name]]=\"\",\"\",Table1[[#This Row],[Pupil Name]])","v":""},{"$f":"IF(Table1[[#This Row],[Gender (M/F)]]=\"\",\"\",Table1[[#This Row],[Gender (M/F)]])","v":""},{"$f":"IF(Table1[[#This Row],[DisAdv (Y/N)]]=\"\",\"\",Table1[[#This Row],[DisAdv (Y/N)]])","v":""},{"$f":"IF(Table1[[#This Row],[SEND (E,K,N)]]=\"\",\"\",Table1[[#This Row],[SEND (E,K,N)]])","v":""},"",{"$f":"IF(LEN(Table2[[#This Row],[Pupil Name]])>0,1,0)","v":0}]
[{"$f":"IF(Table1[[#This Row],[School/Group Name]]=\"\",\"\",Table1[[#This Row],[School/Group Name]])","v":""},{"$f":"IF(Table1[[#This Row],[Pupil Name]]=\"\",\"\",Table1[[#This Row],[Pupil Name]])","v":""},{"$f":"IF(Table1[[#This Row],[Gender (M/F)]]=\"\",\"\",Table1[[#This Row],[Gender (M/F)]])","v":""},{"$f":"IF(Table1[[#This Row],[DisAdv (Y/N)]]=\"\",\"\",Table1[[#This Row],[DisAdv (Y/N)]])","v":""},{"$f":"IF(Table1[[#This Row],[SEND (E,K,N)]]=\"\",\"\",Table1[[#This Row],[SEND (E,K,N)]])","v":""},"",{"$f":"IF(LEN(Table2[[#This Row],[Pupil Name]])>0,1,0)","v":0}]
[{"$f":"IF(Table1[[#This Row],[School/Group Name]]=\"\",\"\",Table1[[#This Row],[School/Group Name]])","v":""},{"$f":"IF(Table1[[#This Row],[Pupil Name]]=\"\",\"\",Table1[[#This Row],[Pupil Name]])","v":""},{"$f":"IF(Table1[[#This Row],[Gender (M/F)]]=\"\",\"\",Table1[[#This Row],[Gender (M/F)]])","v":""},{"$f":"IF(Table1[[#This Row],[DisAdv (Y/N)]]=\"\",\"\",Table1[[#This Row],[DisAdv (Y/N)]])","v":""},{"$f":"IF(Table1[[#This Row],[SEND (E,K,N)]]=\"\",\"\",Table1[[#This Row],[SEND (E,K,N)]])","v":""},"",{"$f":"IF(LEN(Table2[[#This Row],[Pupil Name]])>0,1,0)","v":0}]
[{"$f":"IF(Table1[[#This Row],[School/Group Name]]=\"\",\"\",Table1[[#This Row],[School/Group Name]])","v":""},{"$f":"IF(Table1[[#This Row],[Pupil Name]]=\"\",\"\",Table1[[#This Row],[Pupil Name]])","v":""},{"$f":"IF(Table1[[#This Row],[Gender (M/F)]]=\"\",\"\",Table1[[#This Row],[Gender (M/F)]])","v":""},{"$f":"IF(Table1[[#This Row],[DisAdv (Y/N)]]=\"\",\"\",Table1[[#This Row],[DisAdv (Y/N)]])","v":""},{"$f":"IF(Table1[[#This Row],[SEND (E,K,N)]]=\"\",\"\",Table1[[#This Row],[SEND (E,K,N)]])","v":""},"",{"$f":"IF(LEN(Table2[[#This Row],[Pupil Name]])>0,1,0)","v":0}]
[{"$f":"IF(Table1[[#This Row],[School/Group Name]]=\"\",\"\",Table1[[#This Row],[School/Group Name]])","v":""},{"$f":"IF(Table1[[#This Row],[Pupil Name]]=\"\",\"\",Table1[[#This Row],[Pupil Name]])","v":""},{"$f":"IF(Table1[[#This Row],[Gender (M/F)]]=\"\",\"\",Table1[[#This Row],[Gender (M/F)]])","v":""},{"$f":"IF(Table1[[#This Row],[DisAdv (Y/N)]]=\"\",\"\",Table1[[#This Row],[DisAdv (Y/N)]])","v":""},{"$f":"IF(Table1[[#This Row],[SEND (E,K,N)]]=\"\",\"\",Table1[[#This Row],[SEND (E,K,N)]])","v":""},"",{"$f":"IF(LEN(Table2[[#This Row],[Pupil Name]])>0,1,0)","v":0}]
[{"$f":"IF(Table1[[#This Row],[School/Group Name]]=\"\",\"\",Table1[[#This Row],[School/Group Name]])","v":""},{"$f":"IF(Table1[[#This Row],[Pupil Name]]=\"\",\"\",Table1[[#This Row],[Pupil Name]])","v":""},{"$f":"IF(Table1[[#This Row],[Gender (M/F)]]=\"\",\"\",Table1[[#This Row],[Gender (M/F)]])","v":""},{"$f":"IF(Table1[[#This Row],[DisAdv (Y/N)]]=\"\",\"\",Table1[[#This Row],[DisAdv (Y/N)]])","v":""},{"$f":"IF(Table1[[#This Row],[SEND (E,K,N)]]=\"\",\"\",Table1[[#This Row],[SEND (E,K,N)]])","v":""},"",{"$f":"IF(LEN(Table2[[#This Row],[Pupil Name]])>0,1,0)","v":0}]
[{"$f":"IF(Table1[[#This Row],[School/Group Name]]=\"\",\"\",Table1[[#This Row],[School/Group Name]])","v":""},{"$f":"IF(Table1[[#This Row],[Pupil Name]]=\"\",\"\",Table1[[#This Row],[Pupil Name]])","v":""},{"$f":"IF(Table1[[#This Row],[Gender (M/F)]]=\"\",\"\",Table1[[#This Row],[Gender (M/F)]])","v":""},{"$f":"IF(Table1[[#This Row],[DisAdv (Y/N)]]=\"\",\"\",Table1[[#This Row],[DisAdv (Y/N)]])","v":""},{"$f":"IF(Table1[[#This Row],[SEND (E,K,N)]]=\"\",\"\",Table1[[#This Row],[SEND (E,K,N)]])","v":""},"",{"$f":"IF(LEN(Table2[[#This Row],[Pupil Name]])>0,1,0)","v":0}]
[{"$f":"IF(Table1[[#This Row],[School/Group Name]]=\"\",\"\",Table1[[#This Row],[School/Group Name]])","v":""},{"$f":"IF(Table1[[#This Row],[Pupil Name]]=\"\",\"\",Table1[[#This Row],[Pupil Name]])","v":""},{"$f":"IF(Table1[[#This Row],[Gender (M/F)]]=\"\",\"\",Table1[[#This Row],[Gender (M/F)]])","v":""},{"$f":"IF(Table1[[#This Row],[DisAdv (Y/N)]]=\"\",\"\",Table1[[#This Row],[DisAdv (Y/N)]])","v":""},{"$f":"IF(Table1[[#This Row],[SEND (E,K,N)]]=\"\",\"\",Table1[[#This Row],[SEND (E,K,N)]])","v":""},"",{"$f":"IF(LEN(Table2[[#This Row],[Pupil Name]])>0,1,0)","v":0}]
[{"$f":"IF(Table1[[#This Row],[School/Group Name]]=\"\",\"\",Table1[[#This Row],[School/Group Name]])","v":""},{"$f":"IF(Table1[[#This Row],[Pupil Name]]=\"\",\"\",Table1[[#This Row],[Pupil Name]])","v":""},{"$f":"IF(Table1[[#This Row],[Gender (M/F)]]=\"\",\"\",Table1[[#This Row],[Gender (M/F)]])","v":""},{"$f":"IF(Table1[[#This Row],[DisAdv (Y/N)]]=\"\",\"\",Table1[[#This Row],[DisAdv (Y/N)]])","v":""},{"$f":"IF(Table1[[#This Row],[SEND (E,K,N)]]=\"\",\"\",Table1[[#This Row],[SEND (E,K,N)]])","v":""},"",{"$f":"IF(LEN(Table2[[#This Row],[Pupil Name]])>0,1,0)","v":0}]
[{"$f":"IF(Table1[[#This Row],[School/Group Name]]=\"\",\"\",Table1[[#This Row],[School/Group Name]])","v":""},{"$f":"IF(Table1[[#This Row],[Pupil Name]]=\"\",\"\",Table1[[#This Row],[Pupil Name]])","v":""},{"$f":"IF(Table1[[#This Row],[Gender (M/F)]]=\"\",\"\",Table1[[#This Row],[Gender (M/F)]])","v":""},{"$f":"IF(Table1[[#This Row],[DisAdv (Y/N)]]=\"\",\"\",Table1[[#This Row],[DisAdv (Y/N)]])","v":""},{"$f":"IF(Table1[[#This Row],[SEND (E,K,N)]]=\"\",\"\",Table1[[#This Row],[SEND (E,K,N)]])","v":""},"",{"$f":"IF(LEN(Table2[[#This Row],[Pupil Name]])>0,1,0)","v":0}]
[{"$f":"IF(Table1[[#This Row],[School/Group Name]]=\"\",\"\",Table1[[#This Row],[School/Group Name]])","v":""},{"$f":"IF(Table1[[#This Row],[Pupil Name]]=\"\",\"\",Table1[[#This Row],[Pupil Name]])","v":""},{"$f":"IF(Table1[[#This Row],[Gender (M/F)]]=\"\",\"\",Table1[[#This Row],[Gender (M/F)]])","v":""},{"$f":"IF(Table1[[#This Row],[DisAdv (Y/N)]]=\"\",\"\",Table1[[#This Row],[DisAdv (Y/N)]])","v":""},{"$f":"IF(Table1[[#This Row],[SEND (E,K,N)]]=\"\",\"\",Table1[[#This Row],[SEND (E,K,N)]])","v":""},"",{"$f":"IF(LEN(Table2[[#This Row],[Pupil Name]])>0,1,0)","v":0}]
[{"$f":"IF(Table1[[#This Row],[School/Group Name]]=\"\",\"\",Table1[[#This Row],[School/Group Name]])","v":""},{"$f":"IF(Table1[[#This Row],[Pupil Name]]=\"\",\"\",Table1[[#This Row],[Pupil Name]])","v":""},{"$f":"IF(Table1[[#This Row],[Gender (M/F)]]=\"\",\"\",Table1[[#This Row],[Gender (M/F)]])","v":""},{"$f":"IF(Table1[[#This Row],[DisAdv (Y/N)]]=\"\",\"\",Table1[[#This Row],[DisAdv (Y/N)]])","v":""},{"$f":"IF(Table1[[#This Row],[SEND (E,K,N)]]=\"\",\"\",Table1[[#This Row],[SEND (E,K,N)]])","v":""},"",{"$f":"IF(LEN(Table2[[#This Row],[Pupil Name]])>0,1,0)","v":0}]
[{"$f":"IF(Table1[[#This Row],[School/Group Name]]=\"\",\"\",Table1[[#This Row],[School/Group Name]])","v":""},{"$f":"IF(Table1[[#This Row],[Pupil Name]]=\"\",\"\",Table1[[#This Row],[Pupil Name]])","v":""},{"$f":"IF(Table1[[#This Row],[Gender (M/F)]]=\"\",\"\",Table1[[#This Row],[Gender (M/F)]])","v":""},{"$f":"IF(Table1[[#This Row],[DisAdv (Y/N)]]=\"\",\"\",Table1[[#This Row],[DisAdv (Y/N)]])","v":""},{"$f":"IF(Table1[[#This Row],[SEND (E,K,N)]]=\"\",\"\",Table1[[#This Row],[SEND (E,K,N)]])","v":""},"",{"$f":"IF(LEN(Table2[[#This Row],[Pupil Name]])>0,1,0)","v":0}]
[{"$f":"IF(Table1[[#This Row],[School/Group Name]]=\"\",\"\",Table1[[#This Row],[School/Group Name]])","v":""},{"$f":"IF(Table1[[#This Row],[Pupil Name]]=\"\",\"\",Table1[[#This Row],[Pupil Name]])","v":""},{"$f":"IF(Table1[[#This Row],[Gender (M/F)]]=\"\",\"\",Table1[[#This Row],[Gender (M/F)]])","v":""},{"$f":"IF(Table1[[#This Row],[DisAdv (Y/N)]]=\"\",\"\",Table1[[#This Row],[DisAdv (Y/N)]])","v":""},{"$f":"IF(Table1[[#This Row],[SEND (E,K,N)]]=\"\",\"\",Table1[[#This Row],[SEND (E,K,N)]])","v":""},"",{"$f":"IF(LEN(Table2[[#This Row],[Pupil Name]])>0,1,0)","v":0}]
[{"$f":"IF(Table1[[#This Row],[School/Group Name]]=\"\",\"\",Table1[[#This Row],[School/Group Name]])","v":""},{"$f":"IF(Table1[[#This Row],[Pupil Name]]=\"\",\"\",Table1[[#This Row],[Pupil Name]])","v":""},{"$f":"IF(Table1[[#This Row],[Gender (M/F)]]=\"\",\"\",Table1[[#This Row],[Gender (M/F)]])","v":""},{"$f":"IF(Table1[[#This Row],[DisAdv (Y/N)]]=\"\",\"\",Table1[[#This Row],[DisAdv (Y/N)]])","v":""},{"$f":"IF(Table1[[#This Row],[SEND (E,K,N)]]=\"\",\"\",Table1[[#This Row],[SEND (E,K,N)]])","v":""},"",{"$f":"IF(LEN(Table2[[#This Row],[Pupil Name]])>0,1,0)","v":0}]
[{"$f":"IF(Table1[[#This Row],[School/Group Name]]=\"\",\"\",Table1[[#This Row],[School/Group Name]])","v":""},{"$f":"IF(Table1[[#This Row],[Pupil Name]]=\"\",\"\",Table1[[#This Row],[Pupil Name]])","v":""},{"$f":"IF(Table1[[#This Row],[Gender (M/F)]]=\"\",\"\",Table1[[#This Row],[Gender (M/F)]])","v":""},{"$f":"IF(Table1[[#This Row],[DisAdv (Y/N)]]=\"\",\"\",Table1[[#This Row],[DisAdv (Y/N)]])","v":""},{"$f":"IF(Table1[[#This Row],[SEND (E,K,N)]]=\"\",\"\",Table1[[#This Row],[SEND (E,K,N)]])","v":""},"",{"$f":"IF(LEN(Table2[[#This Row],[Pupil Name]])>0,1,0)","v":0}]
[{"$f":"IF(Table1[[#This Row],[School/Group Name]]=\"\",\"\",Table1[[#This Row],[School/Group Name]])","v":""},{"$f":"IF(Table1[[#This Row],[Pupil Name]]=\"\",\"\",Table1[[#This Row],[Pupil Name]])","v":""},{"$f":"IF(Table1[[#This Row],[Gender (M/F)]]=\"\",\"\",Table1[[#This Row],[Gender (M/F)]])","v":""},{"$f":"IF(Table1[[#This Row],[DisAdv (Y/N)]]=\"\",\"\",Table1[[#This Row],[DisAdv (Y/N)]])","v":""},{"$f":"IF(Table1[[#This Row],[SEND (E,K,N)]]=\"\",\"\",Table1[[#This Row],[SEND (E,K,N)]])","v":""},"",{"$f":"IF(LEN(Table2[[#This Row],[Pupil Name]])>0,1,0)","v":0}]
[{"$f":"IF(Table1[[#This Row],[School/Group Name]]=\"\",\"\",Table1[[#This Row],[School/Group Name]])","v":""},{"$f":"IF(Table1[[#This Row],[Pupil Name]]=\"\",\"\",Table1[[#This Row],[Pupil Name]])","v":""},{"$f":"IF(Table1[[#This Row],[Gender (M/F)]]=\"\",\"\",Table1[[#This Row],[Gender (M/F)]])","v":""},{"$f":"IF(Table1[[#This Row],[DisAdv (Y/N)]]=\"\",\"\",Table1[[#This Row],[DisAdv (Y/N)]])","v":""},{"$f":"IF(Table1[[#This Row],[SEND (E,K,N)]]=\"\",\"\",Table1[[#This Row],[SEND (E,K,N)]])","v":""},"",{"$f":"IF(LEN(Table2[[#This Row],[Pupil Name]])>0,1,0)","v":0}]
[{"$f":"IF(Table1[[#This Row],[School/Group Name]]=\"\",\"\",Table1[[#This Row],[School/Group Name]])","v":""},{"$f":"IF(Table1[[#This Row],[Pupil Name]]=\"\",\"\",Table1[[#This Row],[Pupil Name]])","v":""},{"$f":"IF(Table1[[#This Row],[Gender (M/F)]]=\"\",\"\",Table1[[#This Row],[Gender (M/F)]])","v":""},{"$f":"IF(Table1[[#This Row],[DisAdv (Y/N)]]=\"\",\"\",Table1[[#This Row],[DisAdv (Y/N)]])","v":""},{"$f":"IF(Table1[[#This Row],[SEND (E,K,N)]]=\"\",\"\",Table1[[#This Row],[SEND (E,K,N)]])","v":""},"",{"$f":"IF(LEN(Table2[[#This Row],[Pupil Name]])>0,1,0)","v":0}]
[{"$f":"IF(Table1[[#This Row],[School/Group Name]]=\"\",\"\",Table1[[#This Row],[School/Group Name]])","v":""},{"$f":"IF(Table1[[#This Row],[Pupil Name]]=\"\",\"\",Table1[[#This Row],[Pupil Name]])","v":""},{"$f":"IF(Table1[[#This Row],[Gender (M/F)]]=\"\",\"\",Table1[[#This Row],[Gender (M/F)]])","v":""},{"$f":"IF(Table1[[#This Row],[DisAdv (Y/N)]]=\"\",\"\",Table1[[#This Row],[DisAdv (Y/N)]])","v":""},{"$f":"IF(Table1[[#This Row],[SEND (E,K,N)]]=\"\",\"\",Table1[[#This Row],[SEND (E,K,N)]])","v":""},"",{"$f":"IF(LEN(Table2[[#This Row],[Pupil Name]])>0,1,0)","v":0}]
[{"$f":"IF(Table1[[#This Row],[School/Group Name]]=\"\",\"\",Table1[[#This Row],[School/Group Name]])","v":""},{"$f":"IF(Table1[[#This Row],[Pupil Name]]=\"\",\"\",Table1[[#This Row],[Pupil Name]])","v":""},{"$f":"IF(Table1[[#This Row],[Gender (M/F)]]=\"\",\"\",Table1[[#This Row],[Gender (M/F)]])","v":""},{"$f":"IF(Table1[[#This Row],[DisAdv (Y/N)]]=\"\",\"\",Table1[[#This Row],[DisAdv (Y/N)]])","v":""},{"$f":"IF(Table1[[#This Row],[SEND (E,K,N)]]=\"\",\"\",Table1[[#This Row],[SEND (E,K,N)]])","v":""},"",{"$f":"IF(LEN(Table2[[#This Row],[Pupil Name]])>0,1,0)","v":0}]
[{"$f":"IF(Table1[[#This Row],[School/Group Name]]=\"\",\"\",Table1[[#This Row],[School/Group Name]])","v":""},{"$f":"IF(Table1[[#This Row],[Pupil Name]]=\"\",\"\",Table1[[#This Row],[Pupil Name]])","v":""},{"$f":"IF(Table1[[#This Row],[Gender (M/F)]]=\"\",\"\",Table1[[#This Row],[Gender (M/F)]])","v":""},{"$f":"IF(Table1[[#This Row],[DisAdv (Y/N)]]=\"\",\"\",Table1[[#This Row],[DisAdv (Y/N)]])","v":""},{"$f":"IF(Table1[[#This Row],[SEND (E,K,N)]]=\"\",\"\",Table1[[#This Row],[SEND (E,K,N)]])","v":""},"",{"$f":"IF(LEN(Table2[[#This Row],[Pupil Name]])>0,1,0)","v":0}]
[{"$f":"IF(Table1[[#This Row],[School/Group Name]]=\"\",\"\",Table1[[#This Row],[School/Group Name]])","v":""},{"$f":"IF(Table1[[#This Row],[Pupil Name]]=\"\",\"\",Table1[[#This Row],[Pupil Name]])","v":""},{"$f":"IF(Table1[[#This Row],[Gender (M/F)]]=\"\",\"\",Table1[[#This Row],[Gender (M/F)]])","v":""},{"$f":"IF(Table1[[#This Row],[DisAdv (Y/N)]]=\"\",\"\",Table1[[#This Row],[DisAdv (Y/N)]])","v":""},{"$f":"IF(Table1[[#This Row],[SEND (E,K,N)]]=\"\",\"\",Table1[[#This Row],[SEND (E,K,N)]])","v":""},"",{"$f":"IF(LEN(Table2[[#This Row],[Pupil Name]])>0,1,0)","v":0}]
[{"$f":"IF(Table1[[#This Row],[School/Group Name]]=\"\",\"\",Table1[[#This Row],[School/Group Name]])","v":""},{"$f":"IF(Table1[[#This Row],[Pupil Name]]=\"\",\"\",Table1[[#This Row],[Pupil Name]])","v":""},{"$f":"IF(Table1[[#This Row],[Gender (M/F)]]=\"\",\"\",Table1[[#This Row],[Gender (M/F)]])","v":""},{"$f":"IF(Table1[[#This Row],[DisAdv (Y/N)]]=\"\",\"\",Table1[[#This Row],[DisAdv (Y/N)]])","v":""},{"$f":"IF(Table1[[#This Row],[SEND (E,K,N)]]=\"\",\"\",Table1[[#This Row],[SEND (E,K,N)]])","v":""},"",{"$f":"IF(LEN(Table2[[#This Row],[Pupil Name]])>0,1,0)","v":0}]
[{"$f":"IF(Table1[[#This Row],[School/Group Name]]=\"\",\"\",Table1[[#This Row],[School/Group Name]])","v":""},{"$f":"IF(Table1[[#This Row],[Pupil Name]]=\"\",\"\",Table1[[#This Row],[Pupil Name]])","v":""},{"$f":"IF(Table1[[#This Row],[Gender (M/F)]]=\"\",\"\",Table1[[#This Row],[Gender (M/F)]])","v":""},{"$f":"IF(Table1[[#This Row],[DisAdv (Y/N)]]=\"\",\"\",Table1[[#This Row],[DisAdv (Y/N)]])","v":""},{"$f":"IF(Table1[[#This Row],[SEND (E,K,N)]]=\"\",\"\",Table1[[#This Row],[SEND (E,K,N)]])","v":""},"",{"$f":"IF(LEN(Table2[[#This Row],[Pupil Name]])>0,1,0)","v":0}]
[{"$f":"IF(Table1[[#This Row],[School/Group Name]]=\"\",\"\",Table1[[#This Row],[School/Group Name]])","v":""},{"$f":"IF(Table1[[#This Row],[Pupil Name]]=\"\",\"\",Table1[[#This Row],[Pupil Name]])","v":""},{"$f":"IF(Table1[[#This Row],[Gender (M/F)]]=\"\",\"\",Table1[[#This Row],[Gender (M/F)]])","v":""},{"$f":"IF(Table1[[#This Row],[DisAdv (Y/N)]]=\"\",\"\",Table1[[#This Row],[DisAdv (Y/N)]])","v":""},{"$f":"IF(Table1[[#This Row],[SEND (E,K,N)]]=\"\",\"\",Table1[[#This Row],[SEND (E,K,N)]])","v":""},"",{"$f":"IF(LEN(Table2[[#This Row],[Pupil Name]])>0,1,0)","v":0}]
[{"$f":"IF(Table1[[#This Row],[School/Group Name]]=\"\",\"\",Table1[[#This Row],[School/Group Name]])","v":""},{"$f":"IF(Table1[[#This Row],[Pupil Name]]=\"\",\"\",Table1[[#This Row],[Pupil Name]])","v":""},{"$f":"IF(Table1[[#This Row],[Gender (M/F)]]=\"\",\"\",Table1[[#This Row],[Gender (M/F)]])","v":""},{"$f":"IF(Table1[[#This Row],[DisAdv (Y/N)]]=\"\",\"\",Table1[[#This Row],[DisAdv (Y/N)]])","v":""},{"$f":"IF(Table1[[#This Row],[SEND (E,K,N)]]=\"\",\"\",Table1[[#This Row],[SEND (E,K,N)]])","v":""},"",{"$f":"IF(LEN(Table2[[#This Row],[Pupil Name]])>0,1,0)","v":0}]
[{"$f":"IF(Table1[[#This Row],[School/Group Name]]=\"\",\"\",Table1[[#This Row],[School/Group Name]])","v":""},{"$f":"IF(Table1[[#This Row],[Pupil Name]]=\"\",\"\",Table1[[#This Row],[Pupil Name]])","v":""},{"$f":"IF(Table1[[#This Row],[Gender (M/F)]]=\"\",\"\",Table1[[#This Row],[Gender (M/F)]])","v":""},{"$f":"IF(Table1[[#This Row],[DisAdv (Y/N)]]=\"\",\"\",Table1[[#This Row],[DisAdv (Y/N)]])","v":""},{"$f":"IF(Table1[[#This Row],[SEND (E,K,N)]]=\"\",\"\",Table1[[#This Row],[SEND (E,K,N)]])","v":""},"",{"$f":"IF(LEN(Table2[[#This Row],[Pupil Name]])>0,1,0)","v":0}]
[{"$f":"IF(Table1[[#This Row],[School/Group Name]]=\"\",\"\",Table1[[#This Row],[School/Group Name]])","v":""},{"$f":"IF(Table1[[#This Row],[Pupil Name]]=\"\",\"\",Table1[[#This Row],[Pupil Name]])","v":""},{"$f":"IF(Table1[[#This Row],[Gender (M/F)]]=\"\",\"\",Table1[[#This Row],[Gender (M/F)]])","v":""},{"$f":"IF(Table1[[#This Row],[DisAdv (Y/N)]]=\"\",\"\",Table1[[#This Row],[DisAdv (Y/N)]])","v":""},{"$f":"IF(Table1[[#This Row],[SEND (E,K,N)]]=\"\",\"\",Table1[[#This Row],[SEND (E,K,N)]])","v":""},"",{"$f":"IF(LEN(Table2[[#This Row],[Pupil Name]])>0,1,0)","v":0}]
[{"$f":"IF(Table1[[#This Row],[School/Group Name]]=\"\",\"\",Table1[[#This Row],[School/Group Name]])","v":""},{"$f":"IF(Table1[[#This Row],[Pupil Name]]=\"\",\"\",Table1[[#This Row],[Pupil Name]])","v":""},{"$f":"IF(Table1[[#This Row],[Gender (M/F)]]=\"\",\"\",Table1[[#This Row],[Gender (M/F)]])","v":""},{"$f":"IF(Table1[[#This Row],[DisAdv (Y/N)]]=\"\",\"\",Table1[[#This Row],[DisAdv (Y/N)]])","v":""},{"$f":"IF(Table1[[#This Row],[SEND (E,K,N)]]=\"\",\"\",Table1[[#This Row],[SEND (E,K,N)]])","v":""},"",{"$f":"IF(LEN(Table2[[#This Row],[Pupil Name]])>0,1,0)","v":0}]
[{"$f":"IF(Table1[[#This Row],[School/Group Name]]=\"\",\"\",Table1[[#This Row],[School/Group Name]])","v":""},{"$f":"IF(Table1[[#This Row],[Pupil Name]]=\"\",\"\",Table1[[#This Row],[Pupil Name]])","v":""},{"$f":"IF(Table1[[#This Row],[Gender (M/F)]]=\"\",\"\",Table1[[#This Row],[Gender (M/F)]])","v":""},{"$f":"IF(Table1[[#This Row],[DisAdv (Y/N)]]=\"\",\"\",Table1[[#This Row],[DisAdv (Y/N)]])","v":""},{"$f":"IF(Table1[[#This Row],[SEND (E,K,N)]]=\"\",\"\",Table1[[#This Row],[SEND (E,K,N)]])","v":""},"",{"$f":"IF(LEN(Table2[[#This Row],[Pupil Name]])>0,1,0)","v":0}]
[{"$f":"IF(Table1[[#This Row],[School/Group Name]]=\"\",\"\",Table1[[#This Row],[School/Group Name]])","v":""},{"$f":"IF(Table1[[#This Row],[Pupil Name]]=\"\",\"\",Table1[[#This Row],[Pupil Name]])","v":""},{"$f":"IF(Table1[[#This Row],[Gender (M/F)]]=\"\",\"\",Table1[[#This Row],[Gender (M/F)]])","v":""},{"$f":"IF(Table1[[#This Row],[DisAdv (Y/N)]]=\"\",\"\",Table1[[#This Row],[DisAdv (Y/N)]])","v":""},{"$f":"IF(Table1[[#This Row],[SEND (E,K,N)]]=\"\",\"\",Table1[[#This Row],[SEND (E,K,N)]])","v":""},"",{"$f":"IF(LEN(Table2[[#This Row],[Pupil Name]])>0,1,0)","v":0}]
[{"$f":"IF(Table1[[#This Row],[School/Group Name]]=\"\",\"\",Table1[[#This Row],[School/Group Name]])","v":""},{"$f":"IF(Table1[[#This Row],[Pupil Name]]=\"\",\"\",Table1[[#This Row],[Pupil Name]])","v":""},{"$f":"IF(Table1[[#This Row],[Gender (M/F)]]=\"\",\"\",Table1[[#This Row],[Gender (M/F)]])","v":""},{"$f":"IF(Table1[[#This Row],[DisAdv (Y/N)]]=\"\",\"\",Table1[[#This Row],[DisAdv (Y/N)]])","v":""},{"$f":"IF(Table1[[#This Row],[SEND (E,K,N)]]=\"\",\"\",Table1[[#This Row],[SEND (E,K,N)]])","v":""},"",{"$f":"IF(LEN(Table2[[#This Row],[Pupil Name]])>0,1,0)","v":0}]
[{"$f":"IF(Table1[[#This Row],[School/Group Name]]=\"\",\"\",Table1[[#This Row],[School/Group Name]])","v":""},{"$f":"IF(Table1[[#This Row],[Pupil Name]]=\"\",\"\",Table1[[#This Row],[Pupil Name]])","v":""},{"$f":"IF(Table1[[#This Row],[Gender (M/F)]]=\"\",\"\",Table1[[#This Row],[Gender (M/F)]])","v":""},{"$f":"IF(Table1[[#This Row],[DisAdv (Y/N)]]=\"\",\"\",Table1[[#This Row],[DisAdv (Y/N)]])","v":""},{"$f":"IF(Table1[[#This Row],[SEND (E,K,N)]]=\"\",\"\",Table1[[#This Row],[SEND (E,K,N)]])","v":""},"",{"$f":"IF(LEN(Table2[[#This Row],[Pupil Name]])>0,1,0)","v":0}]
[{"$f":"IF(Table1[[#This Row],[School/Group Name]]=\"\",\"\",Table1[[#This Row],[School/Group Name]])","v":""},{"$f":"IF(Table1[[#This Row],[Pupil Name]]=\"\",\"\",Table1[[#This Row],[Pupil Name]])","v":""},{"$f":"IF(Table1[[#This Row],[Gender (M/F)]]=\"\",\"\",Table1[[#This Row],[Gender (M/F)]])","v":""},{"$f":"IF(Table1[[#This Row],[DisAdv (Y/N)]]=\"\",\"\",Table1[[#This Row],[DisAdv (Y/N)]])","v":""},{"$f":"IF(Table1[[#This Row],[SEND (E,K,N)]]=\"\",\"\",Table1[[#This Row],[SEND (E,K,N)]])","v":""},"",{"$f":"IF(LEN(Table2[[#This Row],[Pupil Name]])>0,1,0)","v":0}]
[{"$f":"IF(Table1[[#This Row],[School/Group Name]]=\"\",\"\",Table1[[#This Row],[School/Group Name]])","v":""},{"$f":"IF(Table1[[#This Row],[Pupil Name]]=\"\",\"\",Table1[[#This Row],[Pupil Name]])","v":""},{"$f":"IF(Table1[[#This Row],[Gender (M/F)]]=\"\",\"\",Table1[[#This Row],[Gender (M/F)]])","v":""},{"$f":"IF(Table1[[#This Row],[DisAdv (Y/N)]]=\"\",\"\",Table1[[#This Row],[DisAdv (Y/N)]])","v":""},{"$f":"IF(Table1[[#This Row],[SEND (E,K,N)]]=\"\",\"\",Table1[[#This Row],[SEND (E,K,N)]])","v":""},"",{"$f":"IF(LEN(Table2[[#This Row],[Pupil Name]])>0,1,0)","v":0}]
[{"$f":"IF(Table1[[#This Row],[School/Group Name]]=\"\",\"\",Table1[[#This Row],[School/Group Name]])","v":""},{"$f":"IF(Table1[[#This Row],[Pupil Name]]=\"\",\"\",Table1[[#This Row],[Pupil Name]])","v":""},{"$f":"IF(Table1[[#This Row],[Gender (M/F)]]=\"\",\"\",Table1[[#This Row],[Gender (M/F)]])","v":""},{"$f":"IF(Table1[[#This Row],[DisAdv (Y/N)]]=\"\",\"\",Table1[[#This Row],[DisAdv (Y/N)]])","v":""},{"$f":"IF(Table1[[#This Row],[SEND (E,K,N)]]=\"\",\"\",Table1[[#This Row],[SEND (E,K,N)]])","v":""},"",{"$f":"IF(LEN(Table2[[#This Row],[Pupil Name]])>0,1,0)","v":0}]
[{"$f":"IF(Table1[[#This Row],[School/Group Name]]=\"\",\"\",Table1[[#This Row],[School/Group Name]])","v":""},{"$f":"IF(Table1[[#This Row],[Pupil Name]]=\"\",\"\",Table1[[#This Row],[Pupil Name]])","v":""},{"$f":"IF(Table1[[#This Row],[Gender (M/F)]]=\"\",\"\",Table1[[#This Row],[Gender (M/F)]])","v":""},{"$f":"IF(Table1[[#This Row],[DisAdv (Y/N)]]=\"\",\"\",Table1[[#This Row],[DisAdv (Y/N)]])","v":""},{"$f":"IF(Table1[[#This Row],[SEND (E,K,N)]]=\"\",\"\",Table1[[#This Row],[SEND (E,K,N)]])","v":""},"",{"$f":"IF(LEN(Table2[[#This Row],[Pupil Name]])>0,1,0)","v":0}]
[{"$f":"IF(Table1[[#This Row],[School/Group Name]]=\"\",\"\",Table1[[#This Row],[School/Group Name]])","v":""},{"$f":"IF(Table1[[#This Row],[Pupil Name]]=\"\",\"\",Table1[[#This Row],[Pupil Name]])","v":""},{"$f":"IF(Table1[[#This Row],[Gender (M/F)]]=\"\",\"\",Table1[[#This Row],[Gender (M/F)]])","v":""},{"$f":"IF(Table1[[#This Row],[DisAdv (Y/N)]]=\"\",\"\",Table1[[#This Row],[DisAdv (Y/N)]])","v":""},{"$f":"IF(Table1[[#This Row],[SEND (E,K,N)]]=\"\",\"\",Table1[[#This Row],[SEND (E,K,N)]])","v":""},"",{"$f":"IF(LEN(Table2[[#This Row],[Pupil Name]])>0,1,0)","v":0}]
[{"$f":"IF(Table1[[#This Row],[School/Group Name]]=\"\",\"\",Table1[[#This Row],[School/Group Name]])","v":""},{"$f":"IF(Table1[[#This Row],[Pupil Name]]=\"\",\"\",Table1[[#This Row],[Pupil Name]])","v":""},{"$f":"IF(Table1[[#This Row],[Gender (M/F)]]=\"\",\"\",Table1[[#This Row],[Gender (M/F)]])","v":""},{"$f":"IF(Table1[[#This Row],[DisAdv (Y/N)]]=\"\",\"\",Table1[[#This Row],[DisAdv (Y/N)]])","v":""},{"$f":"IF(Table1[[#This Row],[SEND (E,K,N)]]=\"\",\"\",Table1[[#This Row],[SEND (E,K,N)]])","v":""},"",{"$f":"IF(LEN(Table2[[#This Row],[Pupil Name]])>0,1,0)","v":0}]
[{"$f":"IF(Table1[[#This Row],[School/Group Name]]=\"\",\"\",Table1[[#This Row],[School/Group Name]])","v":""},{"$f":"IF(Table1[[#This Row],[Pupil Name]]=\"\",\"\",Table1[[#This Row],[Pupil Name]])","v":""},{"$f":"IF(Table1[[#This Row],[Gender (M/F)]]=\"\",\"\",Table1[[#This Row],[Gender (M/F)]])","v":""},{"$f":"IF(Table1[[#This Row],[DisAdv (Y/N)]]=\"\",\"\",Table1[[#This Row],[DisAdv (Y/N)]])","v":""},{"$f":"IF(Table1[[#This Row],[SEND (E,K,N)]]=\"\",\"\",Table1[[#This Row],[SEND (E,K,N)]])","v":""},"",{"$f":"IF(LEN(Table2[[#This Row],[Pupil Name]])>0,1,0)","v":0}]
[{"$f":"IF(Table1[[#This Row],[School/Group Name]]=\"\",\"\",Table1[[#This Row],[School/Group Name]])","v":""},{"$f":"IF(Table1[[#This Row],[Pupil Name]]=\"\",\"\",Table1[[#This Row],[Pupil Name]])","v":""},{"$f":"IF(Table1[[#This Row],[Gender (M/F)]]=\"\",\"\",Table1[[#This Row],[Gender (M/F)]])","v":""},{"$f":"IF(Table1[[#This Row],[DisAdv (Y/N)]]=\"\",\"\",Table1[[#This Row],[DisAdv (Y/N)]])","v":""},{"$f":"IF(Table1[[#This Row],[SEND (E,K,N)]]=\"\",\"\",Table1[[#This Row],[SEND (E,K,N)]])","v":""},"",{"$f":"IF(LEN(Table2[[#This Row],[Pupil Name]])>0,1,0)","v":0}]
[{"$f":"IF(Table1[[#This Row],[School/Group Name]]=\"\",\"\",Table1[[#This Row],[School/Group Name]])","v":""},{"$f":"IF(Table1[[#This Row],[Pupil Name]]=\"\",\"\",Table1[[#This Row],[Pupil Name]])","v":""},{"$f":"IF(Table1[[#This Row],[Gender (M/F)]]=\"\",\"\",Table1[[#This Row],[Gender (M/F)]])","v":""},{"$f":"IF(Table1[[#This Row],[DisAdv (Y/N)]]=\"\",\"\",Table1[[#This Row],[DisAdv (Y/N)]])","v":""},{"$f":"IF(Table1[[#This Row],[SEND (E,K,N)]]=\"\",\"\",Table1[[#This Row],[SEND (E,K,N)]])","v":""},"",{"$f":"IF(LEN(Table2[[#This Row],[Pupil Name]])>0,1,0)","v":0}]
[{"$f":"IF(Table1[[#This Row],[School/Group Name]]=\"\",\"\",Table1[[#This Row],[School/Group Name]])","v":""},{"$f":"IF(Table1[[#This Row],[Pupil Name]]=\"\",\"\",Table1[[#This Row],[Pupil Name]])","v":""},{"$f":"IF(Table1[[#This Row],[Gender (M/F)]]=\"\",\"\",Table1[[#This Row],[Gender (M/F)]])","v":""},{"$f":"IF(Table1[[#This Row],[DisAdv (Y/N)]]=\"\",\"\",Table1[[#This Row],[DisAdv (Y/N)]])","v":""},{"$f":"IF(Table1[[#This Row],[SEND (E,K,N)]]=\"\",\"\",Table1[[#This Row],[SEND (E,K,N)]])","v":""},"",{"$f":"IF(LEN(Table2[[#This Row],[Pupil Name]])>0,1,0)","v":0}]
[{"$f":"IF(Table1[[#This Row],[School/Group Name]]=\"\",\"\",Table1[[#This Row],[School/Group Name]])","v":""},{"$f":"IF(Table1[[#This Row],[Pupil Name]]=\"\",\"\",Table1[[#This Row],[Pupil Name]])","v":""},{"$f":"IF(Table1[[#This Row],[Gender (M/F)]]=\"\",\"\",Table1[[#This Row],[Gender (M/F)]])","v":""},{"$f":"IF(Table1[[#This Row],[DisAdv (Y/N)]]=\"\",\"\",Table1[[#This Row],[DisAdv (Y/N)]])","v":""},{"$f":"IF(Table1[[#This Row],[SEND (E,K,N)]]=\"\",\"\",Table1[[#This Row],[SEND (E,K,N)]])","v":""},"",{"$f":"IF(LEN(Table2[[#This Row],[Pupil Name]])>0,1,0)","v":0}]
[{"$f":"IF(Table1[[#This Row],[School/Group Name]]=\"\",\"\",Table1[[#This Row],[School/Group Name]])","v":""},{"$f":"IF(Table1[[#This Row],[Pupil Name]]=\"\",\"\",Table1[[#This Row],[Pupil Name]])","v":""},{"$f":"IF(Table1[[#This Row],[Gender (M/F)]]=\"\",\"\",Table1[[#This Row],[Gender (M/F)]])","v":""},{"$f":"IF(Table1[[#This Row],[DisAdv (Y/N)]]=\"\",\"\",Table1[[#This Row],[DisAdv (Y/N)]])","v":""},{"$f":"IF(Table1[[#This Row],[SEND (E,K,N)]]=\"\",\"\",Table1[[#This Row],[SEND (E,K,N)]])","v":""},"",{"$f":"IF(LEN(Table2[[#This Row],[Pupil Name]])>0,1,0)","v":0}]
[{"$f":"IF(Table1[[#This Row],[School/Group Name]]=\"\",\"\",Table1[[#This Row],[School/Group Name]])","v":""},{"$f":"IF(Table1[[#This Row],[Pupil Name]]=\"\",\"\",Table1[[#This Row],[Pupil Name]])","v":""},{"$f":"IF(Table1[[#This Row],[Gender (M/F)]]=\"\",\"\",Table1[[#This Row],[Gender (M/F)]])","v":""},{"$f":"IF(Table1[[#This Row],[DisAdv (Y/N)]]=\"\",\"\",Table1[[#This Row],[DisAdv (Y/N)]])","v":""},{"$f":"IF(Table1[[#This Row],[SEND (E,K,N)]]=\"\",\"\",Table1[[#This Row],[SEND (E,K,N)]])","v":""},"",{"$f":"IF(LEN(Table2[[#This Row],[Pupil Name]])>0,1,0)","v":0}]
[{"$f":"IF(Table1[[#This Row],[School/Group Name]]=\"\",\"\",Table1[[#This Row],[School/Group Name]])","v":""},{"$f":"IF(Table1[[#This Row],[Pupil Name]]=\"\",\"\",Table1[[#This Row],[Pupil Name]])","v":""},{"$f":"IF(Table1[[#This Row],[Gender (M/F)]]=\"\",\"\",Table1[[#This Row],[Gender (M/F)]])","v":""},{"$f":"IF(Table1[[#This Row],[DisAdv (Y/N)]]=\"\",\"\",Table1[[#This Row],[DisAdv (Y/N)]])","v":""},{"$f":"IF(Table1[[#This Row],[SEND (E,K,N)]]=\"\",\"\",Table1[[#This Row],[SEND (E,K,N)]])","v":""},"",{"$f":"IF(LEN(Table2[[#This Row],[Pupil Name]])>0,1,0)","v":0}]
[{"$f":"IF(Table1[[#This Row],[School/Group Name]]=\"\",\"\",Table1[[#This Row],[School/Group Name]])","v":""},{"$f":"IF(Table1[[#This Row],[Pupil Name]]=\"\",\"\",Table1[[#This Row],[Pupil Name]])","v":""},{"$f":"IF(Table1[[#This Row],[Gender (M/F)]]=\"\",\"\",Table1[[#This Row],[Gender (M/F)]])","v":""},{"$f":"IF(Table1[[#This Row],[DisAdv (Y/N)]]=\"\",\"\",Table1[[#This Row],[DisAdv (Y/N)]])","v":""},{"$f":"IF(Table1[[#This Row],[SEND (E,K,N)]]=\"\",\"\",Table1[[#This Row],[SEND (E,K,N)]])","v":""},"",{"$f":"IF(LEN(Table2[[#This Row],[Pupil Name]])>0,1,0)","v":0}]
[{"$f":"IF(Table1[[#This Row],[School/Group Name]]=\"\",\"\",Table1[[#This Row],[School/Group Name]])","v":""},{"$f":"IF(Table1[[#This Row],[Pupil Name]]=\"\",\"\",Table1[[#This Row],[Pupil Name]])","v":""},{"$f":"IF(Table1[[#This Row],[Gender (M/F)]]=\"\",\"\",Table1[[#This Row],[Gender (M/F)]])","v":""},{"$f":"IF(Table1[[#This Row],[DisAdv (Y/N)]]=\"\",\"\",Table1[[#This Row],[DisAdv (Y/N)]])","v":""},{"$f":"IF(Table1[[#This Row],[SEND (E,K,N)]]=\"\",\"\",Table1[[#This Row],[SEND (E,K,N)]])","v":""},"",{"$f":"IF(LEN(Table2[[#This Row],[Pupil Name]])>0,1,0)","v":0}]
[{"$f":"IF(Table1[[#This Row],[School/Group Name]]=\"\",\"\",Table1[[#This Row],[School/Group Name]])","v":""},{"$f":"IF(Table1[[#This Row],[Pupil Name]]=\"\",\"\",Table1[[#This Row],[Pupil Name]])","v":""},{"$f":"IF(Table1[[#This Row],[Gender (M/F)]]=\"\",\"\",Table1[[#This Row],[Gender (M/F)]])","v":""},{"$f":"IF(Table1[[#This Row],[DisAdv (Y/N)]]=\"\",\"\",Table1[[#This Row],[DisAdv (Y/N)]])","v":""},{"$f":"IF(Table1[[#This Row],[SEND (E,K,N)]]=\"\",\"\",Table1[[#This Row],[SEND (E,K,N)]])","v":""},"",{"$f":"IF(LEN(Table2[[#This Row],[Pupil Name]])>0,1,0)","v":0}]
[{"$f":"IF(Table1[[#This Row],[School/Group Name]]=\"\",\"\",Table1[[#This Row],[School/Group Name]])","v":""},{"$f":"IF(Table1[[#This Row],[Pupil Name]]=\"\",\"\",Table1[[#This Row],[Pupil Name]])","v":""},{"$f":"IF(Table1[[#This Row],[Gender (M/F)]]=\"\",\"\",Table1[[#This Row],[Gender (M/F)]])","v":""},{"$f":"IF(Table1[[#This Row],[DisAdv (Y/N)]]=\"\",\"\",Table1[[#This Row],[DisAdv (Y/N)]])","v":""},{"$f":"IF(Table1[[#This Row],[SEND (E,K,N)]]=\"\",\"\",Table1[[#This Row],[SEND (E,K,N)]])","v":""},"",{"$f":"IF(LEN(Table2[[#This Row],[Pupil Name]])>0,1,0)","v":0}]
[{"$f":"IF(Table1[[#This Row],[School/Group Name]]=\"\",\"\",Table1[[#This Row],[School/Group Name]])","v":""},{"$f":"IF(Table1[[#This Row],[Pupil Name]]=\"\",\"\",Table1[[#This Row],[Pupil Name]])","v":""},{"$f":"IF(Table1[[#This Row],[Gender (M/F)]]=\"\",\"\",Table1[[#This Row],[Gender (M/F)]])","v":""},{"$f":"IF(Table1[[#This Row],[DisAdv (Y/N)]]=\"\",\"\",Table1[[#This Row],[DisAdv (Y/N)]])","v":""},{"$f":"IF(Table1[[#This Row],[SEND (E,K,N)]]=\"\",\"\",Table1[[#This Row],[SEND (E,K,N)]])","v":""},"",{"$f":"IF(LEN(Table2[[#This Row],[Pupil Name]])>0,1,0)","v":0}]
[{"$f":"IF(Table1[[#This Row],[School/Group Name]]=\"\",\"\",Table1[[#This Row],[School/Group Name]])","v":""},{"$f":"IF(Table1[[#This Row],[Pupil Name]]=\"\",\"\",Table1[[#This Row],[Pupil Name]])","v":""},{"$f":"IF(Table1[[#This Row],[Gender (M/F)]]=\"\",\"\",Table1[[#This Row],[Gender (M/F)]])","v":""},{"$f":"IF(Table1[[#This Row],[DisAdv (Y/N)]]=\"\",\"\",Table1[[#This Row],[DisAdv (Y/N)]])","v":""},{"$f":"IF(Table1[[#This Row],[SEND (E,K,N)]]=\"\",\"\",Table1[[#This Row],[SEND (E,K,N)]])","v":""},"",{"$f":"IF(LEN(Table2[[#This Row],[Pupil Name]])>0,1,0)","v":0}]
[{"$f":"IF(Table1[[#This Row],[School/Group Name]]=\"\",\"\",Table1[[#This Row],[School/Group Name]])","v":""},{"$f":"IF(Table1[[#This Row],[Pupil Name]]=\"\",\"\",Table1[[#This Row],[Pupil Name]])","v":""},{"$f":"IF(Table1[[#This Row],[Gender (M/F)]]=\"\",\"\",Table1[[#This Row],[Gender (M/F)]])","v":""},{"$f":"IF(Table1[[#This Row],[DisAdv (Y/N)]]=\"\",\"\",Table1[[#This Row],[DisAdv (Y/N)]])","v":""},{"$f":"IF(Table1[[#This Row],[SEND (E,K,N)]]=\"\",\"\",Table1[[#This Row],[SEND (E,K,N)]])","v":""},"",{"$f":"IF(LEN(Table2[[#This Row],[Pupil Name]])>0,1,0)","v":0}]
[{"$f":"IF(Table1[[#This Row],[School/Group Name]]=\"\",\"\",Table1[[#This Row],[School/Group Name]])","v":""},{"$f":"IF(Table1[[#This Row],[Pupil Name]]=\"\",\"\",Table1[[#This Row],[Pupil Name]])","v":""},{"$f":"IF(Table1[[#This Row],[Gender (M/F)]]=\"\",\"\",Table1[[#This Row],[Gender (M/F)]])","v":""},{"$f":"IF(Table1[[#This Row],[DisAdv (Y/N)]]=\"\",\"\",Table1[[#This Row],[DisAdv (Y/N)]])","v":""},{"$f":"IF(Table1[[#This Row],[SEND (E,K,N)]]=\"\",\"\",Table1[[#This Row],[SEND (E,K,N)]])","v":""},"",{"$f":"IF(LEN(Table2[[#This Row],[Pupil Name]])>0,1,0)","v":0}]
[{"$f":"IF(Table1[[#This Row],[School/Group Name]]=\"\",\"\",Table1[[#This Row],[School/Group Name]])","v":""},{"$f":"IF(Table1[[#This Row],[Pupil Name]]=\"\",\"\",Table1[[#This Row],[Pupil Name]])","v":""},{"$f":"IF(Table1[[#This Row],[Gender (M/F)]]=\"\",\"\",Table1[[#This Row],[Gender (M/F)]])","v":""},{"$f":"IF(Table1[[#This Row],[DisAdv (Y/N)]]=\"\",\"\",Table1[[#This Row],[DisAdv (Y/N)]])","v":""},{"$f":"IF(Table1[[#This Row],[SEND (E,K,N)]]=\"\",\"\",Table1[[#This Row],[SEND (E,K,N)]])","v":""},"",{"$f":"IF(LEN(Table2[[#This Row],[Pupil Name]])>0,1,0)","v":0}]
[{"$f":"IF(Table1[[#This Row],[School/Group Name]]=\"\",\"\",Table1[[#This Row],[School/Group Name]])","v":""},{"$f":"IF(Table1[[#This Row],[Pupil Name]]=\"\",\"\",Table1[[#This Row],[Pupil Name]])","v":""},{"$f":"IF(Table1[[#This Row],[Gender (M/F)]]=\"\",\"\",Table1[[#This Row],[Gender (M/F)]])","v":""},{"$f":"IF(Table1[[#This Row],[DisAdv (Y/N)]]=\"\",\"\",Table1[[#This Row],[DisAdv (Y/N)]])","v":""},{"$f":"IF(Table1[[#This Row],[SEND (E,K,N)]]=\"\",\"\",Table1[[#This Row],[SEND (E,K,N)]])","v":""},{"$f":"IF(H199=\"\",\"\",(SUM(H199:AG199)))","v":""},{"$f":"IF(LEN(Table2[[#This Row],[Pupil Name]])>0,1,0)","v":0}]
[{"$f":"IF(Table1[[#This Row],[School/Group Name]]=\"\",\"\",Table1[[#This Row],[School/Group Name]])","v":""},{"$f":"IF(Table1[[#This Row],[Pupil Name]]=\"\",\"\",Table1[[#This Row],[Pupil Name]])","v":""},{"$f":"IF(Table1[[#This Row],[Gender (M/F)]]=\"\",\"\",Table1[[#This Row],[Gender (M/F)]])","v":""},{"$f":"IF(Table1[[#This Row],[DisAdv (Y/N)]]=\"\",\"\",Table1[[#This Row],[DisAdv (Y/N)]])","v":""},{"$f":"IF(Table1[[#This Row],[SEND (E,K,N)]]=\"\",\"\",Table1[[#This Row],[SEND (E,K,N)]])","v":""},"",{"$f":"IF(LEN(Table2[[#This Row],[Pupil Name]])>0,1,0)","v":0}]
[{"$f":"IF(Table1[[#This Row],[School/Group Name]]=\"\",\"\",Table1[[#This Row],[School/Group Name]])","v":""},{"$f":"IF(Table1[[#This Row],[Pupil Name]]=\"\",\"\",Table1[[#This Row],[Pupil Name]])","v":""},{"$f":"IF(Table1[[#This Row],[Gender (M/F)]]=\"\",\"\",Table1[[#This Row],[Gender (M/F)]])","v":""},{"$f":"IF(Table1[[#This Row],[DisAdv (Y/N)]]=\"\",\"\",Table1[[#This Row],[DisAdv (Y/N)]])","v":""},{"$f":"IF(Table1[[#This Row],[SEND (E,K,N)]]=\"\",\"\",Table1[[#This Row],[SEND (E,K,N)]])","v":""},"",{"$f":"IF(LEN(Table2[[#This Row],[Pupil Name]])>0,1,0)","v":0}]
[{"$f":"IF(Table1[[#This Row],[School/Group Name]]=\"\",\"\",Table1[[#This Row],[School/Group Name]])","v":""},{"$f":"IF(Table1[[#This Row],[Pupil Name]]=\"\",\"\",Table1[[#This Row],[Pupil Name]])","v":""},{"$f":"IF(Table1[[#This Row],[Gender (M/F)]]=\"\",\"\",Table1[[#This Row],[Gender (M/F)]])","v":""},{"$f":"IF(Table1[[#This Row],[DisAdv (Y/N)]]=\"\",\"\",Table1[[#This Row],[DisAdv (Y/N)]])","v":""},{"$f":"IF(Table1[[#This Row],[SEND (E,K,N)]]=\"\",\"\",Table1[[#This Row],[SEND (E,K,N)]])","v":""},"",{"$f":"IF(LEN(Table2[[#This Row],[Pupil Name]])>0,1,0)","v":0}]
[{"$f":"IF(Table1[[#This Row],[School/Group Name]]=\"\",\"\",Table1[[#This Row],[School/Group Name]])","v":""},{"$f":"IF(Table1[[#This Row],[Pupil Name]]=\"\",\"\",Table1[[#This Row],[Pupil Name]])","v":""},{"$f":"IF(Table1[[#This Row],[Gender (M/F)]]=\"\",\"\",Table1[[#This Row],[Gender (M/F)]])","v":""},{"$f":"IF(Table1[[#This Row],[DisAdv (Y/N)]]=\"\",\"\",Table1[[#This Row],[DisAdv (Y/N)]])","v":""},{"$f":"IF(Table1[[#This Row],[SEND (E,K,N)]]=\"\",\"\",Table1[[#This Row],[SEND (E,K,N)]])","v":""},"",{"$f":"IF(LEN(Table2[[#This Row],[Pupil Name]])>0,1,0)","v":0}]
[{"$f":"IF(Table1[[#This Row],[School/Group Name]]=\"\",\"\",Table1[[#This Row],[School/Group Name]])","v":""},{"$f":"IF(Table1[[#This Row],[Pupil Name]]=\"\",\"\",Table1[[#This Row],[Pupil Name]])","v":""},{"$f":"IF(Table1[[#This Row],[Gender (M/F)]]=\"\",\"\",Table1[[#This Row],[Gender (M/F)]])","v":""},{"$f":"IF(Table1[[#This Row],[DisAdv (Y/N)]]=\"\",\"\",Table1[[#This Row],[DisAdv (Y/N)]])","v":""},{"$f":"IF(Table1[[#This Row],[SEND (E,K,N)]]=\"\",\"\",Table1[[#This Row],[SEND (E,K,N)]])","v":""},"",{"$f":"IF(LEN(Table2[[#This Row],[Pupil Name]])>0,1,0)","v":0}]
[{"$f":"IF(Table1[[#This Row],[School/Group Name]]=\"\",\"\",Table1[[#This Row],[School/Group Name]])","v":""},{"$f":"IF(Table1[[#This Row],[Pupil Name]]=\"\",\"\",Table1[[#This Row],[Pupil Name]])","v":""},{"$f":"IF(Table1[[#This Row],[Gender (M/F)]]=\"\",\"\",Table1[[#This Row],[Gender (M/F)]])","v":""},{"$f":"IF(Table1[[#This Row],[DisAdv (Y/N)]]=\"\",\"\",Table1[[#This Row],[DisAdv (Y/N)]])","v":""},{"$f":"IF(Table1[[#This Row],[SEND (E,K,N)]]=\"\",\"\",Table1[[#This Row],[SEND (E,K,N)]])","v":""},"",{"$f":"IF(LEN(Table2[[#This Row],[Pupil Name]])>0,1,0)","v":0}]
[{"$f":"IF(Table1[[#This Row],[School/Group Name]]=\"\",\"\",Table1[[#This Row],[School/Group Name]])","v":""},{"$f":"IF(Table1[[#This Row],[Pupil Name]]=\"\",\"\",Table1[[#This Row],[Pupil Name]])","v":""},{"$f":"IF(Table1[[#This Row],[Gender (M/F)]]=\"\",\"\",Table1[[#This Row],[Gender (M/F)]])","v":""},{"$f":"IF(Table1[[#This Row],[DisAdv (Y/N)]]=\"\",\"\",Table1[[#This Row],[DisAdv (Y/N)]])","v":""},{"$f":"IF(Table1[[#This Row],[SEND (E,K,N)]]=\"\",\"\",Table1[[#This Row],[SEND (E,K,N)]])","v":""},"",{"$f":"IF(LEN(Table2[[#This Row],[Pupil Name]])>0,1,0)","v":0}]
[{"$f":"IF(Table1[[#This Row],[School/Group Name]]=\"\",\"\",Table1[[#This Row],[School/Group Name]])","v":""},{"$f":"IF(Table1[[#This Row],[Pupil Name]]=\"\",\"\",Table1[[#This Row],[Pupil Name]])","v":""},{"$f":"IF(Table1[[#This Row],[Gender (M/F)]]=\"\",\"\",Table1[[#This Row],[Gender (M/F)]])","v":""},{"$f":"IF(Table1[[#This Row],[DisAdv (Y/N)]]=\"\",\"\",Table1[[#This Row],[DisAdv (Y/N)]])","v":""},{"$f":"IF(Table1[[#This Row],[SEND (E,K,N)]]=\"\",\"\",Table1[[#This Row],[SEND (E,K,N)]])","v":""},"",{"$f":"IF(LEN(Table2[[#This Row],[Pupil Name]])>0,1,0)","v":0}]
[{"$f":"IF(Table1[[#This Row],[School/Group Name]]=\"\",\"\",Table1[[#This Row],[School/Group Name]])","v":""},{"$f":"IF(Table1[[#This Row],[Pupil Name]]=\"\",\"\",Table1[[#This Row],[Pupil Name]])","v":""},{"$f":"IF(Table1[[#This Row],[Gender (M/F)]]=\"\",\"\",Table1[[#This Row],[Gender (M/F)]])","v":""},{"$f":"IF(Table1[[#This Row],[DisAdv (Y/N)]]=\"\",\"\",Table1[[#This Row],[DisAdv (Y/N)]])","v":""},{"$f":"IF(Table1[[#This Row],[SEND (E,K,N)]]=\"\",\"\",Table1[[#This Row],[SEND (E,K,N)]])","v":""},"",{"$f":"IF(LEN(Table2[[#This Row],[Pupil Name]])>0,1,0)","v":0}]
[{"$f":"IF(Table1[[#This Row],[School/Group Name]]=\"\",\"\",Table1[[#This Row],[School/Group Name]])","v":""},{"$f":"IF(Table1[[#This Row],[Pupil Name]]=\"\",\"\",Table1[[#This Row],[Pupil Name]])","v":""},{"$f":"IF(Table1[[#This Row],[Gender (M/F)]]=\"\",\"\",Table1[[#This Row],[Gender (M/F)]])","v":""},{"$f":"IF(Table1[[#This Row],[DisAdv (Y/N)]]=\"\",\"\",Table1[[#This Row],[DisAdv (Y/N)]])","v":""},{"$f":"IF(Table1[[#This Row],[SEND (E,K,N)]]=\"\",\"\",Table1[[#This Row],[SEND (E,K,N)]])","v":""},"",{"$f":"IF(LEN(Table2[[#This Row],[Pupil Name]])>0,1,0)","v":0}]
[{"$f":"IF(Table1[[#This Row],[School/Group Name]]=\"\",\"\",Table1[[#This Row],[School/Group Name]])","v":""},{"$f":"IF(Table1[[#This Row],[Pupil Name]]=\"\",\"\",Table1[[#This Row],[Pupil Name]])","v":""},{"$f":"IF(Table1[[#This Row],[Gender (M/F)]]=\"\",\"\",Table1[[#This Row],[Gender (M/F)]])","v":""},{"$f":"IF(Table1[[#This Row],[DisAdv (Y/N)]]=\"\",\"\",Table1[[#This Row],[DisAdv (Y/N)]])","v":""},{"$f":"IF(Table1[[#This Row],[SEND (E,K,N)]]=\"\",\"\",Table1[[#This Row],[SEND (E,K,N)]])","v":""},"",{"$f":"IF(LEN(Table2[[#This Row],[Pupil Name]])>0,1,0)","v":0}]
[{"$f":"IF(Table1[[#This Row],[School/Group Name]]=\"\",\"\",Table1[[#This Row],[School/Group Name]])","v":""},{"$f":"IF(Table1[[#This Row],[Pupil Name]]=\"\",\"\",Table1[[#This Row],[Pupil Name]])","v":""},{"$f":"IF(Table1[[#This Row],[Gender (M/F)]]=\"\",\"\",Table1[[#This Row],[Gender (M/F)]])","v":""},{"$f":"IF(Table1[[#This Row],[DisAdv (Y/N)]]=\"\",\"\",Table1[[#This Row],[DisAdv (Y/N)]])","v":""},{"$f":"IF(Table1[[#This Row],[SEND (E,K,N)]]=\"\",\"\",Table1[[#This Row],[SEND (E,K,N)]])","v":""},"",{"$f":"IF(LEN(Table2[[#This Row],[Pupil Name]])>0,1,0)","v":0}]
[{"$f":"IF(Table1[[#This Row],[School/Group Name]]=\"\",\"\",Table1[[#This Row],[School/Group Name]])","v":""},{"$f":"IF(Table1[[#This Row],[Pupil Name]]=\"\",\"\",Table1[[#This Row],[Pupil Name]])","v":""},{"$f":"IF(Table1[[#This Row],[Gender (M/F)]]=\"\",\"\",Table1[[#This Row],[Gender (M/F)]])","v":""},{"$f":"IF(Table1[[#This Row],[DisAdv (Y/N)]]=\"\",\"\",Table1[[#This Row],[DisAdv (Y/N)]])","v":""},{"$f":"IF(Table1[[#This Row],[SEND (E,K,N)]]=\"\",\"\",Table1[[#This Row],[SEND (E,K,N)]])","v":""},"",{"$f":"IF(LEN(Table2[[#This Row],[Pupil Name]])>0,1,0)","v":0}]
[{"$f":"IF(Table1[[#This Row],[School/Group Name]]=\"\",\"\",Table1[[#This Row],[School/Group Name]])","v":""},{"$f":"IF(Table1[[#This Row],[Pupil Name]]=\"\",\"\",Table1[[#This Row],[Pupil Name]])","v":""},{"$f":"IF(Table1[[#This Row],[Gender (M/F)]]=\"\",\"\",Table1[[#This Row],[Gender (M/F)]])","v":""},{"$f":"IF(Table1[[#This Row],[DisAdv (Y/N)]]=\"\",\"\",Table1[[#This Row],[DisAdv (Y/N)]])","v":""},{"$f":"IF(Table1[[#This Row],[SEND (E,K,N)]]=\"\",\"\",Table1[[#This Row],[SEND (E,K,N)]])","v":""},"",{"$f":"IF(LEN(Table2[[#This Row],[Pupil Name]])>0,1,0)","v":0}]
[{"$f":"IF(Table1[[#This Row],[School/Group Name]]=\"\",\"\",Table1[[#This Row],[School/Group Name]])","v":""},{"$f":"IF(Table1[[#This Row],[Pupil Name]]=\"\",\"\",Table1[[#This Row],[Pupil Name]])","v":""},{"$f":"IF(Table1[[#This Row],[Gender (M/F)]]=\"\",\"\",Table1[[#This Row],[Gender (M/F)]])","v":""},{"$f":"IF(Table1[[#This Row],[DisAdv (Y/N)]]=\"\",\"\",Table1[[#This Row],[DisAdv (Y/N)]])","v":""},{"$f":"IF(Table1[[#This Row],[SEND (E,K,N)]]=\"\",\"\",Table1[[#This Row],[SEND (E,K,N)]])","v":""},"",{"$f":"IF(LEN(Table2[[#This Row],[Pupil Name]])>0,1,0)","v":0}]
[{"$f":"IF(Table1[[#This Row],[School/Group Name]]=\"\",\"\",Table1[[#This Row],[School/Group Name]])","v":""},{"$f":"IF(Table1[[#This Row],[Pupil Name]]=\"\",\"\",Table1[[#This Row],[Pupil Name]])","v":""},{"$f":"IF(Table1[[#This Row],[Gender (M/F)]]=\"\",\"\",Table1[[#This Row],[Gender (M/F)]])","v":""},{"$f":"IF(Table1[[#This Row],[DisAdv (Y/N)]]=\"\",\"\",Table1[[#This Row],[DisAdv (Y/N)]])","v":""},{"$f":"IF(Table1[[#This Row],[SEND (E,K,N)]]=\"\",\"\",Table1[[#This Row],[SEND (E,K,N)]])","v":""},"",{"$f":"IF(LEN(Table2[[#This Row],[Pupil Name]])>0,1,0)","v":0}]
[{"$f":"IF(Table1[[#This Row],[School/Group Name]]=\"\",\"\",Table1[[#This Row],[School/Group Name]])","v":""},{"$f":"IF(Table1[[#This Row],[Pupil Name]]=\"\",\"\",Table1[[#This Row],[Pupil Name]])","v":""},{"$f":"IF(Table1[[#This Row],[Gender (M/F)]]=\"\",\"\",Table1[[#This Row],[Gender (M/F)]])","v":""},{"$f":"IF(Table1[[#This Row],[DisAdv (Y/N)]]=\"\",\"\",Table1[[#This Row],[DisAdv (Y/N)]])","v":""},{"$f":"IF(Table1[[#This Row],[SEND (E,K,N)]]=\"\",\"\",Table1[[#This Row],[SEND (E,K,N)]])","v":""},"",{"$f":"IF(LEN(Table2[[#This Row],[Pupil Name]])>0,1,0)","v":0}]
[{"$f":"IF(Table1[[#This Row],[School/Group Name]]=\"\",\"\",Table1[[#This Row],[School/Group Name]])","v":""},{"$f":"IF(Table1[[#This Row],[Pupil Name]]=\"\",\"\",Table1[[#This Row],[Pupil Name]])","v":""},{"$f":"IF(Table1[[#This Row],[Gender (M/F)]]=\"\",\"\",Table1[[#This Row],[Gender (M/F)]])","v":""},{"$f":"IF(Table1[[#This Row],[DisAdv (Y/N)]]=\"\",\"\",Table1[[#This Row],[DisAdv (Y/N)]])","v":""},{"$f":"IF(Table1[[#This Row],[SEND (E,K,N)]]=\"\",\"\",Table1[[#This Row],[SEND (E,K,N)]])","v":""},"",{"$f":"IF(LEN(Table2[[#This Row],[Pupil Name]])>0,1,0)","v":0}]
[{"$f":"IF(Table1[[#This Row],[School/Group Name]]=\"\",\"\",Table1[[#This Row],[School/Group Name]])","v":""},{"$f":"IF(Table1[[#This Row],[Pupil Name]]=\"\",\"\",Table1[[#This Row],[Pupil Name]])","v":""},{"$f":"IF(Table1[[#This Row],[Gender (M/F)]]=\"\",\"\",Table1[[#This Row],[Gender (M/F)]])","v":""},{"$f":"IF(Table1[[#This Row],[DisAdv (Y/N)]]=\"\",\"\",Table1[[#This Row],[DisAdv (Y/N)]])","v":""},{"$f":"IF(Table1[[#This Row],[SEND (E,K,N)]]=\"\",\"\",Table1[[#This Row],[SEND (E,K,N)]])","v":""},"",{"$f":"IF(LEN(Table2[[#This Row],[Pupil Name]])>0,1,0)","v":0}]
[{"$f":"IF(Table1[[#This Row],[School/Group Name]]=\"\",\"\",Table1[[#This Row],[School/Group Name]])","v":""},{"$f":"IF(Table1[[#This Row],[Pupil Name]]=\"\",\"\",Table1[[#This Row],[Pupil Name]])","v":""},{"$f":"IF(Table1[[#This Row],[Gender (M/F)]]=\"\",\"\",Table1[[#This Row],[Gender (M/F)]])","v":""},{"$f":"IF(Table1[[#This Row],[DisAdv (Y/N)]]=\"\",\"\",Table1[[#This Row],[DisAdv (Y/N)]])","v":""},{"$f":"IF(Table1[[#This Row],[SEND (E,K,N)]]=\"\",\"\",Table1[[#This Row],[SEND (E,K,N)]])","v":""},"",{"$f":"IF(LEN(Table2[[#This Row],[Pupil Name]])>0,1,0)","v":0}]
[{"$f":"IF(Table1[[#This Row],[School/Group Name]]=\"\",\"\",Table1[[#This Row],[School/Group Name]])","v":""},{"$f":"IF(Table1[[#This Row],[Pupil Name]]=\"\",\"\",Table1[[#This Row],[Pupil Name]])","v":""},{"$f":"IF(Table1[[#This Row],[Gender (M/F)]]=\"\",\"\",Table1[[#This Row],[Gender (M/F)]])","v":""},{"$f":"IF(Table1[[#This Row],[DisAdv (Y/N)]]=\"\",\"\",Table1[[#This Row],[DisAdv (Y/N)]])","v":""},{"$f":"IF(Table1[[#This Row],[SEND (E,K,N)]]=\"\",\"\",Table1[[#This Row],[SEND (E,K,N)]])","v":""},"",{"$f":"IF(LEN(Table2[[#This Row],[Pupil Name]])>0,1,0)","v":0}]
[{"$f":"IF(Table1[[#This Row],[School/Group Name]]=\"\",\"\",Table1[[#This Row],[School/Group Name]])","v":""},{"$f":"IF(Table1[[#This Row],[Pupil Name]]=\"\",\"\",Table1[[#This Row],[Pupil Name]])","v":""},{"$f":"IF(Table1[[#This Row],[Gender (M/F)]]=\"\",\"\",Table1[[#This Row],[Gender (M/F)]])","v":""},{"$f":"IF(Table1[[#This Row],[DisAdv (Y/N)]]=\"\",\"\",Table1[[#This Row],[DisAdv (Y/N)]])","v":""},{"$f":"IF(Table1[[#This Row],[SEND (E,K,N)]]=\"\",\"\",Table1[[#This Row],[SEND (E,K,N)]])","v":""},"",{"$f":"IF(LEN(Table2[[#This Row],[Pupil Name]])>0,1,0)","v":0}]
[{"$f":"IF(Table1[[#This Row],[School/Group Name]]=\"\",\"\",Table1[[#This Row],[School/Group Name]])","v":""},{"$f":"IF(Table1[[#This Row],[Pupil Name]]=\"\",\"\",Table1[[#This Row],[Pupil Name]])","v":""},{"$f":"IF(Table1[[#This Row],[Gender (M/F)]]=\"\",\"\",Table1[[#This Row],[Gender (M/F)]])","v":""},{"$f":"IF(Table1[[#This Row],[DisAdv (Y/N)]]=\"\",\"\",Table1[[#This Row],[DisAdv (Y/N)]])","v":""},{"$f":"IF(Table1[[#This Row],[SEND (E,K,N)]]=\"\",\"\",Table1[[#This Row],[SEND (E,K,N)]])","v":""},"",{"$f":"IF(LEN(Table2[[#This Row],[Pupil Name]])>0,1,0)","v":0}]
[{"$f":"IF(Table1[[#This Row],[School/Group Name]]=\"\",\"\",Table1[[#This Row],[School/Group Name]])","v":""},{"$f":"IF(Table1[[#This Row],[Pupil Name]]=\"\",\"\",Table1[[#This Row],[Pupil Name]])","v":""},{"$f":"IF(Table1[[#This Row],[Gender (M/F)]]=\"\",\"\",Table1[[#This Row],[Gender (M/F)]])","v":""},{"$f":"IF(Table1[[#This Row],[DisAdv (Y/N)]]=\"\",\"\",Table1[[#This Row],[DisAdv (Y/N)]])","v":""},{"$f":"IF(Table1[[#This Row],[SEND (E,K,N)]]=\"\",\"\",Table1[[#This Row],[SEND (E,K,N)]])","v":""},"",{"$f":"IF(LEN(Table2[[#This Row],[Pupil Name]])>0,1,0)","v":0}]
[{"$f":"IF(Table1[[#This Row],[School/Group Name]]=\"\",\"\",Table1[[#This Row],[School/Group Name]])","v":""},{"$f":"IF(Table1[[#This Row],[Pupil Name]]=\"\",\"\",Table1[[#This Row],[Pupil Name]])","v":""},{"$f":"IF(Table1[[#This Row],[Gender (M/F)]]=\"\",\"\",Table1[[#This Row],[Gender (M/F)]])","v":""},{"$f":"IF(Table1[[#This Row],[DisAdv (Y/N)]]=\"\",\"\",Table1[[#This Row],[DisAdv (Y/N)]])","v":""},{"$f":"IF(Table1[[#This Row],[SEND (E,K,N)]]=\"\",\"\",Table1[[#This Row],[SEND (E,K,N)]])","v":""},"",{"$f":"IF(LEN(Table2[[#This Row],[Pupil Name]])>0,1,0)","v":0}]
[{"$f":"IF(Table1[[#This Row],[School/Group Name]]=\"\",\"\",Table1[[#This Row],[School/Group Name]])","v":""},{"$f":"IF(Table1[[#This Row],[Pupil Name]]=\"\",\"\",Table1[[#This Row],[Pupil Name]])","v":""},{"$f":"IF(Table1[[#This Row],[Gender (M/F)]]=\"\",\"\",Table1[[#This Row],[Gender (M/F)]])","v":""},{"$f":"IF(Table1[[#This Row],[DisAdv (Y/N)]]=\"\",\"\",Table1[[#This Row],[DisAdv (Y/N)]])","v":""},{"$f":"IF(Table1[[#This Row],[SEND (E,K,N)]]=\"\",\"\",Table1[[#This Row],[SEND (E,K,N)]])","v":""},"",{"$f":"IF(LEN(Table2[[#This Row],[Pupil Name]])>0,1,0)","v":0}]
[{"$f":"IF(Table1[[#This Row],[School/Group Name]]=\"\",\"\",Table1[[#This Row],[School/Group Name]])","v":""},{"$f":"IF(Table1[[#This Row],[Pupil Name]]=\"\",\"\",Table1[[#This Row],[Pupil Name]])","v":""},{"$f":"IF(Table1[[#This Row],[Gender (M/F)]]=\"\",\"\",Table1[[#This Row],[Gender (M/F)]])","v":""},{"$f":"IF(Table1[[#This Row],[DisAdv (Y/N)]]=\"\",\"\",Table1[[#This Row],[DisAdv (Y/N)]])","v":""},{"$f":"IF(Table1[[#This Row],[SEND (E,K,N)]]=\"\",\"\",Table1[[#This Row],[SEND (E,K,N)]])","v":""},"",{"$f":"IF(LEN(Table2[[#This Row],[Pupil Name]])>0,1,0)","v":0}]
[{"$f":"IF(Table1[[#This Row],[School/Group Name]]=\"\",\"\",Table1[[#This Row],[School/Group Name]])","v":""},{"$f":"IF(Table1[[#This Row],[Pupil Name]]=\"\",\"\",Table1[[#This Row],[Pupil Name]])","v":""},{"$f":"IF(Table1[[#This Row],[Gender (M/F)]]=\"\",\"\",Table1[[#This Row],[Gender (M/F)]])","v":""},{"$f":"IF(Table1[[#This Row],[DisAdv (Y/N)]]=\"\",\"\",Table1[[#This Row],[DisAdv (Y/N)]])","v":""},{"$f":"IF(Table1[[#This Row],[SEND (E,K,N)]]=\"\",\"\",Table1[[#This Row],[SEND (E,K,N)]])","v":""},"",{"$f":"IF(LEN(Table2[[#This Row],[Pupil Name]])>0,1,0)","v":0}]
[{"$f":"IF(Table1[[#This Row],[School/Group Name]]=\"\",\"\",Table1[[#This Row],[School/Group Name]])","v":""},{"$f":"IF(Table1[[#This Row],[Pupil Name]]=\"\",\"\",Table1[[#This Row],[Pupil Name]])","v":""},{"$f":"IF(Table1[[#This Row],[Gender (M/F)]]=\"\",\"\",Table1[[#This Row],[Gender (M/F)]])","v":""},{"$f":"IF(Table1[[#This Row],[DisAdv (Y/N)]]=\"\",\"\",Table1[[#This Row],[DisAdv (Y/N)]])","v":""},{"$f":"IF(Table1[[#This Row],[SEND (E,K,N)]]=\"\",\"\",Table1[[#This Row],[SEND (E,K,N)]])","v":""},"",{"$f":"IF(LEN(Table2[[#This Row],[Pupil Name]])>0,1,0)","v":0}]
[{"$f":"IF(Table1[[#This Row],[School/Group Name]]=\"\",\"\",Table1[[#This Row],[School/Group Name]])","v":""},{"$f":"IF(Table1[[#This Row],[Pupil Name]]=\"\",\"\",Table1[[#This Row],[Pupil Name]])","v":""},{"$f":"IF(Table1[[#This Row],[Gender (M/F)]]=\"\",\"\",Table1[[#This Row],[Gender (M/F)]])","v":""},{"$f":"IF(Table1[[#This Row],[DisAdv (Y/N)]]=\"\",\"\",Table1[[#This Row],[DisAdv (Y/N)]])","v":""},{"$f":"IF(Table1[[#This Row],[SEND (E,K,N)]]=\"\",\"\",Table1[[#This Row],[SEND (E,K,N)]])","v":""},"",{"$f":"IF(LEN(Table2[[#This Row],[Pupil Name]])>0,1,0)","v":0}]
[{"$f":"IF(Table1[[#This Row],[School/Group Name]]=\"\",\"\",Table1[[#This Row],[School/Group Name]])","v":""},{"$f":"IF(Table1[[#This Row],[Pupil Name]]=\"\",\"\",Table1[[#This Row],[Pupil Name]])","v":""},{"$f":"IF(Table1[[#This Row],[Gender (M/F)]]=\"\",\"\",Table1[[#This Row],[Gender (M/F)]])","v":""},{"$f":"IF(Table1[[#This Row],[DisAdv (Y/N)]]=\"\",\"\",Table1[[#This Row],[DisAdv (Y/N)]])","v":""},{"$f":"IF(Table1[[#This Row],[SEND (E,K,N)]]=\"\",\"\",Table1[[#This Row],[SEND (E,K,N)]])","v":""},"",{"$f":"IF(LEN(Table2[[#This Row],[Pupil Name]])>0,1,0)","v":0}]
[{"$f":"IF(Table1[[#This Row],[School/Group Name]]=\"\",\"\",Table1[[#This Row],[School/Group Name]])","v":""},{"$f":"IF(Table1[[#This Row],[Pupil Name]]=\"\",\"\",Table1[[#This Row],[Pupil Name]])","v":""},{"$f":"IF(Table1[[#This Row],[Gender (M/F)]]=\"\",\"\",Table1[[#This Row],[Gender (M/F)]])","v":""},{"$f":"IF(Table1[[#This Row],[DisAdv (Y/N)]]=\"\",\"\",Table1[[#This Row],[DisAdv (Y/N)]])","v":""},{"$f":"IF(Table1[[#This Row],[SEND (E,K,N)]]=\"\",\"\",Table1[[#This Row],[SEND (E,K,N)]])","v":""},"",{"$f":"IF(LEN(Table2[[#This Row],[Pupil Name]])>0,1,0)","v":0}]
[{"$f":"IF(Table1[[#This Row],[School/Group Name]]=\"\",\"\",Table1[[#This Row],[School/Group Name]])","v":""},{"$f":"IF(Table1[[#This Row],[Pupil Name]]=\"\",\"\",Table1[[#This Row],[Pupil Name]])","v":""},{"$f":"IF(Table1[[#This Row],[Gender (M/F)]]=\"\",\"\",Table1[[#This Row],[Gender (M/F)]])","v":""},{"$f":"IF(Table1[[#This Row],[DisAdv (Y/N)]]=\"\",\"\",Table1[[#This Row],[DisAdv (Y/N)]])","v":""},{"$f":"IF(Table1[[#This Row],[SEND (E,K,N)]]=\"\",\"\",Table1[[#This Row],[SEND (E,K,N)]])","v":""},"",{"$f":"IF(LEN(Table2[[#This Row],[Pupil Name]])>0,1,0)","v":0}]
[{"$f":"IF(Table1[[#This Row],[School/Group Name]]=\"\",\"\",Table1[[#This Row],[School/Group Name]])","v":""},{"$f":"IF(Table1[[#This Row],[Pupil Name]]=\"\",\"\",Table1[[#This Row],[Pupil Name]])","v":""},{"$f":"IF(Table1[[#This Row],[Gender (M/F)]]=\"\",\"\",Table1[[#This Row],[Gender (M/F)]])","v":""},{"$f":"IF(Table1[[#This Row],[DisAdv (Y/N)]]=\"\",\"\",Table1[[#This Row],[DisAdv (Y/N)]])","v":""},{"$f":"IF(Table1[[#This Row],[SEND (E,K,N)]]=\"\",\"\",Table1[[#This Row],[SEND (E,K,N)]])","v":""},"",{"$f":"IF(LEN(Table2[[#This Row],[Pupil Name]])>0,1,0)","v":0}]
[{"$f":"IF(Table1[[#This Row],[School/Group Name]]=\"\",\"\",Table1[[#This Row],[School/Group Name]])","v":""},{"$f":"IF(Table1[[#This Row],[Pupil Name]]=\"\",\"\",Table1[[#This Row],[Pupil Name]])","v":""},{"$f":"IF(Table1[[#This Row],[Gender (M/F)]]=\"\",\"\",Table1[[#This Row],[Gender (M/F)]])","v":""},{"$f":"IF(Table1[[#This Row],[DisAdv (Y/N)]]=\"\",\"\",Table1[[#This Row],[DisAdv (Y/N)]])","v":""},{"$f":"IF(Table1[[#This Row],[SEND (E,K,N)]]=\"\",\"\",Table1[[#This Row],[SEND (E,K,N)]])","v":""},"",{"$f":"IF(LEN(Table2[[#This Row],[Pupil Name]])>0,1,0)","v":0}]
[{"$f":"IF(Table1[[#This Row],[School/Group Name]]=\"\",\"\",Table1[[#This Row],[School/Group Name]])","v":""},{"$f":"IF(Table1[[#This Row],[Pupil Name]]=\"\",\"\",Table1[[#This Row],[Pupil Name]])","v":""},{"$f":"IF(Table1[[#This Row],[Gender (M/F)]]=\"\",\"\",Table1[[#This Row],[Gender (M/F)]])","v":""},{"$f":"IF(Table1[[#This Row],[DisAdv (Y/N)]]=\"\",\"\",Table1[[#This Row],[DisAdv (Y/N)]])","v":""},{"$f":"IF(Table1[[#This Row],[SEND (E,K,N)]]=\"\",\"\",Table1[[#This Row],[SEND (E,K,N)]])","v":""},"",{"$f":"IF(LEN(Table2[[#This Row],[Pupil Name]])>0,1,0)","v":0}]
[{"$f":"IF(Table1[[#This Row],[School/Group Name]]=\"\",\"\",Table1[[#This Row],[School/Group Name]])","v":""},{"$f":"IF(Table1[[#This Row],[Pupil Name]]=\"\",\"\",Table1[[#This Row],[Pupil Name]])","v":""},{"$f":"IF(Table1[[#This Row],[Gender (M/F)]]=\"\",\"\",Table1[[#This Row],[Gender (M/F)]])","v":""},{"$f":"IF(Table1[[#This Row],[DisAdv (Y/N)]]=\"\",\"\",Table1[[#This Row],[DisAdv (Y/N)]])","v":""},{"$f":"IF(Table1[[#This Row],[SEND (E,K,N)]]=\"\",\"\",Table1[[#This Row],[SEND (E,K,N)]])","v":""},"",{"$f":"IF(LEN(Table2[[#This Row],[Pupil Name]])>0,1,0)","v":0}]
[{"$f":"IF(Table1[[#This Row],[School/Group Name]]=\"\",\"\",Table1[[#This Row],[School/Group Name]])","v":""},{"$f":"IF(Table1[[#This Row],[Pupil Name]]=\"\",\"\",Table1[[#This Row],[Pupil Name]])","v":""},{"$f":"IF(Table1[[#This Row],[Gender (M/F)]]=\"\",\"\",Table1[[#This Row],[Gender (M/F)]])","v":""},{"$f":"IF(Table1[[#This Row],[DisAdv (Y/N)]]=\"\",\"\",Table1[[#This Row],[DisAdv (Y/N)]])","v":""},{"$f":"IF(Table1[[#This Row],[SEND (E,K,N)]]=\"\",\"\",Table1[[#This Row],[SEND (E,K,N)]])","v":""},"",{"$f":"IF(LEN(Table2[[#This Row],[Pupil Name]])>0,1,0)","v":0}]
[{"$f":"IF(Table1[[#This Row],[School/Group Name]]=\"\",\"\",Table1[[#This Row],[School/Group Name]])","v":""},{"$f":"IF(Table1[[#This Row],[Pupil Name]]=\"\",\"\",Table1[[#This Row],[Pupil Name]])","v":""},{"$f":"IF(Table1[[#This Row],[Gender (M/F)]]=\"\",\"\",Table1[[#This Row],[Gender (M/F)]])","v":""},{"$f":"IF(Table1[[#This Row],[DisAdv (Y/N)]]=\"\",\"\",Table1[[#This Row],[DisAdv (Y/N)]])","v":""},{"$f":"IF(Table1[[#This Row],[SEND (E,K,N)]]=\"\",\"\",Table1[[#This Row],[SEND (E,K,N)]])","v":""},"",{"$f":"IF(LEN(Table2[[#This Row],[Pupil Name]])>0,1,0)","v":0}]
[{"$f":"IF(Table1[[#This Row],[School/Group Name]]=\"\",\"\",Table1[[#This Row],[School/Group Name]])","v":""},{"$f":"IF(Table1[[#This Row],[Pupil Name]]=\"\",\"\",Table1[[#This Row],[Pupil Name]])","v":""},{"$f":"IF(Table1[[#This Row],[Gender (M/F)]]=\"\",\"\",Table1[[#This Row],[Gender (M/F)]])","v":""},{"$f":"IF(Table1[[#This Row],[DisAdv (Y/N)]]=\"\",\"\",Table1[[#This Row],[DisAdv (Y/N)]])","v":""},{"$f":"IF(Table1[[#This Row],[SEND (E,K,N)]]=\"\",\"\",Table1[[#This Row],[SEND (E,K,N)]])","v":""},"",{"$f":"IF(LEN(Table2[[#This Row],[Pupil Name]])>0,1,0)","v":0}]
[{"$f":"IF(Table1[[#This Row],[School/Group Name]]=\"\",\"\",Table1[[#This Row],[School/Group Name]])","v":""},{"$f":"IF(Table1[[#This Row],[Pupil Name]]=\"\",\"\",Table1[[#This Row],[Pupil Name]])","v":""},{"$f":"IF(Table1[[#This Row],[Gender (M/F)]]=\"\",\"\",Table1[[#This Row],[Gender (M/F)]])","v":""},{"$f":"IF(Table1[[#This Row],[DisAdv (Y/N)]]=\"\",\"\",Table1[[#This Row],[DisAdv (Y/N)]])","v":""},{"$f":"IF(Table1[[#This Row],[SEND (E,K,N)]]=\"\",\"\",Table1[[#This Row],[SEND (E,K,N)]])","v":""},"",{"$f":"IF(LEN(Table2[[#This Row],[Pupil Name]])>0,1,0)","v":0}]
[{"$f":"IF(Table1[[#This Row],[School/Group Name]]=\"\",\"\",Table1[[#This Row],[School/Group Name]])","v":""},{"$f":"IF(Table1[[#This Row],[Pupil Name]]=\"\",\"\",Table1[[#This Row],[Pupil Name]])","v":""},{"$f":"IF(Table1[[#This Row],[Gender (M/F)]]=\"\",\"\",Table1[[#This Row],[Gender (M/F)]])","v":""},{"$f":"IF(Table1[[#This Row],[DisAdv (Y/N)]]=\"\",\"\",Table1[[#This Row],[DisAdv (Y/N)]])","v":""},{"$f":"IF(Table1[[#This Row],[SEND (E,K,N)]]=\"\",\"\",Table1[[#This Row],[SEND (E,K,N)]])","v":""},"",{"$f":"IF(LEN(Table2[[#This Row],[Pupil Name]])>0,1,0)","v":0}]
[{"$f":"IF(Table1[[#This Row],[School/Group Name]]=\"\",\"\",Table1[[#This Row],[School/Group Name]])","v":""},{"$f":"IF(Table1[[#This Row],[Pupil Name]]=\"\",\"\",Table1[[#This Row],[Pupil Name]])","v":""},{"$f":"IF(Table1[[#This Row],[Gender (M/F)]]=\"\",\"\",Table1[[#This Row],[Gender (M/F)]])","v":""},{"$f":"IF(Table1[[#This Row],[DisAdv (Y/N)]]=\"\",\"\",Table1[[#This Row],[DisAdv (Y/N)]])","v":""},{"$f":"IF(Table1[[#This Row],[SEND (E,K,N)]]=\"\",\"\",Table1[[#This Row],[SEND (E,K,N)]])","v":""},"",{"$f":"IF(LEN(Table2[[#This Row],[Pupil Name]])>0,1,0)","v":0}]
[{"$f":"IF(Table1[[#This Row],[School/Group Name]]=\"\",\"\",Table1[[#This Row],[School/Group Name]])","v":""},{"$f":"IF(Table1[[#This Row],[Pupil Name]]=\"\",\"\",Table1[[#This Row],[Pupil Name]])","v":""},{"$f":"IF(Table1[[#This Row],[Gender (M/F)]]=\"\",\"\",Table1[[#This Row],[Gender (M/F)]])","v":""},{"$f":"IF(Table1[[#This Row],[DisAdv (Y/N)]]=\"\",\"\",Table1[[#This Row],[DisAdv (Y/N)]])","v":""},{"$f":"IF(Table1[[#This Row],[SEND (E,K,N)]]=\"\",\"\",Table1[[#This Row],[SEND (E,K,N)]])","v":""},"",{"$f":"IF(LEN(Table2[[#This Row],[Pupil Name]])>0,1,0)","v":0}]
[{"$f":"IF(Table1[[#This Row],[School/Group Name]]=\"\",\"\",Table1[[#This Row],[School/Group Name]])","v":""},{"$f":"IF(Table1[[#This Row],[Pupil Name]]=\"\",\"\",Table1[[#This Row],[Pupil Name]])","v":""},{"$f":"IF(Table1[[#This Row],[Gender (M/F)]]=\"\",\"\",Table1[[#This Row],[Gender (M/F)]])","v":""},{"$f":"IF(Table1[[#This Row],[DisAdv (Y/N)]]=\"\",\"\",Table1[[#This Row],[DisAdv (Y/N)]])","v":""},{"$f":"IF(Table1[[#This Row],[SEND (E,K,N)]]=\"\",\"\",Table1[[#This Row],[SEND (E,K,N)]])","v":""},"",{"$f":"IF(LEN(Table2[[#This Row],[Pupil Name]])>0,1,0)","v":0}]
[{"$f":"IF(Table1[[#This Row],[School/Group Name]]=\"\",\"\",Table1[[#This Row],[School/Group Name]])","v":""},{"$f":"IF(Table1[[#This Row],[Pupil Name]]=\"\",\"\",Table1[[#This Row],[Pupil Name]])","v":""},{"$f":"IF(Table1[[#This Row],[Gender (M/F)]]=\"\",\"\",Table1[[#This Row],[Gender (M/F)]])","v":""},{"$f":"IF(Table1[[#This Row],[DisAdv (Y/N)]]=\"\",\"\",Table1[[#This Row],[DisAdv (Y/N)]])","v":""},{"$f":"IF(Table1[[#This Row],[SEND (E,K,N)]]=\"\",\"\",Table1[[#This Row],[SEND (E,K,N)]])","v":""},"",{"$f":"IF(LEN(Table2[[#This Row],[Pupil Name]])>0,1,0)","v":0}]
[{"$f":"IF(Table1[[#This Row],[School/Group Name]]=\"\",\"\",Table1[[#This Row],[School/Group Name]])","v":""},{"$f":"IF(Table1[[#This Row],[Pupil Name]]=\"\",\"\",Table1[[#This Row],[Pupil Name]])","v":""},{"$f":"IF(Table1[[#This Row],[Gender (M/F)]]=\"\",\"\",Table1[[#This Row],[Gender (M/F)]])","v":""},{"$f":"IF(Table1[[#This Row],[DisAdv (Y/N)]]=\"\",\"\",Table1[[#This Row],[DisAdv (Y/N)]])","v":""},{"$f":"IF(Table1[[#This Row],[SEND (E,K,N)]]=\"\",\"\",Table1[[#This Row],[SEND (E,K,N)]])","v":""},"",{"$f":"IF(LEN(Table2[[#This Row],[Pupil Name]])>0,1,0)","v":0}]
[{"$f":"IF(Table1[[#This Row],[School/Group Name]]=\"\",\"\",Table1[[#This Row],[School/Group Name]])","v":""},{"$f":"IF(Table1[[#This Row],[Pupil Name]]=\"\",\"\",Table1[[#This Row],[Pupil Name]])","v":""},{"$f":"IF(Table1[[#This Row],[Gender (M/F)]]=\"\",\"\",Table1[[#This Row],[Gender (M/F)]])","v":""},{"$f":"IF(Table1[[#This Row],[DisAdv (Y/N)]]=\"\",\"\",Table1[[#This Row],[DisAdv (Y/N)]])","v":""},{"$f":"IF(Table1[[#This Row],[SEND (E,K,N)]]=\"\",\"\",Table1[[#This Row],[SEND (E,K,N)]])","v":""},"",{"$f":"IF(LEN(Table2[[#This Row],[Pupil Name]])>0,1,0)","v":0}]
[{"$f":"IF(Table1[[#This Row],[School/Group Name]]=\"\",\"\",Table1[[#This Row],[School/Group Name]])","v":""},{"$f":"IF(Table1[[#This Row],[Pupil Name]]=\"\",\"\",Table1[[#This Row],[Pupil Name]])","v":""},{"$f":"IF(Table1[[#This Row],[Gender (M/F)]]=\"\",\"\",Table1[[#This Row],[Gender (M/F)]])","v":""},{"$f":"IF(Table1[[#This Row],[DisAdv (Y/N)]]=\"\",\"\",Table1[[#This Row],[DisAdv (Y/N)]])","v":""},{"$f":"IF(Table1[[#This Row],[SEND (E,K,N)]]=\"\",\"\",Table1[[#This Row],[SEND (E,K,N)]])","v":""},"",{"$f":"IF(LEN(Table2[[#This Row],[Pupil Name]])>0,1,0)","v":0}]
[{"$f":"IF(Table1[[#This Row],[School/Group Name]]=\"\",\"\",Table1[[#This Row],[School/Group Name]])","v":""},{"$f":"IF(Table1[[#This Row],[Pupil Name]]=\"\",\"\",Table1[[#This Row],[Pupil Name]])","v":""},{"$f":"IF(Table1[[#This Row],[Gender (M/F)]]=\"\",\"\",Table1[[#This Row],[Gender (M/F)]])","v":""},{"$f":"IF(Table1[[#This Row],[DisAdv (Y/N)]]=\"\",\"\",Table1[[#This Row],[DisAdv (Y/N)]])","v":""},{"$f":"IF(Table1[[#This Row],[SEND (E,K,N)]]=\"\",\"\",Table1[[#This Row],[SEND (E,K,N)]])","v":""},"",{"$f":"IF(LEN(Table2[[#This Row],[Pupil Name]])>0,1,0)","v":0}]
[{"$f":"IF(Table1[[#This Row],[School/Group Name]]=\"\",\"\",Table1[[#This Row],[School/Group Name]])","v":""},{"$f":"IF(Table1[[#This Row],[Pupil Name]]=\"\",\"\",Table1[[#This Row],[Pupil Name]])","v":""},{"$f":"IF(Table1[[#This Row],[Gender (M/F)]]=\"\",\"\",Table1[[#This Row],[Gender (M/F)]])","v":""},{"$f":"IF(Table1[[#This Row],[DisAdv (Y/N)]]=\"\",\"\",Table1[[#This Row],[DisAdv (Y/N)]])","v":""},{"$f":"IF(Table1[[#This Row],[SEND (E,K,N)]]=\"\",\"\",Table1[[#This Row],[SEND (E,K,N)]])","v":""},"",{"$f":"IF(LEN(Table2[[#This Row],[Pupil Name]])>0,1,0)","v":0}]
[{"$f":"IF(Table1[[#This Row],[School/Group Name]]=\"\",\"\",Table1[[#This Row],[School/Group Name]])","v":""},{"$f":"IF(Table1[[#This Row],[Pupil Name]]=\"\",\"\",Table1[[#This Row],[Pupil Name]])","v":""},{"$f":"IF(Table1[[#This Row],[Gender (M/F)]]=\"\",\"\",Table1[[#This Row],[Gender (M/F)]])","v":""},{"$f":"IF(Table1[[#This Row],[DisAdv (Y/N)]]=\"\",\"\",Table1[[#This Row],[DisAdv (Y/N)]])","v":""},{"$f":"IF(Table1[[#This Row],[SEND (E,K,N)]]=\"\",\"\",Table1[[#This Row],[SEND (E,K,N)]])","v":""},"",{"$f":"IF(LEN(Table2[[#This Row],[Pupil Name]])>0,1,0)","v":0}]
[{"$f":"IF(Table1[[#This Row],[School/Group Name]]=\"\",\"\",Table1[[#This Row],[School/Group Name]])","v":""},{"$f":"IF(Table1[[#This Row],[Pupil Name]]=\"\",\"\",Table1[[#This Row],[Pupil Name]])","v":""},{"$f":"IF(Table1[[#This Row],[Gender (M/F)]]=\"\",\"\",Table1[[#This Row],[Gender (M/F)]])","v":""},{"$f":"IF(Table1[[#This Row],[DisAdv (Y/N)]]=\"\",\"\",Table1[[#This Row],[DisAdv (Y/N)]])","v":""},{"$f":"IF(Table1[[#This Row],[SEND (E,K,N)]]=\"\",\"\",Table1[[#This Row],[SEND (E,K,N)]])","v":""},"",{"$f":"IF(LEN(Table2[[#This Row],[Pupil Name]])>0,1,0)","v":0}]
[{"$f":"IF(Table1[[#This Row],[School/Group Name]]=\"\",\"\",Table1[[#This Row],[School/Group Name]])","v":""},{"$f":"IF(Table1[[#This Row],[Pupil Name]]=\"\",\"\",Table1[[#This Row],[Pupil Name]])","v":""},{"$f":"IF(Table1[[#This Row],[Gender (M/F)]]=\"\",\"\",Table1[[#This Row],[Gender (M/F)]])","v":""},{"$f":"IF(Table1[[#This Row],[DisAdv (Y/N)]]=\"\",\"\",Table1[[#This Row],[DisAdv (Y/N)]])","v":""},{"$f":"IF(Table1[[#This Row],[SEND (E,K,N)]]=\"\",\"\",Table1[[#This Row],[SEND (E,K,N)]])","v":""},"",{"$f":"IF(LEN(Table2[[#This Row],[Pupil Name]])>0,1,0)","v":0}]
[{"$f":"IF(Table1[[#This Row],[School/Group Name]]=\"\",\"\",Table1[[#This Row],[School/Group Name]])","v":""},{"$f":"IF(Table1[[#This Row],[Pupil Name]]=\"\",\"\",Table1[[#This Row],[Pupil Name]])","v":""},{"$f":"IF(Table1[[#This Row],[Gender (M/F)]]=\"\",\"\",Table1[[#This Row],[Gender (M/F)]])","v":""},{"$f":"IF(Table1[[#This Row],[DisAdv (Y/N)]]=\"\",\"\",Table1[[#This Row],[DisAdv (Y/N)]])","v":""},{"$f":"IF(Table1[[#This Row],[SEND (E,K,N)]]=\"\",\"\",Table1[[#This Row],[SEND (E,K,N)]])","v":""},"",{"$f":"IF(LEN(Table2[[#This Row],[Pupil Name]])>0,1,0)","v":0}]
[{"$f":"IF(Table1[[#This Row],[School/Group Name]]=\"\",\"\",Table1[[#This Row],[School/Group Name]])","v":""},{"$f":"IF(Table1[[#This Row],[Pupil Name]]=\"\",\"\",Table1[[#This Row],[Pupil Name]])","v":""},{"$f":"IF(Table1[[#This Row],[Gender (M/F)]]=\"\",\"\",Table1[[#This Row],[Gender (M/F)]])","v":""},{"$f":"IF(Table1[[#This Row],[DisAdv (Y/N)]]=\"\",\"\",Table1[[#This Row],[DisAdv (Y/N)]])","v":""},{"$f":"IF(Table1[[#This Row],[SEND (E,K,N)]]=\"\",\"\",Table1[[#This Row],[SEND (E,K,N)]])","v":""},"",{"$f":"IF(LEN(Table2[[#This Row],[Pupil Name]])>0,1,0)","v":0}]
[{"$f":"IF(Table1[[#This Row],[School/Group Name]]=\"\",\"\",Table1[[#This Row],[School/Group Name]])","v":""},{"$f":"IF(Table1[[#This Row],[Pupil Name]]=\"\",\"\",Table1[[#This Row],[Pupil Name]])","v":""},{"$f":"IF(Table1[[#This Row],[Gender (M/F)]]=\"\",\"\",Table1[[#This Row],[Gender (M/F)]])","v":""},{"$f":"IF(Table1[[#This Row],[DisAdv (Y/N)]]=\"\",\"\",Table1[[#This Row],[DisAdv (Y/N)]])","v":""},{"$f":"IF(Table1[[#This Row],[SEND (E,K,N)]]=\"\",\"\",Table1[[#This Row],[SEND (E,K,N)]])","v":""},"",{"$f":"IF(LEN(Table2[[#This Row],[Pupil Name]])>0,1,0)","v":0}]
[{"$f":"IF(Table1[[#This Row],[School/Group Name]]=\"\",\"\",Table1[[#This Row],[School/Group Name]])","v":""},{"$f":"IF(Table1[[#This Row],[Pupil Name]]=\"\",\"\",Table1[[#This Row],[Pupil Name]])","v":""},{"$f":"IF(Table1[[#This Row],[Gender (M/F)]]=\"\",\"\",Table1[[#This Row],[Gender (M/F)]])","v":""},{"$f":"IF(Table1[[#This Row],[DisAdv (Y/N)]]=\"\",\"\",Table1[[#This Row],[DisAdv (Y/N)]])","v":""},{"$f":"IF(Table1[[#This Row],[SEND (E,K,N)]]=\"\",\"\",Table1[[#This Row],[SEND (E,K,N)]])","v":""},"",{"$f":"IF(LEN(Table2[[#This Row],[Pupil Name]])>0,1,0)","v":0}]
[{"$f":"IF(Table1[[#This Row],[School/Group Name]]=\"\",\"\",Table1[[#This Row],[School/Group Name]])","v":""},{"$f":"IF(Table1[[#This Row],[Pupil Name]]=\"\",\"\",Table1[[#This Row],[Pupil Name]])","v":""},{"$f":"IF(Table1[[#This Row],[Gender (M/F)]]=\"\",\"\",Table1[[#This Row],[Gender (M/F)]])","v":""},{"$f":"IF(Table1[[#This Row],[DisAdv (Y/N)]]=\"\",\"\",Table1[[#This Row],[DisAdv (Y/N)]])","v":""},{"$f":"IF(Table1[[#This Row],[SEND (E,K,N)]]=\"\",\"\",Table1[[#This Row],[SEND (E,K,N)]])","v":""},"",{"$f":"IF(LEN(Table2[[#This Row],[Pupil Name]])>0,1,0)","v":0}]
[{"$f":"IF(Table1[[#This Row],[School/Group Name]]=\"\",\"\",Table1[[#This Row],[School/Group Name]])","v":""},{"$f":"IF(Table1[[#This Row],[Pupil Name]]=\"\",\"\",Table1[[#This Row],[Pupil Name]])","v":""},{"$f":"IF(Table1[[#This Row],[Gender (M/F)]]=\"\",\"\",Table1[[#This Row],[Gender (M/F)]])","v":""},{"$f":"IF(Table1[[#This Row],[DisAdv (Y/N)]]=\"\",\"\",Table1[[#This Row],[DisAdv (Y/N)]])","v":""},{"$f":"IF(Table1[[#This Row],[SEND (E,K,N)]]=\"\",\"\",Table1[[#This Row],[SEND (E,K,N)]])","v":""},"",{"$f":"IF(LEN(Table2[[#This Row],[Pupil Name]])>0,1,0)","v":0}]
[{"$f":"IF(Table1[[#This Row],[School/Group Name]]=\"\",\"\",Table1[[#This Row],[School/Group Name]])","v":""},{"$f":"IF(Table1[[#This Row],[Pupil Name]]=\"\",\"\",Table1[[#This Row],[Pupil Name]])","v":""},{"$f":"IF(Table1[[#This Row],[Gender (M/F)]]=\"\",\"\",Table1[[#This Row],[Gender (M/F)]])","v":""},{"$f":"IF(Table1[[#This Row],[DisAdv (Y/N)]]=\"\",\"\",Table1[[#This Row],[DisAdv (Y/N)]])","v":""},{"$f":"IF(Table1[[#This Row],[SEND (E,K,N)]]=\"\",\"\",Table1[[#This Row],[SEND (E,K,N)]])","v":""},"",{"$f":"IF(LEN(Table2[[#This Row],[Pupil Name]])>0,1,0)","v":0}]
[{"$f":"IF(Table1[[#This Row],[School/Group Name]]=\"\",\"\",Table1[[#This Row],[School/Group Name]])","v":""},{"$f":"IF(Table1[[#This Row],[Pupil Name]]=\"\",\"\",Table1[[#This Row],[Pupil Name]])","v":""},{"$f":"IF(Table1[[#This Row],[Gender (M/F)]]=\"\",\"\",Table1[[#This Row],[Gender (M/F)]])","v":""},{"$f":"IF(Table1[[#This Row],[DisAdv (Y/N)]]=\"\",\"\",Table1[[#This Row],[DisAdv (Y/N)]])","v":""},{"$f":"IF(Table1[[#This Row],[SEND (E,K,N)]]=\"\",\"\",Table1[[#This Row],[SEND (E,K,N)]])","v":""},"",{"$f":"IF(LEN(Table2[[#This Row],[Pupil Name]])>0,1,0)","v":0}]
[{"$f":"IF(Table1[[#This Row],[School/Group Name]]=\"\",\"\",Table1[[#This Row],[School/Group Name]])","v":""},{"$f":"IF(Table1[[#This Row],[Pupil Name]]=\"\",\"\",Table1[[#This Row],[Pupil Name]])","v":""},{"$f":"IF(Table1[[#This Row],[Gender (M/F)]]=\"\",\"\",Table1[[#This Row],[Gender (M/F)]])","v":""},{"$f":"IF(Table1[[#This Row],[DisAdv (Y/N)]]=\"\",\"\",Table1[[#This Row],[DisAdv (Y/N)]])","v":""},{"$f":"IF(Table1[[#This Row],[SEND (E,K,N)]]=\"\",\"\",Table1[[#This Row],[SEND (E,K,N)]])","v":""},"",{"$f":"IF(LEN(Table2[[#This Row],[Pupil Name]])>0,1,0)","v":0}]
[{"$f":"IF(Table1[[#This Row],[School/Group Name]]=\"\",\"\",Table1[[#This Row],[School/Group Name]])","v":""},{"$f":"IF(Table1[[#This Row],[Pupil Name]]=\"\",\"\",Table1[[#This Row],[Pupil Name]])","v":""},{"$f":"IF(Table1[[#This Row],[Gender (M/F)]]=\"\",\"\",Table1[[#This Row],[Gender (M/F)]])","v":""},{"$f":"IF(Table1[[#This Row],[DisAdv (Y/N)]]=\"\",\"\",Table1[[#This Row],[DisAdv (Y/N)]])","v":""},{"$f":"IF(Table1[[#This Row],[SEND (E,K,N)]]=\"\",\"\",Table1[[#This Row],[SEND (E,K,N)]])","v":""},{"$f":"IF(H263=\"\",\"\",(SUM(H263:AG263)))","v":""},{"$f":"IF(LEN(Table2[[#This Row],[Pupil Name]])>0,1,0)","v":0}]
[{"$f":"IF(Table1[[#This Row],[School/Group Name]]=\"\",\"\",Table1[[#This Row],[School/Group Name]])","v":""},{"$f":"IF(Table1[[#This Row],[Pupil Name]]=\"\",\"\",Table1[[#This Row],[Pupil Name]])","v":""},{"$f":"IF(Table1[[#This Row],[Gender (M/F)]]=\"\",\"\",Table1[[#This Row],[Gender (M/F)]])","v":""},{"$f":"IF(Table1[[#This Row],[DisAdv (Y/N)]]=\"\",\"\",Table1[[#This Row],[DisAdv (Y/N)]])","v":""},{"$f":"IF(Table1[[#This Row],[SEND (E,K,N)]]=\"\",\"\",Table1[[#This Row],[SEND (E,K,N)]])","v":""},"",{"$f":"IF(LEN(Table2[[#This Row],[Pupil Name]])>0,1,0)","v":0}]
[{"$f":"IF(Table1[[#This Row],[School/Group Name]]=\"\",\"\",Table1[[#This Row],[School/Group Name]])","v":""},{"$f":"IF(Table1[[#This Row],[Pupil Name]]=\"\",\"\",Table1[[#This Row],[Pupil Name]])","v":""},{"$f":"IF(Table1[[#This Row],[Gender (M/F)]]=\"\",\"\",Table1[[#This Row],[Gender (M/F)]])","v":""},{"$f":"IF(Table1[[#This Row],[DisAdv (Y/N)]]=\"\",\"\",Table1[[#This Row],[DisAdv (Y/N)]])","v":""},{"$f":"IF(Table1[[#This Row],[SEND (E,K,N)]]=\"\",\"\",Table1[[#This Row],[SEND (E,K,N)]])","v":""},"",{"$f":"IF(LEN(Table2[[#This Row],[Pupil Name]])>0,1,0)","v":0}]
[{"$f":"IF(Table1[[#This Row],[School/Group Name]]=\"\",\"\",Table1[[#This Row],[School/Group Name]])","v":""},{"$f":"IF(Table1[[#This Row],[Pupil Name]]=\"\",\"\",Table1[[#This Row],[Pupil Name]])","v":""},{"$f":"IF(Table1[[#This Row],[Gender (M/F)]]=\"\",\"\",Table1[[#This Row],[Gender (M/F)]])","v":""},{"$f":"IF(Table1[[#This Row],[DisAdv (Y/N)]]=\"\",\"\",Table1[[#This Row],[DisAdv (Y/N)]])","v":""},{"$f":"IF(Table1[[#This Row],[SEND (E,K,N)]]=\"\",\"\",Table1[[#This Row],[SEND (E,K,N)]])","v":""},"",{"$f":"IF(LEN(Table2[[#This Row],[Pupil Name]])>0,1,0)","v":0}]
[{"$f":"IF(Table1[[#This Row],[School/Group Name]]=\"\",\"\",Table1[[#This Row],[School/Group Name]])","v":""},{"$f":"IF(Table1[[#This Row],[Pupil Name]]=\"\",\"\",Table1[[#This Row],[Pupil Name]])","v":""},{"$f":"IF(Table1[[#This Row],[Gender (M/F)]]=\"\",\"\",Table1[[#This Row],[Gender (M/F)]])","v":""},{"$f":"IF(Table1[[#This Row],[DisAdv (Y/N)]]=\"\",\"\",Table1[[#This Row],[DisAdv (Y/N)]])","v":""},{"$f":"IF(Table1[[#This Row],[SEND (E,K,N)]]=\"\",\"\",Table1[[#This Row],[SEND (E,K,N)]])","v":""},"",{"$f":"IF(LEN(Table2[[#This Row],[Pupil Name]])>0,1,0)","v":0}]
[{"$f":"IF(Table1[[#This Row],[School/Group Name]]=\"\",\"\",Table1[[#This Row],[School/Group Name]])","v":""},{"$f":"IF(Table1[[#This Row],[Pupil Name]]=\"\",\"\",Table1[[#This Row],[Pupil Name]])","v":""},{"$f":"IF(Table1[[#This Row],[Gender (M/F)]]=\"\",\"\",Table1[[#This Row],[Gender (M/F)]])","v":""},{"$f":"IF(Table1[[#This Row],[DisAdv (Y/N)]]=\"\",\"\",Table1[[#This Row],[DisAdv (Y/N)]])","v":""},{"$f":"IF(Table1[[#This Row],[SEND (E,K,N)]]=\"\",\"\",Table1[[#This Row],[SEND (E,K,N)]])","v":""},"",{"$f":"IF(LEN(Table2[[#This Row],[Pupil Name]])>0,1,0)","v":0}]
[{"$f":"IF(Table1[[#This Row],[School/Group Name]]=\"\",\"\",Table1[[#This Row],[School/Group Name]])","v":""},{"$f":"IF(Table1[[#This Row],[Pupil Name]]=\"\",\"\",Table1[[#This Row],[Pupil Name]])","v":""},{"$f":"IF(Table1[[#This Row],[Gender (M/F)]]=\"\",\"\",Table1[[#This Row],[Gender (M/F)]])","v":""},{"$f":"IF(Table1[[#This Row],[DisAdv (Y/N)]]=\"\",\"\",Table1[[#This Row],[DisAdv (Y/N)]])","v":""},{"$f":"IF(Table1[[#This Row],[SEND (E,K,N)]]=\"\",\"\",Table1[[#This Row],[SEND (E,K,N)]])","v":""},"",{"$f":"IF(LEN(Table2[[#This Row],[Pupil Name]])>0,1,0)","v":0}]
[{"$f":"IF(Table1[[#This Row],[School/Group Name]]=\"\",\"\",Table1[[#This Row],[School/Group Name]])","v":""},{"$f":"IF(Table1[[#This Row],[Pupil Name]]=\"\",\"\",Table1[[#This Row],[Pupil Name]])","v":""},{"$f":"IF(Table1[[#This Row],[Gender (M/F)]]=\"\",\"\",Table1[[#This Row],[Gender (M/F)]])","v":""},{"$f":"IF(Table1[[#This Row],[DisAdv (Y/N)]]=\"\",\"\",Table1[[#This Row],[DisAdv (Y/N)]])","v":""},{"$f":"IF(Table1[[#This Row],[SEND (E,K,N)]]=\"\",\"\",Table1[[#This Row],[SEND (E,K,N)]])","v":""},"",{"$f":"IF(LEN(Table2[[#This Row],[Pupil Name]])>0,1,0)","v":0}]
[{"$f":"IF(Table1[[#This Row],[School/Group Name]]=\"\",\"\",Table1[[#This Row],[School/Group Name]])","v":""},{"$f":"IF(Table1[[#This Row],[Pupil Name]]=\"\",\"\",Table1[[#This Row],[Pupil Name]])","v":""},{"$f":"IF(Table1[[#This Row],[Gender (M/F)]]=\"\",\"\",Table1[[#This Row],[Gender (M/F)]])","v":""},{"$f":"IF(Table1[[#This Row],[DisAdv (Y/N)]]=\"\",\"\",Table1[[#This Row],[DisAdv (Y/N)]])","v":""},{"$f":"IF(Table1[[#This Row],[SEND (E,K,N)]]=\"\",\"\",Table1[[#This Row],[SEND (E,K,N)]])","v":""},"",{"$f":"IF(LEN(Table2[[#This Row],[Pupil Name]])>0,1,0)","v":0}]
[{"$f":"IF(Table1[[#This Row],[School/Group Name]]=\"\",\"\",Table1[[#This Row],[School/Group Name]])","v":""},{"$f":"IF(Table1[[#This Row],[Pupil Name]]=\"\",\"\",Table1[[#This Row],[Pupil Name]])","v":""},{"$f":"IF(Table1[[#This Row],[Gender (M/F)]]=\"\",\"\",Table1[[#This Row],[Gender (M/F)]])","v":""},{"$f":"IF(Table1[[#This Row],[DisAdv (Y/N)]]=\"\",\"\",Table1[[#This Row],[DisAdv (Y/N)]])","v":""},{"$f":"IF(Table1[[#This Row],[SEND (E,K,N)]]=\"\",\"\",Table1[[#This Row],[SEND (E,K,N)]])","v":""},"",{"$f":"IF(LEN(Table2[[#This Row],[Pupil Name]])>0,1,0)","v":0}]
[{"$f":"IF(Table1[[#This Row],[School/Group Name]]=\"\",\"\",Table1[[#This Row],[School/Group Name]])","v":""},{"$f":"IF(Table1[[#This Row],[Pupil Name]]=\"\",\"\",Table1[[#This Row],[Pupil Name]])","v":""},{"$f":"IF(Table1[[#This Row],[Gender (M/F)]]=\"\",\"\",Table1[[#This Row],[Gender (M/F)]])","v":""},{"$f":"IF(Table1[[#This Row],[DisAdv (Y/N)]]=\"\",\"\",Table1[[#This Row],[DisAdv (Y/N)]])","v":""},{"$f":"IF(Table1[[#This Row],[SEND (E,K,N)]]=\"\",\"\",Table1[[#This Row],[SEND (E,K,N)]])","v":""},"",{"$f":"IF(LEN(Table2[[#This Row],[Pupil Name]])>0,1,0)","v":0}]
[{"$f":"IF(Table1[[#This Row],[School/Group Name]]=\"\",\"\",Table1[[#This Row],[School/Group Name]])","v":""},{"$f":"IF(Table1[[#This Row],[Pupil Name]]=\"\",\"\",Table1[[#This Row],[Pupil Name]])","v":""},{"$f":"IF(Table1[[#This Row],[Gender (M/F)]]=\"\",\"\",Table1[[#This Row],[Gender (M/F)]])","v":""},{"$f":"IF(Table1[[#This Row],[DisAdv (Y/N)]]=\"\",\"\",Table1[[#This Row],[DisAdv (Y/N)]])","v":""},{"$f":"IF(Table1[[#This Row],[SEND (E,K,N)]]=\"\",\"\",Table1[[#This Row],[SEND (E,K,N)]])","v":""},"",{"$f":"IF(LEN(Table2[[#This Row],[Pupil Name]])>0,1,0)","v":0}]
[{"$f":"IF(Table1[[#This Row],[School/Group Name]]=\"\",\"\",Table1[[#This Row],[School/Group Name]])","v":""},{"$f":"IF(Table1[[#This Row],[Pupil Name]]=\"\",\"\",Table1[[#This Row],[Pupil Name]])","v":""},{"$f":"IF(Table1[[#This Row],[Gender (M/F)]]=\"\",\"\",Table1[[#This Row],[Gender (M/F)]])","v":""},{"$f":"IF(Table1[[#This Row],[DisAdv (Y/N)]]=\"\",\"\",Table1[[#This Row],[DisAdv (Y/N)]])","v":""},{"$f":"IF(Table1[[#This Row],[SEND (E,K,N)]]=\"\",\"\",Table1[[#This Row],[SEND (E,K,N)]])","v":""},"",{"$f":"IF(LEN(Table2[[#This Row],[Pupil Name]])>0,1,0)","v":0}]
[{"$f":"IF(Table1[[#This Row],[School/Group Name]]=\"\",\"\",Table1[[#This Row],[School/Group Name]])","v":""},{"$f":"IF(Table1[[#This Row],[Pupil Name]]=\"\",\"\",Table1[[#This Row],[Pupil Name]])","v":""},{"$f":"IF(Table1[[#This Row],[Gender (M/F)]]=\"\",\"\",Table1[[#This Row],[Gender (M/F)]])","v":""},{"$f":"IF(Table1[[#This Row],[DisAdv (Y/N)]]=\"\",\"\",Table1[[#This Row],[DisAdv (Y/N)]])","v":""},{"$f":"IF(Table1[[#This Row],[SEND (E,K,N)]]=\"\",\"\",Table1[[#This Row],[SEND (E,K,N)]])","v":""},"",{"$f":"IF(LEN(Table2[[#This Row],[Pupil Name]])>0,1,0)","v":0}]
[{"$f":"IF(Table1[[#This Row],[School/Group Name]]=\"\",\"\",Table1[[#This Row],[School/Group Name]])","v":""},{"$f":"IF(Table1[[#This Row],[Pupil Name]]=\"\",\"\",Table1[[#This Row],[Pupil Name]])","v":""},{"$f":"IF(Table1[[#This Row],[Gender (M/F)]]=\"\",\"\",Table1[[#This Row],[Gender (M/F)]])","v":""},{"$f":"IF(Table1[[#This Row],[DisAdv (Y/N)]]=\"\",\"\",Table1[[#This Row],[DisAdv (Y/N)]])","v":""},{"$f":"IF(Table1[[#This Row],[SEND (E,K,N)]]=\"\",\"\",Table1[[#This Row],[SEND (E,K,N)]])","v":""},"",{"$f":"IF(LEN(Table2[[#This Row],[Pupil Name]])>0,1,0)","v":0}]
[{"$f":"IF(Table1[[#This Row],[School/Group Name]]=\"\",\"\",Table1[[#This Row],[School/Group Name]])","v":""},{"$f":"IF(Table1[[#This Row],[Pupil Name]]=\"\",\"\",Table1[[#This Row],[Pupil Name]])","v":""},{"$f":"IF(Table1[[#This Row],[Gender (M/F)]]=\"\",\"\",Table1[[#This Row],[Gender (M/F)]])","v":""},{"$f":"IF(Table1[[#This Row],[DisAdv (Y/N)]]=\"\",\"\",Table1[[#This Row],[DisAdv (Y/N)]])","v":""},{"$f":"IF(Table1[[#This Row],[SEND (E,K,N)]]=\"\",\"\",Table1[[#This Row],[SEND (E,K,N)]])","v":""},"",{"$f":"IF(LEN(Table2[[#This Row],[Pupil Name]])>0,1,0)","v":0}]
[{"$f":"IF(Table1[[#This Row],[School/Group Name]]=\"\",\"\",Table1[[#This Row],[School/Group Name]])","v":""},{"$f":"IF(Table1[[#This Row],[Pupil Name]]=\"\",\"\",Table1[[#This Row],[Pupil Name]])","v":""},{"$f":"IF(Table1[[#This Row],[Gender (M/F)]]=\"\",\"\",Table1[[#This Row],[Gender (M/F)]])","v":""},{"$f":"IF(Table1[[#This Row],[DisAdv (Y/N)]]=\"\",\"\",Table1[[#This Row],[DisAdv (Y/N)]])","v":""},{"$f":"IF(Table1[[#This Row],[SEND (E,K,N)]]=\"\",\"\",Table1[[#This Row],[SEND (E,K,N)]])","v":""},"",{"$f":"IF(LEN(Table2[[#This Row],[Pupil Name]])>0,1,0)","v":0}]
[{"$f":"IF(Table1[[#This Row],[School/Group Name]]=\"\",\"\",Table1[[#This Row],[School/Group Name]])","v":""},{"$f":"IF(Table1[[#This Row],[Pupil Name]]=\"\",\"\",Table1[[#This Row],[Pupil Name]])","v":""},{"$f":"IF(Table1[[#This Row],[Gender (M/F)]]=\"\",\"\",Table1[[#This Row],[Gender (M/F)]])","v":""},{"$f":"IF(Table1[[#This Row],[DisAdv (Y/N)]]=\"\",\"\",Table1[[#This Row],[DisAdv (Y/N)]])","v":""},{"$f":"IF(Table1[[#This Row],[SEND (E,K,N)]]=\"\",\"\",Table1[[#This Row],[SEND (E,K,N)]])","v":""},"",{"$f":"IF(LEN(Table2[[#This Row],[Pupil Name]])>0,1,0)","v":0}]
[{"$f":"IF(Table1[[#This Row],[School/Group Name]]=\"\",\"\",Table1[[#This Row],[School/Group Name]])","v":""},{"$f":"IF(Table1[[#This Row],[Pupil Name]]=\"\",\"\",Table1[[#This Row],[Pupil Name]])","v":""},{"$f":"IF(Table1[[#This Row],[Gender (M/F)]]=\"\",\"\",Table1[[#This Row],[Gender (M/F)]])","v":""},{"$f":"IF(Table1[[#This Row],[DisAdv (Y/N)]]=\"\",\"\",Table1[[#This Row],[DisAdv (Y/N)]])","v":""},{"$f":"IF(Table1[[#This Row],[SEND (E,K,N)]]=\"\",\"\",Table1[[#This Row],[SEND (E,K,N)]])","v":""},"",{"$f":"IF(LEN(Table2[[#This Row],[Pupil Name]])>0,1,0)","v":0}]
[{"$f":"IF(Table1[[#This Row],[School/Group Name]]=\"\",\"\",Table1[[#This Row],[School/Group Name]])","v":""},{"$f":"IF(Table1[[#This Row],[Pupil Name]]=\"\",\"\",Table1[[#This Row],[Pupil Name]])","v":""},{"$f":"IF(Table1[[#This Row],[Gender (M/F)]]=\"\",\"\",Table1[[#This Row],[Gender (M/F)]])","v":""},{"$f":"IF(Table1[[#This Row],[DisAdv (Y/N)]]=\"\",\"\",Table1[[#This Row],[DisAdv (Y/N)]])","v":""},{"$f":"IF(Table1[[#This Row],[SEND (E,K,N)]]=\"\",\"\",Table1[[#This Row],[SEND (E,K,N)]])","v":""},"",{"$f":"IF(LEN(Table2[[#This Row],[Pupil Name]])>0,1,0)","v":0}]
[{"$f":"IF(Table1[[#This Row],[School/Group Name]]=\"\",\"\",Table1[[#This Row],[School/Group Name]])","v":""},{"$f":"IF(Table1[[#This Row],[Pupil Name]]=\"\",\"\",Table1[[#This Row],[Pupil Name]])","v":""},{"$f":"IF(Table1[[#This Row],[Gender (M/F)]]=\"\",\"\",Table1[[#This Row],[Gender (M/F)]])","v":""},{"$f":"IF(Table1[[#This Row],[DisAdv (Y/N)]]=\"\",\"\",Table1[[#This Row],[DisAdv (Y/N)]])","v":""},{"$f":"IF(Table1[[#This Row],[SEND (E,K,N)]]=\"\",\"\",Table1[[#This Row],[SEND (E,K,N)]])","v":""},"",{"$f":"IF(LEN(Table2[[#This Row],[Pupil Name]])>0,1,0)","v":0}]
[{"$f":"IF(Table1[[#This Row],[School/Group Name]]=\"\",\"\",Table1[[#This Row],[School/Group Name]])","v":""},{"$f":"IF(Table1[[#This Row],[Pupil Name]]=\"\",\"\",Table1[[#This Row],[Pupil Name]])","v":""},{"$f":"IF(Table1[[#This Row],[Gender (M/F)]]=\"\",\"\",Table1[[#This Row],[Gender (M/F)]])","v":""},{"$f":"IF(Table1[[#This Row],[DisAdv (Y/N)]]=\"\",\"\",Table1[[#This Row],[DisAdv (Y/N)]])","v":""},{"$f":"IF(Table1[[#This Row],[SEND (E,K,N)]]=\"\",\"\",Table1[[#This Row],[SEND (E,K,N)]])","v":""},"",{"$f":"IF(LEN(Table2[[#This Row],[Pupil Name]])>0,1,0)","v":0}]
[{"$f":"IF(Table1[[#This Row],[School/Group Name]]=\"\",\"\",Table1[[#This Row],[School/Group Name]])","v":""},{"$f":"IF(Table1[[#This Row],[Pupil Name]]=\"\",\"\",Table1[[#This Row],[Pupil Name]])","v":""},{"$f":"IF(Table1[[#This Row],[Gender (M/F)]]=\"\",\"\",Table1[[#This Row],[Gender (M/F)]])","v":""},{"$f":"IF(Table1[[#This Row],[DisAdv (Y/N)]]=\"\",\"\",Table1[[#This Row],[DisAdv (Y/N)]])","v":""},{"$f":"IF(Table1[[#This Row],[SEND (E,K,N)]]=\"\",\"\",Table1[[#This Row],[SEND (E,K,N)]])","v":""},"",{"$f":"IF(LEN(Table2[[#This Row],[Pupil Name]])>0,1,0)","v":0}]
[{"$f":"IF(Table1[[#This Row],[School/Group Name]]=\"\",\"\",Table1[[#This Row],[School/Group Name]])","v":""},{"$f":"IF(Table1[[#This Row],[Pupil Name]]=\"\",\"\",Table1[[#This Row],[Pupil Name]])","v":""},{"$f":"IF(Table1[[#This Row],[Gender (M/F)]]=\"\",\"\",Table1[[#This Row],[Gender (M/F)]])","v":""},{"$f":"IF(Table1[[#This Row],[DisAdv (Y/N)]]=\"\",\"\",Table1[[#This Row],[DisAdv (Y/N)]])","v":""},{"$f":"IF(Table1[[#This Row],[SEND (E,K,N)]]=\"\",\"\",Table1[[#This Row],[SEND (E,K,N)]])","v":""},"",{"$f":"IF(LEN(Table2[[#This Row],[Pupil Name]])>0,1,0)","v":0}]
[{"$f":"IF(Table1[[#This Row],[School/Group Name]]=\"\",\"\",Table1[[#This Row],[School/Group Name]])","v":""},{"$f":"IF(Table1[[#This Row],[Pupil Name]]=\"\",\"\",Table1[[#This Row],[Pupil Name]])","v":""},{"$f":"IF(Table1[[#This Row],[Gender (M/F)]]=\"\",\"\",Table1[[#This Row],[Gender (M/F)]])","v":""},{"$f":"IF(Table1[[#This Row],[DisAdv (Y/N)]]=\"\",\"\",Table1[[#This Row],[DisAdv (Y/N)]])","v":""},{"$f":"IF(Table1[[#This Row],[SEND (E,K,N)]]=\"\",\"\",Table1[[#This Row],[SEND (E,K,N)]])","v":""},"",{"$f":"IF(LEN(Table2[[#This Row],[Pupil Name]])>0,1,0)","v":0}]
[{"$f":"IF(Table1[[#This Row],[School/Group Name]]=\"\",\"\",Table1[[#This Row],[School/Group Name]])","v":""},{"$f":"IF(Table1[[#This Row],[Pupil Name]]=\"\",\"\",Table1[[#This Row],[Pupil Name]])","v":""},{"$f":"IF(Table1[[#This Row],[Gender (M/F)]]=\"\",\"\",Table1[[#This Row],[Gender (M/F)]])","v":""},{"$f":"IF(Table1[[#This Row],[DisAdv (Y/N)]]=\"\",\"\",Table1[[#This Row],[DisAdv (Y/N)]])","v":""},{"$f":"IF(Table1[[#This Row],[SEND (E,K,N)]]=\"\",\"\",Table1[[#This Row],[SEND (E,K,N)]])","v":""},"",{"$f":"IF(LEN(Table2[[#This Row],[Pupil Name]])>0,1,0)","v":0}]
[{"$f":"IF(Table1[[#This Row],[School/Group Name]]=\"\",\"\",Table1[[#This Row],[School/Group Name]])","v":""},{"$f":"IF(Table1[[#This Row],[Pupil Name]]=\"\",\"\",Table1[[#This Row],[Pupil Name]])","v":""},{"$f":"IF(Table1[[#This Row],[Gender (M/F)]]=\"\",\"\",Table1[[#This Row],[Gender (M/F)]])","v":""},{"$f":"IF(Table1[[#This Row],[DisAdv (Y/N)]]=\"\",\"\",Table1[[#This Row],[DisAdv (Y/N)]])","v":""},{"$f":"IF(Table1[[#This Row],[SEND (E,K,N)]]=\"\",\"\",Table1[[#This Row],[SEND (E,K,N)]])","v":""},"",{"$f":"IF(LEN(Table2[[#This Row],[Pupil Name]])>0,1,0)","v":0}]
[{"$f":"IF(Table1[[#This Row],[School/Group Name]]=\"\",\"\",Table1[[#This Row],[School/Group Name]])","v":""},{"$f":"IF(Table1[[#This Row],[Pupil Name]]=\"\",\"\",Table1[[#This Row],[Pupil Name]])","v":""},{"$f":"IF(Table1[[#This Row],[Gender (M/F)]]=\"\",\"\",Table1[[#This Row],[Gender (M/F)]])","v":""},{"$f":"IF(Table1[[#This Row],[DisAdv (Y/N)]]=\"\",\"\",Table1[[#This Row],[DisAdv (Y/N)]])","v":""},{"$f":"IF(Table1[[#This Row],[SEND (E,K,N)]]=\"\",\"\",Table1[[#This Row],[SEND (E,K,N)]])","v":""},"",{"$f":"IF(LEN(Table2[[#This Row],[Pupil Name]])>0,1,0)","v":0}]
[{"$f":"IF(Table1[[#This Row],[School/Group Name]]=\"\",\"\",Table1[[#This Row],[School/Group Name]])","v":""},{"$f":"IF(Table1[[#This Row],[Pupil Name]]=\"\",\"\",Table1[[#This Row],[Pupil Name]])","v":""},{"$f":"IF(Table1[[#This Row],[Gender (M/F)]]=\"\",\"\",Table1[[#This Row],[Gender (M/F)]])","v":""},{"$f":"IF(Table1[[#This Row],[DisAdv (Y/N)]]=\"\",\"\",Table1[[#This Row],[DisAdv (Y/N)]])","v":""},{"$f":"IF(Table1[[#This Row],[SEND (E,K,N)]]=\"\",\"\",Table1[[#This Row],[SEND (E,K,N)]])","v":""},"",{"$f":"IF(LEN(Table2[[#This Row],[Pupil Name]])>0,1,0)","v":0}]
[{"$f":"IF(Table1[[#This Row],[School/Group Name]]=\"\",\"\",Table1[[#This Row],[School/Group Name]])","v":""},{"$f":"IF(Table1[[#This Row],[Pupil Name]]=\"\",\"\",Table1[[#This Row],[Pupil Name]])","v":""},{"$f":"IF(Table1[[#This Row],[Gender (M/F)]]=\"\",\"\",Table1[[#This Row],[Gender (M/F)]])","v":""},{"$f":"IF(Table1[[#This Row],[DisAdv (Y/N)]]=\"\",\"\",Table1[[#This Row],[DisAdv (Y/N)]])","v":""},{"$f":"IF(Table1[[#This Row],[SEND (E,K,N)]]=\"\",\"\",Table1[[#This Row],[SEND (E,K,N)]])","v":""},"",{"$f":"IF(LEN(Table2[[#This Row],[Pupil Name]])>0,1,0)","v":0}]
[{"$f":"IF(Table1[[#This Row],[School/Group Name]]=\"\",\"\",Table1[[#This Row],[School/Group Name]])","v":""},{"$f":"IF(Table1[[#This Row],[Pupil Name]]=\"\",\"\",Table1[[#This Row],[Pupil Name]])","v":""},{"$f":"IF(Table1[[#This Row],[Gender (M/F)]]=\"\",\"\",Table1[[#This Row],[Gender (M/F)]])","v":""},{"$f":"IF(Table1[[#This Row],[DisAdv (Y/N)]]=\"\",\"\",Table1[[#This Row],[DisAdv (Y/N)]])","v":""},{"$f":"IF(Table1[[#This Row],[SEND (E,K,N)]]=\"\",\"\",Table1[[#This Row],[SEND (E,K,N)]])","v":""},"",{"$f":"IF(LEN(Table2[[#This Row],[Pupil Name]])>0,1,0)","v":0}]
[{"$f":"IF(Table1[[#This Row],[School/Group Name]]=\"\",\"\",Table1[[#This Row],[School/Group Name]])","v":""},{"$f":"IF(Table1[[#This Row],[Pupil Name]]=\"\",\"\",Table1[[#This Row],[Pupil Name]])","v":""},{"$f":"IF(Table1[[#This Row],[Gender (M/F)]]=\"\",\"\",Table1[[#This Row],[Gender (M/F)]])","v":""},{"$f":"IF(Table1[[#This Row],[DisAdv (Y/N)]]=\"\",\"\",Table1[[#This Row],[DisAdv (Y/N)]])","v":""},{"$f":"IF(Table1[[#This Row],[SEND (E,K,N)]]=\"\",\"\",Table1[[#This Row],[SEND (E,K,N)]])","v":""},"",{"$f":"IF(LEN(Table2[[#This Row],[Pupil Name]])>0,1,0)","v":0}]
[{"$f":"IF(Table1[[#This Row],[School/Group Name]]=\"\",\"\",Table1[[#This Row],[School/Group Name]])","v":""},{"$f":"IF(Table1[[#This Row],[Pupil Name]]=\"\",\"\",Table1[[#This Row],[Pupil Name]])","v":""},{"$f":"IF(Table1[[#This Row],[Gender (M/F)]]=\"\",\"\",Table1[[#This Row],[Gender (M/F)]])","v":""},{"$f":"IF(Table1[[#This Row],[DisAdv (Y/N)]]=\"\",\"\",Table1[[#This Row],[DisAdv (Y/N)]])","v":""},{"$f":"IF(Table1[[#This Row],[SEND (E,K,N)]]=\"\",\"\",Table1[[#This Row],[SEND (E,K,N)]])","v":""},"",{"$f":"IF(LEN(Table2[[#This Row],[Pupil Name]])>0,1,0)","v":0}]
[{"$f":"IF(Table1[[#This Row],[School/Group Name]]=\"\",\"\",Table1[[#This Row],[School/Group Name]])","v":""},{"$f":"IF(Table1[[#This Row],[Pupil Name]]=\"\",\"\",Table1[[#This Row],[Pupil Name]])","v":""},{"$f":"IF(Table1[[#This Row],[Gender (M/F)]]=\"\",\"\",Table1[[#This Row],[Gender (M/F)]])","v":""},{"$f":"IF(Table1[[#This Row],[DisAdv (Y/N)]]=\"\",\"\",Table1[[#This Row],[DisAdv (Y/N)]])","v":""},{"$f":"IF(Table1[[#This Row],[SEND (E,K,N)]]=\"\",\"\",Table1[[#This Row],[SEND (E,K,N)]])","v":""},"",{"$f":"IF(LEN(Table2[[#This Row],[Pupil Name]])>0,1,0)","v":0}]
[{"$f":"IF(Table1[[#This Row],[School/Group Name]]=\"\",\"\",Table1[[#This Row],[School/Group Name]])","v":""},{"$f":"IF(Table1[[#This Row],[Pupil Name]]=\"\",\"\",Table1[[#This Row],[Pupil Name]])","v":""},{"$f":"IF(Table1[[#This Row],[Gender (M/F)]]=\"\",\"\",Table1[[#This Row],[Gender (M/F)]])","v":""},{"$f":"IF(Table1[[#This Row],[DisAdv (Y/N)]]=\"\",\"\",Table1[[#This Row],[DisAdv (Y/N)]])","v":""},{"$f":"IF(Table1[[#This Row],[SEND (E,K,N)]]=\"\",\"\",Table1[[#This Row],[SEND (E,K,N)]])","v":""},"",{"$f":"IF(LEN(Table2[[#This Row],[Pupil Name]])>0,1,0)","v":0}]
[{"$f":"IF(Table1[[#This Row],[School/Group Name]]=\"\",\"\",Table1[[#This Row],[School/Group Name]])","v":""},{"$f":"IF(Table1[[#This Row],[Pupil Name]]=\"\",\"\",Table1[[#This Row],[Pupil Name]])","v":""},{"$f":"IF(Table1[[#This Row],[Gender (M/F)]]=\"\",\"\",Table1[[#This Row],[Gender (M/F)]])","v":""},{"$f":"IF(Table1[[#This Row],[DisAdv (Y/N)]]=\"\",\"\",Table1[[#This Row],[DisAdv (Y/N)]])","v":""},{"$f":"IF(Table1[[#This Row],[SEND (E,K,N)]]=\"\",\"\",Table1[[#This Row],[SEND (E,K,N)]])","v":""},"",{"$f":"IF(LEN(Table2[[#This Row],[Pupil Name]])>0,1,0)","v":0}]
[{"$f":"IF(Table1[[#This Row],[School/Group Name]]=\"\",\"\",Table1[[#This Row],[School/Group Name]])","v":""},{"$f":"IF(Table1[[#This Row],[Pupil Name]]=\"\",\"\",Table1[[#This Row],[Pupil Name]])","v":""},{"$f":"IF(Table1[[#This Row],[Gender (M/F)]]=\"\",\"\",Table1[[#This Row],[Gender (M/F)]])","v":""},{"$f":"IF(Table1[[#This Row],[DisAdv (Y/N)]]=\"\",\"\",Table1[[#This Row],[DisAdv (Y/N)]])","v":""},{"$f":"IF(Table1[[#This Row],[SEND (E,K,N)]]=\"\",\"\",Table1[[#This Row],[SEND (E,K,N)]])","v":""},"",{"$f":"IF(LEN(Table2[[#This Row],[Pupil Name]])>0,1,0)","v":0}]
[{"$f":"IF(Table1[[#This Row],[School/Group Name]]=\"\",\"\",Table1[[#This Row],[School/Group Name]])","v":""},{"$f":"IF(Table1[[#This Row],[Pupil Name]]=\"\",\"\",Table1[[#This Row],[Pupil Name]])","v":""},{"$f":"IF(Table1[[#This Row],[Gender (M/F)]]=\"\",\"\",Table1[[#This Row],[Gender (M/F)]])","v":""},{"$f":"IF(Table1[[#This Row],[DisAdv (Y/N)]]=\"\",\"\",Table1[[#This Row],[DisAdv (Y/N)]])","v":""},{"$f":"IF(Table1[[#This Row],[SEND (E,K,N)]]=\"\",\"\",Table1[[#This Row],[SEND (E,K,N)]])","v":""},"",{"$f":"IF(LEN(Table2[[#This Row],[Pupil Name]])>0,1,0)","v":0}]
[{"$f":"IF(Table1[[#This Row],[School/Group Name]]=\"\",\"\",Table1[[#This Row],[School/Group Name]])","v":""},{"$f":"IF(Table1[[#This Row],[Pupil Name]]=\"\",\"\",Table1[[#This Row],[Pupil Name]])","v":""},{"$f":"IF(Table1[[#This Row],[Gender (M/F)]]=\"\",\"\",Table1[[#This Row],[Gender (M/F)]])","v":""},{"$f":"IF(Table1[[#This Row],[DisAdv (Y/N)]]=\"\",\"\",Table1[[#This Row],[DisAdv (Y/N)]])","v":""},{"$f":"IF(Table1[[#This Row],[SEND (E,K,N)]]=\"\",\"\",Table1[[#This Row],[SEND (E,K,N)]])","v":""},"",{"$f":"IF(LEN(Table2[[#This Row],[Pupil Name]])>0,1,0)","v":0}]
[{"$f":"IF(Table1[[#This Row],[School/Group Name]]=\"\",\"\",Table1[[#This Row],[School/Group Name]])","v":""},{"$f":"IF(Table1[[#This Row],[Pupil Name]]=\"\",\"\",Table1[[#This Row],[Pupil Name]])","v":""},{"$f":"IF(Table1[[#This Row],[Gender (M/F)]]=\"\",\"\",Table1[[#This Row],[Gender (M/F)]])","v":""},{"$f":"IF(Table1[[#This Row],[DisAdv (Y/N)]]=\"\",\"\",Table1[[#This Row],[DisAdv (Y/N)]])","v":""},{"$f":"IF(Table1[[#This Row],[SEND (E,K,N)]]=\"\",\"\",Table1[[#This Row],[SEND (E,K,N)]])","v":""},"",{"$f":"IF(LEN(Table2[[#This Row],[Pupil Name]])>0,1,0)","v":0}]
[{"$f":"IF(Table1[[#This Row],[School/Group Name]]=\"\",\"\",Table1[[#This Row],[School/Group Name]])","v":""},{"$f":"IF(Table1[[#This Row],[Pupil Name]]=\"\",\"\",Table1[[#This Row],[Pupil Name]])","v":""},{"$f":"IF(Table1[[#This Row],[Gender (M/F)]]=\"\",\"\",Table1[[#This Row],[Gender (M/F)]])","v":""},{"$f":"IF(Table1[[#This Row],[DisAdv (Y/N)]]=\"\",\"\",Table1[[#This Row],[DisAdv (Y/N)]])","v":""},{"$f":"IF(Table1[[#This Row],[SEND (E,K,N)]]=\"\",\"\",Table1[[#This Row],[SEND (E,K,N)]])","v":""},"",{"$f":"IF(LEN(Table2[[#This Row],[Pupil Name]])>0,1,0)","v":0}]
[{"$f":"IF(Table1[[#This Row],[School/Group Name]]=\"\",\"\",Table1[[#This Row],[School/Group Name]])","v":""},{"$f":"IF(Table1[[#This Row],[Pupil Name]]=\"\",\"\",Table1[[#This Row],[Pupil Name]])","v":""},{"$f":"IF(Table1[[#This Row],[Gender (M/F)]]=\"\",\"\",Table1[[#This Row],[Gender (M/F)]])","v":""},{"$f":"IF(Table1[[#This Row],[DisAdv (Y/N)]]=\"\",\"\",Table1[[#This Row],[DisAdv (Y/N)]])","v":""},{"$f":"IF(Table1[[#This Row],[SEND (E,K,N)]]=\"\",\"\",Table1[[#This Row],[SEND (E,K,N)]])","v":""},"",{"$f":"IF(LEN(Table2[[#This Row],[Pupil Name]])>0,1,0)","v":0}]
[{"$f":"IF(Table1[[#This Row],[School/Group Name]]=\"\",\"\",Table1[[#This Row],[School/Group Name]])","v":""},{"$f":"IF(Table1[[#This Row],[Pupil Name]]=\"\",\"\",Table1[[#This Row],[Pupil Name]])","v":""},{"$f":"IF(Table1[[#This Row],[Gender (M/F)]]=\"\",\"\",Table1[[#This Row],[Gender (M/F)]])","v":""},{"$f":"IF(Table1[[#This Row],[DisAdv (Y/N)]]=\"\",\"\",Table1[[#This Row],[DisAdv (Y/N)]])","v":""},{"$f":"IF(Table1[[#This Row],[SEND (E,K,N)]]=\"\",\"\",Table1[[#This Row],[SEND (E,K,N)]])","v":""},"",{"$f":"IF(LEN(Table2[[#This Row],[Pupil Name]])>0,1,0)","v":0}]
[{"$f":"IF(Table1[[#This Row],[School/Group Name]]=\"\",\"\",Table1[[#This Row],[School/Group Name]])","v":""},{"$f":"IF(Table1[[#This Row],[Pupil Name]]=\"\",\"\",Table1[[#This Row],[Pupil Name]])","v":""},{"$f":"IF(Table1[[#This Row],[Gender (M/F)]]=\"\",\"\",Table1[[#This Row],[Gender (M/F)]])","v":""},{"$f":"IF(Table1[[#This Row],[DisAdv (Y/N)]]=\"\",\"\",Table1[[#This Row],[DisAdv (Y/N)]])","v":""},{"$f":"IF(Table1[[#This Row],[SEND (E,K,N)]]=\"\",\"\",Table1[[#This Row],[SEND (E,K,N)]])","v":""},"",{"$f":"IF(LEN(Table2[[#This Row],[Pupil Name]])>0,1,0)","v":0}]
[{"$f":"IF(Table1[[#This Row],[School/Group Name]]=\"\",\"\",Table1[[#This Row],[School/Group Name]])","v":""},{"$f":"IF(Table1[[#This Row],[Pupil Name]]=\"\",\"\",Table1[[#This Row],[Pupil Name]])","v":""},{"$f":"IF(Table1[[#This Row],[Gender (M/F)]]=\"\",\"\",Table1[[#This Row],[Gender (M/F)]])","v":""},{"$f":"IF(Table1[[#This Row],[DisAdv (Y/N)]]=\"\",\"\",Table1[[#This Row],[DisAdv (Y/N)]])","v":""},{"$f":"IF(Table1[[#This Row],[SEND (E,K,N)]]=\"\",\"\",Table1[[#This Row],[SEND (E,K,N)]])","v":""},"",{"$f":"IF(LEN(Table2[[#This Row],[Pupil Name]])>0,1,0)","v":0}]
[{"$f":"IF(Table1[[#This Row],[School/Group Name]]=\"\",\"\",Table1[[#This Row],[School/Group Name]])","v":""},{"$f":"IF(Table1[[#This Row],[Pupil Name]]=\"\",\"\",Table1[[#This Row],[Pupil Name]])","v":""},{"$f":"IF(Table1[[#This Row],[Gender (M/F)]]=\"\",\"\",Table1[[#This Row],[Gender (M/F)]])","v":""},{"$f":"IF(Table1[[#This Row],[DisAdv (Y/N)]]=\"\",\"\",Table1[[#This Row],[DisAdv (Y/N)]])","v":""},{"$f":"IF(Table1[[#This Row],[SEND (E,K,N)]]=\"\",\"\",Table1[[#This Row],[SEND (E,K,N)]])","v":""},"",{"$f":"IF(LEN(Table2[[#This Row],[Pupil Name]])>0,1,0)","v":0}]
[{"$f":"IF(Table1[[#This Row],[School/Group Name]]=\"\",\"\",Table1[[#This Row],[School/Group Name]])","v":""},{"$f":"IF(Table1[[#This Row],[Pupil Name]]=\"\",\"\",Table1[[#This Row],[Pupil Name]])","v":""},{"$f":"IF(Table1[[#This Row],[Gender (M/F)]]=\"\",\"\",Table1[[#This Row],[Gender (M/F)]])","v":""},{"$f":"IF(Table1[[#This Row],[DisAdv (Y/N)]]=\"\",\"\",Table1[[#This Row],[DisAdv (Y/N)]])","v":""},{"$f":"IF(Table1[[#This Row],[SEND (E,K,N)]]=\"\",\"\",Table1[[#This Row],[SEND (E,K,N)]])","v":""},"",{"$f":"IF(LEN(Table2[[#This Row],[Pupil Name]])>0,1,0)","v":0}]
[{"$f":"IF(Table1[[#This Row],[School/Group Name]]=\"\",\"\",Table1[[#This Row],[School/Group Name]])","v":""},{"$f":"IF(Table1[[#This Row],[Pupil Name]]=\"\",\"\",Table1[[#This Row],[Pupil Name]])","v":""},{"$f":"IF(Table1[[#This Row],[Gender (M/F)]]=\"\",\"\",Table1[[#This Row],[Gender (M/F)]])","v":""},{"$f":"IF(Table1[[#This Row],[DisAdv (Y/N)]]=\"\",\"\",Table1[[#This Row],[DisAdv (Y/N)]])","v":""},{"$f":"IF(Table1[[#This Row],[SEND (E,K,N)]]=\"\",\"\",Table1[[#This Row],[SEND (E,K,N)]])","v":""},"",{"$f":"IF(LEN(Table2[[#This Row],[Pupil Name]])>0,1,0)","v":0}]
[{"$f":"IF(Table1[[#This Row],[School/Group Name]]=\"\",\"\",Table1[[#This Row],[School/Group Name]])","v":""},{"$f":"IF(Table1[[#This Row],[Pupil Name]]=\"\",\"\",Table1[[#This Row],[Pupil Name]])","v":""},{"$f":"IF(Table1[[#This Row],[Gender (M/F)]]=\"\",\"\",Table1[[#This Row],[Gender (M/F)]])","v":""},{"$f":"IF(Table1[[#This Row],[DisAdv (Y/N)]]=\"\",\"\",Table1[[#This Row],[DisAdv (Y/N)]])","v":""},{"$f":"IF(Table1[[#This Row],[SEND (E,K,N)]]=\"\",\"\",Table1[[#This Row],[SEND (E,K,N)]])","v":""},"",{"$f":"IF(LEN(Table2[[#This Row],[Pupil Name]])>0,1,0)","v":0}]
[{"$f":"IF(Table1[[#This Row],[School/Group Name]]=\"\",\"\",Table1[[#This Row],[School/Group Name]])","v":""},{"$f":"IF(Table1[[#This Row],[Pupil Name]]=\"\",\"\",Table1[[#This Row],[Pupil Name]])","v":""},{"$f":"IF(Table1[[#This Row],[Gender (M/F)]]=\"\",\"\",Table1[[#This Row],[Gender (M/F)]])","v":""},{"$f":"IF(Table1[[#This Row],[DisAdv (Y/N)]]=\"\",\"\",Table1[[#This Row],[DisAdv (Y/N)]])","v":""},{"$f":"IF(Table1[[#This Row],[SEND (E,K,N)]]=\"\",\"\",Table1[[#This Row],[SEND (E,K,N)]])","v":""},"",{"$f":"IF(LEN(Table2[[#This Row],[Pupil Name]])>0,1,0)","v":0}]
[{"$f":"IF(Table1[[#This Row],[School/Group Name]]=\"\",\"\",Table1[[#This Row],[School/Group Name]])","v":""},{"$f":"IF(Table1[[#This Row],[Pupil Name]]=\"\",\"\",Table1[[#This Row],[Pupil Name]])","v":""},{"$f":"IF(Table1[[#This Row],[Gender (M/F)]]=\"\",\"\",Table1[[#This Row],[Gender (M/F)]])","v":""},{"$f":"IF(Table1[[#This Row],[DisAdv (Y/N)]]=\"\",\"\",Table1[[#This Row],[DisAdv (Y/N)]])","v":""},{"$f":"IF(Table1[[#This Row],[SEND (E,K,N)]]=\"\",\"\",Table1[[#This Row],[SEND (E,K,N)]])","v":""},"",{"$f":"IF(LEN(Table2[[#This Row],[Pupil Name]])>0,1,0)","v":0}]
[{"$f":"IF(Table1[[#This Row],[School/Group Name]]=\"\",\"\",Table1[[#This Row],[School/Group Name]])","v":""},{"$f":"IF(Table1[[#This Row],[Pupil Name]]=\"\",\"\",Table1[[#This Row],[Pupil Name]])","v":""},{"$f":"IF(Table1[[#This Row],[Gender (M/F)]]=\"\",\"\",Table1[[#This Row],[Gender (M/F)]])","v":""},{"$f":"IF(Table1[[#This Row],[DisAdv (Y/N)]]=\"\",\"\",Table1[[#This Row],[DisAdv (Y/N)]])","v":""},{"$f":"IF(Table1[[#This Row],[SEND (E,K,N)]]=\"\",\"\",Table1[[#This Row],[SEND (E,K,N)]])","v":""},"",{"$f":"IF(LEN(Table2[[#This Row],[Pupil Name]])>0,1,0)","v":0}]
[{"$f":"IF(Table1[[#This Row],[School/Group Name]]=\"\",\"\",Table1[[#This Row],[School/Group Name]])","v":""},{"$f":"IF(Table1[[#This Row],[Pupil Name]]=\"\",\"\",Table1[[#This Row],[Pupil Name]])","v":""},{"$f":"IF(Table1[[#This Row],[Gender (M/F)]]=\"\",\"\",Table1[[#This Row],[Gender (M/F)]])","v":""},{"$f":"IF(Table1[[#This Row],[DisAdv (Y/N)]]=\"\",\"\",Table1[[#This Row],[DisAdv (Y/N)]])","v":""},{"$f":"IF(Table1[[#This Row],[SEND (E,K,N)]]=\"\",\"\",Table1[[#This Row],[SEND (E,K,N)]])","v":""},"",{"$f":"IF(LEN(Table2[[#This Row],[Pupil Name]])>0,1,0)","v":0}]
[{"$f":"IF(Table1[[#This Row],[School/Group Name]]=\"\",\"\",Table1[[#This Row],[School/Group Name]])","v":""},{"$f":"IF(Table1[[#This Row],[Pupil Name]]=\"\",\"\",Table1[[#This Row],[Pupil Name]])","v":""},{"$f":"IF(Table1[[#This Row],[Gender (M/F)]]=\"\",\"\",Table1[[#This Row],[Gender (M/F)]])","v":""},{"$f":"IF(Table1[[#This Row],[DisAdv (Y/N)]]=\"\",\"\",Table1[[#This Row],[DisAdv (Y/N)]])","v":""},{"$f":"IF(Table1[[#This Row],[SEND (E,K,N)]]=\"\",\"\",Table1[[#This Row],[SEND (E,K,N)]])","v":""},"",{"$f":"IF(LEN(Table2[[#This Row],[Pupil Name]])>0,1,0)","v":0}]
[{"$f":"IF(Table1[[#This Row],[School/Group Name]]=\"\",\"\",Table1[[#This Row],[School/Group Name]])","v":""},{"$f":"IF(Table1[[#This Row],[Pupil Name]]=\"\",\"\",Table1[[#This Row],[Pupil Name]])","v":""},{"$f":"IF(Table1[[#This Row],[Gender (M/F)]]=\"\",\"\",Table1[[#This Row],[Gender (M/F)]])","v":""},{"$f":"IF(Table1[[#This Row],[DisAdv (Y/N)]]=\"\",\"\",Table1[[#This Row],[DisAdv (Y/N)]])","v":""},{"$f":"IF(Table1[[#This Row],[SEND (E,K,N)]]=\"\",\"\",Table1[[#This Row],[SEND (E,K,N)]])","v":""},"",{"$f":"IF(LEN(Table2[[#This Row],[Pupil Name]])>0,1,0)","v":0}]
[{"$f":"IF(Table1[[#This Row],[School/Group Name]]=\"\",\"\",Table1[[#This Row],[School/Group Name]])","v":""},{"$f":"IF(Table1[[#This Row],[Pupil Name]]=\"\",\"\",Table1[[#This Row],[Pupil Name]])","v":""},{"$f":"IF(Table1[[#This Row],[Gender (M/F)]]=\"\",\"\",Table1[[#This Row],[Gender (M/F)]])","v":""},{"$f":"IF(Table1[[#This Row],[DisAdv (Y/N)]]=\"\",\"\",Table1[[#This Row],[DisAdv (Y/N)]])","v":""},{"$f":"IF(Table1[[#This Row],[SEND (E,K,N)]]=\"\",\"\",Table1[[#This Row],[SEND (E,K,N)]])","v":""},"",{"$f":"IF(LEN(Table2[[#This Row],[Pupil Name]])>0,1,0)","v":0}]
[{"$f":"IF(Table1[[#This Row],[School/Group Name]]=\"\",\"\",Table1[[#This Row],[School/Group Name]])","v":""},{"$f":"IF(Table1[[#This Row],[Pupil Name]]=\"\",\"\",Table1[[#This Row],[Pupil Name]])","v":""},{"$f":"IF(Table1[[#This Row],[Gender (M/F)]]=\"\",\"\",Table1[[#This Row],[Gender (M/F)]])","v":""},{"$f":"IF(Table1[[#This Row],[DisAdv (Y/N)]]=\"\",\"\",Table1[[#This Row],[DisAdv (Y/N)]])","v":""},{"$f":"IF(Table1[[#This Row],[SEND (E,K,N)]]=\"\",\"\",Table1[[#This Row],[SEND (E,K,N)]])","v":""},"",{"$f":"IF(LEN(Table2[[#This Row],[Pupil Name]])>0,1,0)","v":0}]
[{"$f":"IF(Table1[[#This Row],[School/Group Name]]=\"\",\"\",Table1[[#This Row],[School/Group Name]])","v":""},{"$f":"IF(Table1[[#This Row],[Pupil Name]]=\"\",\"\",Table1[[#This Row],[Pupil Name]])","v":""},{"$f":"IF(Table1[[#This Row],[Gender (M/F)]]=\"\",\"\",Table1[[#This Row],[Gender (M/F)]])","v":""},{"$f":"IF(Table1[[#This Row],[DisAdv (Y/N)]]=\"\",\"\",Table1[[#This Row],[DisAdv (Y/N)]])","v":""},{"$f":"IF(Table1[[#This Row],[SEND (E,K,N)]]=\"\",\"\",Table1[[#This Row],[SEND (E,K,N)]])","v":""},"",{"$f":"IF(LEN(Table2[[#This Row],[Pupil Name]])>0,1,0)","v":0}]
[{"$f":"IF(Table1[[#This Row],[School/Group Name]]=\"\",\"\",Table1[[#This Row],[School/Group Name]])","v":""},{"$f":"IF(Table1[[#This Row],[Pupil Name]]=\"\",\"\",Table1[[#This Row],[Pupil Name]])","v":""},{"$f":"IF(Table1[[#This Row],[Gender (M/F)]]=\"\",\"\",Table1[[#This Row],[Gender (M/F)]])","v":""},{"$f":"IF(Table1[[#This Row],[DisAdv (Y/N)]]=\"\",\"\",Table1[[#This Row],[DisAdv (Y/N)]])","v":""},{"$f":"IF(Table1[[#This Row],[SEND (E,K,N)]]=\"\",\"\",Table1[[#This Row],[SEND (E,K,N)]])","v":""},"",{"$f":"IF(LEN(Table2[[#This Row],[Pupil Name]])>0,1,0)","v":0}]
[{"$f":"IF(Table1[[#This Row],[School/Group Name]]=\"\",\"\",Table1[[#This Row],[School/Group Name]])","v":""},{"$f":"IF(Table1[[#This Row],[Pupil Name]]=\"\",\"\",Table1[[#This Row],[Pupil Name]])","v":""},{"$f":"IF(Table1[[#This Row],[Gender (M/F)]]=\"\",\"\",Table1[[#This Row],[Gender (M/F)]])","v":""},{"$f":"IF(Table1[[#This Row],[DisAdv (Y/N)]]=\"\",\"\",Table1[[#This Row],[DisAdv (Y/N)]])","v":""},{"$f":"IF(Table1[[#This Row],[SEND (E,K,N)]]=\"\",\"\",Table1[[#This Row],[SEND (E,K,N)]])","v":""},"",{"$f":"IF(LEN(Table2[[#This Row],[Pupil Name]])>0,1,0)","v":0}]
[{"$f":"IF(Table1[[#This Row],[School/Group Name]]=\"\",\"\",Table1[[#This Row],[School/Group Name]])","v":""},{"$f":"IF(Table1[[#This Row],[Pupil Name]]=\"\",\"\",Table1[[#This Row],[Pupil Name]])","v":""},{"$f":"IF(Table1[[#This Row],[Gender (M/F)]]=\"\",\"\",Table1[[#This Row],[Gender (M/F)]])","v":""},{"$f":"IF(Table1[[#This Row],[DisAdv (Y/N)]]=\"\",\"\",Table1[[#This Row],[DisAdv (Y/N)]])","v":""},{"$f":"IF(Table1[[#This Row],[SEND (E,K,N)]]=\"\",\"\",Table1[[#This Row],[SEND (E,K,N)]])","v":""},"",{"$f":"IF(LEN(Table2[[#This Row],[Pupil Name]])>0,1,0)","v":0}]
[{"$f":"IF(Table1[[#This Row],[School/Group Name]]=\"\",\"\",Table1[[#This Row],[School/Group Name]])","v":""},{"$f":"IF(Table1[[#This Row],[Pupil Name]]=\"\",\"\",Table1[[#This Row],[Pupil Name]])","v":""},{"$f":"IF(Table1[[#This Row],[Gender (M/F)]]=\"\",\"\",Table1[[#This Row],[Gender (M/F)]])","v":""},{"$f":"IF(Table1[[#This Row],[DisAdv (Y/N)]]=\"\",\"\",Table1[[#This Row],[DisAdv (Y/N)]])","v":""},{"$f":"IF(Table1[[#This Row],[SEND (E,K,N)]]=\"\",\"\",Table1[[#This Row],[SEND (E,K,N)]])","v":""},"",{"$f":"IF(LEN(Table2[[#This Row],[Pupil Name]])>0,1,0)","v":0}]
[{"$f":"IF(Table1[[#This Row],[School/Group Name]]=\"\",\"\",Table1[[#This Row],[School/Group Name]])","v":""},{"$f":"IF(Table1[[#This Row],[Pupil Name]]=\"\",\"\",Table1[[#This Row],[Pupil Name]])","v":""},{"$f":"IF(Table1[[#This Row],[Gender (M/F)]]=\"\",\"\",Table1[[#This Row],[Gender (M/F)]])","v":""},{"$f":"IF(Table1[[#This Row],[DisAdv (Y/N)]]=\"\",\"\",Table1[[#This Row],[DisAdv (Y/N)]])","v":""},{"$f":"IF(Table1[[#This Row],[SEND (E,K,N)]]=\"\",\"\",Table1[[#This Row],[SEND (E,K,N)]])","v":""},"",{"$f":"IF(LEN(Table2[[#This Row],[Pupil Name]])>0,1,0)","v":0}]
[{"$f":"IF(Table1[[#This Row],[School/Group Name]]=\"\",\"\",Table1[[#This Row],[School/Group Name]])","v":""},{"$f":"IF(Table1[[#This Row],[Pupil Name]]=\"\",\"\",Table1[[#This Row],[Pupil Name]])","v":""},{"$f":"IF(Table1[[#This Row],[Gender (M/F)]]=\"\",\"\",Table1[[#This Row],[Gender (M/F)]])","v":""},{"$f":"IF(Table1[[#This Row],[DisAdv (Y/N)]]=\"\",\"\",Table1[[#This Row],[DisAdv (Y/N)]])","v":""},{"$f":"IF(Table1[[#This Row],[SEND (E,K,N)]]=\"\",\"\",Table1[[#This Row],[SEND (E,K,N)]])","v":""},"",{"$f":"IF(LEN(Table2[[#This Row],[Pupil Name]])>0,1,0)","v":0}]
[{"$f":"IF(Table1[[#This Row],[School/Group Name]]=\"\",\"\",Table1[[#This Row],[School/Group Name]])","v":""},{"$f":"IF(Table1[[#This Row],[Pupil Name]]=\"\",\"\",Table1[[#This Row],[Pupil Name]])","v":""},{"$f":"IF(Table1[[#This Row],[Gender (M/F)]]=\"\",\"\",Table1[[#This Row],[Gender (M/F)]])","v":""},{"$f":"IF(Table1[[#This Row],[DisAdv (Y/N)]]=\"\",\"\",Table1[[#This Row],[DisAdv (Y/N)]])","v":""},{"$f":"IF(Table1[[#This Row],[SEND (E,K,N)]]=\"\",\"\",Table1[[#This Row],[SEND (E,K,N)]])","v":""},{"$f":"IF(H327=\"\",\"\",(SUM(H327:AG327)))","v":""},{"$f":"IF(LEN(Table2[[#This Row],[Pupil Name]])>0,1,0)","v":0}]
[{"$f":"IF(Table1[[#This Row],[School/Group Name]]=\"\",\"\",Table1[[#This Row],[School/Group Name]])","v":""},{"$f":"IF(Table1[[#This Row],[Pupil Name]]=\"\",\"\",Table1[[#This Row],[Pupil Name]])","v":""},{"$f":"IF(Table1[[#This Row],[Gender (M/F)]]=\"\",\"\",Table1[[#This Row],[Gender (M/F)]])","v":""},{"$f":"IF(Table1[[#This Row],[DisAdv (Y/N)]]=\"\",\"\",Table1[[#This Row],[DisAdv (Y/N)]])","v":""},{"$f":"IF(Table1[[#This Row],[SEND (E,K,N)]]=\"\",\"\",Table1[[#This Row],[SEND (E,K,N)]])","v":""},"",{"$f":"IF(LEN(Table2[[#This Row],[Pupil Name]])>0,1,0)","v":0}]
[{"$f":"IF(Table1[[#This Row],[School/Group Name]]=\"\",\"\",Table1[[#This Row],[School/Group Name]])","v":""},{"$f":"IF(Table1[[#This Row],[Pupil Name]]=\"\",\"\",Table1[[#This Row],[Pupil Name]])","v":""},{"$f":"IF(Table1[[#This Row],[Gender (M/F)]]=\"\",\"\",Table1[[#This Row],[Gender (M/F)]])","v":""},{"$f":"IF(Table1[[#This Row],[DisAdv (Y/N)]]=\"\",\"\",Table1[[#This Row],[DisAdv (Y/N)]])","v":""},{"$f":"IF(Table1[[#This Row],[SEND (E,K,N)]]=\"\",\"\",Table1[[#This Row],[SEND (E,K,N)]])","v":""},"",{"$f":"IF(LEN(Table2[[#This Row],[Pupil Name]])>0,1,0)","v":0}]
[{"$f":"IF(Table1[[#This Row],[School/Group Name]]=\"\",\"\",Table1[[#This Row],[School/Group Name]])","v":""},{"$f":"IF(Table1[[#This Row],[Pupil Name]]=\"\",\"\",Table1[[#This Row],[Pupil Name]])","v":""},{"$f":"IF(Table1[[#This Row],[Gender (M/F)]]=\"\",\"\",Table1[[#This Row],[Gender (M/F)]])","v":""},{"$f":"IF(Table1[[#This Row],[DisAdv (Y/N)]]=\"\",\"\",Table1[[#This Row],[DisAdv (Y/N)]])","v":""},{"$f":"IF(Table1[[#This Row],[SEND (E,K,N)]]=\"\",\"\",Table1[[#This Row],[SEND (E,K,N)]])","v":""},"",{"$f":"IF(LEN(Table2[[#This Row],[Pupil Name]])>0,1,0)","v":0}]
[{"$f":"IF(Table1[[#This Row],[School/Group Name]]=\"\",\"\",Table1[[#This Row],[School/Group Name]])","v":""},{"$f":"IF(Table1[[#This Row],[Pupil Name]]=\"\",\"\",Table1[[#This Row],[Pupil Name]])","v":""},{"$f":"IF(Table1[[#This Row],[Gender (M/F)]]=\"\",\"\",Table1[[#This Row],[Gender (M/F)]])","v":""},{"$f":"IF(Table1[[#This Row],[DisAdv (Y/N)]]=\"\",\"\",Table1[[#This Row],[DisAdv (Y/N)]])","v":""},{"$f":"IF(Table1[[#This Row],[SEND (E,K,N)]]=\"\",\"\",Table1[[#This Row],[SEND (E,K,N)]])","v":""},"",{"$f":"IF(LEN(Table2[[#This Row],[Pupil Name]])>0,1,0)","v":0}]
[{"$f":"IF(Table1[[#This Row],[School/Group Name]]=\"\",\"\",Table1[[#This Row],[School/Group Name]])","v":""},{"$f":"IF(Table1[[#This Row],[Pupil Name]]=\"\",\"\",Table1[[#This Row],[Pupil Name]])","v":""},{"$f":"IF(Table1[[#This Row],[Gender (M/F)]]=\"\",\"\",Table1[[#This Row],[Gender (M/F)]])","v":""},{"$f":"IF(Table1[[#This Row],[DisAdv (Y/N)]]=\"\",\"\",Table1[[#This Row],[DisAdv (Y/N)]])","v":""},{"$f":"IF(Table1[[#This Row],[SEND (E,K,N)]]=\"\",\"\",Table1[[#This Row],[SEND (E,K,N)]])","v":""},"",{"$f":"IF(LEN(Table2[[#This Row],[Pupil Name]])>0,1,0)","v":0}]
[{"$f":"IF(Table1[[#This Row],[School/Group Name]]=\"\",\"\",Table1[[#This Row],[School/Group Name]])","v":""},{"$f":"IF(Table1[[#This Row],[Pupil Name]]=\"\",\"\",Table1[[#This Row],[Pupil Name]])","v":""},{"$f":"IF(Table1[[#This Row],[Gender (M/F)]]=\"\",\"\",Table1[[#This Row],[Gender (M/F)]])","v":""},{"$f":"IF(Table1[[#This Row],[DisAdv (Y/N)]]=\"\",\"\",Table1[[#This Row],[DisAdv (Y/N)]])","v":""},{"$f":"IF(Table1[[#This Row],[SEND (E,K,N)]]=\"\",\"\",Table1[[#This Row],[SEND (E,K,N)]])","v":""},"",{"$f":"IF(LEN(Table2[[#This Row],[Pupil Name]])>0,1,0)","v":0}]
[{"$f":"IF(Table1[[#This Row],[School/Group Name]]=\"\",\"\",Table1[[#This Row],[School/Group Name]])","v":""},{"$f":"IF(Table1[[#This Row],[Pupil Name]]=\"\",\"\",Table1[[#This Row],[Pupil Name]])","v":""},{"$f":"IF(Table1[[#This Row],[Gender (M/F)]]=\"\",\"\",Table1[[#This Row],[Gender (M/F)]])","v":""},{"$f":"IF(Table1[[#This Row],[DisAdv (Y/N)]]=\"\",\"\",Table1[[#This Row],[DisAdv (Y/N)]])","v":""},{"$f":"IF(Table1[[#This Row],[SEND (E,K,N)]]=\"\",\"\",Table1[[#This Row],[SEND (E,K,N)]])","v":""},"",{"$f":"IF(LEN(Table2[[#This Row],[Pupil Name]])>0,1,0)","v":0}]
[{"$f":"IF(Table1[[#This Row],[School/Group Name]]=\"\",\"\",Table1[[#This Row],[School/Group Name]])","v":""},{"$f":"IF(Table1[[#This Row],[Pupil Name]]=\"\",\"\",Table1[[#This Row],[Pupil Name]])","v":""},{"$f":"IF(Table1[[#This Row],[Gender (M/F)]]=\"\",\"\",Table1[[#This Row],[Gender (M/F)]])","v":""},{"$f":"IF(Table1[[#This Row],[DisAdv (Y/N)]]=\"\",\"\",Table1[[#This Row],[DisAdv (Y/N)]])","v":""},{"$f":"IF(Table1[[#This Row],[SEND (E,K,N)]]=\"\",\"\",Table1[[#This Row],[SEND (E,K,N)]])","v":""},"",{"$f":"IF(LEN(Table2[[#This Row],[Pupil Name]])>0,1,0)","v":0}]
[{"$f":"IF(Table1[[#This Row],[School/Group Name]]=\"\",\"\",Table1[[#This Row],[School/Group Name]])","v":""},{"$f":"IF(Table1[[#This Row],[Pupil Name]]=\"\",\"\",Table1[[#This Row],[Pupil Name]])","v":""},{"$f":"IF(Table1[[#This Row],[Gender (M/F)]]=\"\",\"\",Table1[[#This Row],[Gender (M/F)]])","v":""},{"$f":"IF(Table1[[#This Row],[DisAdv (Y/N)]]=\"\",\"\",Table1[[#This Row],[DisAdv (Y/N)]])","v":""},{"$f":"IF(Table1[[#This Row],[SEND (E,K,N)]]=\"\",\"\",Table1[[#This Row],[SEND (E,K,N)]])","v":""},"",{"$f":"IF(LEN(Table2[[#This Row],[Pupil Name]])>0,1,0)","v":0}]
[{"$f":"IF(Table1[[#This Row],[School/Group Name]]=\"\",\"\",Table1[[#This Row],[School/Group Name]])","v":""},{"$f":"IF(Table1[[#This Row],[Pupil Name]]=\"\",\"\",Table1[[#This Row],[Pupil Name]])","v":""},{"$f":"IF(Table1[[#This Row],[Gender (M/F)]]=\"\",\"\",Table1[[#This Row],[Gender (M/F)]])","v":""},{"$f":"IF(Table1[[#This Row],[DisAdv (Y/N)]]=\"\",\"\",Table1[[#This Row],[DisAdv (Y/N)]])","v":""},{"$f":"IF(Table1[[#This Row],[SEND (E,K,N)]]=\"\",\"\",Table1[[#This Row],[SEND (E,K,N)]])","v":""},"",{"$f":"IF(LEN(Table2[[#This Row],[Pupil Name]])>0,1,0)","v":0}]
[{"$f":"IF(Table1[[#This Row],[School/Group Name]]=\"\",\"\",Table1[[#This Row],[School/Group Name]])","v":""},{"$f":"IF(Table1[[#This Row],[Pupil Name]]=\"\",\"\",Table1[[#This Row],[Pupil Name]])","v":""},{"$f":"IF(Table1[[#This Row],[Gender (M/F)]]=\"\",\"\",Table1[[#This Row],[Gender (M/F)]])","v":""},{"$f":"IF(Table1[[#This Row],[DisAdv (Y/N)]]=\"\",\"\",Table1[[#This Row],[DisAdv (Y/N)]])","v":""},{"$f":"IF(Table1[[#This Row],[SEND (E,K,N)]]=\"\",\"\",Table1[[#This Row],[SEND (E,K,N)]])","v":""},"",{"$f":"IF(LEN(Table2[[#This Row],[Pupil Name]])>0,1,0)","v":0}]
[{"$f":"IF(Table1[[#This Row],[School/Group Name]]=\"\",\"\",Table1[[#This Row],[School/Group Name]])","v":""},{"$f":"IF(Table1[[#This Row],[Pupil Name]]=\"\",\"\",Table1[[#This Row],[Pupil Name]])","v":""},{"$f":"IF(Table1[[#This Row],[Gender (M/F)]]=\"\",\"\",Table1[[#This Row],[Gender (M/F)]])","v":""},{"$f":"IF(Table1[[#This Row],[DisAdv (Y/N)]]=\"\",\"\",Table1[[#This Row],[DisAdv (Y/N)]])","v":""},{"$f":"IF(Table1[[#This Row],[SEND (E,K,N)]]=\"\",\"\",Table1[[#This Row],[SEND (E,K,N)]])","v":""},"",{"$f":"IF(LEN(Table2[[#This Row],[Pupil Name]])>0,1,0)","v":0}]
[{"$f":"IF(Table1[[#This Row],[School/Group Name]]=\"\",\"\",Table1[[#This Row],[School/Group Name]])","v":""},{"$f":"IF(Table1[[#This Row],[Pupil Name]]=\"\",\"\",Table1[[#This Row],[Pupil Name]])","v":""},{"$f":"IF(Table1[[#This Row],[Gender (M/F)]]=\"\",\"\",Table1[[#This Row],[Gender (M/F)]])","v":""},{"$f":"IF(Table1[[#This Row],[DisAdv (Y/N)]]=\"\",\"\",Table1[[#This Row],[DisAdv (Y/N)]])","v":""},{"$f":"IF(Table1[[#This Row],[SEND (E,K,N)]]=\"\",\"\",Table1[[#This Row],[SEND (E,K,N)]])","v":""},"",{"$f":"IF(LEN(Table2[[#This Row],[Pupil Name]])>0,1,0)","v":0}]
[{"$f":"IF(Table1[[#This Row],[School/Group Name]]=\"\",\"\",Table1[[#This Row],[School/Group Name]])","v":""},{"$f":"IF(Table1[[#This Row],[Pupil Name]]=\"\",\"\",Table1[[#This Row],[Pupil Name]])","v":""},{"$f":"IF(Table1[[#This Row],[Gender (M/F)]]=\"\",\"\",Table1[[#This Row],[Gender (M/F)]])","v":""},{"$f":"IF(Table1[[#This Row],[DisAdv (Y/N)]]=\"\",\"\",Table1[[#This Row],[DisAdv (Y/N)]])","v":""},{"$f":"IF(Table1[[#This Row],[SEND (E,K,N)]]=\"\",\"\",Table1[[#This Row],[SEND (E,K,N)]])","v":""},"",{"$f":"IF(LEN(Table2[[#This Row],[Pupil Name]])>0,1,0)","v":0}]
[{"$f":"IF(Table1[[#This Row],[School/Group Name]]=\"\",\"\",Table1[[#This Row],[School/Group Name]])","v":""},{"$f":"IF(Table1[[#This Row],[Pupil Name]]=\"\",\"\",Table1[[#This Row],[Pupil Name]])","v":""},{"$f":"IF(Table1[[#This Row],[Gender (M/F)]]=\"\",\"\",Table1[[#This Row],[Gender (M/F)]])","v":""},{"$f":"IF(Table1[[#This Row],[DisAdv (Y/N)]]=\"\",\"\",Table1[[#This Row],[DisAdv (Y/N)]])","v":""},{"$f":"IF(Table1[[#This Row],[SEND (E,K,N)]]=\"\",\"\",Table1[[#This Row],[SEND (E,K,N)]])","v":""},"",{"$f":"IF(LEN(Table2[[#This Row],[Pupil Name]])>0,1,0)","v":0}]
[{"$f":"IF(Table1[[#This Row],[School/Group Name]]=\"\",\"\",Table1[[#This Row],[School/Group Name]])","v":""},{"$f":"IF(Table1[[#This Row],[Pupil Name]]=\"\",\"\",Table1[[#This Row],[Pupil Name]])","v":""},{"$f":"IF(Table1[[#This Row],[Gender (M/F)]]=\"\",\"\",Table1[[#This Row],[Gender (M/F)]])","v":""},{"$f":"IF(Table1[[#This Row],[DisAdv (Y/N)]]=\"\",\"\",Table1[[#This Row],[DisAdv (Y/N)]])","v":""},{"$f":"IF(Table1[[#This Row],[SEND (E,K,N)]]=\"\",\"\",Table1[[#This Row],[SEND (E,K,N)]])","v":""},"",{"$f":"IF(LEN(Table2[[#This Row],[Pupil Name]])>0,1,0)","v":0}]
[{"$f":"IF(Table1[[#This Row],[School/Group Name]]=\"\",\"\",Table1[[#This Row],[School/Group Name]])","v":""},{"$f":"IF(Table1[[#This Row],[Pupil Name]]=\"\",\"\",Table1[[#This Row],[Pupil Name]])","v":""},{"$f":"IF(Table1[[#This Row],[Gender (M/F)]]=\"\",\"\",Table1[[#This Row],[Gender (M/F)]])","v":""},{"$f":"IF(Table1[[#This Row],[DisAdv (Y/N)]]=\"\",\"\",Table1[[#This Row],[DisAdv (Y/N)]])","v":""},{"$f":"IF(Table1[[#This Row],[SEND (E,K,N)]]=\"\",\"\",Table1[[#This Row],[SEND (E,K,N)]])","v":""},"",{"$f":"IF(LEN(Table2[[#This Row],[Pupil Name]])>0,1,0)","v":0}]
[{"$f":"IF(Table1[[#This Row],[School/Group Name]]=\"\",\"\",Table1[[#This Row],[School/Group Name]])","v":""},{"$f":"IF(Table1[[#This Row],[Pupil Name]]=\"\",\"\",Table1[[#This Row],[Pupil Name]])","v":""},{"$f":"IF(Table1[[#This Row],[Gender (M/F)]]=\"\",\"\",Table1[[#This Row],[Gender (M/F)]])","v":""},{"$f":"IF(Table1[[#This Row],[DisAdv (Y/N)]]=\"\",\"\",Table1[[#This Row],[DisAdv (Y/N)]])","v":""},{"$f":"IF(Table1[[#This Row],[SEND (E,K,N)]]=\"\",\"\",Table1[[#This Row],[SEND (E,K,N)]])","v":""},"",{"$f":"IF(LEN(Table2[[#This Row],[Pupil Name]])>0,1,0)","v":0}]
[{"$f":"IF(Table1[[#This Row],[School/Group Name]]=\"\",\"\",Table1[[#This Row],[School/Group Name]])","v":""},{"$f":"IF(Table1[[#This Row],[Pupil Name]]=\"\",\"\",Table1[[#This Row],[Pupil Name]])","v":""},{"$f":"IF(Table1[[#This Row],[Gender (M/F)]]=\"\",\"\",Table1[[#This Row],[Gender (M/F)]])","v":""},{"$f":"IF(Table1[[#This Row],[DisAdv (Y/N)]]=\"\",\"\",Table1[[#This Row],[DisAdv (Y/N)]])","v":""},{"$f":"IF(Table1[[#This Row],[SEND (E,K,N)]]=\"\",\"\",Table1[[#This Row],[SEND (E,K,N)]])","v":""},"",{"$f":"IF(LEN(Table2[[#This Row],[Pupil Name]])>0,1,0)","v":0}]
[{"$f":"IF(Table1[[#This Row],[School/Group Name]]=\"\",\"\",Table1[[#This Row],[School/Group Name]])","v":""},{"$f":"IF(Table1[[#This Row],[Pupil Name]]=\"\",\"\",Table1[[#This Row],[Pupil Name]])","v":""},{"$f":"IF(Table1[[#This Row],[Gender (M/F)]]=\"\",\"\",Table1[[#This Row],[Gender (M/F)]])","v":""},{"$f":"IF(Table1[[#This Row],[DisAdv (Y/N)]]=\"\",\"\",Table1[[#This Row],[DisAdv (Y/N)]])","v":""},{"$f":"IF(Table1[[#This Row],[SEND (E,K,N)]]=\"\",\"\",Table1[[#This Row],[SEND (E,K,N)]])","v":""},"",{"$f":"IF(LEN(Table2[[#This Row],[Pupil Name]])>0,1,0)","v":0}]
[{"$f":"IF(Table1[[#This Row],[School/Group Name]]=\"\",\"\",Table1[[#This Row],[School/Group Name]])","v":""},{"$f":"IF(Table1[[#This Row],[Pupil Name]]=\"\",\"\",Table1[[#This Row],[Pupil Name]])","v":""},{"$f":"IF(Table1[[#This Row],[Gender (M/F)]]=\"\",\"\",Table1[[#This Row],[Gender (M/F)]])","v":""},{"$f":"IF(Table1[[#This Row],[DisAdv (Y/N)]]=\"\",\"\",Table1[[#This Row],[DisAdv (Y/N)]])","v":""},{"$f":"IF(Table1[[#This Row],[SEND (E,K,N)]]=\"\",\"\",Table1[[#This Row],[SEND (E,K,N)]])","v":""},"",{"$f":"IF(LEN(Table2[[#This Row],[Pupil Name]])>0,1,0)","v":0}]
[{"$f":"IF(Table1[[#This Row],[School/Group Name]]=\"\",\"\",Table1[[#This Row],[School/Group Name]])","v":""},{"$f":"IF(Table1[[#This Row],[Pupil Name]]=\"\",\"\",Table1[[#This Row],[Pupil Name]])","v":""},{"$f":"IF(Table1[[#This Row],[Gender (M/F)]]=\"\",\"\",Table1[[#This Row],[Gender (M/F)]])","v":""},{"$f":"IF(Table1[[#This Row],[DisAdv (Y/N)]]=\"\",\"\",Table1[[#This Row],[DisAdv (Y/N)]])","v":""},{"$f":"IF(Table1[[#This Row],[SEND (E,K,N)]]=\"\",\"\",Table1[[#This Row],[SEND (E,K,N)]])","v":""},"",{"$f":"IF(LEN(Table2[[#This Row],[Pupil Name]])>0,1,0)","v":0}]
[{"$f":"IF(Table1[[#This Row],[School/Group Name]]=\"\",\"\",Table1[[#This Row],[School/Group Name]])","v":""},{"$f":"IF(Table1[[#This Row],[Pupil Name]]=\"\",\"\",Table1[[#This Row],[Pupil Name]])","v":""},{"$f":"IF(Table1[[#This Row],[Gender (M/F)]]=\"\",\"\",Table1[[#This Row],[Gender (M/F)]])","v":""},{"$f":"IF(Table1[[#This Row],[DisAdv (Y/N)]]=\"\",\"\",Table1[[#This Row],[DisAdv (Y/N)]])","v":""},{"$f":"IF(Table1[[#This Row],[SEND (E,K,N)]]=\"\",\"\",Table1[[#This Row],[SEND (E,K,N)]])","v":""},"",{"$f":"IF(LEN(Table2[[#This Row],[Pupil Name]])>0,1,0)","v":0}]
[{"$f":"IF(Table1[[#This Row],[School/Group Name]]=\"\",\"\",Table1[[#This Row],[School/Group Name]])","v":""},{"$f":"IF(Table1[[#This Row],[Pupil Name]]=\"\",\"\",Table1[[#This Row],[Pupil Name]])","v":""},{"$f":"IF(Table1[[#This Row],[Gender (M/F)]]=\"\",\"\",Table1[[#This Row],[Gender (M/F)]])","v":""},{"$f":"IF(Table1[[#This Row],[DisAdv (Y/N)]]=\"\",\"\",Table1[[#This Row],[DisAdv (Y/N)]])","v":""},{"$f":"IF(Table1[[#This Row],[SEND (E,K,N)]]=\"\",\"\",Table1[[#This Row],[SEND (E,K,N)]])","v":""},"",{"$f":"IF(LEN(Table2[[#This Row],[Pupil Name]])>0,1,0)","v":0}]
[{"$f":"IF(Table1[[#This Row],[School/Group Name]]=\"\",\"\",Table1[[#This Row],[School/Group Name]])","v":""},{"$f":"IF(Table1[[#This Row],[Pupil Name]]=\"\",\"\",Table1[[#This Row],[Pupil Name]])","v":""},{"$f":"IF(Table1[[#This Row],[Gender (M/F)]]=\"\",\"\",Table1[[#This Row],[Gender (M/F)]])","v":""},{"$f":"IF(Table1[[#This Row],[DisAdv (Y/N)]]=\"\",\"\",Table1[[#This Row],[DisAdv (Y/N)]])","v":""},{"$f":"IF(Table1[[#This Row],[SEND (E,K,N)]]=\"\",\"\",Table1[[#This Row],[SEND (E,K,N)]])","v":""},"",{"$f":"IF(LEN(Table2[[#This Row],[Pupil Name]])>0,1,0)","v":0}]
[{"$f":"IF(Table1[[#This Row],[School/Group Name]]=\"\",\"\",Table1[[#This Row],[School/Group Name]])","v":""},{"$f":"IF(Table1[[#This Row],[Pupil Name]]=\"\",\"\",Table1[[#This Row],[Pupil Name]])","v":""},{"$f":"IF(Table1[[#This Row],[Gender (M/F)]]=\"\",\"\",Table1[[#This Row],[Gender (M/F)]])","v":""},{"$f":"IF(Table1[[#This Row],[DisAdv (Y/N)]]=\"\",\"\",Table1[[#This Row],[DisAdv (Y/N)]])","v":""},{"$f":"IF(Table1[[#This Row],[SEND (E,K,N)]]=\"\",\"\",Table1[[#This Row],[SEND (E,K,N)]])","v":""},"",{"$f":"IF(LEN(Table2[[#This Row],[Pupil Name]])>0,1,0)","v":0}]
[{"$f":"IF(Table1[[#This Row],[School/Group Name]]=\"\",\"\",Table1[[#This Row],[School/Group Name]])","v":""},{"$f":"IF(Table1[[#This Row],[Pupil Name]]=\"\",\"\",Table1[[#This Row],[Pupil Name]])","v":""},{"$f":"IF(Table1[[#This Row],[Gender (M/F)]]=\"\",\"\",Table1[[#This Row],[Gender (M/F)]])","v":""},{"$f":"IF(Table1[[#This Row],[DisAdv (Y/N)]]=\"\",\"\",Table1[[#This Row],[DisAdv (Y/N)]])","v":""},{"$f":"IF(Table1[[#This Row],[SEND (E,K,N)]]=\"\",\"\",Table1[[#This Row],[SEND (E,K,N)]])","v":""},"",{"$f":"IF(LEN(Table2[[#This Row],[Pupil Name]])>0,1,0)","v":0}]
[{"$f":"IF(Table1[[#This Row],[School/Group Name]]=\"\",\"\",Table1[[#This Row],[School/Group Name]])","v":""},{"$f":"IF(Table1[[#This Row],[Pupil Name]]=\"\",\"\",Table1[[#This Row],[Pupil Name]])","v":""},{"$f":"IF(Table1[[#This Row],[Gender (M/F)]]=\"\",\"\",Table1[[#This Row],[Gender (M/F)]])","v":""},{"$f":"IF(Table1[[#This Row],[DisAdv (Y/N)]]=\"\",\"\",Table1[[#This Row],[DisAdv (Y/N)]])","v":""},{"$f":"IF(Table1[[#This Row],[SEND (E,K,N)]]=\"\",\"\",Table1[[#This Row],[SEND (E,K,N)]])","v":""},"",{"$f":"IF(LEN(Table2[[#This Row],[Pupil Name]])>0,1,0)","v":0}]
[{"$f":"IF(Table1[[#This Row],[School/Group Name]]=\"\",\"\",Table1[[#This Row],[School/Group Name]])","v":""},{"$f":"IF(Table1[[#This Row],[Pupil Name]]=\"\",\"\",Table1[[#This Row],[Pupil Name]])","v":""},{"$f":"IF(Table1[[#This Row],[Gender (M/F)]]=\"\",\"\",Table1[[#This Row],[Gender (M/F)]])","v":""},{"$f":"IF(Table1[[#This Row],[DisAdv (Y/N)]]=\"\",\"\",Table1[[#This Row],[DisAdv (Y/N)]])","v":""},{"$f":"IF(Table1[[#This Row],[SEND (E,K,N)]]=\"\",\"\",Table1[[#This Row],[SEND (E,K,N)]])","v":""},"",{"$f":"IF(LEN(Table2[[#This Row],[Pupil Name]])>0,1,0)","v":0}]
[{"$f":"IF(Table1[[#This Row],[School/Group Name]]=\"\",\"\",Table1[[#This Row],[School/Group Name]])","v":""},{"$f":"IF(Table1[[#This Row],[Pupil Name]]=\"\",\"\",Table1[[#This Row],[Pupil Name]])","v":""},{"$f":"IF(Table1[[#This Row],[Gender (M/F)]]=\"\",\"\",Table1[[#This Row],[Gender (M/F)]])","v":""},{"$f":"IF(Table1[[#This Row],[DisAdv (Y/N)]]=\"\",\"\",Table1[[#This Row],[DisAdv (Y/N)]])","v":""},{"$f":"IF(Table1[[#This Row],[SEND (E,K,N)]]=\"\",\"\",Table1[[#This Row],[SEND (E,K,N)]])","v":""},"",{"$f":"IF(LEN(Table2[[#This Row],[Pupil Name]])>0,1,0)","v":0}]
[{"$f":"IF(Table1[[#This Row],[School/Group Name]]=\"\",\"\",Table1[[#This Row],[School/Group Name]])","v":""},{"$f":"IF(Table1[[#This Row],[Pupil Name]]=\"\",\"\",Table1[[#This Row],[Pupil Name]])","v":""},{"$f":"IF(Table1[[#This Row],[Gender (M/F)]]=\"\",\"\",Table1[[#This Row],[Gender (M/F)]])","v":""},{"$f":"IF(Table1[[#This Row],[DisAdv (Y/N)]]=\"\",\"\",Table1[[#This Row],[DisAdv (Y/N)]])","v":""},{"$f":"IF(Table1[[#This Row],[SEND (E,K,N)]]=\"\",\"\",Table1[[#This Row],[SEND (E,K,N)]])","v":""},"",{"$f":"IF(LEN(Table2[[#This Row],[Pupil Name]])>0,1,0)","v":0}]
[{"$f":"IF(Table1[[#This Row],[School/Group Name]]=\"\",\"\",Table1[[#This Row],[School/Group Name]])","v":""},{"$f":"IF(Table1[[#This Row],[Pupil Name]]=\"\",\"\",Table1[[#This Row],[Pupil Name]])","v":""},{"$f":"IF(Table1[[#This Row],[Gender (M/F)]]=\"\",\"\",Table1[[#This Row],[Gender (M/F)]])","v":""},{"$f":"IF(Table1[[#This Row],[DisAdv (Y/N)]]=\"\",\"\",Table1[[#This Row],[DisAdv (Y/N)]])","v":""},{"$f":"IF(Table1[[#This Row],[SEND (E,K,N)]]=\"\",\"\",Table1[[#This Row],[SEND (E,K,N)]])","v":""},"",{"$f":"IF(LEN(Table2[[#This Row],[Pupil Name]])>0,1,0)","v":0}]
[{"$f":"IF(Table1[[#This Row],[School/Group Name]]=\"\",\"\",Table1[[#This Row],[School/Group Name]])","v":""},{"$f":"IF(Table1[[#This Row],[Pupil Name]]=\"\",\"\",Table1[[#This Row],[Pupil Name]])","v":""},{"$f":"IF(Table1[[#This Row],[Gender (M/F)]]=\"\",\"\",Table1[[#This Row],[Gender (M/F)]])","v":""},{"$f":"IF(Table1[[#This Row],[DisAdv (Y/N)]]=\"\",\"\",Table1[[#This Row],[DisAdv (Y/N)]])","v":""},{"$f":"IF(Table1[[#This Row],[SEND (E,K,N)]]=\"\",\"\",Table1[[#This Row],[SEND (E,K,N)]])","v":""},"",{"$f":"IF(LEN(Table2[[#This Row],[Pupil Name]])>0,1,0)","v":0}]
[{"$f":"IF(Table1[[#This Row],[School/Group Name]]=\"\",\"\",Table1[[#This Row],[School/Group Name]])","v":""},{"$f":"IF(Table1[[#This Row],[Pupil Name]]=\"\",\"\",Table1[[#This Row],[Pupil Name]])","v":""},{"$f":"IF(Table1[[#This Row],[Gender (M/F)]]=\"\",\"\",Table1[[#This Row],[Gender (M/F)]])","v":""},{"$f":"IF(Table1[[#This Row],[DisAdv (Y/N)]]=\"\",\"\",Table1[[#This Row],[DisAdv (Y/N)]])","v":""},{"$f":"IF(Table1[[#This Row],[SEND (E,K,N)]]=\"\",\"\",Table1[[#This Row],[SEND (E,K,N)]])","v":""},"",{"$f":"IF(LEN(Table2[[#This Row],[Pupil Name]])>0,1,0)","v":0}]
[{"$f":"IF(Table1[[#This Row],[School/Group Name]]=\"\",\"\",Table1[[#This Row],[School/Group Name]])","v":""},{"$f":"IF(Table1[[#This Row],[Pupil Name]]=\"\",\"\",Table1[[#This Row],[Pupil Name]])","v":""},{"$f":"IF(Table1[[#This Row],[Gender (M/F)]]=\"\",\"\",Table1[[#This Row],[Gender (M/F)]])","v":""},{"$f":"IF(Table1[[#This Row],[DisAdv (Y/N)]]=\"\",\"\",Table1[[#This Row],[DisAdv (Y/N)]])","v":""},{"$f":"IF(Table1[[#This Row],[SEND (E,K,N)]]=\"\",\"\",Table1[[#This Row],[SEND (E,K,N)]])","v":""},"",{"$f":"IF(LEN(Table2[[#This Row],[Pupil Name]])>0,1,0)","v":0}]
[{"$f":"IF(Table1[[#This Row],[School/Group Name]]=\"\",\"\",Table1[[#This Row],[School/Group Name]])","v":""},{"$f":"IF(Table1[[#This Row],[Pupil Name]]=\"\",\"\",Table1[[#This Row],[Pupil Name]])","v":""},{"$f":"IF(Table1[[#This Row],[Gender (M/F)]]=\"\",\"\",Table1[[#This Row],[Gender (M/F)]])","v":""},{"$f":"IF(Table1[[#This Row],[DisAdv (Y/N)]]=\"\",\"\",Table1[[#This Row],[DisAdv (Y/N)]])","v":""},{"$f":"IF(Table1[[#This Row],[SEND (E,K,N)]]=\"\",\"\",Table1[[#This Row],[SEND (E,K,N)]])","v":""},"",{"$f":"IF(LEN(Table2[[#This Row],[Pupil Name]])>0,1,0)","v":0}]
[{"$f":"IF(Table1[[#This Row],[School/Group Name]]=\"\",\"\",Table1[[#This Row],[School/Group Name]])","v":""},{"$f":"IF(Table1[[#This Row],[Pupil Name]]=\"\",\"\",Table1[[#This Row],[Pupil Name]])","v":""},{"$f":"IF(Table1[[#This Row],[Gender (M/F)]]=\"\",\"\",Table1[[#This Row],[Gender (M/F)]])","v":""},{"$f":"IF(Table1[[#This Row],[DisAdv (Y/N)]]=\"\",\"\",Table1[[#This Row],[DisAdv (Y/N)]])","v":""},{"$f":"IF(Table1[[#This Row],[SEND (E,K,N)]]=\"\",\"\",Table1[[#This Row],[SEND (E,K,N)]])","v":""},"",{"$f":"IF(LEN(Table2[[#This Row],[Pupil Name]])>0,1,0)","v":0}]
[{"$f":"IF(Table1[[#This Row],[School/Group Name]]=\"\",\"\",Table1[[#This Row],[School/Group Name]])","v":""},{"$f":"IF(Table1[[#This Row],[Pupil Name]]=\"\",\"\",Table1[[#This Row],[Pupil Name]])","v":""},{"$f":"IF(Table1[[#This Row],[Gender (M/F)]]=\"\",\"\",Table1[[#This Row],[Gender (M/F)]])","v":""},{"$f":"IF(Table1[[#This Row],[DisAdv (Y/N)]]=\"\",\"\",Table1[[#This Row],[DisAdv (Y/N)]])","v":""},{"$f":"IF(Table1[[#This Row],[SEND (E,K,N)]]=\"\",\"\",Table1[[#This Row],[SEND (E,K,N)]])","v":""},"",{"$f":"IF(LEN(Table2[[#This Row],[Pupil Name]])>0,1,0)","v":0}]
[{"$f":"IF(Table1[[#This Row],[School/Group Name]]=\"\",\"\",Table1[[#This Row],[School/Group Name]])","v":""},{"$f":"IF(Table1[[#This Row],[Pupil Name]]=\"\",\"\",Table1[[#This Row],[Pupil Name]])","v":""},{"$f":"IF(Table1[[#This Row],[Gender (M/F)]]=\"\",\"\",Table1[[#This Row],[Gender (M/F)]])","v":""},{"$f":"IF(Table1[[#This Row],[DisAdv (Y/N)]]=\"\",\"\",Table1[[#This Row],[DisAdv (Y/N)]])","v":""},{"$f":"IF(Table1[[#This Row],[SEND (E,K,N)]]=\"\",\"\",Table1[[#This Row],[SEND (E,K,N)]])","v":""},"",{"$f":"IF(LEN(Table2[[#This Row],[Pupil Name]])>0,1,0)","v":0}]
[{"$f":"IF(Table1[[#This Row],[School/Group Name]]=\"\",\"\",Table1[[#This Row],[School/Group Name]])","v":""},{"$f":"IF(Table1[[#This Row],[Pupil Name]]=\"\",\"\",Table1[[#This Row],[Pupil Name]])","v":""},{"$f":"IF(Table1[[#This Row],[Gender (M/F)]]=\"\",\"\",Table1[[#This Row],[Gender (M/F)]])","v":""},{"$f":"IF(Table1[[#This Row],[DisAdv (Y/N)]]=\"\",\"\",Table1[[#This Row],[DisAdv (Y/N)]])","v":""},{"$f":"IF(Table1[[#This Row],[SEND (E,K,N)]]=\"\",\"\",Table1[[#This Row],[SEND (E,K,N)]])","v":""},"",{"$f":"IF(LEN(Table2[[#This Row],[Pupil Name]])>0,1,0)","v":0}]
[{"$f":"IF(Table1[[#This Row],[School/Group Name]]=\"\",\"\",Table1[[#This Row],[School/Group Name]])","v":""},{"$f":"IF(Table1[[#This Row],[Pupil Name]]=\"\",\"\",Table1[[#This Row],[Pupil Name]])","v":""},{"$f":"IF(Table1[[#This Row],[Gender (M/F)]]=\"\",\"\",Table1[[#This Row],[Gender (M/F)]])","v":""},{"$f":"IF(Table1[[#This Row],[DisAdv (Y/N)]]=\"\",\"\",Table1[[#This Row],[DisAdv (Y/N)]])","v":""},{"$f":"IF(Table1[[#This Row],[SEND (E,K,N)]]=\"\",\"\",Table1[[#This Row],[SEND (E,K,N)]])","v":""},"",{"$f":"IF(LEN(Table2[[#This Row],[Pupil Name]])>0,1,0)","v":0}]
[{"$f":"IF(Table1[[#This Row],[School/Group Name]]=\"\",\"\",Table1[[#This Row],[School/Group Name]])","v":""},{"$f":"IF(Table1[[#This Row],[Pupil Name]]=\"\",\"\",Table1[[#This Row],[Pupil Name]])","v":""},{"$f":"IF(Table1[[#This Row],[Gender (M/F)]]=\"\",\"\",Table1[[#This Row],[Gender (M/F)]])","v":""},{"$f":"IF(Table1[[#This Row],[DisAdv (Y/N)]]=\"\",\"\",Table1[[#This Row],[DisAdv (Y/N)]])","v":""},{"$f":"IF(Table1[[#This Row],[SEND (E,K,N)]]=\"\",\"\",Table1[[#This Row],[SEND (E,K,N)]])","v":""},"",{"$f":"IF(LEN(Table2[[#This Row],[Pupil Name]])>0,1,0)","v":0}]
[{"$f":"IF(Table1[[#This Row],[School/Group Name]]=\"\",\"\",Table1[[#This Row],[School/Group Name]])","v":""},{"$f":"IF(Table1[[#This Row],[Pupil Name]]=\"\",\"\",Table1[[#This Row],[Pupil Name]])","v":""},{"$f":"IF(Table1[[#This Row],[Gender (M/F)]]=\"\",\"\",Table1[[#This Row],[Gender (M/F)]])","v":""},{"$f":"IF(Table1[[#This Row],[DisAdv (Y/N)]]=\"\",\"\",Table1[[#This Row],[DisAdv (Y/N)]])","v":""},{"$f":"IF(Table1[[#This Row],[SEND (E,K,N)]]=\"\",\"\",Table1[[#This Row],[SEND (E,K,N)]])","v":""},"",{"$f":"IF(LEN(Table2[[#This Row],[Pupil Name]])>0,1,0)","v":0}]
[{"$f":"IF(Table1[[#This Row],[School/Group Name]]=\"\",\"\",Table1[[#This Row],[School/Group Name]])","v":""},{"$f":"IF(Table1[[#This Row],[Pupil Name]]=\"\",\"\",Table1[[#This Row],[Pupil Name]])","v":""},{"$f":"IF(Table1[[#This Row],[Gender (M/F)]]=\"\",\"\",Table1[[#This Row],[Gender (M/F)]])","v":""},{"$f":"IF(Table1[[#This Row],[DisAdv (Y/N)]]=\"\",\"\",Table1[[#This Row],[DisAdv (Y/N)]])","v":""},{"$f":"IF(Table1[[#This Row],[SEND (E,K,N)]]=\"\",\"\",Table1[[#This Row],[SEND (E,K,N)]])","v":""},"",{"$f":"IF(LEN(Table2[[#This Row],[Pupil Name]])>0,1,0)","v":0}]
[{"$f":"IF(Table1[[#This Row],[School/Group Name]]=\"\",\"\",Table1[[#This Row],[School/Group Name]])","v":""},{"$f":"IF(Table1[[#This Row],[Pupil Name]]=\"\",\"\",Table1[[#This Row],[Pupil Name]])","v":""},{"$f":"IF(Table1[[#This Row],[Gender (M/F)]]=\"\",\"\",Table1[[#This Row],[Gender (M/F)]])","v":""},{"$f":"IF(Table1[[#This Row],[DisAdv (Y/N)]]=\"\",\"\",Table1[[#This Row],[DisAdv (Y/N)]])","v":""},{"$f":"IF(Table1[[#This Row],[SEND (E,K,N)]]=\"\",\"\",Table1[[#This Row],[SEND (E,K,N)]])","v":""},"",{"$f":"IF(LEN(Table2[[#This Row],[Pupil Name]])>0,1,0)","v":0}]
[{"$f":"IF(Table1[[#This Row],[School/Group Name]]=\"\",\"\",Table1[[#This Row],[School/Group Name]])","v":""},{"$f":"IF(Table1[[#This Row],[Pupil Name]]=\"\",\"\",Table1[[#This Row],[Pupil Name]])","v":""},{"$f":"IF(Table1[[#This Row],[Gender (M/F)]]=\"\",\"\",Table1[[#This Row],[Gender (M/F)]])","v":""},{"$f":"IF(Table1[[#This Row],[DisAdv (Y/N)]]=\"\",\"\",Table1[[#This Row],[DisAdv (Y/N)]])","v":""},{"$f":"IF(Table1[[#This Row],[SEND (E,K,N)]]=\"\",\"\",Table1[[#This Row],[SEND (E,K,N)]])","v":""},"",{"$f":"IF(LEN(Table2[[#This Row],[Pupil Name]])>0,1,0)","v":0}]
[{"$f":"IF(Table1[[#This Row],[School/Group Name]]=\"\",\"\",Table1[[#This Row],[School/Group Name]])","v":""},{"$f":"IF(Table1[[#This Row],[Pupil Name]]=\"\",\"\",Table1[[#This Row],[Pupil Name]])","v":""},{"$f":"IF(Table1[[#This Row],[Gender (M/F)]]=\"\",\"\",Table1[[#This Row],[Gender (M/F)]])","v":""},{"$f":"IF(Table1[[#This Row],[DisAdv (Y/N)]]=\"\",\"\",Table1[[#This Row],[DisAdv (Y/N)]])","v":""},{"$f":"IF(Table1[[#This Row],[SEND (E,K,N)]]=\"\",\"\",Table1[[#This Row],[SEND (E,K,N)]])","v":""},"",{"$f":"IF(LEN(Table2[[#This Row],[Pupil Name]])>0,1,0)","v":0}]
[{"$f":"IF(Table1[[#This Row],[School/Group Name]]=\"\",\"\",Table1[[#This Row],[School/Group Name]])","v":""},{"$f":"IF(Table1[[#This Row],[Pupil Name]]=\"\",\"\",Table1[[#This Row],[Pupil Name]])","v":""},{"$f":"IF(Table1[[#This Row],[Gender (M/F)]]=\"\",\"\",Table1[[#This Row],[Gender (M/F)]])","v":""},{"$f":"IF(Table1[[#This Row],[DisAdv (Y/N)]]=\"\",\"\",Table1[[#This Row],[DisAdv (Y/N)]])","v":""},{"$f":"IF(Table1[[#This Row],[SEND (E,K,N)]]=\"\",\"\",Table1[[#This Row],[SEND (E,K,N)]])","v":""},"",{"$f":"IF(LEN(Table2[[#This Row],[Pupil Name]])>0,1,0)","v":0}]
[{"$f":"IF(Table1[[#This Row],[School/Group Name]]=\"\",\"\",Table1[[#This Row],[School/Group Name]])","v":""},{"$f":"IF(Table1[[#This Row],[Pupil Name]]=\"\",\"\",Table1[[#This Row],[Pupil Name]])","v":""},{"$f":"IF(Table1[[#This Row],[Gender (M/F)]]=\"\",\"\",Table1[[#This Row],[Gender (M/F)]])","v":""},{"$f":"IF(Table1[[#This Row],[DisAdv (Y/N)]]=\"\",\"\",Table1[[#This Row],[DisAdv (Y/N)]])","v":""},{"$f":"IF(Table1[[#This Row],[SEND (E,K,N)]]=\"\",\"\",Table1[[#This Row],[SEND (E,K,N)]])","v":""},"",{"$f":"IF(LEN(Table2[[#This Row],[Pupil Name]])>0,1,0)","v":0}]
[{"$f":"IF(Table1[[#This Row],[School/Group Name]]=\"\",\"\",Table1[[#This Row],[School/Group Name]])","v":""},{"$f":"IF(Table1[[#This Row],[Pupil Name]]=\"\",\"\",Table1[[#This Row],[Pupil Name]])","v":""},{"$f":"IF(Table1[[#This Row],[Gender (M/F)]]=\"\",\"\",Table1[[#This Row],[Gender (M/F)]])","v":""},{"$f":"IF(Table1[[#This Row],[DisAdv (Y/N)]]=\"\",\"\",Table1[[#This Row],[DisAdv (Y/N)]])","v":""},{"$f":"IF(Table1[[#This Row],[SEND (E,K,N)]]=\"\",\"\",Table1[[#This Row],[SEND (E,K,N)]])","v":""},"",{"$f":"IF(LEN(Table2[[#This Row],[Pupil Name]])>0,1,0)","v":0}]
[{"$f":"IF(Table1[[#This Row],[School/Group Name]]=\"\",\"\",Table1[[#This Row],[School/Group Name]])","v":""},{"$f":"IF(Table1[[#This Row],[Pupil Name]]=\"\",\"\",Table1[[#This Row],[Pupil Name]])","v":""},{"$f":"IF(Table1[[#This Row],[Gender (M/F)]]=\"\",\"\",Table1[[#This Row],[Gender (M/F)]])","v":""},{"$f":"IF(Table1[[#This Row],[DisAdv (Y/N)]]=\"\",\"\",Table1[[#This Row],[DisAdv (Y/N)]])","v":""},{"$f":"IF(Table1[[#This Row],[SEND (E,K,N)]]=\"\",\"\",Table1[[#This Row],[SEND (E,K,N)]])","v":""},"",{"$f":"IF(LEN(Table2[[#This Row],[Pupil Name]])>0,1,0)","v":0}]
[{"$f":"IF(Table1[[#This Row],[School/Group Name]]=\"\",\"\",Table1[[#This Row],[School/Group Name]])","v":""},{"$f":"IF(Table1[[#This Row],[Pupil Name]]=\"\",\"\",Table1[[#This Row],[Pupil Name]])","v":""},{"$f":"IF(Table1[[#This Row],[Gender (M/F)]]=\"\",\"\",Table1[[#This Row],[Gender (M/F)]])","v":""},{"$f":"IF(Table1[[#This Row],[DisAdv (Y/N)]]=\"\",\"\",Table1[[#This Row],[DisAdv (Y/N)]])","v":""},{"$f":"IF(Table1[[#This Row],[SEND (E,K,N)]]=\"\",\"\",Table1[[#This Row],[SEND (E,K,N)]])","v":""},"",{"$f":"IF(LEN(Table2[[#This Row],[Pupil Name]])>0,1,0)","v":0}]
[{"$f":"IF(Table1[[#This Row],[School/Group Name]]=\"\",\"\",Table1[[#This Row],[School/Group Name]])","v":""},{"$f":"IF(Table1[[#This Row],[Pupil Name]]=\"\",\"\",Table1[[#This Row],[Pupil Name]])","v":""},{"$f":"IF(Table1[[#This Row],[Gender (M/F)]]=\"\",\"\",Table1[[#This Row],[Gender (M/F)]])","v":""},{"$f":"IF(Table1[[#This Row],[DisAdv (Y/N)]]=\"\",\"\",Table1[[#This Row],[DisAdv (Y/N)]])","v":""},{"$f":"IF(Table1[[#This Row],[SEND (E,K,N)]]=\"\",\"\",Table1[[#This Row],[SEND (E,K,N)]])","v":""},"",{"$f":"IF(LEN(Table2[[#This Row],[Pupil Name]])>0,1,0)","v":0}]
[{"$f":"IF(Table1[[#This Row],[School/Group Name]]=\"\",\"\",Table1[[#This Row],[School/Group Name]])","v":""},{"$f":"IF(Table1[[#This Row],[Pupil Name]]=\"\",\"\",Table1[[#This Row],[Pupil Name]])","v":""},{"$f":"IF(Table1[[#This Row],[Gender (M/F)]]=\"\",\"\",Table1[[#This Row],[Gender (M/F)]])","v":""},{"$f":"IF(Table1[[#This Row],[DisAdv (Y/N)]]=\"\",\"\",Table1[[#This Row],[DisAdv (Y/N)]])","v":""},{"$f":"IF(Table1[[#This Row],[SEND (E,K,N)]]=\"\",\"\",Table1[[#This Row],[SEND (E,K,N)]])","v":""},"",{"$f":"IF(LEN(Table2[[#This Row],[Pupil Name]])>0,1,0)","v":0}]
[{"$f":"IF(Table1[[#This Row],[School/Group Name]]=\"\",\"\",Table1[[#This Row],[School/Group Name]])","v":""},{"$f":"IF(Table1[[#This Row],[Pupil Name]]=\"\",\"\",Table1[[#This Row],[Pupil Name]])","v":""},{"$f":"IF(Table1[[#This Row],[Gender (M/F)]]=\"\",\"\",Table1[[#This Row],[Gender (M/F)]])","v":""},{"$f":"IF(Table1[[#This Row],[DisAdv (Y/N)]]=\"\",\"\",Table1[[#This Row],[DisAdv (Y/N)]])","v":""},{"$f":"IF(Table1[[#This Row],[SEND (E,K,N)]]=\"\",\"\",Table1[[#This Row],[SEND (E,K,N)]])","v":""},"",{"$f":"IF(LEN(Table2[[#This Row],[Pupil Name]])>0,1,0)","v":0}]
[{"$f":"IF(Table1[[#This Row],[School/Group Name]]=\"\",\"\",Table1[[#This Row],[School/Group Name]])","v":""},{"$f":"IF(Table1[[#This Row],[Pupil Name]]=\"\",\"\",Table1[[#This Row],[Pupil Name]])","v":""},{"$f":"IF(Table1[[#This Row],[Gender (M/F)]]=\"\",\"\",Table1[[#This Row],[Gender (M/F)]])","v":""},{"$f":"IF(Table1[[#This Row],[DisAdv (Y/N)]]=\"\",\"\",Table1[[#This Row],[DisAdv (Y/N)]])","v":""},{"$f":"IF(Table1[[#This Row],[SEND (E,K,N)]]=\"\",\"\",Table1[[#This Row],[SEND (E,K,N)]])","v":""},"",{"$f":"IF(LEN(Table2[[#This Row],[Pupil Name]])>0,1,0)","v":0}]
[{"$f":"IF(Table1[[#This Row],[School/Group Name]]=\"\",\"\",Table1[[#This Row],[School/Group Name]])","v":""},{"$f":"IF(Table1[[#This Row],[Pupil Name]]=\"\",\"\",Table1[[#This Row],[Pupil Name]])","v":""},{"$f":"IF(Table1[[#This Row],[Gender (M/F)]]=\"\",\"\",Table1[[#This Row],[Gender (M/F)]])","v":""},{"$f":"IF(Table1[[#This Row],[DisAdv (Y/N)]]=\"\",\"\",Table1[[#This Row],[DisAdv (Y/N)]])","v":""},{"$f":"IF(Table1[[#This Row],[SEND (E,K,N)]]=\"\",\"\",Table1[[#This Row],[SEND (E,K,N)]])","v":""},"",{"$f":"IF(LEN(Table2[[#This Row],[Pupil Name]])>0,1,0)","v":0}]
[{"$f":"IF(Table1[[#This Row],[School/Group Name]]=\"\",\"\",Table1[[#This Row],[School/Group Name]])","v":""},{"$f":"IF(Table1[[#This Row],[Pupil Name]]=\"\",\"\",Table1[[#This Row],[Pupil Name]])","v":""},{"$f":"IF(Table1[[#This Row],[Gender (M/F)]]=\"\",\"\",Table1[[#This Row],[Gender (M/F)]])","v":""},{"$f":"IF(Table1[[#This Row],[DisAdv (Y/N)]]=\"\",\"\",Table1[[#This Row],[DisAdv (Y/N)]])","v":""},{"$f":"IF(Table1[[#This Row],[SEND (E,K,N)]]=\"\",\"\",Table1[[#This Row],[SEND (E,K,N)]])","v":""},"",{"$f":"IF(LEN(Table2[[#This Row],[Pupil Name]])>0,1,0)","v":0}]
[{"$f":"IF(Table1[[#This Row],[School/Group Name]]=\"\",\"\",Table1[[#This Row],[School/Group Name]])","v":""},{"$f":"IF(Table1[[#This Row],[Pupil Name]]=\"\",\"\",Table1[[#This Row],[Pupil Name]])","v":""},{"$f":"IF(Table1[[#This Row],[Gender (M/F)]]=\"\",\"\",Table1[[#This Row],[Gender (M/F)]])","v":""},{"$f":"IF(Table1[[#This Row],[DisAdv (Y/N)]]=\"\",\"\",Table1[[#This Row],[DisAdv (Y/N)]])","v":""},{"$f":"IF(Table1[[#This Row],[SEND (E,K,N)]]=\"\",\"\",Table1[[#This Row],[SEND (E,K,N)]])","v":""},"",{"$f":"IF(LEN(Table2[[#This Row],[Pupil Name]])>0,1,0)","v":0}]
[{"$f":"IF(Table1[[#This Row],[School/Group Name]]=\"\",\"\",Table1[[#This Row],[School/Group Name]])","v":""},{"$f":"IF(Table1[[#This Row],[Pupil Name]]=\"\",\"\",Table1[[#This Row],[Pupil Name]])","v":""},{"$f":"IF(Table1[[#This Row],[Gender (M/F)]]=\"\",\"\",Table1[[#This Row],[Gender (M/F)]])","v":""},{"$f":"IF(Table1[[#This Row],[DisAdv (Y/N)]]=\"\",\"\",Table1[[#This Row],[DisAdv (Y/N)]])","v":""},{"$f":"IF(Table1[[#This Row],[SEND (E,K,N)]]=\"\",\"\",Table1[[#This Row],[SEND (E,K,N)]])","v":""},"",{"$f":"IF(LEN(Table2[[#This Row],[Pupil Name]])>0,1,0)","v":0}]
[{"$f":"IF(Table1[[#This Row],[School/Group Name]]=\"\",\"\",Table1[[#This Row],[School/Group Name]])","v":""},{"$f":"IF(Table1[[#This Row],[Pupil Name]]=\"\",\"\",Table1[[#This Row],[Pupil Name]])","v":""},{"$f":"IF(Table1[[#This Row],[Gender (M/F)]]=\"\",\"\",Table1[[#This Row],[Gender (M/F)]])","v":""},{"$f":"IF(Table1[[#This Row],[DisAdv (Y/N)]]=\"\",\"\",Table1[[#This Row],[DisAdv (Y/N)]])","v":""},{"$f":"IF(Table1[[#This Row],[SEND (E,K,N)]]=\"\",\"\",Table1[[#This Row],[SEND (E,K,N)]])","v":""},"",{"$f":"IF(LEN(Table2[[#This Row],[Pupil Name]])>0,1,0)","v":0}]
[{"$f":"IF(Table1[[#This Row],[School/Group Name]]=\"\",\"\",Table1[[#This Row],[School/Group Name]])","v":""},{"$f":"IF(Table1[[#This Row],[Pupil Name]]=\"\",\"\",Table1[[#This Row],[Pupil Name]])","v":""},{"$f":"IF(Table1[[#This Row],[Gender (M/F)]]=\"\",\"\",Table1[[#This Row],[Gender (M/F)]])","v":""},{"$f":"IF(Table1[[#This Row],[DisAdv (Y/N)]]=\"\",\"\",Table1[[#This Row],[DisAdv (Y/N)]])","v":""},{"$f":"IF(Table1[[#This Row],[SEND (E,K,N)]]=\"\",\"\",Table1[[#This Row],[SEND (E,K,N)]])","v":""},"",{"$f":"IF(LEN(Table2[[#This Row],[Pupil Name]])>0,1,0)","v":0}]
[{"$f":"IF(Table1[[#This Row],[School/Group Name]]=\"\",\"\",Table1[[#This Row],[School/Group Name]])","v":""},{"$f":"IF(Table1[[#This Row],[Pupil Name]]=\"\",\"\",Table1[[#This Row],[Pupil Name]])","v":""},{"$f":"IF(Table1[[#This Row],[Gender (M/F)]]=\"\",\"\",Table1[[#This Row],[Gender (M/F)]])","v":""},{"$f":"IF(Table1[[#This Row],[DisAdv (Y/N)]]=\"\",\"\",Table1[[#This Row],[DisAdv (Y/N)]])","v":""},{"$f":"IF(Table1[[#This Row],[SEND (E,K,N)]]=\"\",\"\",Table1[[#This Row],[SEND (E,K,N)]])","v":""},"",{"$f":"IF(LEN(Table2[[#This Row],[Pupil Name]])>0,1,0)","v":0}]
[{"$f":"IF(Table1[[#This Row],[School/Group Name]]=\"\",\"\",Table1[[#This Row],[School/Group Name]])","v":""},{"$f":"IF(Table1[[#This Row],[Pupil Name]]=\"\",\"\",Table1[[#This Row],[Pupil Name]])","v":""},{"$f":"IF(Table1[[#This Row],[Gender (M/F)]]=\"\",\"\",Table1[[#This Row],[Gender (M/F)]])","v":""},{"$f":"IF(Table1[[#This Row],[DisAdv (Y/N)]]=\"\",\"\",Table1[[#This Row],[DisAdv (Y/N)]])","v":""},{"$f":"IF(Table1[[#This Row],[SEND (E,K,N)]]=\"\",\"\",Table1[[#This Row],[SEND (E,K,N)]])","v":""},{"$f":"IF(H391=\"\",\"\",(SUM(H391:AG391)))","v":""},{"$f":"IF(LEN(Table2[[#This Row],[Pupil Name]])>0,1,0)","v":0}]
[{"$f":"IF(Table1[[#This Row],[School/Group Name]]=\"\",\"\",Table1[[#This Row],[School/Group Name]])","v":""},{"$f":"IF(Table1[[#This Row],[Pupil Name]]=\"\",\"\",Table1[[#This Row],[Pupil Name]])","v":""},{"$f":"IF(Table1[[#This Row],[Gender (M/F)]]=\"\",\"\",Table1[[#This Row],[Gender (M/F)]])","v":""},{"$f":"IF(Table1[[#This Row],[DisAdv (Y/N)]]=\"\",\"\",Table1[[#This Row],[DisAdv (Y/N)]])","v":""},{"$f":"IF(Table1[[#This Row],[SEND (E,K,N)]]=\"\",\"\",Table1[[#This Row],[SEND (E,K,N)]])","v":""},"",{"$f":"IF(LEN(Table2[[#This Row],[Pupil Name]])>0,1,0)","v":0}]
[{"$f":"IF(Table1[[#This Row],[School/Group Name]]=\"\",\"\",Table1[[#This Row],[School/Group Name]])","v":""},{"$f":"IF(Table1[[#This Row],[Pupil Name]]=\"\",\"\",Table1[[#This Row],[Pupil Name]])","v":""},{"$f":"IF(Table1[[#This Row],[Gender (M/F)]]=\"\",\"\",Table1[[#This Row],[Gender (M/F)]])","v":""},{"$f":"IF(Table1[[#This Row],[DisAdv (Y/N)]]=\"\",\"\",Table1[[#This Row],[DisAdv (Y/N)]])","v":""},{"$f":"IF(Table1[[#This Row],[SEND (E,K,N)]]=\"\",\"\",Table1[[#This Row],[SEND (E,K,N)]])","v":""},"",{"$f":"IF(LEN(Table2[[#This Row],[Pupil Name]])>0,1,0)","v":0}]
[{"$f":"IF(Table1[[#This Row],[School/Group Name]]=\"\",\"\",Table1[[#This Row],[School/Group Name]])","v":""},{"$f":"IF(Table1[[#This Row],[Pupil Name]]=\"\",\"\",Table1[[#This Row],[Pupil Name]])","v":""},{"$f":"IF(Table1[[#This Row],[Gender (M/F)]]=\"\",\"\",Table1[[#This Row],[Gender (M/F)]])","v":""},{"$f":"IF(Table1[[#This Row],[DisAdv (Y/N)]]=\"\",\"\",Table1[[#This Row],[DisAdv (Y/N)]])","v":""},{"$f":"IF(Table1[[#This Row],[SEND (E,K,N)]]=\"\",\"\",Table1[[#This Row],[SEND (E,K,N)]])","v":""},"",{"$f":"IF(LEN(Table2[[#This Row],[Pupil Name]])>0,1,0)","v":0}]
[{"$f":"IF(Table1[[#This Row],[School/Group Name]]=\"\",\"\",Table1[[#This Row],[School/Group Name]])","v":""},{"$f":"IF(Table1[[#This Row],[Pupil Name]]=\"\",\"\",Table1[[#This Row],[Pupil Name]])","v":""},{"$f":"IF(Table1[[#This Row],[Gender (M/F)]]=\"\",\"\",Table1[[#This Row],[Gender (M/F)]])","v":""},{"$f":"IF(Table1[[#This Row],[DisAdv (Y/N)]]=\"\",\"\",Table1[[#This Row],[DisAdv (Y/N)]])","v":""},{"$f":"IF(Table1[[#This Row],[SEND (E,K,N)]]=\"\",\"\",Table1[[#This Row],[SEND (E,K,N)]])","v":""},"",{"$f":"IF(LEN(Table2[[#This Row],[Pupil Name]])>0,1,0)","v":0}]
[{"$f":"IF(Table1[[#This Row],[School/Group Name]]=\"\",\"\",Table1[[#This Row],[School/Group Name]])","v":""},{"$f":"IF(Table1[[#This Row],[Pupil Name]]=\"\",\"\",Table1[[#This Row],[Pupil Name]])","v":""},{"$f":"IF(Table1[[#This Row],[Gender (M/F)]]=\"\",\"\",Table1[[#This Row],[Gender (M/F)]])","v":""},{"$f":"IF(Table1[[#This Row],[DisAdv (Y/N)]]=\"\",\"\",Table1[[#This Row],[DisAdv (Y/N)]])","v":""},{"$f":"IF(Table1[[#This Row],[SEND (E,K,N)]]=\"\",\"\",Table1[[#This Row],[SEND (E,K,N)]])","v":""},"",{"$f":"IF(LEN(Table2[[#This Row],[Pupil Name]])>0,1,0)","v":0}]
[{"$f":"IF(Table1[[#This Row],[School/Group Name]]=\"\",\"\",Table1[[#This Row],[School/Group Name]])","v":""},{"$f":"IF(Table1[[#This Row],[Pupil Name]]=\"\",\"\",Table1[[#This Row],[Pupil Name]])","v":""},{"$f":"IF(Table1[[#This Row],[Gender (M/F)]]=\"\",\"\",Table1[[#This Row],[Gender (M/F)]])","v":""},{"$f":"IF(Table1[[#This Row],[DisAdv (Y/N)]]=\"\",\"\",Table1[[#This Row],[DisAdv (Y/N)]])","v":""},{"$f":"IF(Table1[[#This Row],[SEND (E,K,N)]]=\"\",\"\",Table1[[#This Row],[SEND (E,K,N)]])","v":""},"",{"$f":"IF(LEN(Table2[[#This Row],[Pupil Name]])>0,1,0)","v":0}]
[{"$f":"IF(Table1[[#This Row],[School/Group Name]]=\"\",\"\",Table1[[#This Row],[School/Group Name]])","v":""},{"$f":"IF(Table1[[#This Row],[Pupil Name]]=\"\",\"\",Table1[[#This Row],[Pupil Name]])","v":""},{"$f":"IF(Table1[[#This Row],[Gender (M/F)]]=\"\",\"\",Table1[[#This Row],[Gender (M/F)]])","v":""},{"$f":"IF(Table1[[#This Row],[DisAdv (Y/N)]]=\"\",\"\",Table1[[#This Row],[DisAdv (Y/N)]])","v":""},{"$f":"IF(Table1[[#This Row],[SEND (E,K,N)]]=\"\",\"\",Table1[[#This Row],[SEND (E,K,N)]])","v":""},"",{"$f":"IF(LEN(Table2[[#This Row],[Pupil Name]])>0,1,0)","v":0}]
[{"$f":"IF(Table1[[#This Row],[School/Group Name]]=\"\",\"\",Table1[[#This Row],[School/Group Name]])","v":""},{"$f":"IF(Table1[[#This Row],[Pupil Name]]=\"\",\"\",Table1[[#This Row],[Pupil Name]])","v":""},{"$f":"IF(Table1[[#This Row],[Gender (M/F)]]=\"\",\"\",Table1[[#This Row],[Gender (M/F)]])","v":""},{"$f":"IF(Table1[[#This Row],[DisAdv (Y/N)]]=\"\",\"\",Table1[[#This Row],[DisAdv (Y/N)]])","v":""},{"$f":"IF(Table1[[#This Row],[SEND (E,K,N)]]=\"\",\"\",Table1[[#This Row],[SEND (E,K,N)]])","v":""},"",{"$f":"IF(LEN(Table2[[#This Row],[Pupil Name]])>0,1,0)","v":0}]
[{"$f":"IF(Table1[[#This Row],[School/Group Name]]=\"\",\"\",Table1[[#This Row],[School/Group Name]])","v":""},{"$f":"IF(Table1[[#This Row],[Pupil Name]]=\"\",\"\",Table1[[#This Row],[Pupil Name]])","v":""},{"$f":"IF(Table1[[#This Row],[Gender (M/F)]]=\"\",\"\",Table1[[#This Row],[Gender (M/F)]])","v":""},{"$f":"IF(Table1[[#This Row],[DisAdv (Y/N)]]=\"\",\"\",Table1[[#This Row],[DisAdv (Y/N)]])","v":""},{"$f":"IF(Table1[[#This Row],[SEND (E,K,N)]]=\"\",\"\",Table1[[#This Row],[SEND (E,K,N)]])","v":""},"",{"$f":"IF(LEN(Table2[[#This Row],[Pupil Name]])>0,1,0)","v":0}]
[{"$f":"IF(Table1[[#This Row],[School/Group Name]]=\"\",\"\",Table1[[#This Row],[School/Group Name]])","v":""},{"$f":"IF(Table1[[#This Row],[Pupil Name]]=\"\",\"\",Table1[[#This Row],[Pupil Name]])","v":""},{"$f":"IF(Table1[[#This Row],[Gender (M/F)]]=\"\",\"\",Table1[[#This Row],[Gender (M/F)]])","v":""},{"$f":"IF(Table1[[#This Row],[DisAdv (Y/N)]]=\"\",\"\",Table1[[#This Row],[DisAdv (Y/N)]])","v":""},{"$f":"IF(Table1[[#This Row],[SEND (E,K,N)]]=\"\",\"\",Table1[[#This Row],[SEND (E,K,N)]])","v":""},"",{"$f":"IF(LEN(Table2[[#This Row],[Pupil Name]])>0,1,0)","v":0}]
[{"$f":"IF(Table1[[#This Row],[School/Group Name]]=\"\",\"\",Table1[[#This Row],[School/Group Name]])","v":""},{"$f":"IF(Table1[[#This Row],[Pupil Name]]=\"\",\"\",Table1[[#This Row],[Pupil Name]])","v":""},{"$f":"IF(Table1[[#This Row],[Gender (M/F)]]=\"\",\"\",Table1[[#This Row],[Gender (M/F)]])","v":""},{"$f":"IF(Table1[[#This Row],[DisAdv (Y/N)]]=\"\",\"\",Table1[[#This Row],[DisAdv (Y/N)]])","v":""},{"$f":"IF(Table1[[#This Row],[SEND (E,K,N)]]=\"\",\"\",Table1[[#This Row],[SEND (E,K,N)]])","v":""},"",{"$f":"IF(LEN(Table2[[#This Row],[Pupil Name]])>0,1,0)","v":0}]
[{"$f":"IF(Table1[[#This Row],[School/Group Name]]=\"\",\"\",Table1[[#This Row],[School/Group Name]])","v":""},{"$f":"IF(Table1[[#This Row],[Pupil Name]]=\"\",\"\",Table1[[#This Row],[Pupil Name]])","v":""},{"$f":"IF(Table1[[#This Row],[Gender (M/F)]]=\"\",\"\",Table1[[#This Row],[Gender (M/F)]])","v":""},{"$f":"IF(Table1[[#This Row],[DisAdv (Y/N)]]=\"\",\"\",Table1[[#This Row],[DisAdv (Y/N)]])","v":""},{"$f":"IF(Table1[[#This Row],[SEND (E,K,N)]]=\"\",\"\",Table1[[#This Row],[SEND (E,K,N)]])","v":""},"",{"$f":"IF(LEN(Table2[[#This Row],[Pupil Name]])>0,1,0)","v":0}]
[{"$f":"IF(Table1[[#This Row],[School/Group Name]]=\"\",\"\",Table1[[#This Row],[School/Group Name]])","v":""},{"$f":"IF(Table1[[#This Row],[Pupil Name]]=\"\",\"\",Table1[[#This Row],[Pupil Name]])","v":""},{"$f":"IF(Table1[[#This Row],[Gender (M/F)]]=\"\",\"\",Table1[[#This Row],[Gender (M/F)]])","v":""},{"$f":"IF(Table1[[#This Row],[DisAdv (Y/N)]]=\"\",\"\",Table1[[#This Row],[DisAdv (Y/N)]])","v":""},{"$f":"IF(Table1[[#This Row],[SEND (E,K,N)]]=\"\",\"\",Table1[[#This Row],[SEND (E,K,N)]])","v":""},"",{"$f":"IF(LEN(Table2[[#This Row],[Pupil Name]])>0,1,0)","v":0}]
[{"$f":"IF(Table1[[#This Row],[School/Group Name]]=\"\",\"\",Table1[[#This Row],[School/Group Name]])","v":""},{"$f":"IF(Table1[[#This Row],[Pupil Name]]=\"\",\"\",Table1[[#This Row],[Pupil Name]])","v":""},{"$f":"IF(Table1[[#This Row],[Gender (M/F)]]=\"\",\"\",Table1[[#This Row],[Gender (M/F)]])","v":""},{"$f":"IF(Table1[[#This Row],[DisAdv (Y/N)]]=\"\",\"\",Table1[[#This Row],[DisAdv (Y/N)]])","v":""},{"$f":"IF(Table1[[#This Row],[SEND (E,K,N)]]=\"\",\"\",Table1[[#This Row],[SEND (E,K,N)]])","v":""},"",{"$f":"IF(LEN(Table2[[#This Row],[Pupil Name]])>0,1,0)","v":0}]
[{"$f":"IF(Table1[[#This Row],[School/Group Name]]=\"\",\"\",Table1[[#This Row],[School/Group Name]])","v":""},{"$f":"IF(Table1[[#This Row],[Pupil Name]]=\"\",\"\",Table1[[#This Row],[Pupil Name]])","v":""},{"$f":"IF(Table1[[#This Row],[Gender (M/F)]]=\"\",\"\",Table1[[#This Row],[Gender (M/F)]])","v":""},{"$f":"IF(Table1[[#This Row],[DisAdv (Y/N)]]=\"\",\"\",Table1[[#This Row],[DisAdv (Y/N)]])","v":""},{"$f":"IF(Table1[[#This Row],[SEND (E,K,N)]]=\"\",\"\",Table1[[#This Row],[SEND (E,K,N)]])","v":""},"",{"$f":"IF(LEN(Table2[[#This Row],[Pupil Name]])>0,1,0)","v":0}]
[{"$f":"IF(Table1[[#This Row],[School/Group Name]]=\"\",\"\",Table1[[#This Row],[School/Group Name]])","v":""},{"$f":"IF(Table1[[#This Row],[Pupil Name]]=\"\",\"\",Table1[[#This Row],[Pupil Name]])","v":""},{"$f":"IF(Table1[[#This Row],[Gender (M/F)]]=\"\",\"\",Table1[[#This Row],[Gender (M/F)]])","v":""},{"$f":"IF(Table1[[#This Row],[DisAdv (Y/N)]]=\"\",\"\",Table1[[#This Row],[DisAdv (Y/N)]])","v":""},{"$f":"IF(Table1[[#This Row],[SEND (E,K,N)]]=\"\",\"\",Table1[[#This Row],[SEND (E,K,N)]])","v":""},"",{"$f":"IF(LEN(Table2[[#This Row],[Pupil Name]])>0,1,0)","v":0}]
[{"$f":"IF(Table1[[#This Row],[School/Group Name]]=\"\",\"\",Table1[[#This Row],[School/Group Name]])","v":""},{"$f":"IF(Table1[[#This Row],[Pupil Name]]=\"\",\"\",Table1[[#This Row],[Pupil Name]])","v":""},{"$f":"IF(Table1[[#This Row],[Gender (M/F)]]=\"\",\"\",Table1[[#This Row],[Gender (M/F)]])","v":""},{"$f":"IF(Table1[[#This Row],[DisAdv (Y/N)]]=\"\",\"\",Table1[[#This Row],[DisAdv (Y/N)]])","v":""},{"$f":"IF(Table1[[#This Row],[SEND (E,K,N)]]=\"\",\"\",Table1[[#This Row],[SEND (E,K,N)]])","v":""},"",{"$f":"IF(LEN(Table2[[#This Row],[Pupil Name]])>0,1,0)","v":0}]
[{"$f":"IF(Table1[[#This Row],[School/Group Name]]=\"\",\"\",Table1[[#This Row],[School/Group Name]])","v":""},{"$f":"IF(Table1[[#This Row],[Pupil Name]]=\"\",\"\",Table1[[#This Row],[Pupil Name]])","v":""},{"$f":"IF(Table1[[#This Row],[Gender (M/F)]]=\"\",\"\",Table1[[#This Row],[Gender (M/F)]])","v":""},{"$f":"IF(Table1[[#This Row],[DisAdv (Y/N)]]=\"\",\"\",Table1[[#This Row],[DisAdv (Y/N)]])","v":""},{"$f":"IF(Table1[[#This Row],[SEND (E,K,N)]]=\"\",\"\",Table1[[#This Row],[SEND (E,K,N)]])","v":""},"",{"$f":"IF(LEN(Table2[[#This Row],[Pupil Name]])>0,1,0)","v":0}]
[{"$f":"IF(Table1[[#This Row],[School/Group Name]]=\"\",\"\",Table1[[#This Row],[School/Group Name]])","v":""},{"$f":"IF(Table1[[#This Row],[Pupil Name]]=\"\",\"\",Table1[[#This Row],[Pupil Name]])","v":""},{"$f":"IF(Table1[[#This Row],[Gender (M/F)]]=\"\",\"\",Table1[[#This Row],[Gender (M/F)]])","v":""},{"$f":"IF(Table1[[#This Row],[DisAdv (Y/N)]]=\"\",\"\",Table1[[#This Row],[DisAdv (Y/N)]])","v":""},{"$f":"IF(Table1[[#This Row],[SEND (E,K,N)]]=\"\",\"\",Table1[[#This Row],[SEND (E,K,N)]])","v":""},"",{"$f":"IF(LEN(Table2[[#This Row],[Pupil Name]])>0,1,0)","v":0}]
[{"$f":"IF(Table1[[#This Row],[School/Group Name]]=\"\",\"\",Table1[[#This Row],[School/Group Name]])","v":""},{"$f":"IF(Table1[[#This Row],[Pupil Name]]=\"\",\"\",Table1[[#This Row],[Pupil Name]])","v":""},{"$f":"IF(Table1[[#This Row],[Gender (M/F)]]=\"\",\"\",Table1[[#This Row],[Gender (M/F)]])","v":""},{"$f":"IF(Table1[[#This Row],[DisAdv (Y/N)]]=\"\",\"\",Table1[[#This Row],[DisAdv (Y/N)]])","v":""},{"$f":"IF(Table1[[#This Row],[SEND (E,K,N)]]=\"\",\"\",Table1[[#This Row],[SEND (E,K,N)]])","v":""},"",{"$f":"IF(LEN(Table2[[#This Row],[Pupil Name]])>0,1,0)","v":0}]
[{"$f":"IF(Table1[[#This Row],[School/Group Name]]=\"\",\"\",Table1[[#This Row],[School/Group Name]])","v":""},{"$f":"IF(Table1[[#This Row],[Pupil Name]]=\"\",\"\",Table1[[#This Row],[Pupil Name]])","v":""},{"$f":"IF(Table1[[#This Row],[Gender (M/F)]]=\"\",\"\",Table1[[#This Row],[Gender (M/F)]])","v":""},{"$f":"IF(Table1[[#This Row],[DisAdv (Y/N)]]=\"\",\"\",Table1[[#This Row],[DisAdv (Y/N)]])","v":""},{"$f":"IF(Table1[[#This Row],[SEND (E,K,N)]]=\"\",\"\",Table1[[#This Row],[SEND (E,K,N)]])","v":""},"",{"$f":"IF(LEN(Table2[[#This Row],[Pupil Name]])>0,1,0)","v":0}]
[{"$f":"IF(Table1[[#This Row],[School/Group Name]]=\"\",\"\",Table1[[#This Row],[School/Group Name]])","v":""},{"$f":"IF(Table1[[#This Row],[Pupil Name]]=\"\",\"\",Table1[[#This Row],[Pupil Name]])","v":""},{"$f":"IF(Table1[[#This Row],[Gender (M/F)]]=\"\",\"\",Table1[[#This Row],[Gender (M/F)]])","v":""},{"$f":"IF(Table1[[#This Row],[DisAdv (Y/N)]]=\"\",\"\",Table1[[#This Row],[DisAdv (Y/N)]])","v":""},{"$f":"IF(Table1[[#This Row],[SEND (E,K,N)]]=\"\",\"\",Table1[[#This Row],[SEND (E,K,N)]])","v":""},"",{"$f":"IF(LEN(Table2[[#This Row],[Pupil Name]])>0,1,0)","v":0}]
[{"$f":"IF(Table1[[#This Row],[School/Group Name]]=\"\",\"\",Table1[[#This Row],[School/Group Name]])","v":""},{"$f":"IF(Table1[[#This Row],[Pupil Name]]=\"\",\"\",Table1[[#This Row],[Pupil Name]])","v":""},{"$f":"IF(Table1[[#This Row],[Gender (M/F)]]=\"\",\"\",Table1[[#This Row],[Gender (M/F)]])","v":""},{"$f":"IF(Table1[[#This Row],[DisAdv (Y/N)]]=\"\",\"\",Table1[[#This Row],[DisAdv (Y/N)]])","v":""},{"$f":"IF(Table1[[#This Row],[SEND (E,K,N)]]=\"\",\"\",Table1[[#This Row],[SEND (E,K,N)]])","v":""},"",{"$f":"IF(LEN(Table2[[#This Row],[Pupil Name]])>0,1,0)","v":0}]
[{"$f":"IF(Table1[[#This Row],[School/Group Name]]=\"\",\"\",Table1[[#This Row],[School/Group Name]])","v":""},{"$f":"IF(Table1[[#This Row],[Pupil Name]]=\"\",\"\",Table1[[#This Row],[Pupil Name]])","v":""},{"$f":"IF(Table1[[#This Row],[Gender (M/F)]]=\"\",\"\",Table1[[#This Row],[Gender (M/F)]])","v":""},{"$f":"IF(Table1[[#This Row],[DisAdv (Y/N)]]=\"\",\"\",Table1[[#This Row],[DisAdv (Y/N)]])","v":""},{"$f":"IF(Table1[[#This Row],[SEND (E,K,N)]]=\"\",\"\",Table1[[#This Row],[SEND (E,K,N)]])","v":""},"",{"$f":"IF(LEN(Table2[[#This Row],[Pupil Name]])>0,1,0)","v":0}]
[{"$f":"IF(Table1[[#This Row],[School/Group Name]]=\"\",\"\",Table1[[#This Row],[School/Group Name]])","v":""},{"$f":"IF(Table1[[#This Row],[Pupil Name]]=\"\",\"\",Table1[[#This Row],[Pupil Name]])","v":""},{"$f":"IF(Table1[[#This Row],[Gender (M/F)]]=\"\",\"\",Table1[[#This Row],[Gender (M/F)]])","v":""},{"$f":"IF(Table1[[#This Row],[DisAdv (Y/N)]]=\"\",\"\",Table1[[#This Row],[DisAdv (Y/N)]])","v":""},{"$f":"IF(Table1[[#This Row],[SEND (E,K,N)]]=\"\",\"\",Table1[[#This Row],[SEND (E,K,N)]])","v":""},"",{"$f":"IF(LEN(Table2[[#This Row],[Pupil Name]])>0,1,0)","v":0}]
[{"$f":"IF(Table1[[#This Row],[School/Group Name]]=\"\",\"\",Table1[[#This Row],[School/Group Name]])","v":""},{"$f":"IF(Table1[[#This Row],[Pupil Name]]=\"\",\"\",Table1[[#This Row],[Pupil Name]])","v":""},{"$f":"IF(Table1[[#This Row],[Gender (M/F)]]=\"\",\"\",Table1[[#This Row],[Gender (M/F)]])","v":""},{"$f":"IF(Table1[[#This Row],[DisAdv (Y/N)]]=\"\",\"\",Table1[[#This Row],[DisAdv (Y/N)]])","v":""},{"$f":"IF(Table1[[#This Row],[SEND (E,K,N)]]=\"\",\"\",Table1[[#This Row],[SEND (E,K,N)]])","v":""},"",{"$f":"IF(LEN(Table2[[#This Row],[Pupil Name]])>0,1,0)","v":0}]
[{"$f":"IF(Table1[[#This Row],[School/Group Name]]=\"\",\"\",Table1[[#This Row],[School/Group Name]])","v":""},{"$f":"IF(Table1[[#This Row],[Pupil Name]]=\"\",\"\",Table1[[#This Row],[Pupil Name]])","v":""},{"$f":"IF(Table1[[#This Row],[Gender (M/F)]]=\"\",\"\",Table1[[#This Row],[Gender (M/F)]])","v":""},{"$f":"IF(Table1[[#This Row],[DisAdv (Y/N)]]=\"\",\"\",Table1[[#This Row],[DisAdv (Y/N)]])","v":""},{"$f":"IF(Table1[[#This Row],[SEND (E,K,N)]]=\"\",\"\",Table1[[#This Row],[SEND (E,K,N)]])","v":""},"",{"$f":"IF(LEN(Table2[[#This Row],[Pupil Name]])>0,1,0)","v":0}]
[{"$f":"IF(Table1[[#This Row],[School/Group Name]]=\"\",\"\",Table1[[#This Row],[School/Group Name]])","v":""},{"$f":"IF(Table1[[#This Row],[Pupil Name]]=\"\",\"\",Table1[[#This Row],[Pupil Name]])","v":""},{"$f":"IF(Table1[[#This Row],[Gender (M/F)]]=\"\",\"\",Table1[[#This Row],[Gender (M/F)]])","v":""},{"$f":"IF(Table1[[#This Row],[DisAdv (Y/N)]]=\"\",\"\",Table1[[#This Row],[DisAdv (Y/N)]])","v":""},{"$f":"IF(Table1[[#This Row],[SEND (E,K,N)]]=\"\",\"\",Table1[[#This Row],[SEND (E,K,N)]])","v":""},"",{"$f":"IF(LEN(Table2[[#This Row],[Pupil Name]])>0,1,0)","v":0}]
[{"$f":"IF(Table1[[#This Row],[School/Group Name]]=\"\",\"\",Table1[[#This Row],[School/Group Name]])","v":""},{"$f":"IF(Table1[[#This Row],[Pupil Name]]=\"\",\"\",Table1[[#This Row],[Pupil Name]])","v":""},{"$f":"IF(Table1[[#This Row],[Gender (M/F)]]=\"\",\"\",Table1[[#This Row],[Gender (M/F)]])","v":""},{"$f":"IF(Table1[[#This Row],[DisAdv (Y/N)]]=\"\",\"\",Table1[[#This Row],[DisAdv (Y/N)]])","v":""},{"$f":"IF(Table1[[#This Row],[SEND (E,K,N)]]=\"\",\"\",Table1[[#This Row],[SEND (E,K,N)]])","v":""},"",{"$f":"IF(LEN(Table2[[#This Row],[Pupil Name]])>0,1,0)","v":0}]
[{"$f":"IF(Table1[[#This Row],[School/Group Name]]=\"\",\"\",Table1[[#This Row],[School/Group Name]])","v":""},{"$f":"IF(Table1[[#This Row],[Pupil Name]]=\"\",\"\",Table1[[#This Row],[Pupil Name]])","v":""},{"$f":"IF(Table1[[#This Row],[Gender (M/F)]]=\"\",\"\",Table1[[#This Row],[Gender (M/F)]])","v":""},{"$f":"IF(Table1[[#This Row],[DisAdv (Y/N)]]=\"\",\"\",Table1[[#This Row],[DisAdv (Y/N)]])","v":""},{"$f":"IF(Table1[[#This Row],[SEND (E,K,N)]]=\"\",\"\",Table1[[#This Row],[SEND (E,K,N)]])","v":""},"",{"$f":"IF(LEN(Table2[[#This Row],[Pupil Name]])>0,1,0)","v":0}]
[{"$f":"IF(Table1[[#This Row],[School/Group Name]]=\"\",\"\",Table1[[#This Row],[School/Group Name]])","v":""},{"$f":"IF(Table1[[#This Row],[Pupil Name]]=\"\",\"\",Table1[[#This Row],[Pupil Name]])","v":""},{"$f":"IF(Table1[[#This Row],[Gender (M/F)]]=\"\",\"\",Table1[[#This Row],[Gender (M/F)]])","v":""},{"$f":"IF(Table1[[#This Row],[DisAdv (Y/N)]]=\"\",\"\",Table1[[#This Row],[DisAdv (Y/N)]])","v":""},{"$f":"IF(Table1[[#This Row],[SEND (E,K,N)]]=\"\",\"\",Table1[[#This Row],[SEND (E,K,N)]])","v":""},"",{"$f":"IF(LEN(Table2[[#This Row],[Pupil Name]])>0,1,0)","v":0}]
[{"$f":"IF(Table1[[#This Row],[School/Group Name]]=\"\",\"\",Table1[[#This Row],[School/Group Name]])","v":""},{"$f":"IF(Table1[[#This Row],[Pupil Name]]=\"\",\"\",Table1[[#This Row],[Pupil Name]])","v":""},{"$f":"IF(Table1[[#This Row],[Gender (M/F)]]=\"\",\"\",Table1[[#This Row],[Gender (M/F)]])","v":""},{"$f":"IF(Table1[[#This Row],[DisAdv (Y/N)]]=\"\",\"\",Table1[[#This Row],[DisAdv (Y/N)]])","v":""},{"$f":"IF(Table1[[#This Row],[SEND (E,K,N)]]=\"\",\"\",Table1[[#This Row],[SEND (E,K,N)]])","v":""},"",{"$f":"IF(LEN(Table2[[#This Row],[Pupil Name]])>0,1,0)","v":0}]
[{"$f":"IF(Table1[[#This Row],[School/Group Name]]=\"\",\"\",Table1[[#This Row],[School/Group Name]])","v":""},{"$f":"IF(Table1[[#This Row],[Pupil Name]]=\"\",\"\",Table1[[#This Row],[Pupil Name]])","v":""},{"$f":"IF(Table1[[#This Row],[Gender (M/F)]]=\"\",\"\",Table1[[#This Row],[Gender (M/F)]])","v":""},{"$f":"IF(Table1[[#This Row],[DisAdv (Y/N)]]=\"\",\"\",Table1[[#This Row],[DisAdv (Y/N)]])","v":""},{"$f":"IF(Table1[[#This Row],[SEND (E,K,N)]]=\"\",\"\",Table1[[#This Row],[SEND (E,K,N)]])","v":""},"",{"$f":"IF(LEN(Table2[[#This Row],[Pupil Name]])>0,1,0)","v":0}]
[{"$f":"IF(Table1[[#This Row],[School/Group Name]]=\"\",\"\",Table1[[#This Row],[School/Group Name]])","v":""},{"$f":"IF(Table1[[#This Row],[Pupil Name]]=\"\",\"\",Table1[[#This Row],[Pupil Name]])","v":""},{"$f":"IF(Table1[[#This Row],[Gender (M/F)]]=\"\",\"\",Table1[[#This Row],[Gender (M/F)]])","v":""},{"$f":"IF(Table1[[#This Row],[DisAdv (Y/N)]]=\"\",\"\",Table1[[#This Row],[DisAdv (Y/N)]])","v":""},{"$f":"IF(Table1[[#This Row],[SEND (E,K,N)]]=\"\",\"\",Table1[[#This Row],[SEND (E,K,N)]])","v":""},"",{"$f":"IF(LEN(Table2[[#This Row],[Pupil Name]])>0,1,0)","v":0}]
[{"$f":"IF(Table1[[#This Row],[School/Group Name]]=\"\",\"\",Table1[[#This Row],[School/Group Name]])","v":""},{"$f":"IF(Table1[[#This Row],[Pupil Name]]=\"\",\"\",Table1[[#This Row],[Pupil Name]])","v":""},{"$f":"IF(Table1[[#This Row],[Gender (M/F)]]=\"\",\"\",Table1[[#This Row],[Gender (M/F)]])","v":""},{"$f":"IF(Table1[[#This Row],[DisAdv (Y/N)]]=\"\",\"\",Table1[[#This Row],[DisAdv (Y/N)]])","v":""},{"$f":"IF(Table1[[#This Row],[SEND (E,K,N)]]=\"\",\"\",Table1[[#This Row],[SEND (E,K,N)]])","v":""},"",{"$f":"IF(LEN(Table2[[#This Row],[Pupil Name]])>0,1,0)","v":0}]
[{"$f":"IF(Table1[[#This Row],[School/Group Name]]=\"\",\"\",Table1[[#This Row],[School/Group Name]])","v":""},{"$f":"IF(Table1[[#This Row],[Pupil Name]]=\"\",\"\",Table1[[#This Row],[Pupil Name]])","v":""},{"$f":"IF(Table1[[#This Row],[Gender (M/F)]]=\"\",\"\",Table1[[#This Row],[Gender (M/F)]])","v":""},{"$f":"IF(Table1[[#This Row],[DisAdv (Y/N)]]=\"\",\"\",Table1[[#This Row],[DisAdv (Y/N)]])","v":""},{"$f":"IF(Table1[[#This Row],[SEND (E,K,N)]]=\"\",\"\",Table1[[#This Row],[SEND (E,K,N)]])","v":""},"",{"$f":"IF(LEN(Table2[[#This Row],[Pupil Name]])>0,1,0)","v":0}]
[{"$f":"IF(Table1[[#This Row],[School/Group Name]]=\"\",\"\",Table1[[#This Row],[School/Group Name]])","v":""},{"$f":"IF(Table1[[#This Row],[Pupil Name]]=\"\",\"\",Table1[[#This Row],[Pupil Name]])","v":""},{"$f":"IF(Table1[[#This Row],[Gender (M/F)]]=\"\",\"\",Table1[[#This Row],[Gender (M/F)]])","v":""},{"$f":"IF(Table1[[#This Row],[DisAdv (Y/N)]]=\"\",\"\",Table1[[#This Row],[DisAdv (Y/N)]])","v":""},{"$f":"IF(Table1[[#This Row],[SEND (E,K,N)]]=\"\",\"\",Table1[[#This Row],[SEND (E,K,N)]])","v":""},"",{"$f":"IF(LEN(Table2[[#This Row],[Pupil Name]])>0,1,0)","v":0}]
[{"$f":"IF(Table1[[#This Row],[School/Group Name]]=\"\",\"\",Table1[[#This Row],[School/Group Name]])","v":""},{"$f":"IF(Table1[[#This Row],[Pupil Name]]=\"\",\"\",Table1[[#This Row],[Pupil Name]])","v":""},{"$f":"IF(Table1[[#This Row],[Gender (M/F)]]=\"\",\"\",Table1[[#This Row],[Gender (M/F)]])","v":""},{"$f":"IF(Table1[[#This Row],[DisAdv (Y/N)]]=\"\",\"\",Table1[[#This Row],[DisAdv (Y/N)]])","v":""},{"$f":"IF(Table1[[#This Row],[SEND (E,K,N)]]=\"\",\"\",Table1[[#This Row],[SEND (E,K,N)]])","v":""},"",{"$f":"IF(LEN(Table2[[#This Row],[Pupil Name]])>0,1,0)","v":0}]
[{"$f":"IF(Table1[[#This Row],[School/Group Name]]=\"\",\"\",Table1[[#This Row],[School/Group Name]])","v":""},{"$f":"IF(Table1[[#This Row],[Pupil Name]]=\"\",\"\",Table1[[#This Row],[Pupil Name]])","v":""},{"$f":"IF(Table1[[#This Row],[Gender (M/F)]]=\"\",\"\",Table1[[#This Row],[Gender (M/F)]])","v":""},{"$f":"IF(Table1[[#This Row],[DisAdv (Y/N)]]=\"\",\"\",Table1[[#This Row],[DisAdv (Y/N)]])","v":""},{"$f":"IF(Table1[[#This Row],[SEND (E,K,N)]]=\"\",\"\",Table1[[#This Row],[SEND (E,K,N)]])","v":""},"",{"$f":"IF(LEN(Table2[[#This Row],[Pupil Name]])>0,1,0)","v":0}]
[{"$f":"IF(Table1[[#This Row],[School/Group Name]]=\"\",\"\",Table1[[#This Row],[School/Group Name]])","v":""},{"$f":"IF(Table1[[#This Row],[Pupil Name]]=\"\",\"\",Table1[[#This Row],[Pupil Name]])","v":""},{"$f":"IF(Table1[[#This Row],[Gender (M/F)]]=\"\",\"\",Table1[[#This Row],[Gender (M/F)]])","v":""},{"$f":"IF(Table1[[#This Row],[DisAdv (Y/N)]]=\"\",\"\",Table1[[#This Row],[DisAdv (Y/N)]])","v":""},{"$f":"IF(Table1[[#This Row],[SEND (E,K,N)]]=\"\",\"\",Table1[[#This Row],[SEND (E,K,N)]])","v":""},"",{"$f":"IF(LEN(Table2[[#This Row],[Pupil Name]])>0,1,0)","v":0}]
[{"$f":"IF(Table1[[#This Row],[School/Group Name]]=\"\",\"\",Table1[[#This Row],[School/Group Name]])","v":""},{"$f":"IF(Table1[[#This Row],[Pupil Name]]=\"\",\"\",Table1[[#This Row],[Pupil Name]])","v":""},{"$f":"IF(Table1[[#This Row],[Gender (M/F)]]=\"\",\"\",Table1[[#This Row],[Gender (M/F)]])","v":""},{"$f":"IF(Table1[[#This Row],[DisAdv (Y/N)]]=\"\",\"\",Table1[[#This Row],[DisAdv (Y/N)]])","v":""},{"$f":"IF(Table1[[#This Row],[SEND (E,K,N)]]=\"\",\"\",Table1[[#This Row],[SEND (E,K,N)]])","v":""},"",{"$f":"IF(LEN(Table2[[#This Row],[Pupil Name]])>0,1,0)","v":0}]
[{"$f":"IF(Table1[[#This Row],[School/Group Name]]=\"\",\"\",Table1[[#This Row],[School/Group Name]])","v":""},{"$f":"IF(Table1[[#This Row],[Pupil Name]]=\"\",\"\",Table1[[#This Row],[Pupil Name]])","v":""},{"$f":"IF(Table1[[#This Row],[Gender (M/F)]]=\"\",\"\",Table1[[#This Row],[Gender (M/F)]])","v":""},{"$f":"IF(Table1[[#This Row],[DisAdv (Y/N)]]=\"\",\"\",Table1[[#This Row],[DisAdv (Y/N)]])","v":""},{"$f":"IF(Table1[[#This Row],[SEND (E,K,N)]]=\"\",\"\",Table1[[#This Row],[SEND (E,K,N)]])","v":""},"",{"$f":"IF(LEN(Table2[[#This Row],[Pupil Name]])>0,1,0)","v":0}]
[{"$f":"IF(Table1[[#This Row],[School/Group Name]]=\"\",\"\",Table1[[#This Row],[School/Group Name]])","v":""},{"$f":"IF(Table1[[#This Row],[Pupil Name]]=\"\",\"\",Table1[[#This Row],[Pupil Name]])","v":""},{"$f":"IF(Table1[[#This Row],[Gender (M/F)]]=\"\",\"\",Table1[[#This Row],[Gender (M/F)]])","v":""},{"$f":"IF(Table1[[#This Row],[DisAdv (Y/N)]]=\"\",\"\",Table1[[#This Row],[DisAdv (Y/N)]])","v":""},{"$f":"IF(Table1[[#This Row],[SEND (E,K,N)]]=\"\",\"\",Table1[[#This Row],[SEND (E,K,N)]])","v":""},"",{"$f":"IF(LEN(Table2[[#This Row],[Pupil Name]])>0,1,0)","v":0}]
[{"$f":"IF(Table1[[#This Row],[School/Group Name]]=\"\",\"\",Table1[[#This Row],[School/Group Name]])","v":""},{"$f":"IF(Table1[[#This Row],[Pupil Name]]=\"\",\"\",Table1[[#This Row],[Pupil Name]])","v":""},{"$f":"IF(Table1[[#This Row],[Gender (M/F)]]=\"\",\"\",Table1[[#This Row],[Gender (M/F)]])","v":""},{"$f":"IF(Table1[[#This Row],[DisAdv (Y/N)]]=\"\",\"\",Table1[[#This Row],[DisAdv (Y/N)]])","v":""},{"$f":"IF(Table1[[#This Row],[SEND (E,K,N)]]=\"\",\"\",Table1[[#This Row],[SEND (E,K,N)]])","v":""},"",{"$f":"IF(LEN(Table2[[#This Row],[Pupil Name]])>0,1,0)","v":0}]
[{"$f":"IF(Table1[[#This Row],[School/Group Name]]=\"\",\"\",Table1[[#This Row],[School/Group Name]])","v":""},{"$f":"IF(Table1[[#This Row],[Pupil Name]]=\"\",\"\",Table1[[#This Row],[Pupil Name]])","v":""},{"$f":"IF(Table1[[#This Row],[Gender (M/F)]]=\"\",\"\",Table1[[#This Row],[Gender (M/F)]])","v":""},{"$f":"IF(Table1[[#This Row],[DisAdv (Y/N)]]=\"\",\"\",Table1[[#This Row],[DisAdv (Y/N)]])","v":""},{"$f":"IF(Table1[[#This Row],[SEND (E,K,N)]]=\"\",\"\",Table1[[#This Row],[SEND (E,K,N)]])","v":""},"",{"$f":"IF(LEN(Table2[[#This Row],[Pupil Name]])>0,1,0)","v":0}]
[{"$f":"IF(Table1[[#This Row],[School/Group Name]]=\"\",\"\",Table1[[#This Row],[School/Group Name]])","v":""},{"$f":"IF(Table1[[#This Row],[Pupil Name]]=\"\",\"\",Table1[[#This Row],[Pupil Name]])","v":""},{"$f":"IF(Table1[[#This Row],[Gender (M/F)]]=\"\",\"\",Table1[[#This Row],[Gender (M/F)]])","v":""},{"$f":"IF(Table1[[#This Row],[DisAdv (Y/N)]]=\"\",\"\",Table1[[#This Row],[DisAdv (Y/N)]])","v":""},{"$f":"IF(Table1[[#This Row],[SEND (E,K,N)]]=\"\",\"\",Table1[[#This Row],[SEND (E,K,N)]])","v":""},"",{"$f":"IF(LEN(Table2[[#This Row],[Pupil Name]])>0,1,0)","v":0}]
[{"$f":"IF(Table1[[#This Row],[School/Group Name]]=\"\",\"\",Table1[[#This Row],[School/Group Name]])","v":""},{"$f":"IF(Table1[[#This Row],[Pupil Name]]=\"\",\"\",Table1[[#This Row],[Pupil Name]])","v":""},{"$f":"IF(Table1[[#This Row],[Gender (M/F)]]=\"\",\"\",Table1[[#This Row],[Gender (M/F)]])","v":""},{"$f":"IF(Table1[[#This Row],[DisAdv (Y/N)]]=\"\",\"\",Table1[[#This Row],[DisAdv (Y/N)]])","v":""},{"$f":"IF(Table1[[#This Row],[SEND (E,K,N)]]=\"\",\"\",Table1[[#This Row],[SEND (E,K,N)]])","v":""},"",{"$f":"IF(LEN(Table2[[#This Row],[Pupil Name]])>0,1,0)","v":0}]
[{"$f":"IF(Table1[[#This Row],[School/Group Name]]=\"\",\"\",Table1[[#This Row],[School/Group Name]])","v":""},{"$f":"IF(Table1[[#This Row],[Pupil Name]]=\"\",\"\",Table1[[#This Row],[Pupil Name]])","v":""},{"$f":"IF(Table1[[#This Row],[Gender (M/F)]]=\"\",\"\",Table1[[#This Row],[Gender (M/F)]])","v":""},{"$f":"IF(Table1[[#This Row],[DisAdv (Y/N)]]=\"\",\"\",Table1[[#This Row],[DisAdv (Y/N)]])","v":""},{"$f":"IF(Table1[[#This Row],[SEND (E,K,N)]]=\"\",\"\",Table1[[#This Row],[SEND (E,K,N)]])","v":""},"",{"$f":"IF(LEN(Table2[[#This Row],[Pupil Name]])>0,1,0)","v":0}]
[{"$f":"IF(Table1[[#This Row],[School/Group Name]]=\"\",\"\",Table1[[#This Row],[School/Group Name]])","v":""},{"$f":"IF(Table1[[#This Row],[Pupil Name]]=\"\",\"\",Table1[[#This Row],[Pupil Name]])","v":""},{"$f":"IF(Table1[[#This Row],[Gender (M/F)]]=\"\",\"\",Table1[[#This Row],[Gender (M/F)]])","v":""},{"$f":"IF(Table1[[#This Row],[DisAdv (Y/N)]]=\"\",\"\",Table1[[#This Row],[DisAdv (Y/N)]])","v":""},{"$f":"IF(Table1[[#This Row],[SEND (E,K,N)]]=\"\",\"\",Table1[[#This Row],[SEND (E,K,N)]])","v":""},"",{"$f":"IF(LEN(Table2[[#This Row],[Pupil Name]])>0,1,0)","v":0}]
[{"$f":"IF(Table1[[#This Row],[School/Group Name]]=\"\",\"\",Table1[[#This Row],[School/Group Name]])","v":""},{"$f":"IF(Table1[[#This Row],[Pupil Name]]=\"\",\"\",Table1[[#This Row],[Pupil Name]])","v":""},{"$f":"IF(Table1[[#This Row],[Gender (M/F)]]=\"\",\"\",Table1[[#This Row],[Gender (M/F)]])","v":""},{"$f":"IF(Table1[[#This Row],[DisAdv (Y/N)]]=\"\",\"\",Table1[[#This Row],[DisAdv (Y/N)]])","v":""},{"$f":"IF(Table1[[#This Row],[SEND (E,K,N)]]=\"\",\"\",Table1[[#This Row],[SEND (E,K,N)]])","v":""},"",{"$f":"IF(LEN(Table2[[#This Row],[Pupil Name]])>0,1,0)","v":0}]
[{"$f":"IF(Table1[[#This Row],[School/Group Name]]=\"\",\"\",Table1[[#This Row],[School/Group Name]])","v":""},{"$f":"IF(Table1[[#This Row],[Pupil Name]]=\"\",\"\",Table1[[#This Row],[Pupil Name]])","v":""},{"$f":"IF(Table1[[#This Row],[Gender (M/F)]]=\"\",\"\",Table1[[#This Row],[Gender (M/F)]])","v":""},{"$f":"IF(Table1[[#This Row],[DisAdv (Y/N)]]=\"\",\"\",Table1[[#This Row],[DisAdv (Y/N)]])","v":""},{"$f":"IF(Table1[[#This Row],[SEND (E,K,N)]]=\"\",\"\",Table1[[#This Row],[SEND (E,K,N)]])","v":""},"",{"$f":"IF(LEN(Table2[[#This Row],[Pupil Name]])>0,1,0)","v":0}]
[{"$f":"IF(Table1[[#This Row],[School/Group Name]]=\"\",\"\",Table1[[#This Row],[School/Group Name]])","v":""},{"$f":"IF(Table1[[#This Row],[Pupil Name]]=\"\",\"\",Table1[[#This Row],[Pupil Name]])","v":""},{"$f":"IF(Table1[[#This Row],[Gender (M/F)]]=\"\",\"\",Table1[[#This Row],[Gender (M/F)]])","v":""},{"$f":"IF(Table1[[#This Row],[DisAdv (Y/N)]]=\"\",\"\",Table1[[#This Row],[DisAdv (Y/N)]])","v":""},{"$f":"IF(Table1[[#This Row],[SEND (E,K,N)]]=\"\",\"\",Table1[[#This Row],[SEND (E,K,N)]])","v":""},"",{"$f":"IF(LEN(Table2[[#This Row],[Pupil Name]])>0,1,0)","v":0}]
[{"$f":"IF(Table1[[#This Row],[School/Group Name]]=\"\",\"\",Table1[[#This Row],[School/Group Name]])","v":""},{"$f":"IF(Table1[[#This Row],[Pupil Name]]=\"\",\"\",Table1[[#This Row],[Pupil Name]])","v":""},{"$f":"IF(Table1[[#This Row],[Gender (M/F)]]=\"\",\"\",Table1[[#This Row],[Gender (M/F)]])","v":""},{"$f":"IF(Table1[[#This Row],[DisAdv (Y/N)]]=\"\",\"\",Table1[[#This Row],[DisAdv (Y/N)]])","v":""},{"$f":"IF(Table1[[#This Row],[SEND (E,K,N)]]=\"\",\"\",Table1[[#This Row],[SEND (E,K,N)]])","v":""},"",{"$f":"IF(LEN(Table2[[#This Row],[Pupil Name]])>0,1,0)","v":0}]
[{"$f":"IF(Table1[[#This Row],[School/Group Name]]=\"\",\"\",Table1[[#This Row],[School/Group Name]])","v":""},{"$f":"IF(Table1[[#This Row],[Pupil Name]]=\"\",\"\",Table1[[#This Row],[Pupil Name]])","v":""},{"$f":"IF(Table1[[#This Row],[Gender (M/F)]]=\"\",\"\",Table1[[#This Row],[Gender (M/F)]])","v":""},{"$f":"IF(Table1[[#This Row],[DisAdv (Y/N)]]=\"\",\"\",Table1[[#This Row],[DisAdv (Y/N)]])","v":""},{"$f":"IF(Table1[[#This Row],[SEND (E,K,N)]]=\"\",\"\",Table1[[#This Row],[SEND (E,K,N)]])","v":""},"",{"$f":"IF(LEN(Table2[[#This Row],[Pupil Name]])>0,1,0)","v":0}]
[{"$f":"IF(Table1[[#This Row],[School/Group Name]]=\"\",\"\",Table1[[#This Row],[School/Group Name]])","v":""},{"$f":"IF(Table1[[#This Row],[Pupil Name]]=\"\",\"\",Table1[[#This Row],[Pupil Name]])","v":""},{"$f":"IF(Table1[[#This Row],[Gender (M/F)]]=\"\",\"\",Table1[[#This Row],[Gender (M/F)]])","v":""},{"$f":"IF(Table1[[#This Row],[DisAdv (Y/N)]]=\"\",\"\",Table1[[#This Row],[DisAdv (Y/N)]])","v":""},{"$f":"IF(Table1[[#This Row],[SEND (E,K,N)]]=\"\",\"\",Table1[[#This Row],[SEND (E,K,N)]])","v":""},"",{"$f":"IF(LEN(Table2[[#This Row],[Pupil Name]])>0,1,0)","v":0}]
[{"$f":"IF(Table1[[#This Row],[School/Group Name]]=\"\",\"\",Table1[[#This Row],[School/Group Name]])","v":""},{"$f":"IF(Table1[[#This Row],[Pupil Name]]=\"\",\"\",Table1[[#This Row],[Pupil Name]])","v":""},{"$f":"IF(Table1[[#This Row],[Gender (M/F)]]=\"\",\"\",Table1[[#This Row],[Gender (M/F)]])","v":""},{"$f":"IF(Table1[[#This Row],[DisAdv (Y/N)]]=\"\",\"\",Table1[[#This Row],[DisAdv (Y/N)]])","v":""},{"$f":"IF(Table1[[#This Row],[SEND (E,K,N)]]=\"\",\"\",Table1[[#This Row],[SEND (E,K,N)]])","v":""},"",{"$f":"IF(LEN(Table2[[#This Row],[Pupil Name]])>0,1,0)","v":0}]
[{"$f":"IF(Table1[[#This Row],[School/Group Name]]=\"\",\"\",Table1[[#This Row],[School/Group Name]])","v":""},{"$f":"IF(Table1[[#This Row],[Pupil Name]]=\"\",\"\",Table1[[#This Row],[Pupil Name]])","v":""},{"$f":"IF(Table1[[#This Row],[Gender (M/F)]]=\"\",\"\",Table1[[#This Row],[Gender (M/F)]])","v":""},{"$f":"IF(Table1[[#This Row],[DisAdv (Y/N)]]=\"\",\"\",Table1[[#This Row],[DisAdv (Y/N)]])","v":""},{"$f":"IF(Table1[[#This Row],[SEND (E,K,N)]]=\"\",\"\",Table1[[#This Row],[SEND (E,K,N)]])","v":""},"",{"$f":"IF(LEN(Table2[[#This Row],[Pupil Name]])>0,1,0)","v":0}]
[{"$f":"IF(Table1[[#This Row],[School/Group Name]]=\"\",\"\",Table1[[#This Row],[School/Group Name]])","v":""},{"$f":"IF(Table1[[#This Row],[Pupil Name]]=\"\",\"\",Table1[[#This Row],[Pupil Name]])","v":""},{"$f":"IF(Table1[[#This Row],[Gender (M/F)]]=\"\",\"\",Table1[[#This Row],[Gender (M/F)]])","v":""},{"$f":"IF(Table1[[#This Row],[DisAdv (Y/N)]]=\"\",\"\",Table1[[#This Row],[DisAdv (Y/N)]])","v":""},{"$f":"IF(Table1[[#This Row],[SEND (E,K,N)]]=\"\",\"\",Table1[[#This Row],[SEND (E,K,N)]])","v":""},"",{"$f":"IF(LEN(Table2[[#This Row],[Pupil Name]])>0,1,0)","v":0}]
[{"$f":"IF(Table1[[#This Row],[School/Group Name]]=\"\",\"\",Table1[[#This Row],[School/Group Name]])","v":""},{"$f":"IF(Table1[[#This Row],[Pupil Name]]=\"\",\"\",Table1[[#This Row],[Pupil Name]])","v":""},{"$f":"IF(Table1[[#This Row],[Gender (M/F)]]=\"\",\"\",Table1[[#This Row],[Gender (M/F)]])","v":""},{"$f":"IF(Table1[[#This Row],[DisAdv (Y/N)]]=\"\",\"\",Table1[[#This Row],[DisAdv (Y/N)]])","v":""},{"$f":"IF(Table1[[#This Row],[SEND (E,K,N)]]=\"\",\"\",Table1[[#This Row],[SEND (E,K,N)]])","v":""},"",{"$f":"IF(LEN(Table2[[#This Row],[Pupil Name]])>0,1,0)","v":0}]
[{"$f":"IF(Table1[[#This Row],[School/Group Name]]=\"\",\"\",Table1[[#This Row],[School/Group Name]])","v":""},{"$f":"IF(Table1[[#This Row],[Pupil Name]]=\"\",\"\",Table1[[#This Row],[Pupil Name]])","v":""},{"$f":"IF(Table1[[#This Row],[Gender (M/F)]]=\"\",\"\",Table1[[#This Row],[Gender (M/F)]])","v":""},{"$f":"IF(Table1[[#This Row],[DisAdv (Y/N)]]=\"\",\"\",Table1[[#This Row],[DisAdv (Y/N)]])","v":""},{"$f":"IF(Table1[[#This Row],[SEND (E,K,N)]]=\"\",\"\",Table1[[#This Row],[SEND (E,K,N)]])","v":""},"",{"$f":"IF(LEN(Table2[[#This Row],[Pupil Name]])>0,1,0)","v":0}]
[{"$f":"IF(Table1[[#This Row],[School/Group Name]]=\"\",\"\",Table1[[#This Row],[School/Group Name]])","v":""},{"$f":"IF(Table1[[#This Row],[Pupil Name]]=\"\",\"\",Table1[[#This Row],[Pupil Name]])","v":""},{"$f":"IF(Table1[[#This Row],[Gender (M/F)]]=\"\",\"\",Table1[[#This Row],[Gender (M/F)]])","v":""},{"$f":"IF(Table1[[#This Row],[DisAdv (Y/N)]]=\"\",\"\",Table1[[#This Row],[DisAdv (Y/N)]])","v":""},{"$f":"IF(Table1[[#This Row],[SEND (E,K,N)]]=\"\",\"\",Table1[[#This Row],[SEND (E,K,N)]])","v":""},"",{"$f":"IF(LEN(Table2[[#This Row],[Pupil Name]])>0,1,0)","v":0}]
[{"$f":"IF(Table1[[#This Row],[School/Group Name]]=\"\",\"\",Table1[[#This Row],[School/Group Name]])","v":""},{"$f":"IF(Table1[[#This Row],[Pupil Name]]=\"\",\"\",Table1[[#This Row],[Pupil Name]])","v":""},{"$f":"IF(Table1[[#This Row],[Gender (M/F)]]=\"\",\"\",Table1[[#This Row],[Gender (M/F)]])","v":""},{"$f":"IF(Table1[[#This Row],[DisAdv (Y/N)]]=\"\",\"\",Table1[[#This Row],[DisAdv (Y/N)]])","v":""},{"$f":"IF(Table1[[#This Row],[SEND (E,K,N)]]=\"\",\"\",Table1[[#This Row],[SEND (E,K,N)]])","v":""},"",{"$f":"IF(LEN(Table2[[#This Row],[Pupil Name]])>0,1,0)","v":0}]
[{"$f":"IF(Table1[[#This Row],[School/Group Name]]=\"\",\"\",Table1[[#This Row],[School/Group Name]])","v":""},{"$f":"IF(Table1[[#This Row],[Pupil Name]]=\"\",\"\",Table1[[#This Row],[Pupil Name]])","v":""},{"$f":"IF(Table1[[#This Row],[Gender (M/F)]]=\"\",\"\",Table1[[#This Row],[Gender (M/F)]])","v":""},{"$f":"IF(Table1[[#This Row],[DisAdv (Y/N)]]=\"\",\"\",Table1[[#This Row],[DisAdv (Y/N)]])","v":""},{"$f":"IF(Table1[[#This Row],[SEND (E,K,N)]]=\"\",\"\",Table1[[#This Row],[SEND (E,K,N)]])","v":""},"",{"$f":"IF(LEN(Table2[[#This Row],[Pupil Name]])>0,1,0)","v":0}]
[{"$f":"IF(Table1[[#This Row],[School/Group Name]]=\"\",\"\",Table1[[#This Row],[School/Group Name]])","v":""},{"$f":"IF(Table1[[#This Row],[Pupil Name]]=\"\",\"\",Table1[[#This Row],[Pupil Name]])","v":""},{"$f":"IF(Table1[[#This Row],[Gender (M/F)]]=\"\",\"\",Table1[[#This Row],[Gender (M/F)]])","v":""},{"$f":"IF(Table1[[#This Row],[DisAdv (Y/N)]]=\"\",\"\",Table1[[#This Row],[DisAdv (Y/N)]])","v":""},{"$f":"IF(Table1[[#This Row],[SEND (E,K,N)]]=\"\",\"\",Table1[[#This Row],[SEND (E,K,N)]])","v":""},{"$f":"IF(H455=\"\",\"\",(SUM(H455:AG455)))","v":""},{"$f":"IF(LEN(Table2[[#This Row],[Pupil Name]])>0,1,0)","v":0}]
[{"$f":"IF(Table1[[#This Row],[School/Group Name]]=\"\",\"\",Table1[[#This Row],[School/Group Name]])","v":""},{"$f":"IF(Table1[[#This Row],[Pupil Name]]=\"\",\"\",Table1[[#This Row],[Pupil Name]])","v":""},{"$f":"IF(Table1[[#This Row],[Gender (M/F)]]=\"\",\"\",Table1[[#This Row],[Gender (M/F)]])","v":""},{"$f":"IF(Table1[[#This Row],[DisAdv (Y/N)]]=\"\",\"\",Table1[[#This Row],[DisAdv (Y/N)]])","v":""},{"$f":"IF(Table1[[#This Row],[SEND (E,K,N)]]=\"\",\"\",Table1[[#This Row],[SEND (E,K,N)]])","v":""},"",{"$f":"IF(LEN(Table2[[#This Row],[Pupil Name]])>0,1,0)","v":0}]
[{"$f":"IF(Table1[[#This Row],[School/Group Name]]=\"\",\"\",Table1[[#This Row],[School/Group Name]])","v":""},{"$f":"IF(Table1[[#This Row],[Pupil Name]]=\"\",\"\",Table1[[#This Row],[Pupil Name]])","v":""},{"$f":"IF(Table1[[#This Row],[Gender (M/F)]]=\"\",\"\",Table1[[#This Row],[Gender (M/F)]])","v":""},{"$f":"IF(Table1[[#This Row],[DisAdv (Y/N)]]=\"\",\"\",Table1[[#This Row],[DisAdv (Y/N)]])","v":""},{"$f":"IF(Table1[[#This Row],[SEND (E,K,N)]]=\"\",\"\",Table1[[#This Row],[SEND (E,K,N)]])","v":""},"",{"$f":"IF(LEN(Table2[[#This Row],[Pupil Name]])>0,1,0)","v":0}]
[{"$f":"IF(Table1[[#This Row],[School/Group Name]]=\"\",\"\",Table1[[#This Row],[School/Group Name]])","v":""},{"$f":"IF(Table1[[#This Row],[Pupil Name]]=\"\",\"\",Table1[[#This Row],[Pupil Name]])","v":""},{"$f":"IF(Table1[[#This Row],[Gender (M/F)]]=\"\",\"\",Table1[[#This Row],[Gender (M/F)]])","v":""},{"$f":"IF(Table1[[#This Row],[DisAdv (Y/N)]]=\"\",\"\",Table1[[#This Row],[DisAdv (Y/N)]])","v":""},{"$f":"IF(Table1[[#This Row],[SEND (E,K,N)]]=\"\",\"\",Table1[[#This Row],[SEND (E,K,N)]])","v":""},"",{"$f":"IF(LEN(Table2[[#This Row],[Pupil Name]])>0,1,0)","v":0}]
[{"$f":"IF(Table1[[#This Row],[School/Group Name]]=\"\",\"\",Table1[[#This Row],[School/Group Name]])","v":""},{"$f":"IF(Table1[[#This Row],[Pupil Name]]=\"\",\"\",Table1[[#This Row],[Pupil Name]])","v":""},{"$f":"IF(Table1[[#This Row],[Gender (M/F)]]=\"\",\"\",Table1[[#This Row],[Gender (M/F)]])","v":""},{"$f":"IF(Table1[[#This Row],[DisAdv (Y/N)]]=\"\",\"\",Table1[[#This Row],[DisAdv (Y/N)]])","v":""},{"$f":"IF(Table1[[#This Row],[SEND (E,K,N)]]=\"\",\"\",Table1[[#This Row],[SEND (E,K,N)]])","v":""},"",{"$f":"IF(LEN(Table2[[#This Row],[Pupil Name]])>0,1,0)","v":0}]
[{"$f":"IF(Table1[[#This Row],[School/Group Name]]=\"\",\"\",Table1[[#This Row],[School/Group Name]])","v":""},{"$f":"IF(Table1[[#This Row],[Pupil Name]]=\"\",\"\",Table1[[#This Row],[Pupil Name]])","v":""},{"$f":"IF(Table1[[#This Row],[Gender (M/F)]]=\"\",\"\",Table1[[#This Row],[Gender (M/F)]])","v":""},{"$f":"IF(Table1[[#This Row],[DisAdv (Y/N)]]=\"\",\"\",Table1[[#This Row],[DisAdv (Y/N)]])","v":""},{"$f":"IF(Table1[[#This Row],[SEND (E,K,N)]]=\"\",\"\",Table1[[#This Row],[SEND (E,K,N)]])","v":""},"",{"$f":"IF(LEN(Table2[[#This Row],[Pupil Name]])>0,1,0)","v":0}]
[{"$f":"IF(Table1[[#This Row],[School/Group Name]]=\"\",\"\",Table1[[#This Row],[School/Group Name]])","v":""},{"$f":"IF(Table1[[#This Row],[Pupil Name]]=\"\",\"\",Table1[[#This Row],[Pupil Name]])","v":""},{"$f":"IF(Table1[[#This Row],[Gender (M/F)]]=\"\",\"\",Table1[[#This Row],[Gender (M/F)]])","v":""},{"$f":"IF(Table1[[#This Row],[DisAdv (Y/N)]]=\"\",\"\",Table1[[#This Row],[DisAdv (Y/N)]])","v":""},{"$f":"IF(Table1[[#This Row],[SEND (E,K,N)]]=\"\",\"\",Table1[[#This Row],[SEND (E,K,N)]])","v":""},"",{"$f":"IF(LEN(Table2[[#This Row],[Pupil Name]])>0,1,0)","v":0}]
[{"$f":"IF(Table1[[#This Row],[School/Group Name]]=\"\",\"\",Table1[[#This Row],[School/Group Name]])","v":""},{"$f":"IF(Table1[[#This Row],[Pupil Name]]=\"\",\"\",Table1[[#This Row],[Pupil Name]])","v":""},{"$f":"IF(Table1[[#This Row],[Gender (M/F)]]=\"\",\"\",Table1[[#This Row],[Gender (M/F)]])","v":""},{"$f":"IF(Table1[[#This Row],[DisAdv (Y/N)]]=\"\",\"\",Table1[[#This Row],[DisAdv (Y/N)]])","v":""},{"$f":"IF(Table1[[#This Row],[SEND (E,K,N)]]=\"\",\"\",Table1[[#This Row],[SEND (E,K,N)]])","v":""},"",{"$f":"IF(LEN(Table2[[#This Row],[Pupil Name]])>0,1,0)","v":0}]
[{"$f":"IF(Table1[[#This Row],[School/Group Name]]=\"\",\"\",Table1[[#This Row],[School/Group Name]])","v":""},{"$f":"IF(Table1[[#This Row],[Pupil Name]]=\"\",\"\",Table1[[#This Row],[Pupil Name]])","v":""},{"$f":"IF(Table1[[#This Row],[Gender (M/F)]]=\"\",\"\",Table1[[#This Row],[Gender (M/F)]])","v":""},{"$f":"IF(Table1[[#This Row],[DisAdv (Y/N)]]=\"\",\"\",Table1[[#This Row],[DisAdv (Y/N)]])","v":""},{"$f":"IF(Table1[[#This Row],[SEND (E,K,N)]]=\"\",\"\",Table1[[#This Row],[SEND (E,K,N)]])","v":""},"",{"$f":"IF(LEN(Table2[[#This Row],[Pupil Name]])>0,1,0)","v":0}]
[{"$f":"IF(Table1[[#This Row],[School/Group Name]]=\"\",\"\",Table1[[#This Row],[School/Group Name]])","v":""},{"$f":"IF(Table1[[#This Row],[Pupil Name]]=\"\",\"\",Table1[[#This Row],[Pupil Name]])","v":""},{"$f":"IF(Table1[[#This Row],[Gender (M/F)]]=\"\",\"\",Table1[[#This Row],[Gender (M/F)]])","v":""},{"$f":"IF(Table1[[#This Row],[DisAdv (Y/N)]]=\"\",\"\",Table1[[#This Row],[DisAdv (Y/N)]])","v":""},{"$f":"IF(Table1[[#This Row],[SEND (E,K,N)]]=\"\",\"\",Table1[[#This Row],[SEND (E,K,N)]])","v":""},"",{"$f":"IF(LEN(Table2[[#This Row],[Pupil Name]])>0,1,0)","v":0}]
[{"$f":"IF(Table1[[#This Row],[School/Group Name]]=\"\",\"\",Table1[[#This Row],[School/Group Name]])","v":""},{"$f":"IF(Table1[[#This Row],[Pupil Name]]=\"\",\"\",Table1[[#This Row],[Pupil Name]])","v":""},{"$f":"IF(Table1[[#This Row],[Gender (M/F)]]=\"\",\"\",Table1[[#This Row],[Gender (M/F)]])","v":""},{"$f":"IF(Table1[[#This Row],[DisAdv (Y/N)]]=\"\",\"\",Table1[[#This Row],[DisAdv (Y/N)]])","v":""},{"$f":"IF(Table1[[#This Row],[SEND (E,K,N)]]=\"\",\"\",Table1[[#This Row],[SEND (E,K,N)]])","v":""},"",{"$f":"IF(LEN(Table2[[#This Row],[Pupil Name]])>0,1,0)","v":0}]
[{"$f":"IF(Table1[[#This Row],[School/Group Name]]=\"\",\"\",Table1[[#This Row],[School/Group Name]])","v":""},{"$f":"IF(Table1[[#This Row],[Pupil Name]]=\"\",\"\",Table1[[#This Row],[Pupil Name]])","v":""},{"$f":"IF(Table1[[#This Row],[Gender (M/F)]]=\"\",\"\",Table1[[#This Row],[Gender (M/F)]])","v":""},{"$f":"IF(Table1[[#This Row],[DisAdv (Y/N)]]=\"\",\"\",Table1[[#This Row],[DisAdv (Y/N)]])","v":""},{"$f":"IF(Table1[[#This Row],[SEND (E,K,N)]]=\"\",\"\",Table1[[#This Row],[SEND (E,K,N)]])","v":""},"",{"$f":"IF(LEN(Table2[[#This Row],[Pupil Name]])>0,1,0)","v":0}]
[{"$f":"IF(Table1[[#This Row],[School/Group Name]]=\"\",\"\",Table1[[#This Row],[School/Group Name]])","v":""},{"$f":"IF(Table1[[#This Row],[Pupil Name]]=\"\",\"\",Table1[[#This Row],[Pupil Name]])","v":""},{"$f":"IF(Table1[[#This Row],[Gender (M/F)]]=\"\",\"\",Table1[[#This Row],[Gender (M/F)]])","v":""},{"$f":"IF(Table1[[#This Row],[DisAdv (Y/N)]]=\"\",\"\",Table1[[#This Row],[DisAdv (Y/N)]])","v":""},{"$f":"IF(Table1[[#This Row],[SEND (E,K,N)]]=\"\",\"\",Table1[[#This Row],[SEND (E,K,N)]])","v":""},"",{"$f":"IF(LEN(Table2[[#This Row],[Pupil Name]])>0,1,0)","v":0}]
[{"$f":"IF(Table1[[#This Row],[School/Group Name]]=\"\",\"\",Table1[[#This Row],[School/Group Name]])","v":""},{"$f":"IF(Table1[[#This Row],[Pupil Name]]=\"\",\"\",Table1[[#This Row],[Pupil Name]])","v":""},{"$f":"IF(Table1[[#This Row],[Gender (M/F)]]=\"\",\"\",Table1[[#This Row],[Gender (M/F)]])","v":""},{"$f":"IF(Table1[[#This Row],[DisAdv (Y/N)]]=\"\",\"\",Table1[[#This Row],[DisAdv (Y/N)]])","v":""},{"$f":"IF(Table1[[#This Row],[SEND (E,K,N)]]=\"\",\"\",Table1[[#This Row],[SEND (E,K,N)]])","v":""},"",{"$f":"IF(LEN(Table2[[#This Row],[Pupil Name]])>0,1,0)","v":0}]
[{"$f":"IF(Table1[[#This Row],[School/Group Name]]=\"\",\"\",Table1[[#This Row],[School/Group Name]])","v":""},{"$f":"IF(Table1[[#This Row],[Pupil Name]]=\"\",\"\",Table1[[#This Row],[Pupil Name]])","v":""},{"$f":"IF(Table1[[#This Row],[Gender (M/F)]]=\"\",\"\",Table1[[#This Row],[Gender (M/F)]])","v":""},{"$f":"IF(Table1[[#This Row],[DisAdv (Y/N)]]=\"\",\"\",Table1[[#This Row],[DisAdv (Y/N)]])","v":""},{"$f":"IF(Table1[[#This Row],[SEND (E,K,N)]]=\"\",\"\",Table1[[#This Row],[SEND (E,K,N)]])","v":""},"",{"$f":"IF(LEN(Table2[[#This Row],[Pupil Name]])>0,1,0)","v":0}]
[{"$f":"IF(Table1[[#This Row],[School/Group Name]]=\"\",\"\",Table1[[#This Row],[School/Group Name]])","v":""},{"$f":"IF(Table1[[#This Row],[Pupil Name]]=\"\",\"\",Table1[[#This Row],[Pupil Name]])","v":""},{"$f":"IF(Table1[[#This Row],[Gender (M/F)]]=\"\",\"\",Table1[[#This Row],[Gender (M/F)]])","v":""},{"$f":"IF(Table1[[#This Row],[DisAdv (Y/N)]]=\"\",\"\",Table1[[#This Row],[DisAdv (Y/N)]])","v":""},{"$f":"IF(Table1[[#This Row],[SEND (E,K,N)]]=\"\",\"\",Table1[[#This Row],[SEND (E,K,N)]])","v":""},"",{"$f":"IF(LEN(Table2[[#This Row],[Pupil Name]])>0,1,0)","v":0}]
[{"$f":"IF(Table1[[#This Row],[School/Group Name]]=\"\",\"\",Table1[[#This Row],[School/Group Name]])","v":""},{"$f":"IF(Table1[[#This Row],[Pupil Name]]=\"\",\"\",Table1[[#This Row],[Pupil Name]])","v":""},{"$f":"IF(Table1[[#This Row],[Gender (M/F)]]=\"\",\"\",Table1[[#This Row],[Gender (M/F)]])","v":""},{"$f":"IF(Table1[[#This Row],[DisAdv (Y/N)]]=\"\",\"\",Table1[[#This Row],[DisAdv (Y/N)]])","v":""},{"$f":"IF(Table1[[#This Row],[SEND (E,K,N)]]=\"\",\"\",Table1[[#This Row],[SEND (E,K,N)]])","v":""},"",{"$f":"IF(LEN(Table2[[#This Row],[Pupil Name]])>0,1,0)","v":0}]
[{"$f":"IF(Table1[[#This Row],[School/Group Name]]=\"\",\"\",Table1[[#This Row],[School/Group Name]])","v":""},{"$f":"IF(Table1[[#This Row],[Pupil Name]]=\"\",\"\",Table1[[#This Row],[Pupil Name]])","v":""},{"$f":"IF(Table1[[#This Row],[Gender (M/F)]]=\"\",\"\",Table1[[#This Row],[Gender (M/F)]])","v":""},{"$f":"IF(Table1[[#This Row],[DisAdv (Y/N)]]=\"\",\"\",Table1[[#This Row],[DisAdv (Y/N)]])","v":""},{"$f":"IF(Table1[[#This Row],[SEND (E,K,N)]]=\"\",\"\",Table1[[#This Row],[SEND (E,K,N)]])","v":""},"",{"$f":"IF(LEN(Table2[[#This Row],[Pupil Name]])>0,1,0)","v":0}]
[{"$f":"IF(Table1[[#This Row],[School/Group Name]]=\"\",\"\",Table1[[#This Row],[School/Group Name]])","v":""},{"$f":"IF(Table1[[#This Row],[Pupil Name]]=\"\",\"\",Table1[[#This Row],[Pupil Name]])","v":""},{"$f":"IF(Table1[[#This Row],[Gender (M/F)]]=\"\",\"\",Table1[[#This Row],[Gender (M/F)]])","v":""},{"$f":"IF(Table1[[#This Row],[DisAdv (Y/N)]]=\"\",\"\",Table1[[#This Row],[DisAdv (Y/N)]])","v":""},{"$f":"IF(Table1[[#This Row],[SEND (E,K,N)]]=\"\",\"\",Table1[[#This Row],[SEND (E,K,N)]])","v":""},"",{"$f":"IF(LEN(Table2[[#This Row],[Pupil Name]])>0,1,0)","v":0}]
[{"$f":"IF(Table1[[#This Row],[School/Group Name]]=\"\",\"\",Table1[[#This Row],[School/Group Name]])","v":""},{"$f":"IF(Table1[[#This Row],[Pupil Name]]=\"\",\"\",Table1[[#This Row],[Pupil Name]])","v":""},{"$f":"IF(Table1[[#This Row],[Gender (M/F)]]=\"\",\"\",Table1[[#This Row],[Gender (M/F)]])","v":""},{"$f":"IF(Table1[[#This Row],[DisAdv (Y/N)]]=\"\",\"\",Table1[[#This Row],[DisAdv (Y/N)]])","v":""},{"$f":"IF(Table1[[#This Row],[SEND (E,K,N)]]=\"\",\"\",Table1[[#This Row],[SEND (E,K,N)]])","v":""},"",{"$f":"IF(LEN(Table2[[#This Row],[Pupil Name]])>0,1,0)","v":0}]
[{"$f":"IF(Table1[[#This Row],[School/Group Name]]=\"\",\"\",Table1[[#This Row],[School/Group Name]])","v":""},{"$f":"IF(Table1[[#This Row],[Pupil Name]]=\"\",\"\",Table1[[#This Row],[Pupil Name]])","v":""},{"$f":"IF(Table1[[#This Row],[Gender (M/F)]]=\"\",\"\",Table1[[#This Row],[Gender (M/F)]])","v":""},{"$f":"IF(Table1[[#This Row],[DisAdv (Y/N)]]=\"\",\"\",Table1[[#This Row],[DisAdv (Y/N)]])","v":""},{"$f":"IF(Table1[[#This Row],[SEND (E,K,N)]]=\"\",\"\",Table1[[#This Row],[SEND (E,K,N)]])","v":""},"",{"$f":"IF(LEN(Table2[[#This Row],[Pupil Name]])>0,1,0)","v":0}]
[{"$f":"IF(Table1[[#This Row],[School/Group Name]]=\"\",\"\",Table1[[#This Row],[School/Group Name]])","v":""},{"$f":"IF(Table1[[#This Row],[Pupil Name]]=\"\",\"\",Table1[[#This Row],[Pupil Name]])","v":""},{"$f":"IF(Table1[[#This Row],[Gender (M/F)]]=\"\",\"\",Table1[[#This Row],[Gender (M/F)]])","v":""},{"$f":"IF(Table1[[#This Row],[DisAdv (Y/N)]]=\"\",\"\",Table1[[#This Row],[DisAdv (Y/N)]])","v":""},{"$f":"IF(Table1[[#This Row],[SEND (E,K,N)]]=\"\",\"\",Table1[[#This Row],[SEND (E,K,N)]])","v":""},"",{"$f":"IF(LEN(Table2[[#This Row],[Pupil Name]])>0,1,0)","v":0}]
[{"$f":"IF(Table1[[#This Row],[School/Group Name]]=\"\",\"\",Table1[[#This Row],[School/Group Name]])","v":""},{"$f":"IF(Table1[[#This Row],[Pupil Name]]=\"\",\"\",Table1[[#This Row],[Pupil Name]])","v":""},{"$f":"IF(Table1[[#This Row],[Gender (M/F)]]=\"\",\"\",Table1[[#This Row],[Gender (M/F)]])","v":""},{"$f":"IF(Table1[[#This Row],[DisAdv (Y/N)]]=\"\",\"\",Table1[[#This Row],[DisAdv (Y/N)]])","v":""},{"$f":"IF(Table1[[#This Row],[SEND (E,K,N)]]=\"\",\"\",Table1[[#This Row],[SEND (E,K,N)]])","v":""},"",{"$f":"IF(LEN(Table2[[#This Row],[Pupil Name]])>0,1,0)","v":0}]
[{"$f":"IF(Table1[[#This Row],[School/Group Name]]=\"\",\"\",Table1[[#This Row],[School/Group Name]])","v":""},{"$f":"IF(Table1[[#This Row],[Pupil Name]]=\"\",\"\",Table1[[#This Row],[Pupil Name]])","v":""},{"$f":"IF(Table1[[#This Row],[Gender (M/F)]]=\"\",\"\",Table1[[#This Row],[Gender (M/F)]])","v":""},{"$f":"IF(Table1[[#This Row],[DisAdv (Y/N)]]=\"\",\"\",Table1[[#This Row],[DisAdv (Y/N)]])","v":""},{"$f":"IF(Table1[[#This Row],[SEND (E,K,N)]]=\"\",\"\",Table1[[#This Row],[SEND (E,K,N)]])","v":""},"",{"$f":"IF(LEN(Table2[[#This Row],[Pupil Name]])>0,1,0)","v":0}]
[{"$f":"IF(Table1[[#This Row],[School/Group Name]]=\"\",\"\",Table1[[#This Row],[School/Group Name]])","v":""},{"$f":"IF(Table1[[#This Row],[Pupil Name]]=\"\",\"\",Table1[[#This Row],[Pupil Name]])","v":""},{"$f":"IF(Table1[[#This Row],[Gender (M/F)]]=\"\",\"\",Table1[[#This Row],[Gender (M/F)]])","v":""},{"$f":"IF(Table1[[#This Row],[DisAdv (Y/N)]]=\"\",\"\",Table1[[#This Row],[DisAdv (Y/N)]])","v":""},{"$f":"IF(Table1[[#This Row],[SEND (E,K,N)]]=\"\",\"\",Table1[[#This Row],[SEND (E,K,N)]])","v":""},"",{"$f":"IF(LEN(Table2[[#This Row],[Pupil Name]])>0,1,0)","v":0}]
[{"$f":"IF(Table1[[#This Row],[School/Group Name]]=\"\",\"\",Table1[[#This Row],[School/Group Name]])","v":""},{"$f":"IF(Table1[[#This Row],[Pupil Name]]=\"\",\"\",Table1[[#This Row],[Pupil Name]])","v":""},{"$f":"IF(Table1[[#This Row],[Gender (M/F)]]=\"\",\"\",Table1[[#This Row],[Gender (M/F)]])","v":""},{"$f":"IF(Table1[[#This Row],[DisAdv (Y/N)]]=\"\",\"\",Table1[[#This Row],[DisAdv (Y/N)]])","v":""},{"$f":"IF(Table1[[#This Row],[SEND (E,K,N)]]=\"\",\"\",Table1[[#This Row],[SEND (E,K,N)]])","v":""},"",{"$f":"IF(LEN(Table2[[#This Row],[Pupil Name]])>0,1,0)","v":0}]
[{"$f":"IF(Table1[[#This Row],[School/Group Name]]=\"\",\"\",Table1[[#This Row],[School/Group Name]])","v":""},{"$f":"IF(Table1[[#This Row],[Pupil Name]]=\"\",\"\",Table1[[#This Row],[Pupil Name]])","v":""},{"$f":"IF(Table1[[#This Row],[Gender (M/F)]]=\"\",\"\",Table1[[#This Row],[Gender (M/F)]])","v":""},{"$f":"IF(Table1[[#This Row],[DisAdv (Y/N)]]=\"\",\"\",Table1[[#This Row],[DisAdv (Y/N)]])","v":""},{"$f":"IF(Table1[[#This Row],[SEND (E,K,N)]]=\"\",\"\",Table1[[#This Row],[SEND (E,K,N)]])","v":""},"",{"$f":"IF(LEN(Table2[[#This Row],[Pupil Name]])>0,1,0)","v":0}]
[{"$f":"IF(Table1[[#This Row],[School/Group Name]]=\"\",\"\",Table1[[#This Row],[School/Group Name]])","v":""},{"$f":"IF(Table1[[#This Row],[Pupil Name]]=\"\",\"\",Table1[[#This Row],[Pupil Name]])","v":""},{"$f":"IF(Table1[[#This Row],[Gender (M/F)]]=\"\",\"\",Table1[[#This Row],[Gender (M/F)]])","v":""},{"$f":"IF(Table1[[#This Row],[DisAdv (Y/N)]]=\"\",\"\",Table1[[#This Row],[DisAdv (Y/N)]])","v":""},{"$f":"IF(Table1[[#This Row],[SEND (E,K,N)]]=\"\",\"\",Table1[[#This Row],[SEND (E,K,N)]])","v":""},"",{"$f":"IF(LEN(Table2[[#This Row],[Pupil Name]])>0,1,0)","v":0}]
[{"$f":"IF(Table1[[#This Row],[School/Group Name]]=\"\",\"\",Table1[[#This Row],[School/Group Name]])","v":""},{"$f":"IF(Table1[[#This Row],[Pupil Name]]=\"\",\"\",Table1[[#This Row],[Pupil Name]])","v":""},{"$f":"IF(Table1[[#This Row],[Gender (M/F)]]=\"\",\"\",Table1[[#This Row],[Gender (M/F)]])","v":""},{"$f":"IF(Table1[[#This Row],[DisAdv (Y/N)]]=\"\",\"\",Table1[[#This Row],[DisAdv (Y/N)]])","v":""},{"$f":"IF(Table1[[#This Row],[SEND (E,K,N)]]=\"\",\"\",Table1[[#This Row],[SEND (E,K,N)]])","v":""},"",{"$f":"IF(LEN(Table2[[#This Row],[Pupil Name]])>0,1,0)","v":0}]
[{"$f":"IF(Table1[[#This Row],[School/Group Name]]=\"\",\"\",Table1[[#This Row],[School/Group Name]])","v":""},{"$f":"IF(Table1[[#This Row],[Pupil Name]]=\"\",\"\",Table1[[#This Row],[Pupil Name]])","v":""},{"$f":"IF(Table1[[#This Row],[Gender (M/F)]]=\"\",\"\",Table1[[#This Row],[Gender (M/F)]])","v":""},{"$f":"IF(Table1[[#This Row],[DisAdv (Y/N)]]=\"\",\"\",Table1[[#This Row],[DisAdv (Y/N)]])","v":""},{"$f":"IF(Table1[[#This Row],[SEND (E,K,N)]]=\"\",\"\",Table1[[#This Row],[SEND (E,K,N)]])","v":""},"",{"$f":"IF(LEN(Table2[[#This Row],[Pupil Name]])>0,1,0)","v":0}]
[{"$f":"IF(Table1[[#This Row],[School/Group Name]]=\"\",\"\",Table1[[#This Row],[School/Group Name]])","v":""},{"$f":"IF(Table1[[#This Row],[Pupil Name]]=\"\",\"\",Table1[[#This Row],[Pupil Name]])","v":""},{"$f":"IF(Table1[[#This Row],[Gender (M/F)]]=\"\",\"\",Table1[[#This Row],[Gender (M/F)]])","v":""},{"$f":"IF(Table1[[#This Row],[DisAdv (Y/N)]]=\"\",\"\",Table1[[#This Row],[DisAdv (Y/N)]])","v":""},{"$f":"IF(Table1[[#This Row],[SEND (E,K,N)]]=\"\",\"\",Table1[[#This Row],[SEND (E,K,N)]])","v":""},"",{"$f":"IF(LEN(Table2[[#This Row],[Pupil Name]])>0,1,0)","v":0}]
[{"$f":"IF(Table1[[#This Row],[School/Group Name]]=\"\",\"\",Table1[[#This Row],[School/Group Name]])","v":""},{"$f":"IF(Table1[[#This Row],[Pupil Name]]=\"\",\"\",Table1[[#This Row],[Pupil Name]])","v":""},{"$f":"IF(Table1[[#This Row],[Gender (M/F)]]=\"\",\"\",Table1[[#This Row],[Gender (M/F)]])","v":""},{"$f":"IF(Table1[[#This Row],[DisAdv (Y/N)]]=\"\",\"\",Table1[[#This Row],[DisAdv (Y/N)]])","v":""},{"$f":"IF(Table1[[#This Row],[SEND (E,K,N)]]=\"\",\"\",Table1[[#This Row],[SEND (E,K,N)]])","v":""},"",{"$f":"IF(LEN(Table2[[#This Row],[Pupil Name]])>0,1,0)","v":0}]
[{"$f":"IF(Table1[[#This Row],[School/Group Name]]=\"\",\"\",Table1[[#This Row],[School/Group Name]])","v":""},{"$f":"IF(Table1[[#This Row],[Pupil Name]]=\"\",\"\",Table1[[#This Row],[Pupil Name]])","v":""},{"$f":"IF(Table1[[#This Row],[Gender (M/F)]]=\"\",\"\",Table1[[#This Row],[Gender (M/F)]])","v":""},{"$f":"IF(Table1[[#This Row],[DisAdv (Y/N)]]=\"\",\"\",Table1[[#This Row],[DisAdv (Y/N)]])","v":""},{"$f":"IF(Table1[[#This Row],[SEND (E,K,N)]]=\"\",\"\",Table1[[#This Row],[SEND (E,K,N)]])","v":""},"",{"$f":"IF(LEN(Table2[[#This Row],[Pupil Name]])>0,1,0)","v":0}]
[{"$f":"IF(Table1[[#This Row],[School/Group Name]]=\"\",\"\",Table1[[#This Row],[School/Group Name]])","v":""},{"$f":"IF(Table1[[#This Row],[Pupil Name]]=\"\",\"\",Table1[[#This Row],[Pupil Name]])","v":""},{"$f":"IF(Table1[[#This Row],[Gender (M/F)]]=\"\",\"\",Table1[[#This Row],[Gender (M/F)]])","v":""},{"$f":"IF(Table1[[#This Row],[DisAdv (Y/N)]]=\"\",\"\",Table1[[#This Row],[DisAdv (Y/N)]])","v":""},{"$f":"IF(Table1[[#This Row],[SEND (E,K,N)]]=\"\",\"\",Table1[[#This Row],[SEND (E,K,N)]])","v":""},"",{"$f":"IF(LEN(Table2[[#This Row],[Pupil Name]])>0,1,0)","v":0}]
[{"$f":"IF(Table1[[#This Row],[School/Group Name]]=\"\",\"\",Table1[[#This Row],[School/Group Name]])","v":""},{"$f":"IF(Table1[[#This Row],[Pupil Name]]=\"\",\"\",Table1[[#This Row],[Pupil Name]])","v":""},{"$f":"IF(Table1[[#This Row],[Gender (M/F)]]=\"\",\"\",Table1[[#This Row],[Gender (M/F)]])","v":""},{"$f":"IF(Table1[[#This Row],[DisAdv (Y/N)]]=\"\",\"\",Table1[[#This Row],[DisAdv (Y/N)]])","v":""},{"$f":"IF(Table1[[#This Row],[SEND (E,K,N)]]=\"\",\"\",Table1[[#This Row],[SEND (E,K,N)]])","v":""},"",{"$f":"IF(LEN(Table2[[#This Row],[Pupil Name]])>0,1,0)","v":0}]
[{"$f":"IF(Table1[[#This Row],[School/Group Name]]=\"\",\"\",Table1[[#This Row],[School/Group Name]])","v":""},{"$f":"IF(Table1[[#This Row],[Pupil Name]]=\"\",\"\",Table1[[#This Row],[Pupil Name]])","v":""},{"$f":"IF(Table1[[#This Row],[Gender (M/F)]]=\"\",\"\",Table1[[#This Row],[Gender (M/F)]])","v":""},{"$f":"IF(Table1[[#This Row],[DisAdv (Y/N)]]=\"\",\"\",Table1[[#This Row],[DisAdv (Y/N)]])","v":""},{"$f":"IF(Table1[[#This Row],[SEND (E,K,N)]]=\"\",\"\",Table1[[#This Row],[SEND (E,K,N)]])","v":""},"",{"$f":"IF(LEN(Table2[[#This Row],[Pupil Name]])>0,1,0)","v":0}]
[{"$f":"IF(Table1[[#This Row],[School/Group Name]]=\"\",\"\",Table1[[#This Row],[School/Group Name]])","v":""},{"$f":"IF(Table1[[#This Row],[Pupil Name]]=\"\",\"\",Table1[[#This Row],[Pupil Name]])","v":""},{"$f":"IF(Table1[[#This Row],[Gender (M/F)]]=\"\",\"\",Table1[[#This Row],[Gender (M/F)]])","v":""},{"$f":"IF(Table1[[#This Row],[DisAdv (Y/N)]]=\"\",\"\",Table1[[#This Row],[DisAdv (Y/N)]])","v":""},{"$f":"IF(Table1[[#This Row],[SEND (E,K,N)]]=\"\",\"\",Table1[[#This Row],[SEND (E,K,N)]])","v":""},"",{"$f":"IF(LEN(Table2[[#This Row],[Pupil Name]])>0,1,0)","v":0}]
[{"$f":"IF(Table1[[#This Row],[School/Group Name]]=\"\",\"\",Table1[[#This Row],[School/Group Name]])","v":""},{"$f":"IF(Table1[[#This Row],[Pupil Name]]=\"\",\"\",Table1[[#This Row],[Pupil Name]])","v":""},{"$f":"IF(Table1[[#This Row],[Gender (M/F)]]=\"\",\"\",Table1[[#This Row],[Gender (M/F)]])","v":""},{"$f":"IF(Table1[[#This Row],[DisAdv (Y/N)]]=\"\",\"\",Table1[[#This Row],[DisAdv (Y/N)]])","v":""},{"$f":"IF(Table1[[#This Row],[SEND (E,K,N)]]=\"\",\"\",Table1[[#This Row],[SEND (E,K,N)]])","v":""},"",{"$f":"IF(LEN(Table2[[#This Row],[Pupil Name]])>0,1,0)","v":0}]
[{"$f":"IF(Table1[[#This Row],[School/Group Name]]=\"\",\"\",Table1[[#This Row],[School/Group Name]])","v":""},{"$f":"IF(Table1[[#This Row],[Pupil Name]]=\"\",\"\",Table1[[#This Row],[Pupil Name]])","v":""},{"$f":"IF(Table1[[#This Row],[Gender (M/F)]]=\"\",\"\",Table1[[#This Row],[Gender (M/F)]])","v":""},{"$f":"IF(Table1[[#This Row],[DisAdv (Y/N)]]=\"\",\"\",Table1[[#This Row],[DisAdv (Y/N)]])","v":""},{"$f":"IF(Table1[[#This Row],[SEND (E,K,N)]]=\"\",\"\",Table1[[#This Row],[SEND (E,K,N)]])","v":""},"",{"$f":"IF(LEN(Table2[[#This Row],[Pupil Name]])>0,1,0)","v":0}]
[{"$f":"IF(Table1[[#This Row],[School/Group Name]]=\"\",\"\",Table1[[#This Row],[School/Group Name]])","v":""},{"$f":"IF(Table1[[#This Row],[Pupil Name]]=\"\",\"\",Table1[[#This Row],[Pupil Name]])","v":""},{"$f":"IF(Table1[[#This Row],[Gender (M/F)]]=\"\",\"\",Table1[[#This Row],[Gender (M/F)]])","v":""},{"$f":"IF(Table1[[#This Row],[DisAdv (Y/N)]]=\"\",\"\",Table1[[#This Row],[DisAdv (Y/N)]])","v":""},{"$f":"IF(Table1[[#This Row],[SEND (E,K,N)]]=\"\",\"\",Table1[[#This Row],[SEND (E,K,N)]])","v":""},"",{"$f":"IF(LEN(Table2[[#This Row],[Pupil Name]])>0,1,0)","v":0}]
[{"$f":"IF(Table1[[#This Row],[School/Group Name]]=\"\",\"\",Table1[[#This Row],[School/Group Name]])","v":""},{"$f":"IF(Table1[[#This Row],[Pupil Name]]=\"\",\"\",Table1[[#This Row],[Pupil Name]])","v":""},{"$f":"IF(Table1[[#This Row],[Gender (M/F)]]=\"\",\"\",Table1[[#This Row],[Gender (M/F)]])","v":""},{"$f":"IF(Table1[[#This Row],[DisAdv (Y/N)]]=\"\",\"\",Table1[[#This Row],[DisAdv (Y/N)]])","v":""},{"$f":"IF(Table1[[#This Row],[SEND (E,K,N)]]=\"\",\"\",Table1[[#This Row],[SEND (E,K,N)]])","v":""},"",{"$f":"IF(LEN(Table2[[#This Row],[Pupil Name]])>0,1,0)","v":0}]
[{"$f":"IF(Table1[[#This Row],[School/Group Name]]=\"\",\"\",Table1[[#This Row],[School/Group Name]])","v":""},{"$f":"IF(Table1[[#This Row],[Pupil Name]]=\"\",\"\",Table1[[#This Row],[Pupil Name]])","v":""},{"$f":"IF(Table1[[#This Row],[Gender (M/F)]]=\"\",\"\",Table1[[#This Row],[Gender (M/F)]])","v":""},{"$f":"IF(Table1[[#This Row],[DisAdv (Y/N)]]=\"\",\"\",Table1[[#This Row],[DisAdv (Y/N)]])","v":""},{"$f":"IF(Table1[[#This Row],[SEND (E,K,N)]]=\"\",\"\",Table1[[#This Row],[SEND (E,K,N)]])","v":""},"",{"$f":"IF(LEN(Table2[[#This Row],[Pupil Name]])>0,1,0)","v":0}]
[{"$f":"IF(Table1[[#This Row],[School/Group Name]]=\"\",\"\",Table1[[#This Row],[School/Group Name]])","v":""},{"$f":"IF(Table1[[#This Row],[Pupil Name]]=\"\",\"\",Table1[[#This Row],[Pupil Name]])","v":""},{"$f":"IF(Table1[[#This Row],[Gender (M/F)]]=\"\",\"\",Table1[[#This Row],[Gender (M/F)]])","v":""},{"$f":"IF(Table1[[#This Row],[DisAdv (Y/N)]]=\"\",\"\",Table1[[#This Row],[DisAdv (Y/N)]])","v":""},{"$f":"IF(Table1[[#This Row],[SEND (E,K,N)]]=\"\",\"\",Table1[[#This Row],[SEND (E,K,N)]])","v":""},"",{"$f":"IF(LEN(Table2[[#This Row],[Pupil Name]])>0,1,0)","v":0}]
[{"$f":"IF(Table1[[#This Row],[School/Group Name]]=\"\",\"\",Table1[[#This Row],[School/Group Name]])","v":""},{"$f":"IF(Table1[[#This Row],[Pupil Name]]=\"\",\"\",Table1[[#This Row],[Pupil Name]])","v":""},{"$f":"IF(Table1[[#This Row],[Gender (M/F)]]=\"\",\"\",Table1[[#This Row],[Gender (M/F)]])","v":""},{"$f":"IF(Table1[[#This Row],[DisAdv (Y/N)]]=\"\",\"\",Table1[[#This Row],[DisAdv (Y/N)]])","v":""},{"$f":"IF(Table1[[#This Row],[SEND (E,K,N)]]=\"\",\"\",Table1[[#This Row],[SEND (E,K,N)]])","v":""},"",{"$f":"IF(LEN(Table2[[#This Row],[Pupil Name]])>0,1,0)","v":0}]
[{"$f":"IF(Table1[[#This Row],[School/Group Name]]=\"\",\"\",Table1[[#This Row],[School/Group Name]])","v":""},{"$f":"IF(Table1[[#This Row],[Pupil Name]]=\"\",\"\",Table1[[#This Row],[Pupil Name]])","v":""},{"$f":"IF(Table1[[#This Row],[Gender (M/F)]]=\"\",\"\",Table1[[#This Row],[Gender (M/F)]])","v":""},{"$f":"IF(Table1[[#This Row],[DisAdv (Y/N)]]=\"\",\"\",Table1[[#This Row],[DisAdv (Y/N)]])","v":""},{"$f":"IF(Table1[[#This Row],[SEND (E,K,N)]]=\"\",\"\",Table1[[#This Row],[SEND (E,K,N)]])","v":""},"",{"$f":"IF(LEN(Table2[[#This Row],[Pupil Name]])>0,1,0)","v":0}]
[{"$f":"IF(Table1[[#This Row],[School/Group Name]]=\"\",\"\",Table1[[#This Row],[School/Group Name]])","v":""},{"$f":"IF(Table1[[#This Row],[Pupil Name]]=\"\",\"\",Table1[[#This Row],[Pupil Name]])","v":""},{"$f":"IF(Table1[[#This Row],[Gender (M/F)]]=\"\",\"\",Table1[[#This Row],[Gender (M/F)]])","v":""},{"$f":"IF(Table1[[#This Row],[DisAdv (Y/N)]]=\"\",\"\",Table1[[#This Row],[DisAdv (Y/N)]])","v":""},{"$f":"IF(Table1[[#This Row],[SEND (E,K,N)]]=\"\",\"\",Table1[[#This Row],[SEND (E,K,N)]])","v":""},"",{"$f":"IF(LEN(Table2[[#This Row],[Pupil Name]])>0,1,0)","v":0}]

{"sheet":"Maths Summary Paper3","index":5,"n_rows":28,"n_cols":16,"rows_kept":28,"cut":false,"hidden":false,"merged":[]}
["Correct Count","Possible","Ques","Domain","Fine Domain","Year Group","Marks Av","Your Correct","Nat Domain","Nat","Gap to Nat",null,"Maths Paper 3 2019"]
[{"$f":"SUM(B2*H2%)","v":1},{"$f":"'Maths Paper3 Data'!$F$4*G2","v":1},1,"7.Number and place value","Solve subtraction money problems involving up to four digit numbers.",4,1,{"$f":"'Maths Paper3 Data'!$H$4","v":100},86,{"$f":"'Maths Paper3 Data'!$H$3","v":91},{"$f":"H2-J2","v":9},null,"Link to Maths papers"]
[{"$f":"SUM(B3*H3%)","v":1},{"$f":"'Maths Paper3 Data'!$F$4*G3","v":1},2.1,"7.Number and place value","Determine the place value of each digit in numbers up to 10 000 000",6,1,{"$f":"'Maths Paper3 Data'!$I$4","v":100},86,{"$f":"'Maths Paper3 Data'!$I$3","v":81.8},18.200000000000003]
[1,{"$f":"'Maths Paper3 Data'!$F$4*G4","v":1},2.2000000000000002,"7.Number and place value","Round any whole number to a required degree of accuracy ",6,1,{"$f":"'Maths Paper3 Data'!$J$4","v":100},86,{"$f":"'Maths Paper3 Data'!$J$3","v":84.9},15.099999999999994]
[1,{"$f":"'Maths Paper3 Data'!$F$4*G5","v":1},3,"2.Algebra","Construct an algebraic expression to represent a worded problem ",6,1,{"$f":"'Maths Paper3 Data'!$K$4","v":100},72,{"$f":"'Maths Paper3 Data'!$K$3","v":88.7},11.299999999999997]
[0,{"$f":"'Maths Paper3 Data'!$F$4*G6","v":1},4,"3.Fractions, decimals and percentages","Order numbers with up to 3.d.p in context",5,1,{"$f":"'Maths Paper3 Data'!$L$4","v":0},74,{"$f":"'Maths Paper3 Data'!$L$3","v":85.2},-85.2,null,"Domain","Av Marks","% Domain Correct","National Domain %"]
[0,{"$f":"'Maths Paper3 Data'!$F$4*G7","v":1},5,"1.Addition, subtraction, multiplication and division (calculations)","Use addition & subtraction inverse relationships to solve missing number problems, with up to three digit whole numbers. ",3,1,{"$f":"'Maths Paper3 Data'!$M$4","v":0},71,{"$f":"'Maths Paper3 Data'!$M$3","v":83},-83,null,"1.Addition, subtraction, multiplication and division (calculations)",10,60,71]
[1,{"$f":"'Maths Paper3 Data'!$F$4*G8","v":2},6,"3.Fractions, decimals and percentages","Use addition & subtraction to solve money problems ",4,2,{"$f":"'Maths Paper3 Data'!$N$4","v":50},74,{"$f":"'Maths Paper3 Data'!$N$3","v":85.5},-35.5,null,"2.Algebra",2,50,72]
[1,{"$f":"'Maths Paper3 Data'!$F$4*G9","v":1},7.1,"6.Measurement","Compare, add & subtract masses",3,1,{"$f":"'Maths Paper3 Data'!$O$4","v":100},59,{"$f":"'Maths Paper3 Data'!$O$3","v":82.3},17.700000000000003,null,"3.Fractions, decimals and percentages",5,40,74]
[1,{"$f":"'Maths Paper3 Data'!$F$4*G10","v":1},7.2,"9.Statistics","Present continuous data in a grouped table",4,1,{"$f":"'Maths Paper3 Data'!$P$4","v":100},78,{"$f":"'Maths Paper3 Data'!$P$3","v":76.3},23.700000000000003,null,"4.Geometry - position and direction",2,100,73]
[2,{"$f":"'Maths Paper3 Data'!$F$4*G11","v":2},8,"1.Addition, subtraction, multiplication and division (calculations)","Solve a problem involving addition and subtraction, with up to four digit whole numbers. ",4,2,{"$f":"'Maths Paper3 Data'!$Q$4","v":100},71,{"$f":"'Maths Paper3 Data'!$Q$3","v":82.4},17.599999999999994,null,"5.Geometry - properties of shapes",4,75,39]
[1,{"$f":"'Maths Paper3 Data'!$F$4*G12","v":1},9,"9.Statistics","Interpret a pictogram",3,1,{"$f":"'Maths Paper3 Data'!$R$4","v":100},78,{"$f":"'Maths Paper3 Data'!$R$3","v":79.3},20.700000000000003,null,"6.Measurement",5,20,59]
[1,{"$f":"'Maths Paper3 Data'!$F$4*G13","v":1},10.1,"4.Geometry - position and direction","Plot a specified point, to complete a given shape.",4,1,{"$f":"'Maths Paper3 Data'!$S$4","v":100},73,{"$f":"'Maths Paper3 Data'!$S$3","v":78.900000000000006},21.099999999999994,null,"7.Number and place value",3,100,86]
[1,{"$f":"'Maths Paper3 Data'!$F$4*G14","v":1},10.199999999999999,"4.Geometry - position and direction","Draw the position of a shape following a translation. ",5,1,{"$f":"'Maths Paper3 Data'!$T$4","v":100},73,{"$f":"'Maths Paper3 Data'!$T$3","v":67.900000000000006},32.099999999999994,null,"8.Ratio and proportion",2,50,44]
[2,{"$f":"'Maths Paper3 Data'!$F$4*G15","v":2},11,"1.Addition, subtraction, multiplication and division (calculations)","Identify prime numbers and factors ",5,2,{"$f":"'Maths Paper3 Data'!$U$4","v":100},71,{"$f":"'Maths Paper3 Data'!$U$3","v":69.8},30.200000000000003,null,"9.Statistics",2,100,78]
[0,{"$f":"'Maths Paper3 Data'!$F$4*G16","v":1},12,"8.Ratio and proportion","Calculate the measurements for a scale drawing using a scale factor.",6,1,{"$f":"'Maths Paper3 Data'!$V$4","v":0},44,{"$f":"'Maths Paper3 Data'!$V$3","v":65.5},-65.5]
[0,{"$f":"'Maths Paper3 Data'!$F$4*G17","v":1},13,"5.Geometry - properties of shapes","Know and use the language of angles",5,1,{"$f":"'Maths Paper3 Data'!$W$4","v":0},39,{"$f":"'Maths Paper3 Data'!$W$3","v":53.3},-53.3]
[0,{"$f":"'Maths Paper3 Data'!$F$4*G18","v":1},14,"6.Measurement","Know and use the number of days in each month",3,1,{"$f":"'Maths Paper3 Data'!$X$4","v":0},59,{"$f":"'Maths Paper3 Data'!$X$3","v":52.7},-52.7]
[0,{"$f":"'Maths Paper3 Data'!$F$4*G19","v":1},15,"6.Measurement","Convert between miles and kilometres",6,1,{"$f":"'Maths Paper3 Data'!$Y$4","v":0},59,{"$f":"'Maths Paper3 Data'!$Y$3","v":51.1},-51.1]
[0,{"$f":"'Maths Paper3 Data'!$F$4*G20","v":2},16,"6.Measurement","Use all four operations to solve a problem involving mass and money",5,2,{"$f":"'Maths Paper3 Data'!$Z$4","v":0},59,{"$f":"'Maths Paper3 Data'!$Z$3","v":55.6},-55.6,null,"Year Group","Av Marks","% Correct"]
[0,{"$f":"'Maths Paper3 Data'!$F$4*G21","v":1},17,"2.Algebra","Find a pair of numbers that satisfy an equation, with two unknowns.",6,1,{"$f":"'Maths Paper3 Data'!$AA$4","v":0},72,{"$f":"'Maths Paper3 Data'!$AA$3","v":56.1},-56.1,null,3,4,50]
[1,{"$f":"'Maths Paper3 Data'!$F$4*G22","v":2},18,"3.Fractions, decimals and percentages","Order proper fractions, using equivalent fractions ",5,2,{"$f":"'Maths Paper3 Data'!$AB$4","v":50},74,{"$f":"'Maths Paper3 Data'!$AB$3","v":56.5},-6.5,null,4,7,85.714285714285708]
[0.99999999999999978,{"$f":"'Maths Paper3 Data'!$F$4*G23","v":3},19,"1.Addition, subtraction, multiplication and division (calculations)","Solve a two-step problem by multiplying numbers up to three digits and adding numbers up to four digits. ",5,3,{"$f":"'Maths Paper3 Data'!$AC$4","v":33.333333333333329},71,{"$f":"'Maths Paper3 Data'!$AC$3","v":71.5},-38.166666666666671,null,5,12,41.666666666666671]
[1,{"$f":"'Maths Paper3 Data'!$F$4*G24","v":2},20,"1.Addition, subtraction, multiplication and division (calculations)","Solve a two-step problems by dividing numbers up to four digits.",6,2,{"$f":"'Maths Paper3 Data'!$AD$4","v":50},71,{"$f":"'Maths Paper3 Data'!$AD$3","v":54.1},-4.1000000000000014,null,6,12,66.666666666666657]
[1,{"$f":"'Maths Paper3 Data'!$F$4*G25","v":1},21.1,"5.Geometry - properties of shapes","Find missing coordinates of a rectangle using its properties. ",6,1,{"$f":"'Maths Paper3 Data'!$AE$4","v":100},39,{"$f":"'Maths Paper3 Data'!$AE$3","v":34.799999999999997},65.2]
[1,{"$f":"'Maths Paper3 Data'!$F$4*G26","v":1},21.2,"5.Geometry - properties of shapes","Find missing coordinates of a rectangle using its properties. ",6,1,{"$f":"'Maths Paper3 Data'!$AF$4","v":100},39,{"$f":"'Maths Paper3 Data'!$AF$3","v":31.4},68.599999999999994]
[1,{"$f":"'Maths Paper3 Data'!$F$4*G27","v":1},22,"5.Geometry - properties of shapes","Find unknown lengths using proportions of 2D shapes and known measurements. ",6,1,{"$f":"'Maths Paper3 Data'!$AG$4","v":100},39,{"$f":"'Maths Paper3 Data'!$AG$3","v":38.4},61.6]
[1,{"$f":"'Maths Paper3 Data'!$F$4*G28","v":1},23,"8.Ratio and proportion","Solve a word problem involving division with up to three digit numbers and proportion",6,1,{"$f":"'Maths Paper3 Data'!$AH$4","v":100},44,{"$f":"'Maths Paper3 Data'!$AH$3","v":22.1},77.900000000000006]

{"sheet":"Maths Paper3 Data","index":6,"n_rows":500,"n_cols":34,"rows_kept":500,"cut":false,"hidden":false,"merged":[]}
["Maths Paper 3 2019",null,null,null,"Link to Maths Papers",null,"DfE Domain","7. Number and place value","7. Number and place value","7. Number and place value","2. Algebra","3. Fractions, decimals and percentages","1. Addition, subtraction, multiplication and division (calculations)","3. Fractions, decimals and percentages","6. Measurement","9. Statistics","1. Addition, subtraction, multiplication and division (calculations)","9. Statistics","4. Geometry - position and direction","4. Geometry - position and direction","1. Addition, subtraction, multiplication and division (calculations)","8. Ratio and proportion","5. Geometry - properties of shapes","6. Measurement","6. Measurement","6. Measurement","2. Algebra","3. Fractions, decimals and percentages","1. Addition, subtraction, multiplication and division (calculations)","1. Addition, subtraction, multiplication and division (calculations)","5. Geometry - properties of shapes","5. Geometry - properties of shapes","5. Geometry - properties of shapes","8. Ratio and proportion"]
[null,null,null,null,"Link to Mark Scheme",{"$f":"IF(H2=\"\",\"\",(SUM(H2:AH2)))","v":35},"Av Marks",1,1,1,1,1,1,2,1,1,2,1,1,1,2,1,1,1,1,2,1,2,3,2,1,1,1,1]
[null,null,null,null,null,null,"Nat Correct %",91,81.8,84.9,88.7,85.2,83,85.5,82.3,76.3,82.4,79.3,78.900000000000006,67.900000000000006,69.8,65.5,53.3,52.7,51.1,55.6,56.1,56.5,71.5,54.1,34.799999999999997,31.4,38.4,22.1]
[null,null,null,null,"Pupil Count",{"$f":"SUBTOTAL(9,Table3[Question No])","v":1},"Your Correct %",{"$f":"SUM(SUBTOTAL(9,H6:H985)/SUM(H2*$F$4))*100","v":100},100,100,100,0,0,50,100,100,100,100,100,100,100,0,0,0,0,0,0,50,33.333333333333329,50,100,100,100,100]
["School/Group Name","Pupil Name","Gender (M/F)","DisAdv (Y/N)","SEND (E,K,N)","Marks scored","Question No","1","2a","2b","3","4","5","6","7a","7b","8","9","10a","10b","11","12","13","14","15","16","17","18","19","20","21a","21b","22","23"]
[{"$f":"IF(Table1[[#This Row],[School/Group Name]]=\"\",\"\",Table1[[#This Row],[School/Group Name]])","v":"Hogwarts"},{"$f":"IF(Table1[[#This Row],[Pupil Name]]=\"\",\"\",Table1[[#This Row],[Pupil Name]])","v":"Harry"},{"$f":"IF(Table1[[#This Row],[Gender (M/F)]]=\"\",\"\",Table1[[#This Row],[Gender (M/F)]])","v":"M"},{"$f":"IF(Table1[[#This Row],[DisAdv (Y/N)]]=\"\",\"\",Table1[[#This Row],[DisAdv (Y/N)]])","v":"Y"},{"$f":"IF(Table1[[#This Row],[SEND (E,K,N)]]=\"\",\"\",Table1[[#This Row],[SEND (E,K,N)]])","v":"K"},{"$f":"IF(H6=\"\",\"\",(SUM(H6:AH6)))","v":21},{"$f":"IF(LEN(Table3[[#This Row],[Pupil Name]])>0,1,0)","v":1},1,1,1,1,0,0,1,1,1,2,1,1,1,2,0,0,0,0,0,0,1,1,1,1,1,1,1]
[{"$f":"IF(Table1[[#This Row],[School/Group Name]]=\"\",\"\",Table1[[#This Row],[School/Group Name]])","v":""},{"$f":"IF(Table1[[#This Row],[Pupil Name]]=\"\",\"\",Table1[[#This Row],[Pupil Name]])","v":""},{"$f":"IF(Table1[[#This Row],[Gender (M/F)]]=\"\",\"\",Table1[[#This Row],[Gender (M/F)]])","v":""},{"$f":"IF(Table1[[#This Row],[DisAdv (Y/N)]]=\"\",\"\",Table1[[#This Row],[DisAdv (Y/N)]])","v":""},{"$f":"IF(Table1[[#This Row],[SEND (E,K,N)]]=\"\",\"\",Table1[[#This Row],[SEND (E,K,N)]])","v":""},{"$f":"IF(H7=\"\",\"\",(SUM(H7:AH7)))","v":""},{"$f":"IF(LEN(Table3[[#This Row],[Pupil Name]])>0,1,0)","v":0}]
[{"$f":"IF(Table1[[#This Row],[School/Group Name]]=\"\",\"\",Table1[[#This Row],[School/Group Name]])","v":""},{"$f":"IF(Table1[[#This Row],[Pupil Name]]=\"\",\"\",Table1[[#This Row],[Pupil Name]])","v":""},{"$f":"IF(Table1[[#This Row],[Gender (M/F)]]=\"\",\"\",Table1[[#This Row],[Gender (M/F)]])","v":""},{"$f":"IF(Table1[[#This Row],[DisAdv (Y/N)]]=\"\",\"\",Table1[[#This Row],[DisAdv (Y/N)]])","v":""},{"$f":"IF(Table1[[#This Row],[SEND (E,K,N)]]=\"\",\"\",Table1[[#This Row],[SEND (E,K,N)]])","v":""},"",{"$f":"IF(LEN(Table3[[#This Row],[Pupil Name]])>0,1,0)","v":0}]
[{"$f":"IF(Table1[[#This Row],[School/Group Name]]=\"\",\"\",Table1[[#This Row],[School/Group Name]])","v":""},{"$f":"IF(Table1[[#This Row],[Pupil Name]]=\"\",\"\",Table1[[#This Row],[Pupil Name]])","v":""},{"$f":"IF(Table1[[#This Row],[Gender (M/F)]]=\"\",\"\",Table1[[#This Row],[Gender (M/F)]])","v":""},{"$f":"IF(Table1[[#This Row],[DisAdv (Y/N)]]=\"\",\"\",Table1[[#This Row],[DisAdv (Y/N)]])","v":""},{"$f":"IF(Table1[[#This Row],[SEND (E,K,N)]]=\"\",\"\",Table1[[#This Row],[SEND (E,K,N)]])","v":""},"",{"$f":"IF(LEN(Table3[[#This Row],[Pupil Name]])>0,1,0)","v":0}]
[{"$f":"IF(Table1[[#This Row],[School/Group Name]]=\"\",\"\",Table1[[#This Row],[School/Group Name]])","v":""},{"$f":"IF(Table1[[#This Row],[Pupil Name]]=\"\",\"\",Table1[[#This Row],[Pupil Name]])","v":""},{"$f":"IF(Table1[[#This Row],[Gender (M/F)]]=\"\",\"\",Table1[[#This Row],[Gender (M/F)]])","v":""},{"$f":"IF(Table1[[#This Row],[DisAdv (Y/N)]]=\"\",\"\",Table1[[#This Row],[DisAdv (Y/N)]])","v":""},{"$f":"IF(Table1[[#This Row],[SEND (E,K,N)]]=\"\",\"\",Table1[[#This Row],[SEND (E,K,N)]])","v":""},"",{"$f":"IF(LEN(Table3[[#This Row],[Pupil Name]])>0,1,0)","v":0}]
[{"$f":"IF(Table1[[#This Row],[School/Group Name]]=\"\",\"\",Table1[[#This Row],[School/Group Name]])","v":""},{"$f":"IF(Table1[[#This Row],[Pupil Name]]=\"\",\"\",Table1[[#This Row],[Pupil Name]])","v":""},{"$f":"IF(Table1[[#This Row],[Gender (M/F)]]=\"\",\"\",Table1[[#This Row],[Gender (M/F)]])","v":""},{"$f":"IF(Table1[[#This Row],[DisAdv (Y/N)]]=\"\",\"\",Table1[[#This Row],[DisAdv (Y/N)]])","v":""},{"$f":"IF(Table1[[#This Row],[SEND (E,K,N)]]=\"\",\"\",Table1[[#This Row],[SEND (E,K,N)]])","v":""},"",{"$f":"IF(LEN(Table3[[#This Row],[Pupil Name]])>0,1,0)","v":0}]
[{"$f":"IF(Table1[[#This Row],[School/Group Name]]=\"\",\"\",Table1[[#This Row],[School/Group Name]])","v":""},{"$f":"IF(Table1[[#This Row],[Pupil Name]]=\"\",\"\",Table1[[#This Row],[Pupil Name]])","v":""},{"$f":"IF(Table1[[#This Row],[Gender (M/F)]]=\"\",\"\",Table1[[#This Row],[Gender (M/F)]])","v":""},{"$f":"IF(Table1[[#This Row],[DisAdv (Y/N)]]=\"\",\"\",Table1[[#This Row],[DisAdv (Y/N)]])","v":""},{"$f":"IF(Table1[[#This Row],[SEND (E,K,N)]]=\"\",\"\",Table1[[#This Row],[SEND (E,K,N)]])","v":""},"",{"$f":"IF(LEN(Table3[[#This Row],[Pupil Name]])>0,1,0)","v":0}]
[{"$f":"IF(Table1[[#This Row],[School/Group Name]]=\"\",\"\",Table1[[#This Row],[School/Group Name]])","v":""},{"$f":"IF(Table1[[#This Row],[Pupil Name]]=\"\",\"\",Table1[[#This Row],[Pupil Name]])","v":""},{"$f":"IF(Table1[[#This Row],[Gender (M/F)]]=\"\",\"\",Table1[[#This Row],[Gender (M/F)]])","v":""},{"$f":"IF(Table1[[#This Row],[DisAdv (Y/N)]]=\"\",\"\",Table1[[#This Row],[DisAdv (Y/N)]])","v":""},{"$f":"IF(Table1[[#This Row],[SEND (E,K,N)]]=\"\",\"\",Table1[[#This Row],[SEND (E,K,N)]])","v":""},"",{"$f":"IF(LEN(Table3[[#This Row],[Pupil Name]])>0,1,0)","v":0}]
[{"$f":"IF(Table1[[#This Row],[School/Group Name]]=\"\",\"\",Table1[[#This Row],[School/Group Name]])","v":""},{"$f":"IF(Table1[[#This Row],[Pupil Name]]=\"\",\"\",Table1[[#This Row],[Pupil Name]])","v":""},{"$f":"IF(Table1[[#This Row],[Gender (M/F)]]=\"\",\"\",Table1[[#This Row],[Gender (M/F)]])","v":""},{"$f":"IF(Table1[[#This Row],[DisAdv (Y/N)]]=\"\",\"\",Table1[[#This Row],[DisAdv (Y/N)]])","v":""},{"$f":"IF(Table1[[#This Row],[SEND (E,K,N)]]=\"\",\"\",Table1[[#This Row],[SEND (E,K,N)]])","v":""},"",{"$f":"IF(LEN(Table3[[#This Row],[Pupil Name]])>0,1,0)","v":0}]
[{"$f":"IF(Table1[[#This Row],[School/Group Name]]=\"\",\"\",Table1[[#This Row],[School/Group Name]])","v":""},{"$f":"IF(Table1[[#This Row],[Pupil Name]]=\"\",\"\",Table1[[#This Row],[Pupil Name]])","v":""},{"$f":"IF(Table1[[#This Row],[Gender (M/F)]]=\"\",\"\",Table1[[#This Row],[Gender (M/F)]])","v":""},{"$f":"IF(Table1[[#This Row],[DisAdv (Y/N)]]=\"\",\"\",Table1[[#This Row],[DisAdv (Y/N)]])","v":""},{"$f":"IF(Table1[[#This Row],[SEND (E,K,N)]]=\"\",\"\",Table1[[#This Row],[SEND (E,K,N)]])","v":""},"",{"$f":"IF(LEN(Table3[[#This Row],[Pupil Name]])>0,1,0)","v":0}]
[{"$f":"IF(Table1[[#This Row],[School/Group Name]]=\"\",\"\",Table1[[#This Row],[School/Group Name]])","v":""},{"$f":"IF(Table1[[#This Row],[Pupil Name]]=\"\",\"\",Table1[[#This Row],[Pupil Name]])","v":""},{"$f":"IF(Table1[[#This Row],[Gender (M/F)]]=\"\",\"\",Table1[[#This Row],[Gender (M/F)]])","v":""},{"$f":"IF(Table1[[#This Row],[DisAdv (Y/N)]]=\"\",\"\",Table1[[#This Row],[DisAdv (Y/N)]])","v":""},{"$f":"IF(Table1[[#This Row],[SEND (E,K,N)]]=\"\",\"\",Table1[[#This Row],[SEND (E,K,N)]])","v":""},"",{"$f":"IF(LEN(Table3[[#This Row],[Pupil Name]])>0,1,0)","v":0}]
[{"$f":"IF(Table1[[#This Row],[School/Group Name]]=\"\",\"\",Table1[[#This Row],[School/Group Name]])","v":""},{"$f":"IF(Table1[[#This Row],[Pupil Name]]=\"\",\"\",Table1[[#This Row],[Pupil Name]])","v":""},{"$f":"IF(Table1[[#This Row],[Gender (M/F)]]=\"\",\"\",Table1[[#This Row],[Gender (M/F)]])","v":""},{"$f":"IF(Table1[[#This Row],[DisAdv (Y/N)]]=\"\",\"\",Table1[[#This Row],[DisAdv (Y/N)]])","v":""},{"$f":"IF(Table1[[#This Row],[SEND (E,K,N)]]=\"\",\"\",Table1[[#This Row],[SEND (E,K,N)]])","v":""},"",{"$f":"IF(LEN(Table3[[#This Row],[Pupil Name]])>0,1,0)","v":0}]
[{"$f":"IF(Table1[[#This Row],[School/Group Name]]=\"\",\"\",Table1[[#This Row],[School/Group Name]])","v":""},{"$f":"IF(Table1[[#This Row],[Pupil Name]]=\"\",\"\",Table1[[#This Row],[Pupil Name]])","v":""},{"$f":"IF(Table1[[#This Row],[Gender (M/F)]]=\"\",\"\",Table1[[#This Row],[Gender (M/F)]])","v":""},{"$f":"IF(Table1[[#This Row],[DisAdv (Y/N)]]=\"\",\"\",Table1[[#This Row],[DisAdv (Y/N)]])","v":""},{"$f":"IF(Table1[[#This Row],[SEND (E,K,N)]]=\"\",\"\",Table1[[#This Row],[SEND (E,K,N)]])","v":""},"",{"$f":"IF(LEN(Table3[[#This Row],[Pupil Name]])>0,1,0)","v":0}]
[{"$f":"IF(Table1[[#This Row],[School/Group Name]]=\"\",\"\",Table1[[#This Row],[School/Group Name]])","v":""},{"$f":"IF(Table1[[#This Row],[Pupil Name]]=\"\",\"\",Table1[[#This Row],[Pupil Name]])","v":""},{"$f":"IF(Table1[[#This Row],[Gender (M/F)]]=\"\",\"\",Table1[[#This Row],[Gender (M/F)]])","v":""},{"$f":"IF(Table1[[#This Row],[DisAdv (Y/N)]]=\"\",\"\",Table1[[#This Row],[DisAdv (Y/N)]])","v":""},{"$f":"IF(Table1[[#This Row],[SEND (E,K,N)]]=\"\",\"\",Table1[[#This Row],[SEND (E,K,N)]])","v":""},"",{"$f":"IF(LEN(Table3[[#This Row],[Pupil Name]])>0,1,0)","v":0}]
[{"$f":"IF(Table1[[#This Row],[School/Group Name]]=\"\",\"\",Table1[[#This Row],[School/Group Name]])","v":""},{"$f":"IF(Table1[[#This Row],[Pupil Name]]=\"\",\"\",Table1[[#This Row],[Pupil Name]])","v":""},{"$f":"IF(Table1[[#This Row],[Gender (M/F)]]=\"\",\"\",Table1[[#This Row],[Gender (M/F)]])","v":""},{"$f":"IF(Table1[[#This Row],[DisAdv (Y/N)]]=\"\",\"\",Table1[[#This Row],[DisAdv (Y/N)]])","v":""},{"$f":"IF(Table1[[#This Row],[SEND (E,K,N)]]=\"\",\"\",Table1[[#This Row],[SEND (E,K,N)]])","v":""},"",{"$f":"IF(LEN(Table3[[#This Row],[Pupil Name]])>0,1,0)","v":0}]
[{"$f":"IF(Table1[[#This Row],[School/Group Name]]=\"\",\"\",Table1[[#This Row],[School/Group Name]])","v":""},{"$f":"IF(Table1[[#This Row],[Pupil Name]]=\"\",\"\",Table1[[#This Row],[Pupil Name]])","v":""},{"$f":"IF(Table1[[#This Row],[Gender (M/F)]]=\"\",\"\",Table1[[#This Row],[Gender (M/F)]])","v":""},{"$f":"IF(Table1[[#This Row],[DisAdv (Y/N)]]=\"\",\"\",Table1[[#This Row],[DisAdv (Y/N)]])","v":""},{"$f":"IF(Table1[[#This Row],[SEND (E,K,N)]]=\"\",\"\",Table1[[#This Row],[SEND (E,K,N)]])","v":""},"",{"$f":"IF(LEN(Table3[[#This Row],[Pupil Name]])>0,1,0)","v":0}]
[{"$f":"IF(Table1[[#This Row],[School/Group Name]]=\"\",\"\",Table1[[#This Row],[School/Group Name]])","v":""},{"$f":"IF(Table1[[#This Row],[Pupil Name]]=\"\",\"\",Table1[[#This Row],[Pupil Name]])","v":""},{"$f":"IF(Table1[[#This Row],[Gender (M/F)]]=\"\",\"\",Table1[[#This Row],[Gender (M/F)]])","v":""},{"$f":"IF(Table1[[#This Row],[DisAdv (Y/N)]]=\"\",\"\",Table1[[#This Row],[DisAdv (Y/N)]])","v":""},{"$f":"IF(Table1[[#This Row],[SEND (E,K,N)]]=\"\",\"\",Table1[[#This Row],[SEND (E,K,N)]])","v":""},"",{"$f":"IF(LEN(Table3[[#This Row],[Pupil Name]])>0,1,0)","v":0}]
[{"$f":"IF(Table1[[#This Row],[School/Group Name]]=\"\",\"\",Table1[[#This Row],[School/Group Name]])","v":""},{"$f":"IF(Table1[[#This Row],[Pupil Name]]=\"\",\"\",Table1[[#This Row],[Pupil Name]])","v":""},{"$f":"IF(Table1[[#This Row],[Gender (M/F)]]=\"\",\"\",Table1[[#This Row],[Gender (M/F)]])","v":""},{"$f":"IF(Table1[[#This Row],[DisAdv (Y/N)]]=\"\",\"\",Table1[[#This Row],[DisAdv (Y/N)]])","v":""},{"$f":"IF(Table1[[#This Row],[SEND (E,K,N)]]=\"\",\"\",Table1[[#This Row],[SEND (E,K,N)]])","v":""},"",{"$f":"IF(LEN(Table3[[#This Row],[Pupil Name]])>0,1,0)","v":0}]
[{"$f":"IF(Table1[[#This Row],[School/Group Name]]=\"\",\"\",Table1[[#This Row],[School/Group Name]])","v":""},{"$f":"IF(Table1[[#This Row],[Pupil Name]]=\"\",\"\",Table1[[#This Row],[Pupil Name]])","v":""},{"$f":"IF(Table1[[#This Row],[Gender (M/F)]]=\"\",\"\",Table1[[#This Row],[Gender (M/F)]])","v":""},{"$f":"IF(Table1[[#This Row],[DisAdv (Y/N)]]=\"\",\"\",Table1[[#This Row],[DisAdv (Y/N)]])","v":""},{"$f":"IF(Table1[[#This Row],[SEND (E,K,N)]]=\"\",\"\",Table1[[#This Row],[SEND (E,K,N)]])","v":""},"",{"$f":"IF(LEN(Table3[[#This Row],[Pupil Name]])>0,1,0)","v":0}]
[{"$f":"IF(Table1[[#This Row],[School/Group Name]]=\"\",\"\",Table1[[#This Row],[School/Group Name]])","v":""},{"$f":"IF(Table1[[#This Row],[Pupil Name]]=\"\",\"\",Table1[[#This Row],[Pupil Name]])","v":""},{"$f":"IF(Table1[[#This Row],[Gender (M/F)]]=\"\",\"\",Table1[[#This Row],[Gender (M/F)]])","v":""},{"$f":"IF(Table1[[#This Row],[DisAdv (Y/N)]]=\"\",\"\",Table1[[#This Row],[DisAdv (Y/N)]])","v":""},{"$f":"IF(Table1[[#This Row],[SEND (E,K,N)]]=\"\",\"\",Table1[[#This Row],[SEND (E,K,N)]])","v":""},"",{"$f":"IF(LEN(Table3[[#This Row],[Pupil Name]])>0,1,0)","v":0}]
[{"$f":"IF(Table1[[#This Row],[School/Group Name]]=\"\",\"\",Table1[[#This Row],[School/Group Name]])","v":""},{"$f":"IF(Table1[[#This Row],[Pupil Name]]=\"\",\"\",Table1[[#This Row],[Pupil Name]])","v":""},{"$f":"IF(Table1[[#This Row],[Gender (M/F)]]=\"\",\"\",Table1[[#This Row],[Gender (M/F)]])","v":""},{"$f":"IF(Table1[[#This Row],[DisAdv (Y/N)]]=\"\",\"\",Table1[[#This Row],[DisAdv (Y/N)]])","v":""},{"$f":"IF(Table1[[#This Row],[SEND (E,K,N)]]=\"\",\"\",Table1[[#This Row],[SEND (E,K,N)]])","v":""},"",{"$f":"IF(LEN(Table3[[#This Row],[Pupil Name]])>0,1,0)","v":0}]
[{"$f":"IF(Table1[[#This Row],[School/Group Name]]=\"\",\"\",Table1[[#This Row],[School/Group Name]])","v":""},{"$f":"IF(Table1[[#This Row],[Pupil Name]]=\"\",\"\",Table1[[#This Row],[Pupil Name]])","v":""},{"$f":"IF(Table1[[#This Row],[Gender (M/F)]]=\"\",\"\",Table1[[#This Row],[Gender (M/F)]])","v":""},{"$f":"IF(Table1[[#This Row],[DisAdv (Y/N)]]=\"\",\"\",Table1[[#This Row],[DisAdv (Y/N)]])","v":""},{"$f":"IF(Table1[[#This Row],[SEND (E,K,N)]]=\"\",\"\",Table1[[#This Row],[SEND (E,K,N)]])","v":""},"",{"$f":"IF(LEN(Table3[[#This Row],[Pupil Name]])>0,1,0)","v":0}]
[{"$f":"IF(Table1[[#This Row],[School/Group Name]]=\"\",\"\",Table1[[#This Row],[School/Group Name]])","v":""},{"$f":"IF(Table1[[#This Row],[Pupil Name]]=\"\",\"\",Table1[[#This Row],[Pupil Name]])","v":""},{"$f":"IF(Table1[[#This Row],[Gender (M/F)]]=\"\",\"\",Table1[[#This Row],[Gender (M/F)]])","v":""},{"$f":"IF(Table1[[#This Row],[DisAdv (Y/N)]]=\"\",\"\",Table1[[#This Row],[DisAdv (Y/N)]])","v":""},{"$f":"IF(Table1[[#This Row],[SEND (E,K,N)]]=\"\",\"\",Table1[[#This Row],[SEND (E,K,N)]])","v":""},"",{"$f":"IF(LEN(Table3[[#This Row],[Pupil Name]])>0,1,0)","v":0}]
[{"$f":"IF(Table1[[#This Row],[School/Group Name]]=\"\",\"\",Table1[[#This Row],[School/Group Name]])","v":""},{"$f":"IF(Table1[[#This Row],[Pupil Name]]=\"\",\"\",Table1[[#This Row],[Pupil Name]])","v":""},{"$f":"IF(Table1[[#This Row],[Gender (M/F)]]=\"\",\"\",Table1[[#This Row],[Gender (M/F)]])","v":""},{"$f":"IF(Table1[[#This Row],[DisAdv (Y/N)]]=\"\",\"\",Table1[[#This Row],[DisAdv (Y/N)]])","v":""},{"$f":"IF(Table1[[#This Row],[SEND (E,K,N)]]=\"\",\"\",Table1[[#This Row],[SEND (E,K,N)]])","v":""},"",{"$f":"IF(LEN(Table3[[#This Row],[Pupil Name]])>0,1,0)","v":0}]
[{"$f":"IF(Table1[[#This Row],[School/Group Name]]=\"\",\"\",Table1[[#This Row],[School/Group Name]])","v":""},{"$f":"IF(Table1[[#This Row],[Pupil Name]]=\"\",\"\",Table1[[#This Row],[Pupil Name]])","v":""},{"$f":"IF(Table1[[#This Row],[Gender (M/F)]]=\"\",\"\",Table1[[#This Row],[Gender (M/F)]])","v":""},{"$f":"IF(Table1[[#This Row],[DisAdv (Y/N)]]=\"\",\"\",Table1[[#This Row],[DisAdv (Y/N)]])","v":""},{"$f":"IF(Table1[[#This Row],[SEND (E,K,N)]]=\"\",\"\",Table1[[#This Row],[SEND (E,K,N)]])","v":""},"",{"$f":"IF(LEN(Table3[[#This Row],[Pupil Name]])>0,1,0)","v":0}]
[{"$f":"IF(Table1[[#This Row],[School/Group Name]]=\"\",\"\",Table1[[#This Row],[School/Group Name]])","v":""},{"$f":"IF(Table1[[#This Row],[Pupil Name]]=\"\",\"\",Table1[[#This Row],[Pupil Name]])","v":""},{"$f":"IF(Table1[[#This Row],[Gender (M/F)]]=\"\",\"\",Table1[[#This Row],[Gender (M/F)]])","v":""},{"$f":"IF(Table1[[#This Row],[DisAdv (Y/N)]]=\"\",\"\",Table1[[#This Row],[DisAdv (Y/N)]])","v":""},{"$f":"IF(Table1[[#This Row],[SEND (E,K,N)]]=\"\",\"\",Table1[[#This Row],[SEND (E,K,N)]])","v":""},"",{"$f":"IF(LEN(Table3[[#This Row],[Pupil Name]])>0,1,0)","v":0}]
[{"$f":"IF(Table1[[#This Row],[School/Group Name]]=\"\",\"\",Table1[[#This Row],[School/Group Name]])","v":""},{"$f":"IF(Table1[[#This Row],[Pupil Name]]=\"\",\"\",Table1[[#This Row],[Pupil Name]])","v":""},{"$f":"IF(Table1[[#This Row],[Gender (M/F)]]=\"\",\"\",Table1[[#This Row],[Gender (M/F)]])","v":""},{"$f":"IF(Table1[[#This Row],[DisAdv (Y/N)]]=\"\",\"\",Table1[[#This Row],[DisAdv (Y/N)]])","v":""},{"$f":"IF(Table1[[#This Row],[SEND (E,K,N)]]=\"\",\"\",Table1[[#This Row],[SEND (E,K,N)]])","v":""},"",{"$f":"IF(LEN(Table3[[#This Row],[Pupil Name]])>0,1,0)","v":0}]
[{"$f":"IF(Table1[[#This Row],[School/Group Name]]=\"\",\"\",Table1[[#This Row],[School/Group Name]])","v":""},{"$f":"IF(Table1[[#This Row],[Pupil Name]]=\"\",\"\",Table1[[#This Row],[Pupil Name]])","v":""},{"$f":"IF(Table1[[#This Row],[Gender (M/F)]]=\"\",\"\",Table1[[#This Row],[Gender (M/F)]])","v":""},{"$f":"IF(Table1[[#This Row],[DisAdv (Y/N)]]=\"\",\"\",Table1[[#This Row],[DisAdv (Y/N)]])","v":""},{"$f":"IF(Table1[[#This Row],[SEND (E,K,N)]]=\"\",\"\",Table1[[#This Row],[SEND (E,K,N)]])","v":""},"",{"$f":"IF(LEN(Table3[[#This Row],[Pupil Name]])>0,1,0)","v":0}]
[{"$f":"IF(Table1[[#This Row],[School/Group Name]]=\"\",\"\",Table1[[#This Row],[School/Group Name]])","v":""},{"$f":"IF(Table1[[#This Row],[Pupil Name]]=\"\",\"\",Table1[[#This Row],[Pupil Name]])","v":""},{"$f":"IF(Table1[[#This Row],[Gender (M/F)]]=\"\",\"\",Table1[[#This Row],[Gender (M/F)]])","v":""},{"$f":"IF(Table1[[#This Row],[DisAdv (Y/N)]]=\"\",\"\",Table1[[#This Row],[DisAdv (Y/N)]])","v":""},{"$f":"IF(Table1[[#This Row],[SEND (E,K,N)]]=\"\",\"\",Table1[[#This Row],[SEND (E,K,N)]])","v":""},"",{"$f":"IF(LEN(Table3[[#This Row],[Pupil Name]])>0,1,0)","v":0}]
[{"$f":"IF(Table1[[#This Row],[School/Group Name]]=\"\",\"\",Table1[[#This Row],[School/Group Name]])","v":""},{"$f":"IF(Table1[[#This Row],[Pupil Name]]=\"\",\"\",Table1[[#This Row],[Pupil Name]])","v":""},{"$f":"IF(Table1[[#This Row],[Gender (M/F)]]=\"\",\"\",Table1[[#This Row],[Gender (M/F)]])","v":""},{"$f":"IF(Table1[[#This Row],[DisAdv (Y/N)]]=\"\",\"\",Table1[[#This Row],[DisAdv (Y/N)]])","v":""},{"$f":"IF(Table1[[#This Row],[SEND (E,K,N)]]=\"\",\"\",Table1[[#This Row],[SEND (E,K,N)]])","v":""},"",{"$f":"IF(LEN(Table3[[#This Row],[Pupil Name]])>0,1,0)","v":0}]
[{"$f":"IF(Table1[[#This Row],[School/Group Name]]=\"\",\"\",Table1[[#This Row],[School/Group Name]])","v":""},{"$f":"IF(Table1[[#This Row],[Pupil Name]]=\"\",\"\",Table1[[#This Row],[Pupil Name]])","v":""},{"$f":"IF(Table1[[#This Row],[Gender (M/F)]]=\"\",\"\",Table1[[#This Row],[Gender (M/F)]])","v":""},{"$f":"IF(Table1[[#This Row],[DisAdv (Y/N)]]=\"\",\"\",Table1[[#This Row],[DisAdv (Y/N)]])","v":""},{"$f":"IF(Table1[[#This Row],[SEND (E,K,N)]]=\"\",\"\",Table1[[#This Row],[SEND (E,K,N)]])","v":""},"",{"$f":"IF(LEN(Table3[[#This Row],[Pupil Name]])>0,1,0)","v":0}]
[{"$f":"IF(Table1[[#This Row],[School/Group Name]]=\"\",\"\",Table1[[#This Row],[School/Group Name]])","v":""},{"$f":"IF(Table1[[#This Row],[Pupil Name]]=\"\",\"\",Table1[[#This Row],[Pupil Name]])","v":""},{"$f":"IF(Table1[[#This Row],[Gender (M/F)]]=\"\",\"\",Table1[[#This Row],[Gender (M/F)]])","v":""},{"$f":"IF(Table1[[#This Row],[DisAdv (Y/N)]]=\"\",\"\",Table1[[#This Row],[DisAdv (Y/N)]])","v":""},{"$f":"IF(Table1[[#This Row],[SEND (E,K,N)]]=\"\",\"\",Table1[[#This Row],[SEND (E,K,N)]])","v":""},"",{"$f":"IF(LEN(Table3[[#This Row],[Pupil Name]])>0,1,0)","v":0}]
[{"$f":"IF(Table1[[#This Row],[School/Group Name]]=\"\",\"\",Table1[[#This Row],[School/Group Name]])","v":""},{"$f":"IF(Table1[[#This Row],[Pupil Name]]=\"\",\"\",Table1[[#This Row],[Pupil Name]])","v":""},{"$f":"IF(Table1[[#This Row],[Gender (M/F)]]=\"\",\"\",Table1[[#This Row],[Gender (M/F)]])","v":""},{"$f":"IF(Table1[[#This Row],[DisAdv (Y/N)]]=\"\",\"\",Table1[[#This Row],[DisAdv (Y/N)]])","v":""},{"$f":"IF(Table1[[#This Row],[SEND (E,K,N)]]=\"\",\"\",Table1[[#This Row],[SEND (E,K,N)]])","v":""},"",{"$f":"IF(LEN(Table3[[#This Row],[Pupil Name]])>0,1,0)","v":0}]
[{"$f":"IF(Table1[[#This Row],[School/Group Name]]=\"\",\"\",Table1[[#This Row],[School/Group Name]])","v":""},{"$f":"IF(Table1[[#This Row],[Pupil Name]]=\"\",\"\",Table1[[#This Row],[Pupil Name]])","v":""},{"$f":"IF(Table1[[#This Row],[Gender (M/F)]]=\"\",\"\",Table1[[#This Row],[Gender (M/F)]])","v":""},{"$f":"IF(Table1[[#This Row],[DisAdv (Y/N)]]=\"\",\"\",Table1[[#This Row],[DisAdv (Y/N)]])","v":""},{"$f":"IF(Table1[[#This Row],[SEND (E,K,N)]]=\"\",\"\",Table1[[#This Row],[SEND (E,K,N)]])","v":""},"",{"$f":"IF(LEN(Table3[[#This Row],[Pupil Name]])>0,1,0)","v":0}]
[{"$f":"IF(Table1[[#This Row],[School/Group Name]]=\"\",\"\",Table1[[#This Row],[School/Group Name]])","v":""},{"$f":"IF(Table1[[#This Row],[Pupil Name]]=\"\",\"\",Table1[[#This Row],[Pupil Name]])","v":""},{"$f":"IF(Table1[[#This Row],[Gender (M/F)]]=\"\",\"\",Table1[[#This Row],[Gender (M/F)]])","v":""},{"$f":"IF(Table1[[#This Row],[DisAdv (Y/N)]]=\"\",\"\",Table1[[#This Row],[DisAdv (Y/N)]])","v":""},{"$f":"IF(Table1[[#This Row],[SEND (E,K,N)]]=\"\",\"\",Table1[[#This Row],[SEND (E,K,N)]])","v":""},"",{"$f":"IF(LEN(Table3[[#This Row],[Pupil Name]])>0,1,0)","v":0}]
[{"$f":"IF(Table1[[#This Row],[School/Group Name]]=\"\",\"\",Table1[[#This Row],[School/Group Name]])","v":""},{"$f":"IF(Table1[[#This Row],[Pupil Name]]=\"\",\"\",Table1[[#This Row],[Pupil Name]])","v":""},{"$f":"IF(Table1[[#This Row],[Gender (M/F)]]=\"\",\"\",Table1[[#This Row],[Gender (M/F)]])","v":""},{"$f":"IF(Table1[[#This Row],[DisAdv (Y/N)]]=\"\",\"\",Table1[[#This Row],[DisAdv (Y/N)]])","v":""},{"$f":"IF(Table1[[#This Row],[SEND (E,K,N)]]=\"\",\"\",Table1[[#This Row],[SEND (E,K,N)]])","v":""},"",{"$f":"IF(LEN(Table3[[#This Row],[Pupil Name]])>0,1,0)","v":0}]
[{"$f":"IF(Table1[[#This Row],[School/Group Name]]=\"\",\"\",Table1[[#This Row],[School/Group Name]])","v":""},{"$f":"IF(Table1[[#This Row],[Pupil Name]]=\"\",\"\",Table1[[#This Row],[Pupil Name]])","v":""},{"$f":"IF(Table1[[#This Row],[Gender (M/F)]]=\"\",\"\",Table1[[#This Row],[Gender (M/F)]])","v":""},{"$f":"IF(Table1[[#This Row],[DisAdv (Y/N)]]=\"\",\"\",Table1[[#This Row],[DisAdv (Y/N)]])","v":""},{"$f":"IF(Table1[[#This Row],[SEND (E,K,N)]]=\"\",\"\",Table1[[#This Row],[SEND (E,K,N)]])","v":""},"",{"$f":"IF(LEN(Table3[[#This Row],[Pupil Name]])>0,1,0)","v":0}]
[{"$f":"IF(Table1[[#This Row],[School/Group Name]]=\"\",\"\",Table1[[#This Row],[School/Group Name]])","v":""},{"$f":"IF(Table1[[#This Row],[Pupil Name]]=\"\",\"\",Table1[[#This Row],[Pupil Name]])","v":""},{"$f":"IF(Table1[[#This Row],[Gender (M/F)]]=\"\",\"\",Table1[[#This Row],[Gender (M/F)]])","v":""},{"$f":"IF(Table1[[#This Row],[DisAdv (Y/N)]]=\"\",\"\",Table1[[#This Row],[DisAdv (Y/N)]])","v":""},{"$f":"IF(Table1[[#This Row],[SEND (E,K,N)]]=\"\",\"\",Table1[[#This Row],[SEND (E,K,N)]])","v":""},"",{"$f":"IF(LEN(Table3[[#This Row],[Pupil Name]])>0,1,0)","v":0}]
[{"$f":"IF(Table1[[#This Row],[School/Group Name]]=\"\",\"\",Table1[[#This Row],[School/Group Name]])","v":""},{"$f":"IF(Table1[[#This Row],[Pupil Name]]=\"\",\"\",Table1[[#This Row],[Pupil Name]])","v":""},{"$f":"IF(Table1[[#This Row],[Gender (M/F)]]=\"\",\"\",Table1[[#This Row],[Gender (M/F)]])","v":""},{"$f":"IF(Table1[[#This Row],[DisAdv (Y/N)]]=\"\",\"\",Table1[[#This Row],[DisAdv (Y/N)]])","v":""},{"$f":"IF(Table1[[#This Row],[SEND (E,K,N)]]=\"\",\"\",Table1[[#This Row],[SEND (E,K,N)]])","v":""},"",{"$f":"IF(LEN(Table3[[#This Row],[Pupil Name]])>0,1,0)","v":0}]
[{"$f":"IF(Table1[[#This Row],[School/Group Name]]=\"\",\"\",Table1[[#This Row],[School/Group Name]])","v":""},{"$f":"IF(Table1[[#This Row],[Pupil Name]]=\"\",\"\",Table1[[#This Row],[Pupil Name]])","v":""},{"$f":"IF(Table1[[#This Row],[Gender (M/F)]]=\"\",\"\",Table1[[#This Row],[Gender (M/F)]])","v":""},{"$f":"IF(Table1[[#This Row],[DisAdv (Y/N)]]=\"\",\"\",Table1[[#This Row],[DisAdv (Y/N)]])","v":""},{"$f":"IF(Table1[[#This Row],[SEND (E,K,N)]]=\"\",\"\",Table1[[#This Row],[SEND (E,K,N)]])","v":""},"",{"$f":"IF(LEN(Table3[[#This Row],[Pupil Name]])>0,1,0)","v":0}]
[{"$f":"IF(Table1[[#This Row],[School/Group Name]]=\"\",\"\",Table1[[#This Row],[School/Group Name]])","v":""},{"$f":"IF(Table1[[#This Row],[Pupil Name]]=\"\",\"\",Table1[[#This Row],[Pupil Name]])","v":""},{"$f":"IF(Table1[[#This Row],[Gender (M/F)]]=\"\",\"\",Table1[[#This Row],[Gender (M/F)]])","v":""},{"$f":"IF(Table1[[#This Row],[DisAdv (Y/N)]]=\"\",\"\",Table1[[#This Row],[DisAdv (Y/N)]])","v":""},{"$f":"IF(Table1[[#This Row],[SEND (E,K,N)]]=\"\",\"\",Table1[[#This Row],[SEND (E,K,N)]])","v":""},"",{"$f":"IF(LEN(Table3[[#This Row],[Pupil Name]])>0,1,0)","v":0}]
[{"$f":"IF(Table1[[#This Row],[School/Group Name]]=\"\",\"\",Table1[[#This Row],[School/Group Name]])","v":""},{"$f":"IF(Table1[[#This Row],[Pupil Name]]=\"\",\"\",Table1[[#This Row],[Pupil Name]])","v":""},{"$f":"IF(Table1[[#This Row],[Gender (M/F)]]=\"\",\"\",Table1[[#This Row],[Gender (M/F)]])","v":""},{"$f":"IF(Table1[[#This Row],[DisAdv (Y/N)]]=\"\",\"\",Table1[[#This Row],[DisAdv (Y/N)]])","v":""},{"$f":"IF(Table1[[#This Row],[SEND (E,K,N)]]=\"\",\"\",Table1[[#This Row],[SEND (E,K,N)]])","v":""},"",{"$f":"IF(LEN(Table3[[#This Row],[Pupil Name]])>0,1,0)","v":0}]
[{"$f":"IF(Table1[[#This Row],[School/Group Name]]=\"\",\"\",Table1[[#This Row],[School/Group Name]])","v":""},{"$f":"IF(Table1[[#This Row],[Pupil Name]]=\"\",\"\",Table1[[#This Row],[Pupil Name]])","v":""},{"$f":"IF(Table1[[#This Row],[Gender (M/F)]]=\"\",\"\",Table1[[#This Row],[Gender (M/F)]])","v":""},{"$f":"IF(Table1[[#This Row],[DisAdv (Y/N)]]=\"\",\"\",Table1[[#This Row],[DisAdv (Y/N)]])","v":""},{"$f":"IF(Table1[[#This Row],[SEND (E,K,N)]]=\"\",\"\",Table1[[#This Row],[SEND (E,K,N)]])","v":""},"",{"$f":"IF(LEN(Table3[[#This Row],[Pupil Name]])>0,1,0)","v":0}]
[{"$f":"IF(Table1[[#This Row],[School/Group Name]]=\"\",\"\",Table1[[#This Row],[School/Group Name]])","v":""},{"$f":"IF(Table1[[#This Row],[Pupil Name]]=\"\",\"\",Table1[[#This Row],[Pupil Name]])","v":""},{"$f":"IF(Table1[[#This Row],[Gender (M/F)]]=\"\",\"\",Table1[[#This Row],[Gender (M/F)]])","v":""},{"$f":"IF(Table1[[#This Row],[DisAdv (Y/N)]]=\"\",\"\",Table1[[#This Row],[DisAdv (Y/N)]])","v":""},{"$f":"IF(Table1[[#This Row],[SEND (E,K,N)]]=\"\",\"\",Table1[[#This Row],[SEND (E,K,N)]])","v":""},"",{"$f":"IF(LEN(Table3[[#This Row],[Pupil Name]])>0,1,0)","v":0}]
[{"$f":"IF(Table1[[#This Row],[School/Group Name]]=\"\",\"\",Table1[[#This Row],[School/Group Name]])","v":""},{"$f":"IF(Table1[[#This Row],[Pupil Name]]=\"\",\"\",Table1[[#This Row],[Pupil Name]])","v":""},{"$f":"IF(Table1[[#This Row],[Gender (M/F)]]=\"\",\"\",Table1[[#This Row],[Gender (M/F)]])","v":""},{"$f":"IF(Table1[[#This Row],[DisAdv (Y/N)]]=\"\",\"\",Table1[[#This Row],[DisAdv (Y/N)]])","v":""},{"$f":"IF(Table1[[#This Row],[SEND (E,K,N)]]=\"\",\"\",Table1[[#This Row],[SEND (E,K,N)]])","v":""},"",{"$f":"IF(LEN(Table3[[#This Row],[Pupil Name]])>0,1,0)","v":0}]
[{"$f":"IF(Table1[[#This Row],[School/Group Name]]=\"\",\"\",Table1[[#This Row],[School/Group Name]])","v":""},{"$f":"IF(Table1[[#This Row],[Pupil Name]]=\"\",\"\",Table1[[#This Row],[Pupil Name]])","v":""},{"$f":"IF(Table1[[#This Row],[Gender (M/F)]]=\"\",\"\",Table1[[#This Row],[Gender (M/F)]])","v":""},{"$f":"IF(Table1[[#This Row],[DisAdv (Y/N)]]=\"\",\"\",Table1[[#This Row],[DisAdv (Y/N)]])","v":""},{"$f":"IF(Table1[[#This Row],[SEND (E,K,N)]]=\"\",\"\",Table1[[#This Row],[SEND (E,K,N)]])","v":""},"",{"$f":"IF(LEN(Table3[[#This Row],[Pupil Name]])>0,1,0)","v":0}]
[{"$f":"IF(Table1[[#This Row],[School/Group Name]]=\"\",\"\",Table1[[#This Row],[School/Group Name]])","v":""},{"$f":"IF(Table1[[#This Row],[Pupil Name]]=\"\",\"\",Table1[[#This Row],[Pupil Name]])","v":""},{"$f":"IF(Table1[[#This Row],[Gender (M/F)]]=\"\",\"\",Table1[[#This Row],[Gender (M/F)]])","v":""},{"$f":"IF(Table1[[#This Row],[DisAdv (Y/N)]]=\"\",\"\",Table1[[#This Row],[DisAdv (Y/N)]])","v":""},{"$f":"IF(Table1[[#This Row],[SEND (E,K,N)]]=\"\",\"\",Table1[[#This Row],[SEND (E,K,N)]])","v":""},"",{"$f":"IF(LEN(Table3[[#This Row],[Pupil Name]])>0,1,0)","v":0}]
[{"$f":"IF(Table1[[#This Row],[School/Group Name]]=\"\",\"\",Table1[[#This Row],[School/Group Name]])","v":""},{"$f":"IF(Table1[[#This Row],[Pupil Name]]=\"\",\"\",Table1[[#This Row],[Pupil Name]])","v":""},{"$f":"IF(Table1[[#This Row],[Gender (M/F)]]=\"\",\"\",Table1[[#This Row],[Gender (M/F)]])","v":""},{"$f":"IF(Table1[[#This Row],[DisAdv (Y/N)]]=\"\",\"\",Table1[[#This Row],[DisAdv (Y/N)]])","v":""},{"$f":"IF(Table1[[#This Row],[SEND (E,K,N)]]=\"\",\"\",Table1[[#This Row],[SEND (E,K,N)]])","v":""},"",{"$f":"IF(LEN(Table3[[#This Row],[Pupil Name]])>0,1,0)","v":0}]
[{"$f":"IF(Table1[[#This Row],[School/Group Name]]=\"\",\"\",Table1[[#This Row],[School/Group Name]])","v":""},{"$f":"IF(Table1[[#This Row],[Pupil Name]]=\"\",\"\",Table1[[#This Row],[Pupil Name]])","v":""},{"$f":"IF(Table1[[#This Row],[Gender (M/F)]]=\"\",\"\",Table1[[#This Row],[Gender (M/F)]])","v":""},{"$f":"IF(Table1[[#This Row],[DisAdv (Y/N)]]=\"\",\"\",Table1[[#This Row],[DisAdv (Y/N)]])","v":""},{"$f":"IF(Table1[[#This Row],[SEND (E,K,N)]]=\"\",\"\",Table1[[#This Row],[SEND (E,K,N)]])","v":""},"",{"$f":"IF(LEN(Table3[[#This Row],[Pupil Name]])>0,1,0)","v":0}]
[{"$f":"IF(Table1[[#This Row],[School/Group Name]]=\"\",\"\",Table1[[#This Row],[School/Group Name]])","v":""},{"$f":"IF(Table1[[#This Row],[Pupil Name]]=\"\",\"\",Table1[[#This Row],[Pupil Name]])","v":""},{"$f":"IF(Table1[[#This Row],[Gender (M/F)]]=\"\",\"\",Table1[[#This Row],[Gender (M/F)]])","v":""},{"$f":"IF(Table1[[#This Row],[DisAdv (Y/N)]]=\"\",\"\",Table1[[#This Row],[DisAdv (Y/N)]])","v":""},{"$f":"IF(Table1[[#This Row],[SEND (E,K,N)]]=\"\",\"\",Table1[[#This Row],[SEND (E,K,N)]])","v":""},"",{"$f":"IF(LEN(Table3[[#This Row],[Pupil Name]])>0,1,0)","v":0}]
[{"$f":"IF(Table1[[#This Row],[School/Group Name]]=\"\",\"\",Table1[[#This Row],[School/Group Name]])","v":""},{"$f":"IF(Table1[[#This Row],[Pupil Name]]=\"\",\"\",Table1[[#This Row],[Pupil Name]])","v":""},{"$f":"IF(Table1[[#This Row],[Gender (M/F)]]=\"\",\"\",Table1[[#This Row],[Gender (M/F)]])","v":""},{"$f":"IF(Table1[[#This Row],[DisAdv (Y/N)]]=\"\",\"\",Table1[[#This Row],[DisAdv (Y/N)]])","v":""},{"$f":"IF(Table1[[#This Row],[SEND (E,K,N)]]=\"\",\"\",Table1[[#This Row],[SEND (E,K,N)]])","v":""},"",{"$f":"IF(LEN(Table3[[#This Row],[Pupil Name]])>0,1,0)","v":0}]
[{"$f":"IF(Table1[[#This Row],[School/Group Name]]=\"\",\"\",Table1[[#This Row],[School/Group Name]])","v":""},{"$f":"IF(Table1[[#This Row],[Pupil Name]]=\"\",\"\",Table1[[#This Row],[Pupil Name]])","v":""},{"$f":"IF(Table1[[#This Row],[Gender (M/F)]]=\"\",\"\",Table1[[#This Row],[Gender (M/F)]])","v":""},{"$f":"IF(Table1[[#This Row],[DisAdv (Y/N)]]=\"\",\"\",Table1[[#This Row],[DisAdv (Y/N)]])","v":""},{"$f":"IF(Table1[[#This Row],[SEND (E,K,N)]]=\"\",\"\",Table1[[#This Row],[SEND (E,K,N)]])","v":""},"",{"$f":"IF(LEN(Table3[[#This Row],[Pupil Name]])>0,1,0)","v":0}]
[{"$f":"IF(Table1[[#This Row],[School/Group Name]]=\"\",\"\",Table1[[#This Row],[School/Group Name]])","v":""},{"$f":"IF(Table1[[#This Row],[Pupil Name]]=\"\",\"\",Table1[[#This Row],[Pupil Name]])","v":""},{"$f":"IF(Table1[[#This Row],[Gender (M/F)]]=\"\",\"\",Table1[[#This Row],[Gender (M/F)]])","v":""},{"$f":"IF(Table1[[#This Row],[DisAdv (Y/N)]]=\"\",\"\",Table1[[#This Row],[DisAdv (Y/N)]])","v":""},{"$f":"IF(Table1[[#This Row],[SEND (E,K,N)]]=\"\",\"\",Table1[[#This Row],[SEND (E,K,N)]])","v":""},"",{"$f":"IF(LEN(Table3[[#This Row],[Pupil Name]])>0,1,0)","v":0}]
[{"$f":"IF(Table1[[#This Row],[School/Group Name]]=\"\",\"\",Table1[[#This Row],[School/Group Name]])","v":""},{"$f":"IF(Table1[[#This Row],[Pupil Name]]=\"\",\"\",Table1[[#This Row],[Pupil Name]])","v":""},{"$f":"IF(Table1[[#This Row],[Gender (M/F)]]=\"\",\"\",Table1[[#This Row],[Gender (M/F)]])","v":""},{"$f":"IF(Table1[[#This Row],[DisAdv (Y/N)]]=\"\",\"\",Table1[[#This Row],[DisAdv (Y/N)]])","v":""},{"$f":"IF(Table1[[#This Row],[SEND (E,K,N)]]=\"\",\"\",Table1[[#This Row],[SEND (E,K,N)]])","v":""},"",{"$f":"IF(LEN(Table3[[#This Row],[Pupil Name]])>0,1,0)","v":0}]
[{"$f":"IF(Table1[[#This Row],[School/Group Name]]=\"\",\"\",Table1[[#This Row],[School/Group Name]])","v":""},{"$f":"IF(Table1[[#This Row],[Pupil Name]]=\"\",\"\",Table1[[#This Row],[Pupil Name]])","v":""},{"$f":"IF(Table1[[#This Row],[Gender (M/F)]]=\"\",\"\",Table1[[#This Row],[Gender (M/F)]])","v":""},{"$f":"IF(Table1[[#This Row],[DisAdv (Y/N)]]=\"\",\"\",Table1[[#This Row],[DisAdv (Y/N)]])","v":""},{"$f":"IF(Table1[[#This Row],[SEND (E,K,N)]]=\"\",\"\",Table1[[#This Row],[SEND (E,K,N)]])","v":""},"",{"$f":"IF(LEN(Table3[[#This Row],[Pupil Name]])>0,1,0)","v":0}]
[{"$f":"IF(Table1[[#This Row],[School/Group Name]]=\"\",\"\",Table1[[#This Row],[School/Group Name]])","v":""},{"$f":"IF(Table1[[#This Row],[Pupil Name]]=\"\",\"\",Table1[[#This Row],[Pupil Name]])","v":""},{"$f":"IF(Table1[[#This Row],[Gender (M/F)]]=\"\",\"\",Table1[[#This Row],[Gender (M/F)]])","v":""},{"$f":"IF(Table1[[#This Row],[DisAdv (Y/N)]]=\"\",\"\",Table1[[#This Row],[DisAdv (Y/N)]])","v":""},{"$f":"IF(Table1[[#This Row],[SEND (E,K,N)]]=\"\",\"\",Table1[[#This Row],[SEND (E,K,N)]])","v":""},"",{"$f":"IF(LEN(Table3[[#This Row],[Pupil Name]])>0,1,0)","v":0}]
[{"$f":"IF(Table1[[#This Row],[School/Group Name]]=\"\",\"\",Table1[[#This Row],[School/Group Name]])","v":""},{"$f":"IF(Table1[[#This Row],[Pupil Name]]=\"\",\"\",Table1[[#This Row],[Pupil Name]])","v":""},{"$f":"IF(Table1[[#This Row],[Gender (M/F)]]=\"\",\"\",Table1[[#This Row],[Gender (M/F)]])","v":""},{"$f":"IF(Table1[[#This Row],[DisAdv (Y/N)]]=\"\",\"\",Table1[[#This Row],[DisAdv (Y/N)]])","v":""},{"$f":"IF(Table1[[#This Row],[SEND (E,K,N)]]=\"\",\"\",Table1[[#This Row],[SEND (E,K,N)]])","v":""},"",{"$f":"IF(LEN(Table3[[#This Row],[Pupil Name]])>0,1,0)","v":0}]
[{"$f":"IF(Table1[[#This Row],[School/Group Name]]=\"\",\"\",Table1[[#This Row],[School/Group Name]])","v":""},{"$f":"IF(Table1[[#This Row],[Pupil Name]]=\"\",\"\",Table1[[#This Row],[Pupil Name]])","v":""},{"$f":"IF(Table1[[#This Row],[Gender (M/F)]]=\"\",\"\",Table1[[#This Row],[Gender (M/F)]])","v":""},{"$f":"IF(Table1[[#This Row],[DisAdv (Y/N)]]=\"\",\"\",Table1[[#This Row],[DisAdv (Y/N)]])","v":""},{"$f":"IF(Table1[[#This Row],[SEND (E,K,N)]]=\"\",\"\",Table1[[#This Row],[SEND (E,K,N)]])","v":""},"",{"$f":"IF(LEN(Table3[[#This Row],[Pupil Name]])>0,1,0)","v":0}]
[{"$f":"IF(Table1[[#This Row],[School/Group Name]]=\"\",\"\",Table1[[#This Row],[School/Group Name]])","v":""},{"$f":"IF(Table1[[#This Row],[Pupil Name]]=\"\",\"\",Table1[[#This Row],[Pupil Name]])","v":""},{"$f":"IF(Table1[[#This Row],[Gender (M/F)]]=\"\",\"\",Table1[[#This Row],[Gender (M/F)]])","v":""},{"$f":"IF(Table1[[#This Row],[DisAdv (Y/N)]]=\"\",\"\",Table1[[#This Row],[DisAdv (Y/N)]])","v":""},{"$f":"IF(Table1[[#This Row],[SEND (E,K,N)]]=\"\",\"\",Table1[[#This Row],[SEND (E,K,N)]])","v":""},"",{"$f":"IF(LEN(Table3[[#This Row],[Pupil Name]])>0,1,0)","v":0}]
[{"$f":"IF(Table1[[#This Row],[School/Group Name]]=\"\",\"\",Table1[[#This Row],[School/Group Name]])","v":""},{"$f":"IF(Table1[[#This Row],[Pupil Name]]=\"\",\"\",Table1[[#This Row],[Pupil Name]])","v":""},{"$f":"IF(Table1[[#This Row],[Gender (M/F)]]=\"\",\"\",Table1[[#This Row],[Gender (M/F)]])","v":""},{"$f":"IF(Table1[[#This Row],[DisAdv (Y/N)]]=\"\",\"\",Table1[[#This Row],[DisAdv (Y/N)]])","v":""},{"$f":"IF(Table1[[#This Row],[SEND (E,K,N)]]=\"\",\"\",Table1[[#This Row],[SEND (E,K,N)]])","v":""},"",{"$f":"IF(LEN(Table3[[#This Row],[Pupil Name]])>0,1,0)","v":0}]
[{"$f":"IF(Table1[[#This Row],[School/Group Name]]=\"\",\"\",Table1[[#This Row],[School/Group Name]])","v":""},{"$f":"IF(Table1[[#This Row],[Pupil Name]]=\"\",\"\",Table1[[#This Row],[Pupil Name]])","v":""},{"$f":"IF(Table1[[#This Row],[Gender (M/F)]]=\"\",\"\",Table1[[#This Row],[Gender (M/F)]])","v":""},{"$f":"IF(Table1[[#This Row],[DisAdv (Y/N)]]=\"\",\"\",Table1[[#This Row],[DisAdv (Y/N)]])","v":""},{"$f":"IF(Table1[[#This Row],[SEND (E,K,N)]]=\"\",\"\",Table1[[#This Row],[SEND (E,K,N)]])","v":""},"",{"$f":"IF(LEN(Table3[[#This Row],[Pupil Name]])>0,1,0)","v":0}]
[{"$f":"IF(Table1[[#This Row],[School/Group Name]]=\"\",\"\",Table1[[#This Row],[School/Group Name]])","v":""},{"$f":"IF(Table1[[#This Row],[Pupil Name]]=\"\",\"\",Table1[[#This Row],[Pupil Name]])","v":""},{"$f":"IF(Table1[[#This Row],[Gender (M/F)]]=\"\",\"\",Table1[[#This Row],[Gender (M/F)]])","v":""},{"$f":"IF(Table1[[#This Row],[DisAdv (Y/N)]]=\"\",\"\",Table1[[#This Row],[DisAdv (Y/N)]])","v":""},{"$f":"IF(Table1[[#This Row],[SEND (E,K,N)]]=\"\",\"\",Table1[[#This Row],[SEND (E,K,N)]])","v":""},"",{"$f":"IF(LEN(Table3[[#This Row],[Pupil Name]])>0,1,0)","v":0}]
[{"$f":"IF(Table1[[#This Row],[School/Group Name]]=\"\",\"\",Table1[[#This Row],[School/Group Name]])","v":""},{"$f":"IF(Table1[[#This Row],[Pupil Name]]=\"\",\"\",Table1[[#This Row],[Pupil Name]])","v":""},{"$f":"IF(Table1[[#This Row],[Gender (M/F)]]=\"\",\"\",Table1[[#This Row],[Gender (M/F)]])","v":""},{"$f":"IF(Table1[[#This Row],[DisAdv (Y/N)]]=\"\",\"\",Table1[[#This Row],[DisAdv (Y/N)]])","v":""},{"$f":"IF(Table1[[#This Row],[SEND (E,K,N)]]=\"\",\"\",Table1[[#This Row],[SEND (E,K,N)]])","v":""},"",{"$f":"IF(LEN(Table3[[#This Row],[Pupil Name]])>0,1,0)","v":0}]
[{"$f":"IF(Table1[[#This Row],[School/Group Name]]=\"\",\"\",Table1[[#This Row],[School/Group Name]])","v":""},{"$f":"IF(Table1[[#This Row],[Pupil Name]]=\"\",\"\",Table1[[#This Row],[Pupil Name]])","v":""},{"$f":"IF(Table1[[#This Row],[Gender (M/F)]]=\"\",\"\",Table1[[#This Row],[Gender (M/F)]])","v":""},{"$f":"IF(Table1[[#This Row],[DisAdv (Y/N)]]=\"\",\"\",Table1[[#This Row],[DisAdv (Y/N)]])","v":""},{"$f":"IF(Table1[[#This Row],[SEND (E,K,N)]]=\"\",\"\",Table1[[#This Row],[SEND (E,K,N)]])","v":""},"",{"$f":"IF(LEN(Table3[[#This Row],[Pupil Name]])>0,1,0)","v":0}]
[{"$f":"IF(Table1[[#This Row],[School/Group Name]]=\"\",\"\",Table1[[#This Row],[School/Group Name]])","v":""},{"$f":"IF(Table1[[#This Row],[Pupil Name]]=\"\",\"\",Table1[[#This Row],[Pupil Name]])","v":""},{"$f":"IF(Table1[[#This Row],[Gender (M/F)]]=\"\",\"\",Table1[[#This Row],[Gender (M/F)]])","v":""},{"$f":"IF(Table1[[#This Row],[DisAdv (Y/N)]]=\"\",\"\",Table1[[#This Row],[DisAdv (Y/N)]])","v":""},{"$f":"IF(Table1[[#This Row],[SEND (E,K,N)]]=\"\",\"\",Table1[[#This Row],[SEND (E,K,N)]])","v":""},"",{"$f":"IF(LEN(Table3[[#This Row],[Pupil Name]])>0,1,0)","v":0}]
[{"$f":"IF(Table1[[#This Row],[School/Group Name]]=\"\",\"\",Table1[[#This Row],[School/Group Name]])","v":""},{"$f":"IF(Table1[[#This Row],[Pupil Name]]=\"\",\"\",Table1[[#This Row],[Pupil Name]])","v":""},{"$f":"IF(Table1[[#This Row],[Gender (M/F)]]=\"\",\"\",Table1[[#This Row],[Gender (M/F)]])","v":""},{"$f":"IF(Table1[[#This Row],[DisAdv (Y/N)]]=\"\",\"\",Table1[[#This Row],[DisAdv (Y/N)]])","v":""},{"$f":"IF(Table1[[#This Row],[SEND (E,K,N)]]=\"\",\"\",Table1[[#This Row],[SEND (E,K,N)]])","v":""},{"$f":"IF(H71=\"\",\"\",(SUM(H71:AH71)))","v":""},{"$f":"IF(LEN(Table3[[#This Row],[Pupil Name]])>0,1,0)","v":0}]
[{"$f":"IF(Table1[[#This Row],[School/Group Name]]=\"\",\"\",Table1[[#This Row],[School/Group Name]])","v":""},{"$f":"IF(Table1[[#This Row],[Pupil Name]]=\"\",\"\",Table1[[#This Row],[Pupil Name]])","v":""},{"$f":"IF(Table1[[#This Row],[Gender (M/F)]]=\"\",\"\",Table1[[#This Row],[Gender (M/F)]])","v":""},{"$f":"IF(Table1[[#This Row],[DisAdv (Y/N)]]=\"\",\"\",Table1[[#This Row],[DisAdv (Y/N)]])","v":""},{"$f":"IF(Table1[[#This Row],[SEND (E,K,N)]]=\"\",\"\",Table1[[#This Row],[SEND (E,K,N)]])","v":""},"",{"$f":"IF(LEN(Table3[[#This Row],[Pupil Name]])>0,1,0)","v":0}]
[{"$f":"IF(Table1[[#This Row],[School/Group Name]]=\"\",\"\",Table1[[#This Row],[School/Group Name]])","v":""},{"$f":"IF(Table1[[#This Row],[Pupil Name]]=\"\",\"\",Table1[[#This Row],[Pupil Name]])","v":""},{"$f":"IF(Table1[[#This Row],[Gender (M/F)]]=\"\",\"\",Table1[[#This Row],[Gender (M/F)]])","v":""},{"$f":"IF(Table1[[#This Row],[DisAdv (Y/N)]]=\"\",\"\",Table1[[#This Row],[DisAdv (Y/N)]])","v":""},{"$f":"IF(Table1[[#This Row],[SEND (E,K,N)]]=\"\",\"\",Table1[[#This Row],[SEND (E,K,N)]])","v":""},"",{"$f":"IF(LEN(Table3[[#This Row],[Pupil Name]])>0,1,0)","v":0}]
[{"$f":"IF(Table1[[#This Row],[School/Group Name]]=\"\",\"\",Table1[[#This Row],[School/Group Name]])","v":""},{"$f":"IF(Table1[[#This Row],[Pupil Name]]=\"\",\"\",Table1[[#This Row],[Pupil Name]])","v":""},{"$f":"IF(Table1[[#This Row],[Gender (M/F)]]=\"\",\"\",Table1[[#This Row],[Gender (M/F)]])","v":""},{"$f":"IF(Table1[[#This Row],[DisAdv (Y/N)]]=\"\",\"\",Table1[[#This Row],[DisAdv (Y/N)]])","v":""},{"$f":"IF(Table1[[#This Row],[SEND (E,K,N)]]=\"\",\"\",Table1[[#This Row],[SEND (E,K,N)]])","v":""},"",{"$f":"IF(LEN(Table3[[#This Row],[Pupil Name]])>0,1,0)","v":0}]
[{"$f":"IF(Table1[[#This Row],[School/Group Name]]=\"\",\"\",Table1[[#This Row],[School/Group Name]])","v":""},{"$f":"IF(Table1[[#This Row],[Pupil Name]]=\"\",\"\",Table1[[#This Row],[Pupil Name]])","v":""},{"$f":"IF(Table1[[#This Row],[Gender (M/F)]]=\"\",\"\",Table1[[#This Row],[Gender (M/F)]])","v":""},{"$f":"IF(Table1[[#This Row],[DisAdv (Y/N)]]=\"\",\"\",Table1[[#This Row],[DisAdv (Y/N)]])","v":""},{"$f":"IF(Table1[[#This Row],[SEND (E,K,N)]]=\"\",\"\",Table1[[#This Row],[SEND (E,K,N)]])","v":""},"",{"$f":"IF(LEN(Table3[[#This Row],[Pupil Name]])>0,1,0)","v":0}]
[{"$f":"IF(Table1[[#This Row],[School/Group Name]]=\"\",\"\",Table1[[#This Row],[School/Group Name]])","v":""},{"$f":"IF(Table1[[#This Row],[Pupil Name]]=\"\",\"\",Table1[[#This Row],[Pupil Name]])","v":""},{"$f":"IF(Table1[[#This Row],[Gender (M/F)]]=\"\",\"\",Table1[[#This Row],[Gender (M/F)]])","v":""},{"$f":"IF(Table1[[#This Row],[DisAdv (Y/N)]]=\"\",\"\",Table1[[#This Row],[DisAdv (Y/N)]])","v":""},{"$f":"IF(Table1[[#This Row],[SEND (E,K,N)]]=\"\",\"\",Table1[[#This Row],[SEND (E,K,N)]])","v":""},"",{"$f":"IF(LEN(Table3[[#This Row],[Pupil Name]])>0,1,0)","v":0}]
[{"$f":"IF(Table1[[#This Row],[School/Group Name]]=\"\",\"\",Table1[[#This Row],[School/Group Name]])","v":""},{"$f":"IF(Table1[[#This Row],[Pupil Name]]=\"\",\"\",Table1[[#This Row],[Pupil Name]])","v":""},{"$f":"IF(Table1[[#This Row],[Gender (M/F)]]=\"\",\"\",Table1[[#This Row],[Gender (M/F)]])","v":""},{"$f":"IF(Table1[[#This Row],[DisAdv (Y/N)]]=\"\",\"\",Table1[[#This Row],[DisAdv (Y/N)]])","v":""},{"$f":"IF(Table1[[#This Row],[SEND (E,K,N)]]=\"\",\"\",Table1[[#This Row],[SEND (E,K,N)]])","v":""},"",{"$f":"IF(LEN(Table3[[#This Row],[Pupil Name]])>0,1,0)","v":0}]
[{"$f":"IF(Table1[[#This Row],[School/Group Name]]=\"\",\"\",Table1[[#This Row],[School/Group Name]])","v":""},{"$f":"IF(Table1[[#This Row],[Pupil Name]]=\"\",\"\",Table1[[#This Row],[Pupil Name]])","v":""},{"$f":"IF(Table1[[#This Row],[Gender (M/F)]]=\"\",\"\",Table1[[#This Row],[Gender (M/F)]])","v":""},{"$f":"IF(Table1[[#This Row],[DisAdv (Y/N)]]=\"\",\"\",Table1[[#This Row],[DisAdv (Y/N)]])","v":""},{"$f":"IF(Table1[[#This Row],[SEND (E,K,N)]]=\"\",\"\",Table1[[#This Row],[SEND (E,K,N)]])","v":""},"",{"$f":"IF(LEN(Table3[[#This Row],[Pupil Name]])>0,1,0)","v":0}]
[{"$f":"IF(Table1[[#This Row],[School/Group Name]]=\"\",\"\",Table1[[#This Row],[School/Group Name]])","v":""},{"$f":"IF(Table1[[#This Row],[Pupil Name]]=\"\",\"\",Table1[[#This Row],[Pupil Name]])","v":""},{"$f":"IF(Table1[[#This Row],[Gender (M/F)]]=\"\",\"\",Table1[[#This Row],[Gender (M/F)]])","v":""},{"$f":"IF(Table1[[#This Row],[DisAdv (Y/N)]]=\"\",\"\",Table1[[#This Row],[DisAdv (Y/N)]])","v":""},{"$f":"IF(Table1[[#This Row],[SEND (E,K,N)]]=\"\",\"\",Table1[[#This Row],[SEND (E,K,N)]])","v":""},"",{"$f":"IF(LEN(Table3[[#This Row],[Pupil Name]])>0,1,0)","v":0}]
[{"$f":"IF(Table1[[#This Row],[School/Group Name]]=\"\",\"\",Table1[[#This Row],[School/Group Name]])","v":""},{"$f":"IF(Table1[[#This Row],[Pupil Name]]=\"\",\"\",Table1[[#This Row],[Pupil Name]])","v":""},{"$f":"IF(Table1[[#This Row],[Gender (M/F)]]=\"\",\"\",Table1[[#This Row],[Gender (M/F)]])","v":""},{"$f":"IF(Table1[[#This Row],[DisAdv (Y/N)]]=\"\",\"\",Table1[[#This Row],[DisAdv (Y/N)]])","v":""},{"$f":"IF(Table1[[#This Row],[SEND (E,K,N)]]=\"\",\"\",Table1[[#This Row],[SEND (E,K,N)]])","v":""},"",{"$f":"IF(LEN(Table3[[#This Row],[Pupil Name]])>0,1,0)","v":0}]
[{"$f":"IF(Table1[[#This Row],[School/Group Name]]=\"\",\"\",Table1[[#This Row],[School/Group Name]])","v":""},{"$f":"IF(Table1[[#This Row],[Pupil Name]]=\"\",\"\",Table1[[#This Row],[Pupil Name]])","v":""},{"$f":"IF(Table1[[#This Row],[Gender (M/F)]]=\"\",\"\",Table1[[#This Row],[Gender (M/F)]])","v":""},{"$f":"IF(Table1[[#This Row],[DisAdv (Y/N)]]=\"\",\"\",Table1[[#This Row],[DisAdv (Y/N)]])","v":""},{"$f":"IF(Table1[[#This Row],[SEND (E,K,N)]]=\"\",\"\",Table1[[#This Row],[SEND (E,K,N)]])","v":""},"",{"$f":"IF(LEN(Table3[[#This Row],[Pupil Name]])>0,1,0)","v":0}]
[{"$f":"IF(Table1[[#This Row],[School/Group Name]]=\"\",\"\",Table1[[#This Row],[School/Group Name]])","v":""},{"$f":"IF(Table1[[#This Row],[Pupil Name]]=\"\",\"\",Table1[[#This Row],[Pupil Name]])","v":""},{"$f":"IF(Table1[[#This Row],[Gender (M/F)]]=\"\",\"\",Table1[[#This Row],[Gender (M/F)]])","v":""},{"$f":"IF(Table1[[#This Row],[DisAdv (Y/N)]]=\"\",\"\",Table1[[#This Row],[DisAdv (Y/N)]])","v":""},{"$f":"IF(Table1[[#This Row],[SEND (E,K,N)]]=\"\",\"\",Table1[[#This Row],[SEND (E,K,N)]])","v":""},"",{"$f":"IF(LEN(Table3[[#This Row],[Pupil Name]])>0,1,0)","v":0}]
[{"$f":"IF(Table1[[#This Row],[School/Group Name]]=\"\",\"\",Table1[[#This Row],[School/Group Name]])","v":""},{"$f":"IF(Table1[[#This Row],[Pupil Name]]=\"\",\"\",Table1[[#This Row],[Pupil Name]])","v":""},{"$f":"IF(Table1[[#This Row],[Gender (M/F)]]=\"\",\"\",Table1[[#This Row],[Gender (M/F)]])","v":""},{"$f":"IF(Table1[[#This Row],[DisAdv (Y/N)]]=\"\",\"\",Table1[[#This Row],[DisAdv (Y/N)]])","v":""},{"$f":"IF(Table1[[#This Row],[SEND (E,K,N)]]=\"\",\"\",Table1[[#This Row],[SEND (E,K,N)]])","v":""},"",{"$f":"IF(LEN(Table3[[#This Row],[Pupil Name]])>0,1,0)","v":0}]
[{"$f":"IF(Table1[[#This Row],[School/Group Name]]=\"\",\"\",Table1[[#This Row],[School/Group Name]])","v":""},{"$f":"IF(Table1[[#This Row],[Pupil Name]]=\"\",\"\",Table1[[#This Row],[Pupil Name]])","v":""},{"$f":"IF(Table1[[#This Row],[Gender (M/F)]]=\"\",\"\",Table1[[#This Row],[Gender (M/F)]])","v":""},{"$f":"IF(Table1[[#This Row],[DisAdv (Y/N)]]=\"\",\"\",Table1[[#This Row],[DisAdv (Y/N)]])","v":""},{"$f":"IF(Table1[[#This Row],[SEND (E,K,N)]]=\"\",\"\",Table1[[#This Row],[SEND (E,K,N)]])","v":""},"",{"$f":"IF(LEN(Table3[[#This Row],[Pupil Name]])>0,1,0)","v":0}]
[{"$f":"IF(Table1[[#This Row],[School/Group Name]]=\"\",\"\",Table1[[#This Row],[School/Group Name]])","v":""},{"$f":"IF(Table1[[#This Row],[Pupil Name]]=\"\",\"\",Table1[[#This Row],[Pupil Name]])","v":""},{"$f":"IF(Table1[[#This Row],[Gender (M/F)]]=\"\",\"\",Table1[[#This Row],[Gender (M/F)]])","v":""},{"$f":"IF(Table1[[#This Row],[DisAdv (Y/N)]]=\"\",\"\",Table1[[#This Row],[DisAdv (Y/N)]])","v":""},{"$f":"IF(Table1[[#This Row],[SEND (E,K,N)]]=\"\",\"\",Table1[[#This Row],[SEND (E,K,N)]])","v":""},"",{"$f":"IF(LEN(Table3[[#This Row],[Pupil Name]])>0,1,0)","v":0}]
[{"$f":"IF(Table1[[#This Row],[School/Group Name]]=\"\",\"\",Table1[[#This Row],[School/Group Name]])","v":""},{"$f":"IF(Table1[[#This Row],[Pupil Name]]=\"\",\"\",Table1[[#This Row],[Pupil Name]])","v":""},{"$f":"IF(Table1[[#This Row],[Gender (M/F)]]=\"\",\"\",Table1[[#This Row],[Gender (M/F)]])","v":""},{"$f":"IF(Table1[[#This Row],[DisAdv (Y/N)]]=\"\",\"\",Table1[[#This Row],[DisAdv (Y/N)]])","v":""},{"$f":"IF(Table1[[#This Row],[SEND (E,K,N)]]=\"\",\"\",Table1[[#This Row],[SEND (E,K,N)]])","v":""},"",{"$f":"IF(LEN(Table3[[#This Row],[Pupil Name]])>0,1,0)","v":0}]
[{"$f":"IF(Table1[[#This Row],[School/Group Name]]=\"\",\"\",Table1[[#This Row],[School/Group Name]])","v":""},{"$f":"IF(Table1[[#This Row],[Pupil Name]]=\"\",\"\",Table1[[#This Row],[Pupil Name]])","v":""},{"$f":"IF(Table1[[#This Row],[Gender (M/F)]]=\"\",\"\",Table1[[#This Row],[Gender (M/F)]])","v":""},{"$f":"IF(Table1[[#This Row],[DisAdv (Y/N)]]=\"\",\"\",Table1[[#This Row],[DisAdv (Y/N)]])","v":""},{"$f":"IF(Table1[[#This Row],[SEND (E,K,N)]]=\"\",\"\",Table1[[#This Row],[SEND (E,K,N)]])","v":""},"",{"$f":"IF(LEN(Table3[[#This Row],[Pupil Name]])>0,1,0)","v":0}]
[{"$f":"IF(Table1[[#This Row],[School/Group Name]]=\"\",\"\",Table1[[#This Row],[School/Group Name]])","v":""},{"$f":"IF(Table1[[#This Row],[Pupil Name]]=\"\",\"\",Table1[[#This Row],[Pupil Name]])","v":""},{"$f":"IF(Table1[[#This Row],[Gender (M/F)]]=\"\",\"\",Table1[[#This Row],[Gender (M/F)]])","v":""},{"$f":"IF(Table1[[#This Row],[DisAdv (Y/N)]]=\"\",\"\",Table1[[#This Row],[DisAdv (Y/N)]])","v":""},{"$f":"IF(Table1[[#This Row],[SEND (E,K,N)]]=\"\",\"\",Table1[[#This Row],[SEND (E,K,N)]])","v":""},"",{"$f":"IF(LEN(Table3[[#This Row],[Pupil Name]])>0,1,0)","v":0}]
[{"$f":"IF(Table1[[#This Row],[School/Group Name]]=\"\",\"\",Table1[[#This Row],[School/Group Name]])","v":""},{"$f":"IF(Table1[[#This Row],[Pupil Name]]=\"\",\"\",Table1[[#This Row],[Pupil Name]])","v":""},{"$f":"IF(Table1[[#This Row],[Gender (M/F)]]=\"\",\"\",Table1[[#This Row],[Gender (M/F)]])","v":""},{"$f":"IF(Table1[[#This Row],[DisAdv (Y/N)]]=\"\",\"\",Table1[[#This Row],[DisAdv (Y/N)]])","v":""},{"$f":"IF(Table1[[#This Row],[SEND (E,K,N)]]=\"\",\"\",Table1[[#This Row],[SEND (E,K,N)]])","v":""},"",{"$f":"IF(LEN(Table3[[#This Row],[Pupil Name]])>0,1,0)","v":0}]
[{"$f":"IF(Table1[[#This Row],[School/Group Name]]=\"\",\"\",Table1[[#This Row],[School/Group Name]])","v":""},{"$f":"IF(Table1[[#This Row],[Pupil Name]]=\"\",\"\",Table1[[#This Row],[Pupil Name]])","v":""},{"$f":"IF(Table1[[#This Row],[Gender (M/F)]]=\"\",\"\",Table1[[#This Row],[Gender (M/F)]])","v":""},{"$f":"IF(Table1[[#This Row],[DisAdv (Y/N)]]=\"\",\"\",Table1[[#This Row],[DisAdv (Y/N)]])","v":""},{"$f":"IF(Table1[[#This Row],[SEND (E,K,N)]]=\"\",\"\",Table1[[#This Row],[SEND (E,K,N)]])","v":""},"",{"$f":"IF(LEN(Table3[[#This Row],[Pupil Name]])>0,1,0)","v":0}]
[{"$f":"IF(Table1[[#This Row],[School/Group Name]]=\"\",\"\",Table1[[#This Row],[School/Group Name]])","v":""},{"$f":"IF(Table1[[#This Row],[Pupil Name]]=\"\",\"\",Table1[[#This Row],[Pupil Name]])","v":""},{"$f":"IF(Table1[[#This Row],[Gender (M/F)]]=\"\",\"\",Table1[[#This Row],[Gender (M/F)]])","v":""},{"$f":"IF(Table1[[#This Row],[DisAdv (Y/N)]]=\"\",\"\",Table1[[#This Row],[DisAdv (Y/N)]])","v":""},{"$f":"IF(Table1[[#This Row],[SEND (E,K,N)]]=\"\",\"\",Table1[[#This Row],[SEND (E,K,N)]])","v":""},"",{"$f":"IF(LEN(Table3[[#This Row],[Pupil Name]])>0,1,0)","v":0}]
[{"$f":"IF(Table1[[#This Row],[School/Group Name]]=\"\",\"\",Table1[[#This Row],[School/Group Name]])","v":""},{"$f":"IF(Table1[[#This Row],[Pupil Name]]=\"\",\"\",Table1[[#This Row],[Pupil Name]])","v":""},{"$f":"IF(Table1[[#This Row],[Gender (M/F)]]=\"\",\"\",Table1[[#This Row],[Gender (M/F)]])","v":""},{"$f":"IF(Table1[[#This Row],[DisAdv (Y/N)]]=\"\",\"\",Table1[[#This Row],[DisAdv (Y/N)]])","v":""},{"$f":"IF(Table1[[#This Row],[SEND (E,K,N)]]=\"\",\"\",Table1[[#This Row],[SEND (E,K,N)]])","v":""},"",{"$f":"IF(LEN(Table3[[#This Row],[Pupil Name]])>0,1,0)","v":0}]
[{"$f":"IF(Table1[[#This Row],[School/Group Name]]=\"\",\"\",Table1[[#This Row],[School/Group Name]])","v":""},{"$f":"IF(Table1[[#This Row],[Pupil Name]]=\"\",\"\",Table1[[#This Row],[Pupil Name]])","v":""},{"$f":"IF(Table1[[#This Row],[Gender (M/F)]]=\"\",\"\",Table1[[#This Row],[Gender (M/F)]])","v":""},{"$f":"IF(Table1[[#This Row],[DisAdv (Y/N)]]=\"\",\"\",Table1[[#This Row],[DisAdv (Y/N)]])","v":""},{"$f":"IF(Table1[[#This Row],[SEND (E,K,N)]]=\"\",\"\",Table1[[#This Row],[SEND (E,K,N)]])","v":""},"",{"$f":"IF(LEN(Table3[[#This Row],[Pupil Name]])>0,1,0)","v":0}]
[{"$f":"IF(Table1[[#This Row],[School/Group Name]]=\"\",\"\",Table1[[#This Row],[School/Group Name]])","v":""},{"$f":"IF(Table1[[#This Row],[Pupil Name]]=\"\",\"\",Table1[[#This Row],[Pupil Name]])","v":""},{"$f":"IF(Table1[[#This Row],[Gender (M/F)]]=\"\",\"\",Table1[[#This Row],[Gender (M/F)]])","v":""},{"$f":"IF(Table1[[#This Row],[DisAdv (Y/N)]]=\"\",\"\",Table1[[#This Row],[DisAdv (Y/N)]])","v":""},{"$f":"IF(Table1[[#This Row],[SEND (E,K,N)]]=\"\",\"\",Table1[[#This Row],[SEND (E,K,N)]])","v":""},"",{"$f":"IF(LEN(Table3[[#This Row],[Pupil Name]])>0,1,0)","v":0}]
[{"$f":"IF(Table1[[#This Row],[School/Group Name]]=\"\",\"\",Table1[[#This Row],[School/Group Name]])","v":""},{"$f":"IF(Table1[[#This Row],[Pupil Name]]=\"\",\"\",Table1[[#This Row],[Pupil Name]])","v":""},{"$f":"IF(Table1[[#This Row],[Gender (M/F)]]=\"\",\"\",Table1[[#This Row],[Gender (M/F)]])","v":""},{"$f":"IF(Table1[[#This Row],[DisAdv (Y/N)]]=\"\",\"\",Table1[[#This Row],[DisAdv (Y/N)]])","v":""},{"$f":"IF(Table1[[#This Row],[SEND (E,K,N)]]=\"\",\"\",Table1[[#This Row],[SEND (E,K,N)]])","v":""},"",{"$f":"IF(LEN(Table3[[#This Row],[Pupil Name]])>0,1,0)","v":0}]
[{"$f":"IF(Table1[[#This Row],[School/Group Name]]=\"\",\"\",Table1[[#This Row],[School/Group Name]])","v":""},{"$f":"IF(Table1[[#This Row],[Pupil Name]]=\"\",\"\",Table1[[#This Row],[Pupil Name]])","v":""},{"$f":"IF(Table1[[#This Row],[Gender (M/F)]]=\"\",\"\",Table1[[#This Row],[Gender (M/F)]])","v":""},{"$f":"IF(Table1[[#This Row],[DisAdv (Y/N)]]=\"\",\"\",Table1[[#This Row],[DisAdv (Y/N)]])","v":""},{"$f":"IF(Table1[[#This Row],[SEND (E,K,N)]]=\"\",\"\",Table1[[#This Row],[SEND (E,K,N)]])","v":""},"",{"$f":"IF(LEN(Table3[[#This Row],[Pupil Name]])>0,1,0)","v":0}]
[{"$f":"IF(Table1[[#This Row],[School/Group Name]]=\"\",\"\",Table1[[#This Row],[School/Group Name]])","v":""},{"$f":"IF(Table1[[#This Row],[Pupil Name]]=\"\",\"\",Table1[[#This Row],[Pupil Name]])","v":""},{"$f":"IF(Table1[[#This Row],[Gender (M/F)]]=\"\",\"\",Table1[[#This Row],[Gender (M/F)]])","v":""},{"$f":"IF(Table1[[#This Row],[DisAdv (Y/N)]]=\"\",\"\",Table1[[#This Row],[DisAdv (Y/N)]])","v":""},{"$f":"IF(Table1[[#This Row],[SEND (E,K,N)]]=\"\",\"\",Table1[[#This Row],[SEND (E,K,N)]])","v":""},"",{"$f":"IF(LEN(Table3[[#This Row],[Pupil Name]])>0,1,0)","v":0}]
[{"$f":"IF(Table1[[#This Row],[School/Group Name]]=\"\",\"\",Table1[[#This Row],[School/Group Name]])","v":""},{"$f":"IF(Table1[[#This Row],[Pupil Name]]=\"\",\"\",Table1[[#This Row],[Pupil Name]])","v":""},{"$f":"IF(Table1[[#This Row],[Gender (M/F)]]=\"\",\"\",Table1[[#This Row],[Gender (M/F)]])","v":""},{"$f":"IF(Table1[[#This Row],[DisAdv (Y/N)]]=\"\",\"\",Table1[[#This Row],[DisAdv (Y/N)]])","v":""},{"$f":"IF(Table1[[#This Row],[SEND (E,K,N)]]=\"\",\"\",Table1[[#This Row],[SEND (E,K,N)]])","v":""},"",{"$f":"IF(LEN(Table3[[#This Row],[Pupil Name]])>0,1,0)","v":0}]
[{"$f":"IF(Table1[[#This Row],[School/Group Name]]=\"\",\"\",Table1[[#This Row],[School/Group Name]])","v":""},{"$f":"IF(Table1[[#This Row],[Pupil Name]]=\"\",\"\",Table1[[#This Row],[Pupil Name]])","v":""},{"$f":"IF(Table1[[#This Row],[Gender (M/F)]]=\"\",\"\",Table1[[#This Row],[Gender (M/F)]])","v":""},{"$f":"IF(Table1[[#This Row],[DisAdv (Y/N)]]=\"\",\"\",Table1[[#This Row],[DisAdv (Y/N)]])","v":""},{"$f":"IF(Table1[[#This Row],[SEND (E,K,N)]]=\"\",\"\",Table1[[#This Row],[SEND (E,K,N)]])","v":""},"",{"$f":"IF(LEN(Table3[[#This Row],[Pupil Name]])>0,1,0)","v":0}]
[{"$f":"IF(Table1[[#This Row],[School/Group Name]]=\"\",\"\",Table1[[#This Row],[School/Group Name]])","v":""},{"$f":"IF(Table1[[#This Row],[Pupil Name]]=\"\",\"\",Table1[[#This Row],[Pupil Name]])","v":""},{"$f":"IF(Table1[[#This Row],[Gender (M/F)]]=\"\",\"\",Table1[[#This Row],[Gender (M/F)]])","v":""},{"$f":"IF(Table1[[#This Row],[DisAdv (Y/N)]]=\"\",\"\",Table1[[#This Row],[DisAdv (Y/N)]])","v":""},{"$f":"IF(Table1[[#This Row],[SEND (E,K,N)]]=\"\",\"\",Table1[[#This Row],[SEND (E,K,N)]])","v":""},"",{"$f":"IF(LEN(Table3[[#This Row],[Pupil Name]])>0,1,0)","v":0}]
[{"$f":"IF(Table1[[#This Row],[School/Group Name]]=\"\",\"\",Table1[[#This Row],[School/Group Name]])","v":""},{"$f":"IF(Table1[[#This Row],[Pupil Name]]=\"\",\"\",Table1[[#This Row],[Pupil Name]])","v":""},{"$f":"IF(Table1[[#This Row],[Gender (M/F)]]=\"\",\"\",Table1[[#This Row],[Gender (M/F)]])","v":""},{"$f":"IF(Table1[[#This Row],[DisAdv (Y/N)]]=\"\",\"\",Table1[[#This Row],[DisAdv (Y/N)]])","v":""},{"$f":"IF(Table1[[#This Row],[SEND (E,K,N)]]=\"\",\"\",Table1[[#This Row],[SEND (E,K,N)]])","v":""},"",{"$f":"IF(LEN(Table3[[#This Row],[Pupil Name]])>0,1,0)","v":0}]
[{"$f":"IF(Table1[[#This Row],[School/Group Name]]=\"\",\"\",Table1[[#This Row],[School/Group Name]])","v":""},{"$f":"IF(Table1[[#This Row],[Pupil Name]]=\"\",\"\",Table1[[#This Row],[Pupil Name]])","v":""},{"$f":"IF(Table1[[#This Row],[Gender (M/F)]]=\"\",\"\",Table1[[#This Row],[Gender (M/F)]])","v":""},{"$f":"IF(Table1[[#This Row],[DisAdv (Y/N)]]=\"\",\"\",Table1[[#This Row],[DisAdv (Y/N)]])","v":""},{"$f":"IF(Table1[[#This Row],[SEND (E,K,N)]]=\"\",\"\",Table1[[#This Row],[SEND (E,K,N)]])","v":""},"",{"$f":"IF(LEN(Table3[[#This Row],[Pupil Name]])>0,1,0)","v":0}]
[{"$f":"IF(Table1[[#This Row],[School/Group Name]]=\"\",\"\",Table1[[#This Row],[School/Group Name]])","v":""},{"$f":"IF(Table1[[#This Row],[Pupil Name]]=\"\",\"\",Table1[[#This Row],[Pupil Name]])","v":""},{"$f":"IF(Table1[[#This Row],[Gender (M/F)]]=\"\",\"\",Table1[[#This Row],[Gender (M/F)]])","v":""},{"$f":"IF(Table1[[#This Row],[DisAdv (Y/N)]]=\"\",\"\",Table1[[#This Row],[DisAdv (Y/N)]])","v":""},{"$f":"IF(Table1[[#This Row],[SEND (E,K,N)]]=\"\",\"\",Table1[[#This Row],[SEND (E,K,N)]])","v":""},"",{"$f":"IF(LEN(Table3[[#This Row],[Pupil Name]])>0,1,0)","v":0}]
[{"$f":"IF(Table1[[#This Row],[School/Group Name]]=\"\",\"\",Table1[[#This Row],[School/Group Name]])","v":""},{"$f":"IF(Table1[[#This Row],[Pupil Name]]=\"\",\"\",Table1[[#This Row],[Pupil Name]])","v":""},{"$f":"IF(Table1[[#This Row],[Gender (M/F)]]=\"\",\"\",Table1[[#This Row],[Gender (M/F)]])","v":""},{"$f":"IF(Table1[[#This Row],[DisAdv (Y/N)]]=\"\",\"\",Table1[[#This Row],[DisAdv (Y/N)]])","v":""},{"$f":"IF(Table1[[#This Row],[SEND (E,K,N)]]=\"\",\"\",Table1[[#This Row],[SEND (E,K,N)]])","v":""},"",{"$f":"IF(LEN(Table3[[#This Row],[Pupil Name]])>0,1,0)","v":0}]
[{"$f":"IF(Table1[[#This Row],[School/Group Name]]=\"\",\"\",Table1[[#This Row],[School/Group Name]])","v":""},{"$f":"IF(Table1[[#This Row],[Pupil Name]]=\"\",\"\",Table1[[#This Row],[Pupil Name]])","v":""},{"$f":"IF(Table1[[#This Row],[Gender (M/F)]]=\"\",\"\",Table1[[#This Row],[Gender (M/F)]])","v":""},{"$f":"IF(Table1[[#This Row],[DisAdv (Y/N)]]=\"\",\"\",Table1[[#This Row],[DisAdv (Y/N)]])","v":""},{"$f":"IF(Table1[[#This Row],[SEND (E,K,N)]]=\"\",\"\",Table1[[#This Row],[SEND (E,K,N)]])","v":""},"",{"$f":"IF(LEN(Table3[[#This Row],[Pupil Name]])>0,1,0)","v":0}]
[{"$f":"IF(Table1[[#This Row],[School/Group Name]]=\"\",\"\",Table1[[#This Row],[School/Group Name]])","v":""},{"$f":"IF(Table1[[#This Row],[Pupil Name]]=\"\",\"\",Table1[[#This Row],[Pupil Name]])","v":""},{"$f":"IF(Table1[[#This Row],[Gender (M/F)]]=\"\",\"\",Table1[[#This Row],[Gender (M/F)]])","v":""},{"$f":"IF(Table1[[#This Row],[DisAdv (Y/N)]]=\"\",\"\",Table1[[#This Row],[DisAdv (Y/N)]])","v":""},{"$f":"IF(Table1[[#This Row],[SEND (E,K,N)]]=\"\",\"\",Table1[[#This Row],[SEND (E,K,N)]])","v":""},"",{"$f":"IF(LEN(Table3[[#This Row],[Pupil Name]])>0,1,0)","v":0}]
[{"$f":"IF(Table1[[#This Row],[School/Group Name]]=\"\",\"\",Table1[[#This Row],[School/Group Name]])","v":""},{"$f":"IF(Table1[[#This Row],[Pupil Name]]=\"\",\"\",Table1[[#This Row],[Pupil Name]])","v":""},{"$f":"IF(Table1[[#This Row],[Gender (M/F)]]=\"\",\"\",Table1[[#This Row],[Gender (M/F)]])","v":""},{"$f":"IF(Table1[[#This Row],[DisAdv (Y/N)]]=\"\",\"\",Table1[[#This Row],[DisAdv (Y/N)]])","v":""},{"$f":"IF(Table1[[#This Row],[SEND (E,K,N)]]=\"\",\"\",Table1[[#This Row],[SEND (E,K,N)]])","v":""},"",{"$f":"IF(LEN(Table3[[#This Row],[Pupil Name]])>0,1,0)","v":0}]
[{"$f":"IF(Table1[[#This Row],[School/Group Name]]=\"\",\"\",Table1[[#This Row],[School/Group Name]])","v":""},{"$f":"IF(Table1[[#This Row],[Pupil Name]]=\"\",\"\",Table1[[#This Row],[Pupil Name]])","v":""},{"$f":"IF(Table1[[#This Row],[Gender (M/F)]]=\"\",\"\",Table1[[#This Row],[Gender (M/F)]])","v":""},{"$f":"IF(Table1[[#This Row],[DisAdv (Y/N)]]=\"\",\"\",Table1[[#This Row],[DisAdv (Y/N)]])","v":""},{"$f":"IF(Table1[[#This Row],[SEND (E,K,N)]]=\"\",\"\",Table1[[#This Row],[SEND (E,K,N)]])","v":""},"",{"$f":"IF(LEN(Table3[[#This Row],[Pupil Name]])>0,1,0)","v":0}]
[{"$f":"IF(Table1[[#This Row],[School/Group Name]]=\"\",\"\",Table1[[#This Row],[School/Group Name]])","v":""},{"$f":"IF(Table1[[#This Row],[Pupil Name]]=\"\",\"\",Table1[[#This Row],[Pupil Name]])","v":""},{"$f":"IF(Table1[[#This Row],[Gender (M/F)]]=\"\",\"\",Table1[[#This Row],[Gender (M/F)]])","v":""},{"$f":"IF(Table1[[#This Row],[DisAdv (Y/N)]]=\"\",\"\",Table1[[#This Row],[DisAdv (Y/N)]])","v":""},{"$f":"IF(Table1[[#This Row],[SEND (E,K,N)]]=\"\",\"\",Table1[[#This Row],[SEND (E,K,N)]])","v":""},"",{"$f":"IF(LEN(Table3[[#This Row],[Pupil Name]])>0,1,0)","v":0}]
[{"$f":"IF(Table1[[#This Row],[School/Group Name]]=\"\",\"\",Table1[[#This Row],[School/Group Name]])","v":""},{"$f":"IF(Table1[[#This Row],[Pupil Name]]=\"\",\"\",Table1[[#This Row],[Pupil Name]])","v":""},{"$f":"IF(Table1[[#This Row],[Gender (M/F)]]=\"\",\"\",Table1[[#This Row],[Gender (M/F)]])","v":""},{"$f":"IF(Table1[[#This Row],[DisAdv (Y/N)]]=\"\",\"\",Table1[[#This Row],[DisAdv (Y/N)]])","v":""},{"$f":"IF(Table1[[#This Row],[SEND (E,K,N)]]=\"\",\"\",Table1[[#This Row],[SEND (E,K,N)]])","v":""},"",{"$f":"IF(LEN(Table3[[#This Row],[Pupil Name]])>0,1,0)","v":0}]
[{"$f":"IF(Table1[[#This Row],[School/Group Name]]=\"\",\"\",Table1[[#This Row],[School/Group Name]])","v":""},{"$f":"IF(Table1[[#This Row],[Pupil Name]]=\"\",\"\",Table1[[#This Row],[Pupil Name]])","v":""},{"$f":"IF(Table1[[#This Row],[Gender (M/F)]]=\"\",\"\",Table1[[#This Row],[Gender (M/F)]])","v":""},{"$f":"IF(Table1[[#This Row],[DisAdv (Y/N)]]=\"\",\"\",Table1[[#This Row],[DisAdv (Y/N)]])","v":""},{"$f":"IF(Table1[[#This Row],[SEND (E,K,N)]]=\"\",\"\",Table1[[#This Row],[SEND (E,K,N)]])","v":""},"",{"$f":"IF(LEN(Table3[[#This Row],[Pupil Name]])>0,1,0)","v":0}]
[{"$f":"IF(Table1[[#This Row],[School/Group Name]]=\"\",\"\",Table1[[#This Row],[School/Group Name]])","v":""},{"$f":"IF(Table1[[#This Row],[Pupil Name]]=\"\",\"\",Table1[[#This Row],[Pupil Name]])","v":""},{"$f":"IF(Table1[[#This Row],[Gender (M/F)]]=\"\",\"\",Table1[[#This Row],[Gender (M/F)]])","v":""},{"$f":"IF(Table1[[#This Row],[DisAdv (Y/N)]]=\"\",\"\",Table1[[#This Row],[DisAdv (Y/N)]])","v":""},{"$f":"IF(Table1[[#This Row],[SEND (E,K,N)]]=\"\",\"\",Table1[[#This Row],[SEND (E,K,N)]])","v":""},"",{"$f":"IF(LEN(Table3[[#This Row],[Pupil Name]])>0,1,0)","v":0}]
[{"$f":"IF(Table1[[#This Row],[School/Group Name]]=\"\",\"\",Table1[[#This Row],[School/Group Name]])","v":""},{"$f":"IF(Table1[[#This Row],[Pupil Name]]=\"\",\"\",Table1[[#This Row],[Pupil Name]])","v":""},{"$f":"IF(Table1[[#This Row],[Gender (M/F)]]=\"\",\"\",Table1[[#This Row],[Gender (M/F)]])","v":""},{"$f":"IF(Table1[[#This Row],[DisAdv (Y/N)]]=\"\",\"\",Table1[[#This Row],[DisAdv (Y/N)]])","v":""},{"$f":"IF(Table1[[#This Row],[SEND (E,K,N)]]=\"\",\"\",Table1[[#This Row],[SEND (E,K,N)]])","v":""},"",{"$f":"IF(LEN(Table3[[#This Row],[Pupil Name]])>0,1,0)","v":0}]
[{"$f":"IF(Table1[[#This Row],[School/Group Name]]=\"\",\"\",Table1[[#This Row],[School/Group Name]])","v":""},{"$f":"IF(Table1[[#This Row],[Pupil Name]]=\"\",\"\",Table1[[#This Row],[Pupil Name]])","v":""},{"$f":"IF(Table1[[#This Row],[Gender (M/F)]]=\"\",\"\",Table1[[#This Row],[Gender (M/F)]])","v":""},{"$f":"IF(Table1[[#This Row],[DisAdv (Y/N)]]=\"\",\"\",Table1[[#This Row],[DisAdv (Y/N)]])","v":""},{"$f":"IF(Table1[[#This Row],[SEND (E,K,N)]]=\"\",\"\",Table1[[#This Row],[SEND (E,K,N)]])","v":""},"",{"$f":"IF(LEN(Table3[[#This Row],[Pupil Name]])>0,1,0)","v":0}]
[{"$f":"IF(Table1[[#This Row],[School/Group Name]]=\"\",\"\",Table1[[#This Row],[School/Group Name]])","v":""},{"$f":"IF(Table1[[#This Row],[Pupil Name]]=\"\",\"\",Table1[[#This Row],[Pupil Name]])","v":""},{"$f":"IF(Table1[[#This Row],[Gender (M/F)]]=\"\",\"\",Table1[[#This Row],[Gender (M/F)]])","v":""},{"$f":"IF(Table1[[#This Row],[DisAdv (Y/N)]]=\"\",\"\",Table1[[#This Row],[DisAdv (Y/N)]])","v":""},{"$f":"IF(Table1[[#This Row],[SEND (E,K,N)]]=\"\",\"\",Table1[[#This Row],[SEND (E,K,N)]])","v":""},"",{"$f":"IF(LEN(Table3[[#This Row],[Pupil Name]])>0,1,0)","v":0}]
[{"$f":"IF(Table1[[#This Row],[School/Group Name]]=\"\",\"\",Table1[[#This Row],[School/Group Name]])","v":""},{"$f":"IF(Table1[[#This Row],[Pupil Name]]=\"\",\"\",Table1[[#This Row],[Pupil Name]])","v":""},{"$f":"IF(Table1[[#This Row],[Gender (M/F)]]=\"\",\"\",Table1[[#This Row],[Gender (M/F)]])","v":""},{"$f":"IF(Table1[[#This Row],[DisAdv (Y/N)]]=\"\",\"\",Table1[[#This Row],[DisAdv (Y/N)]])","v":""},{"$f":"IF(Table1[[#This Row],[SEND (E,K,N)]]=\"\",\"\",Table1[[#This Row],[SEND (E,K,N)]])","v":""},"",{"$f":"IF(LEN(Table3[[#This Row],[Pupil Name]])>0,1,0)","v":0}]
[{"$f":"IF(Table1[[#This Row],[School/Group Name]]=\"\",\"\",Table1[[#This Row],[School/Group Name]])","v":""},{"$f":"IF(Table1[[#This Row],[Pupil Name]]=\"\",\"\",Table1[[#This Row],[Pupil Name]])","v":""},{"$f":"IF(Table1[[#This Row],[Gender (M/F)]]=\"\",\"\",Table1[[#This Row],[Gender (M/F)]])","v":""},{"$f":"IF(Table1[[#This Row],[DisAdv (Y/N)]]=\"\",\"\",Table1[[#This Row],[DisAdv (Y/N)]])","v":""},{"$f":"IF(Table1[[#This Row],[SEND (E,K,N)]]=\"\",\"\",Table1[[#This Row],[SEND (E,K,N)]])","v":""},"",{"$f":"IF(LEN(Table3[[#This Row],[Pupil Name]])>0,1,0)","v":0}]
[{"$f":"IF(Table1[[#This Row],[School/Group Name]]=\"\",\"\",Table1[[#This Row],[School/Group Name]])","v":""},{"$f":"IF(Table1[[#This Row],[Pupil Name]]=\"\",\"\",Table1[[#This Row],[Pupil Name]])","v":""},{"$f":"IF(Table1[[#This Row],[Gender (M/F)]]=\"\",\"\",Table1[[#This Row],[Gender (M/F)]])","v":""},{"$f":"IF(Table1[[#This Row],[DisAdv (Y/N)]]=\"\",\"\",Table1[[#This Row],[DisAdv (Y/N)]])","v":""},{"$f":"IF(Table1[[#This Row],[SEND (E,K,N)]]=\"\",\"\",Table1[[#This Row],[SEND (E,K,N)]])","v":""},"",{"$f":"IF(LEN(Table3[[#This Row],[Pupil Name]])>0,1,0)","v":0}]
[{"$f":"IF(Table1[[#This Row],[School/Group Name]]=\"\",\"\",Table1[[#This Row],[School/Group Name]])","v":""},{"$f":"IF(Table1[[#This Row],[Pupil Name]]=\"\",\"\",Table1[[#This Row],[Pupil Name]])","v":""},{"$f":"IF(Table1[[#This Row],[Gender (M/F)]]=\"\",\"\",Table1[[#This Row],[Gender (M/F)]])","v":""},{"$f":"IF(Table1[[#This Row],[DisAdv (Y/N)]]=\"\",\"\",Table1[[#This Row],[DisAdv (Y/N)]])","v":""},{"$f":"IF(Table1[[#This Row],[SEND (E,K,N)]]=\"\",\"\",Table1[[#This Row],[SEND (E,K,N)]])","v":""},"",{"$f":"IF(LEN(Table3[[#This Row],[Pupil Name]])>0,1,0)","v":0}]
[{"$f":"IF(Table1[[#This Row],[School/Group Name]]=\"\",\"\",Table1[[#This Row],[School/Group Name]])","v":""},{"$f":"IF(Table1[[#This Row],[Pupil Name]]=\"\",\"\",Table1[[#This Row],[Pupil Name]])","v":""},{"$f":"IF(Table1[[#This Row],[Gender (M/F)]]=\"\",\"\",Table1[[#This Row],[Gender (M/F)]])","v":""},{"$f":"IF(Table1[[#This Row],[DisAdv (Y/N)]]=\"\",\"\",Table1[[#This Row],[DisAdv (Y/N)]])","v":""},{"$f":"IF(Table1[[#This Row],[SEND (E,K,N)]]=\"\",\"\",Table1[[#This Row],[SEND (E,K,N)]])","v":""},"",{"$f":"IF(LEN(Table3[[#This Row],[Pupil Name]])>0,1,0)","v":0}]
[{"$f":"IF(Table1[[#This Row],[School/Group Name]]=\"\",\"\",Table1[[#This Row],[School/Group Name]])","v":""},{"$f":"IF(Table1[[#This Row],[Pupil Name]]=\"\",\"\",Table1[[#This Row],[Pupil Name]])","v":""},{"$f":"IF(Table1[[#This Row],[Gender (M/F)]]=\"\",\"\",Table1[[#This Row],[Gender (M/F)]])","v":""},{"$f":"IF(Table1[[#This Row],[DisAdv (Y/N)]]=\"\",\"\",Table1[[#This Row],[DisAdv (Y/N)]])","v":""},{"$f":"IF(Table1[[#This Row],[SEND (E,K,N)]]=\"\",\"\",Table1[[#This Row],[SEND (E,K,N)]])","v":""},"",{"$f":"IF(LEN(Table3[[#This Row],[Pupil Name]])>0,1,0)","v":0}]
[{"$f":"IF(Table1[[#This Row],[School/Group Name]]=\"\",\"\",Table1[[#This Row],[School/Group Name]])","v":""},{"$f":"IF(Table1[[#This Row],[Pupil Name]]=\"\",\"\",Table1[[#This Row],[Pupil Name]])","v":""},{"$f":"IF(Table1[[#This Row],[Gender (M/F)]]=\"\",\"\",Table1[[#This Row],[Gender (M/F)]])","v":""},{"$f":"IF(Table1[[#This Row],[DisAdv (Y/N)]]=\"\",\"\",Table1[[#This Row],[DisAdv (Y/N)]])","v":""},{"$f":"IF(Table1[[#This Row],[SEND (E,K,N)]]=\"\",\"\",Table1[[#This Row],[SEND (E,K,N)]])","v":""},"",{"$f":"IF(LEN(Table3[[#This Row],[Pupil Name]])>0,1,0)","v":0}]
[{"$f":"IF(Table1[[#This Row],[School/Group Name]]=\"\",\"\",Table1[[#This Row],[School/Group Name]])","v":""},{"$f":"IF(Table1[[#This Row],[Pupil Name]]=\"\",\"\",Table1[[#This Row],[Pupil Name]])","v":""},{"$f":"IF(Table1[[#This Row],[Gender (M/F)]]=\"\",\"\",Table1[[#This Row],[Gender (M/F)]])","v":""},{"$f":"IF(Table1[[#This Row],[DisAdv (Y/N)]]=\"\",\"\",Table1[[#This Row],[DisAdv (Y/N)]])","v":""},{"$f":"IF(Table1[[#This Row],[SEND (E,K,N)]]=\"\",\"\",Table1[[#This Row],[SEND (E,K,N)]])","v":""},"",{"$f":"IF(LEN(Table3[[#This Row],[Pupil Name]])>0,1,0)","v":0}]
[{"$f":"IF(Table1[[#This Row],[School/Group Name]]=\"\",\"\",Table1[[#This Row],[School/Group Name]])","v":""},{"$f":"IF(Table1[[#This Row],[Pupil Name]]=\"\",\"\",Table1[[#This Row],[Pupil Name]])","v":""},{"$f":"IF(Table1[[#This Row],[Gender (M/F)]]=\"\",\"\",Table1[[#This Row],[Gender (M/F)]])","v":""},{"$f":"IF(Table1[[#This Row],[DisAdv (Y/N)]]=\"\",\"\",Table1[[#This Row],[DisAdv (Y/N)]])","v":""},{"$f":"IF(Table1[[#This Row],[SEND (E,K,N)]]=\"\",\"\",Table1[[#This Row],[SEND (E,K,N)]])","v":""},"",{"$f":"IF(LEN(Table3[[#This Row],[Pupil Name]])>0,1,0)","v":0}]
[{"$f":"IF(Table1[[#This Row],[School/Group Name]]=\"\",\"\",Table1[[#This Row],[School/Group Name]])","v":""},{"$f":"IF(Table1[[#This Row],[Pupil Name]]=\"\",\"\",Table1[[#This Row],[Pupil Name]])","v":""},{"$f":"IF(Table1[[#This Row],[Gender (M/F)]]=\"\",\"\",Table1[[#This Row],[Gender (M/F)]])","v":""},{"$f":"IF(Table1[[#This Row],[DisAdv (Y/N)]]=\"\",\"\",Table1[[#This Row],[DisAdv (Y/N)]])","v":""},{"$f":"IF(Table1[[#This Row],[SEND (E,K,N)]]=\"\",\"\",Table1[[#This Row],[SEND (E,K,N)]])","v":""},"",{"$f":"IF(LEN(Table3[[#This Row],[Pupil Name]])>0,1,0)","v":0}]
[{"$f":"IF(Table1[[#This Row],[School/Group Name]]=\"\",\"\",Table1[[#This Row],[School/Group Name]])","v":""},{"$f":"IF(Table1[[#This Row],[Pupil Name]]=\"\",\"\",Table1[[#This Row],[Pupil Name]])","v":""},{"$f":"IF(Table1[[#This Row],[Gender (M/F)]]=\"\",\"\",Table1[[#This Row],[Gender (M/F)]])","v":""},{"$f":"IF(Table1[[#This Row],[DisAdv (Y/N)]]=\"\",\"\",Table1[[#This Row],[DisAdv (Y/N)]])","v":""},{"$f":"IF(Table1[[#This Row],[SEND (E,K,N)]]=\"\",\"\",Table1[[#This Row],[SEND (E,K,N)]])","v":""},"",{"$f":"IF(LEN(Table3[[#This Row],[Pupil Name]])>0,1,0)","v":0}]
[{"$f":"IF(Table1[[#This Row],[School/Group Name]]=\"\",\"\",Table1[[#This Row],[School/Group Name]])","v":""},{"$f":"IF(Table1[[#This Row],[Pupil Name]]=\"\",\"\",Table1[[#This Row],[Pupil Name]])","v":""},{"$f":"IF(Table1[[#This Row],[Gender (M/F)]]=\"\",\"\",Table1[[#This Row],[Gender (M/F)]])","v":""},{"$f":"IF(Table1[[#This Row],[DisAdv (Y/N)]]=\"\",\"\",Table1[[#This Row],[DisAdv (Y/N)]])","v":""},{"$f":"IF(Table1[[#This Row],[SEND (E,K,N)]]=\"\",\"\",Table1[[#This Row],[SEND (E,K,N)]])","v":""},"",{"$f":"IF(LEN(Table3[[#This Row],[Pupil Name]])>0,1,0)","v":0}]
[{"$f":"IF(Table1[[#This Row],[School/Group Name]]=\"\",\"\",Table1[[#This Row],[School/Group Name]])","v":""},{"$f":"IF(Table1[[#This Row],[Pupil Name]]=\"\",\"\",Table1[[#This Row],[Pupil Name]])","v":""},{"$f":"IF(Table1[[#This Row],[Gender (M/F)]]=\"\",\"\",Table1[[#This Row],[Gender (M/F)]])","v":""},{"$f":"IF(Table1[[#This Row],[DisAdv (Y/N)]]=\"\",\"\",Table1[[#This Row],[DisAdv (Y/N)]])","v":""},{"$f":"IF(Table1[[#This Row],[SEND (E,K,N)]]=\"\",\"\",Table1[[#This Row],[SEND (E,K,N)]])","v":""},"",{"$f":"IF(LEN(Table3[[#This Row],[Pupil Name]])>0,1,0)","v":0}]
[{"$f":"IF(Table1[[#This Row],[School/Group Name]]=\"\",\"\",Table1[[#This Row],[School/Group Name]])","v":""},{"$f":"IF(Table1[[#This Row],[Pupil Name]]=\"\",\"\",Table1[[#This Row],[Pupil Name]])","v":""},{"$f":"IF(Table1[[#This Row],[Gender (M/F)]]=\"\",\"\",Table1[[#This Row],[Gender (M/F)]])","v":""},{"$f":"IF(Table1[[#This Row],[DisAdv (Y/N)]]=\"\",\"\",Table1[[#This Row],[DisAdv (Y/N)]])","v":""},{"$f":"IF(Table1[[#This Row],[SEND (E,K,N)]]=\"\",\"\",Table1[[#This Row],[SEND (E,K,N)]])","v":""},"",{"$f":"IF(LEN(Table3[[#This Row],[Pupil Name]])>0,1,0)","v":0}]
[{"$f":"IF(Table1[[#This Row],[School/Group Name]]=\"\",\"\",Table1[[#This Row],[School/Group Name]])","v":""},{"$f":"IF(Table1[[#This Row],[Pupil Name]]=\"\",\"\",Table1[[#This Row],[Pupil Name]])","v":""},{"$f":"IF(Table1[[#This Row],[Gender (M/F)]]=\"\",\"\",Table1[[#This Row],[Gender (M/F)]])","v":""},{"$f":"IF(Table1[[#This Row],[DisAdv (Y/N)]]=\"\",\"\",Table1[[#This Row],[DisAdv (Y/N)]])","v":""},{"$f":"IF(Table1[[#This Row],[SEND (E,K,N)]]=\"\",\"\",Table1[[#This Row],[SEND (E,K,N)]])","v":""},"",{"$f":"IF(LEN(Table3[[#This Row],[Pupil Name]])>0,1,0)","v":0}]
[{"$f":"IF(Table1[[#This Row],[School/Group Name]]=\"\",\"\",Table1[[#This Row],[School/Group Name]])","v":""},{"$f":"IF(Table1[[#This Row],[Pupil Name]]=\"\",\"\",Table1[[#This Row],[Pupil Name]])","v":""},{"$f":"IF(Table1[[#This Row],[Gender (M/F)]]=\"\",\"\",Table1[[#This Row],[Gender (M/F)]])","v":""},{"$f":"IF(Table1[[#This Row],[DisAdv (Y/N)]]=\"\",\"\",Table1[[#This Row],[DisAdv (Y/N)]])","v":""},{"$f":"IF(Table1[[#This Row],[SEND (E,K,N)]]=\"\",\"\",Table1[[#This Row],[SEND (E,K,N)]])","v":""},"",{"$f":"IF(LEN(Table3[[#This Row],[Pupil Name]])>0,1,0)","v":0}]
[{"$f":"IF(Table1[[#This Row],[School/Group Name]]=\"\",\"\",Table1[[#This Row],[School/Group Name]])","v":""},{"$f":"IF(Table1[[#This Row],[Pupil Name]]=\"\",\"\",Table1[[#This Row],[Pupil Name]])","v":""},{"$f":"IF(Table1[[#This Row],[Gender (M/F)]]=\"\",\"\",Table1[[#This Row],[Gender (M/F)]])","v":""},{"$f":"IF(Table1[[#This Row],[DisAdv (Y/N)]]=\"\",\"\",Table1[[#This Row],[DisAdv (Y/N)]])","v":""},{"$f":"IF(Table1[[#This Row],[SEND (E,K,N)]]=\"\",\"\",Table1[[#This Row],[SEND (E,K,N)]])","v":""},"",{"$f":"IF(LEN(Table3[[#This Row],[Pupil Name]])>0,1,0)","v":0}]
[{"$f":"IF(Table1[[#This Row],[School/Group Name]]=\"\",\"\",Table1[[#This Row],[School/Group Name]])","v":""},{"$f":"IF(Table1[[#This Row],[Pupil Name]]=\"\",\"\",Table1[[#This Row],[Pupil Name]])","v":""},{"$f":"IF(Table1[[#This Row],[Gender (M/F)]]=\"\",\"\",Table1[[#This Row],[Gender (M/F)]])","v":""},{"$f":"IF(Table1[[#This Row],[DisAdv (Y/N)]]=\"\",\"\",Table1[[#This Row],[DisAdv (Y/N)]])","v":""},{"$f":"IF(Table1[[#This Row],[SEND (E,K,N)]]=\"\",\"\",Table1[[#This Row],[SEND (E,K,N)]])","v":""},"",{"$f":"IF(LEN(Table3[[#This Row],[Pupil Name]])>0,1,0)","v":0}]
[{"$f":"IF(Table1[[#This Row],[School/Group Name]]=\"\",\"\",Table1[[#This Row],[School/Group Name]])","v":""},{"$f":"IF(Table1[[#This Row],[Pupil Name]]=\"\",\"\",Table1[[#This Row],[Pupil Name]])","v":""},{"$f":"IF(Table1[[#This Row],[Gender (M/F)]]=\"\",\"\",Table1[[#This Row],[Gender (M/F)]])","v":""},{"$f":"IF(Table1[[#This Row],[DisAdv (Y/N)]]=\"\",\"\",Table1[[#This Row],[DisAdv (Y/N)]])","v":""},{"$f":"IF(Table1[[#This Row],[SEND (E,K,N)]]=\"\",\"\",Table1[[#This Row],[SEND (E,K,N)]])","v":""},"",{"$f":"IF(LEN(Table3[[#This Row],[Pupil Name]])>0,1,0)","v":0}]
[{"$f":"IF(Table1[[#This Row],[School/Group Name]]=\"\",\"\",Table1[[#This Row],[School/Group Name]])","v":""},{"$f":"IF(Table1[[#This Row],[Pupil Name]]=\"\",\"\",Table1[[#This Row],[Pupil Name]])","v":""},{"$f":"IF(Table1[[#This Row],[Gender (M/F)]]=\"\",\"\",Table1[[#This Row],[Gender (M/F)]])","v":""},{"$f":"IF(Table1[[#This Row],[DisAdv (Y/N)]]=\"\",\"\",Table1[[#This Row],[DisAdv (Y/N)]])","v":""},{"$f":"IF(Table1[[#This Row],[SEND (E,K,N)]]=\"\",\"\",Table1[[#This Row],[SEND (E,K,N)]])","v":""},{"$f":"IF(H135=\"\",\"\",(SUM(H135:AH135)))","v":""},{"$f":"IF(LEN(Table3[[#This Row],[Pupil Name]])>0,1,0)","v":0}]
[{"$f":"IF(Table1[[#This Row],[School/Group Name]]=\"\",\"\",Table1[[#This Row],[School/Group Name]])","v":""},{"$f":"IF(Table1[[#This Row],[Pupil Name]]=\"\",\"\",Table1[[#This Row],[Pupil Name]])","v":""},{"$f":"IF(Table1[[#This Row],[Gender (M/F)]]=\"\",\"\",Table1[[#This Row],[Gender (M/F)]])","v":""},{"$f":"IF(Table1[[#This Row],[DisAdv (Y/N)]]=\"\",\"\",Table1[[#This Row],[DisAdv (Y/N)]])","v":""},{"$f":"IF(Table1[[#This Row],[SEND (E,K,N)]]=\"\",\"\",Table1[[#This Row],[SEND (E,K,N)]])","v":""},"",{"$f":"IF(LEN(Table3[[#This Row],[Pupil Name]])>0,1,0)","v":0}]
[{"$f":"IF(Table1[[#This Row],[School/Group Name]]=\"\",\"\",Table1[[#This Row],[School/Group Name]])","v":""},{"$f":"IF(Table1[[#This Row],[Pupil Name]]=\"\",\"\",Table1[[#This Row],[Pupil Name]])","v":""},{"$f":"IF(Table1[[#This Row],[Gender (M/F)]]=\"\",\"\",Table1[[#This Row],[Gender (M/F)]])","v":""},{"$f":"IF(Table1[[#This Row],[DisAdv (Y/N)]]=\"\",\"\",Table1[[#This Row],[DisAdv (Y/N)]])","v":""},{"$f":"IF(Table1[[#This Row],[SEND (E,K,N)]]=\"\",\"\",Table1[[#This Row],[SEND (E,K,N)]])","v":""},"",{"$f":"IF(LEN(Table3[[#This Row],[Pupil Name]])>0,1,0)","v":0}]
[{"$f":"IF(Table1[[#This Row],[School/Group Name]]=\"\",\"\",Table1[[#This Row],[School/Group Name]])","v":""},{"$f":"IF(Table1[[#This Row],[Pupil Name]]=\"\",\"\",Table1[[#This Row],[Pupil Name]])","v":""},{"$f":"IF(Table1[[#This Row],[Gender (M/F)]]=\"\",\"\",Table1[[#This Row],[Gender (M/F)]])","v":""},{"$f":"IF(Table1[[#This Row],[DisAdv (Y/N)]]=\"\",\"\",Table1[[#This Row],[DisAdv (Y/N)]])","v":""},{"$f":"IF(Table1[[#This Row],[SEND (E,K,N)]]=\"\",\"\",Table1[[#This Row],[SEND (E,K,N)]])","v":""},"",{"$f":"IF(LEN(Table3[[#This Row],[Pupil Name]])>0,1,0)","v":0}]
[{"$f":"IF(Table1[[#This Row],[School/Group Name]]=\"\",\"\",Table1[[#This Row],[School/Group Name]])","v":""},{"$f":"IF(Table1[[#This Row],[Pupil Name]]=\"\",\"\",Table1[[#This Row],[Pupil Name]])","v":""},{"$f":"IF(Table1[[#This Row],[Gender (M/F)]]=\"\",\"\",Table1[[#This Row],[Gender (M/F)]])","v":""},{"$f":"IF(Table1[[#This Row],[DisAdv (Y/N)]]=\"\",\"\",Table1[[#This Row],[DisAdv (Y/N)]])","v":""},{"$f":"IF(Table1[[#This Row],[SEND (E,K,N)]]=\"\",\"\",Table1[[#This Row],[SEND (E,K,N)]])","v":""},"",{"$f":"IF(LEN(Table3[[#This Row],[Pupil Name]])>0,1,0)","v":0}]
[{"$f":"IF(Table1[[#This Row],[School/Group Name]]=\"\",\"\",Table1[[#This Row],[School/Group Name]])","v":""},{"$f":"IF(Table1[[#This Row],[Pupil Name]]=\"\",\"\",Table1[[#This Row],[Pupil Name]])","v":""},{"$f":"IF(Table1[[#This Row],[Gender (M/F)]]=\"\",\"\",Table1[[#This Row],[Gender (M/F)]])","v":""},{"$f":"IF(Table1[[#This Row],[DisAdv (Y/N)]]=\"\",\"\",Table1[[#This Row],[DisAdv (Y/N)]])","v":""},{"$f":"IF(Table1[[#This Row],[SEND (E,K,N)]]=\"\",\"\",Table1[[#This Row],[SEND (E,K,N)]])","v":""},"",{"$f":"IF(LEN(Table3[[#This Row],[Pupil Name]])>0,1,0)","v":0}]
[{"$f":"IF(Table1[[#This Row],[School/Group Name]]=\"\",\"\",Table1[[#This Row],[School/Group Name]])","v":""},{"$f":"IF(Table1[[#This Row],[Pupil Name]]=\"\",\"\",Table1[[#This Row],[Pupil Name]])","v":""},{"$f":"IF(Table1[[#This Row],[Gender (M/F)]]=\"\",\"\",Table1[[#This Row],[Gender (M/F)]])","v":""},{"$f":"IF(Table1[[#This Row],[DisAdv (Y/N)]]=\"\",\"\",Table1[[#This Row],[DisAdv (Y/N)]])","v":""},{"$f":"IF(Table1[[#This Row],[SEND (E,K,N)]]=\"\",\"\",Table1[[#This Row],[SEND (E,K,N)]])","v":""},"",{"$f":"IF(LEN(Table3[[#This Row],[Pupil Name]])>0,1,0)","v":0}]
[{"$f":"IF(Table1[[#This Row],[School/Group Name]]=\"\",\"\",Table1[[#This Row],[School/Group Name]])","v":""},{"$f":"IF(Table1[[#This Row],[Pupil Name]]=\"\",\"\",Table1[[#This Row],[Pupil Name]])","v":""},{"$f":"IF(Table1[[#This Row],[Gender (M/F)]]=\"\",\"\",Table1[[#This Row],[Gender (M/F)]])","v":""},{"$f":"IF(Table1[[#This Row],[DisAdv (Y/N)]]=\"\",\"\",Table1[[#This Row],[DisAdv (Y/N)]])","v":""},{"$f":"IF(Table1[[#This Row],[SEND (E,K,N)]]=\"\",\"\",Table1[[#This Row],[SEND (E,K,N)]])","v":""},"",{"$f":"IF(LEN(Table3[[#This Row],[Pupil Name]])>0,1,0)","v":0}]
[{"$f":"IF(Table1[[#This Row],[School/Group Name]]=\"\",\"\",Table1[[#This Row],[School/Group Name]])","v":""},{"$f":"IF(Table1[[#This Row],[Pupil Name]]=\"\",\"\",Table1[[#This Row],[Pupil Name]])","v":""},{"$f":"IF(Table1[[#This Row],[Gender (M/F)]]=\"\",\"\",Table1[[#This Row],[Gender (M/F)]])","v":""},{"$f":"IF(Table1[[#This Row],[DisAdv (Y/N)]]=\"\",\"\",Table1[[#This Row],[DisAdv (Y/N)]])","v":""},{"$f":"IF(Table1[[#This Row],[SEND (E,K,N)]]=\"\",\"\",Table1[[#This Row],[SEND (E,K,N)]])","v":""},"",{"$f":"IF(LEN(Table3[[#This Row],[Pupil Name]])>0,1,0)","v":0}]
[{"$f":"IF(Table1[[#This Row],[School/Group Name]]=\"\",\"\",Table1[[#This Row],[School/Group Name]])","v":""},{"$f":"IF(Table1[[#This Row],[Pupil Name]]=\"\",\"\",Table1[[#This Row],[Pupil Name]])","v":""},{"$f":"IF(Table1[[#This Row],[Gender (M/F)]]=\"\",\"\",Table1[[#This Row],[Gender (M/F)]])","v":""},{"$f":"IF(Table1[[#This Row],[DisAdv (Y/N)]]=\"\",\"\",Table1[[#This Row],[DisAdv (Y/N)]])","v":""},{"$f":"IF(Table1[[#This Row],[SEND (E,K,N)]]=\"\",\"\",Table1[[#This Row],[SEND (E,K,N)]])","v":""},"",{"$f":"IF(LEN(Table3[[#This Row],[Pupil Name]])>0,1,0)","v":0}]
[{"$f":"IF(Table1[[#This Row],[School/Group Name]]=\"\",\"\",Table1[[#This Row],[School/Group Name]])","v":""},{"$f":"IF(Table1[[#This Row],[Pupil Name]]=\"\",\"\",Table1[[#This Row],[Pupil Name]])","v":""},{"$f":"IF(Table1[[#This Row],[Gender (M/F)]]=\"\",\"\",Table1[[#This Row],[Gender (M/F)]])","v":""},{"$f":"IF(Table1[[#This Row],[DisAdv (Y/N)]]=\"\",\"\",Table1[[#This Row],[DisAdv (Y/N)]])","v":""},{"$f":"IF(Table1[[#This Row],[SEND (E,K,N)]]=\"\",\"\",Table1[[#This Row],[SEND (E,K,N)]])","v":""},"",{"$f":"IF(LEN(Table3[[#This Row],[Pupil Name]])>0,1,0)","v":0}]
[{"$f":"IF(Table1[[#This Row],[School/Group Name]]=\"\",\"\",Table1[[#This Row],[School/Group Name]])","v":""},{"$f":"IF(Table1[[#This Row],[Pupil Name]]=\"\",\"\",Table1[[#This Row],[Pupil Name]])","v":""},{"$f":"IF(Table1[[#This Row],[Gender (M/F)]]=\"\",\"\",Table1[[#This Row],[Gender (M/F)]])","v":""},{"$f":"IF(Table1[[#This Row],[DisAdv (Y/N)]]=\"\",\"\",Table1[[#This Row],[DisAdv (Y/N)]])","v":""},{"$f":"IF(Table1[[#This Row],[SEND (E,K,N)]]=\"\",\"\",Table1[[#This Row],[SEND (E,K,N)]])","v":""},"",{"$f":"IF(LEN(Table3[[#This Row],[Pupil Name]])>0,1,0)","v":0}]
[{"$f":"IF(Table1[[#This Row],[School/Group Name]]=\"\",\"\",Table1[[#This Row],[School/Group Name]])","v":""},{"$f":"IF(Table1[[#This Row],[Pupil Name]]=\"\",\"\",Table1[[#This Row],[Pupil Name]])","v":""},{"$f":"IF(Table1[[#This Row],[Gender (M/F)]]=\"\",\"\",Table1[[#This Row],[Gender (M/F)]])","v":""},{"$f":"IF(Table1[[#This Row],[DisAdv (Y/N)]]=\"\",\"\",Table1[[#This Row],[DisAdv (Y/N)]])","v":""},{"$f":"IF(Table1[[#This Row],[SEND (E,K,N)]]=\"\",\"\",Table1[[#This Row],[SEND (E,K,N)]])","v":""},"",{"$f":"IF(LEN(Table3[[#This Row],[Pupil Name]])>0,1,0)","v":0}]
[{"$f":"IF(Table1[[#This Row],[School/Group Name]]=\"\",\"\",Table1[[#This Row],[School/Group Name]])","v":""},{"$f":"IF(Table1[[#This Row],[Pupil Name]]=\"\",\"\",Table1[[#This Row],[Pupil Name]])","v":""},{"$f":"IF(Table1[[#This Row],[Gender (M/F)]]=\"\",\"\",Table1[[#This Row],[Gender (M/F)]])","v":""},{"$f":"IF(Table1[[#This Row],[DisAdv (Y/N)]]=\"\",\"\",Table1[[#This Row],[DisAdv (Y/N)]])","v":""},{"$f":"IF(Table1[[#This Row],[SEND (E,K,N)]]=\"\",\"\",Table1[[#This Row],[SEND (E,K,N)]])","v":""},"",{"$f":"IF(LEN(Table3[[#This Row],[Pupil Name]])>0,1,0)","v":0}]
[{"$f":"IF(Table1[[#This Row],[School/Group Name]]=\"\",\"\",Table1[[#This Row],[School/Group Name]])","v":""},{"$f":"IF(Table1[[#This Row],[Pupil Name]]=\"\",\"\",Table1[[#This Row],[Pupil Name]])","v":""},{"$f":"IF(Table1[[#This Row],[Gender (M/F)]]=\"\",\"\",Table1[[#This Row],[Gender (M/F)]])","v":""},{"$f":"IF(Table1[[#This Row],[DisAdv (Y/N)]]=\"\",\"\",Table1[[#This Row],[DisAdv (Y/N)]])","v":""},{"$f":"IF(Table1[[#This Row],[SEND (E,K,N)]]=\"\",\"\",Table1[[#This Row],[SEND (E,K,N)]])","v":""},"",{"$f":"IF(LEN(Table3[[#This Row],[Pupil Name]])>0,1,0)","v":0}]
[{"$f":"IF(Table1[[#This Row],[School/Group Name]]=\"\",\"\",Table1[[#This Row],[School/Group Name]])","v":""},{"$f":"IF(Table1[[#This Row],[Pupil Name]]=\"\",\"\",Table1[[#This Row],[Pupil Name]])","v":""},{"$f":"IF(Table1[[#This Row],[Gender (M/F)]]=\"\",\"\",Table1[[#This Row],[Gender (M/F)]])","v":""},{"$f":"IF(Table1[[#This Row],[DisAdv (Y/N)]]=\"\",\"\",Table1[[#This Row],[DisAdv (Y/N)]])","v":""},{"$f":"IF(Table1[[#This Row],[SEND (E,K,N)]]=\"\",\"\",Table1[[#This Row],[SEND (E,K,N)]])","v":""},"",{"$f":"IF(LEN(Table3[[#This Row],[Pupil Name]])>0,1,0)","v":0}]
[{"$f":"IF(Table1[[#This Row],[School/Group Name]]=\"\",\"\",Table1[[#This Row],[School/Group Name]])","v":""},{"$f":"IF(Table1[[#This Row],[Pupil Name]]=\"\",\"\",Table1[[#This Row],[Pupil Name]])","v":""},{"$f":"IF(Table1[[#This Row],[Gender (M/F)]]=\"\",\"\",Table1[[#This Row],[Gender (M/F)]])","v":""},{"$f":"IF(Table1[[#This Row],[DisAdv (Y/N)]]=\"\",\"\",Table1[[#This Row],[DisAdv (Y/N)]])","v":""},{"$f":"IF(Table1[[#This Row],[SEND (E,K,N)]]=\"\",\"\",Table1[[#This Row],[SEND (E,K,N)]])","v":""},"",{"$f":"IF(LEN(Table3[[#This Row],[Pupil Name]])>0,1,0)","v":0}]
[{"$f":"IF(Table1[[#This Row],[School/Group Name]]=\"\",\"\",Table1[[#This Row],[School/Group Name]])","v":""},{"$f":"IF(Table1[[#This Row],[Pupil Name]]=\"\",\"\",Table1[[#This Row],[Pupil Name]])","v":""},{"$f":"IF(Table1[[#This Row],[Gender (M/F)]]=\"\",\"\",Table1[[#This Row],[Gender (M/F)]])","v":""},{"$f":"IF(Table1[[#This Row],[DisAdv (Y/N)]]=\"\",\"\",Table1[[#This Row],[DisAdv (Y/N)]])","v":""},{"$f":"IF(Table1[[#This Row],[SEND (E,K,N)]]=\"\",\"\",Table1[[#This Row],[SEND (E,K,N)]])","v":""},"",{"$f":"IF(LEN(Table3[[#This Row],[Pupil Name]])>0,1,0)","v":0}]
[{"$f":"IF(Table1[[#This Row],[School/Group Name]]=\"\",\"\",Table1[[#This Row],[School/Group Name]])","v":""},{"$f":"IF(Table1[[#This Row],[Pupil Name]]=\"\",\"\",Table1[[#This Row],[Pupil Name]])","v":""},{"$f":"IF(Table1[[#This Row],[Gender (M/F)]]=\"\",\"\",Table1[[#This Row],[Gender (M/F)]])","v":""},{"$f":"IF(Table1[[#This Row],[DisAdv (Y/N)]]=\"\",\"\",Table1[[#This Row],[DisAdv (Y/N)]])","v":""},{"$f":"IF(Table1[[#This Row],[SEND (E,K,N)]]=\"\",\"\",Table1[[#This Row],[SEND (E,K,N)]])","v":""},"",{"$f":"IF(LEN(Table3[[#This Row],[Pupil Name]])>0,1,0)","v":0}]
[{"$f":"IF(Table1[[#This Row],[School/Group Name]]=\"\",\"\",Table1[[#This Row],[School/Group Name]])","v":""},{"$f":"IF(Table1[[#This Row],[Pupil Name]]=\"\",\"\",Table1[[#This Row],[Pupil Name]])","v":""},{"$f":"IF(Table1[[#This Row],[Gender (M/F)]]=\"\",\"\",Table1[[#This Row],[Gender (M/F)]])","v":""},{"$f":"IF(Table1[[#This Row],[DisAdv (Y/N)]]=\"\",\"\",Table1[[#This Row],[DisAdv (Y/N)]])","v":""},{"$f":"IF(Table1[[#This Row],[SEND (E,K,N)]]=\"\",\"\",Table1[[#This Row],[SEND (E,K,N)]])","v":""},"",{"$f":"IF(LEN(Table3[[#This Row],[Pupil Name]])>0,1,0)","v":0}]
[{"$f":"IF(Table1[[#This Row],[School/Group Name]]=\"\",\"\",Table1[[#This Row],[School/Group Name]])","v":""},{"$f":"IF(Table1[[#This Row],[Pupil Name]]=\"\",\"\",Table1[[#This Row],[Pupil Name]])","v":""},{"$f":"IF(Table1[[#This Row],[Gender (M/F)]]=\"\",\"\",Table1[[#This Row],[Gender (M/F)]])","v":""},{"$f":"IF(Table1[[#This Row],[DisAdv (Y/N)]]=\"\",\"\",Table1[[#This Row],[DisAdv (Y/N)]])","v":""},{"$f":"IF(Table1[[#This Row],[SEND (E,K,N)]]=\"\",\"\",Table1[[#This Row],[SEND (E,K,N)]])","v":""},"",{"$f":"IF(LEN(Table3[[#This Row],[Pupil Name]])>0,1,0)","v":0}]
[{"$f":"IF(Table1[[#This Row],[School/Group Name]]=\"\",\"\",Table1[[#This Row],[School/Group Name]])","v":""},{"$f":"IF(Table1[[#This Row],[Pupil Name]]=\"\",\"\",Table1[[#This Row],[Pupil Name]])","v":""},{"$f":"IF(Table1[[#This Row],[Gender (M/F)]]=\"\",\"\",Table1[[#This Row],[Gender (M/F)]])","v":""},{"$f":"IF(Table1[[#This Row],[DisAdv (Y/N)]]=\"\",\"\",Table1[[#This Row],[DisAdv (Y/N)]])","v":""},{"$f":"IF(Table1[[#This Row],[SEND (E,K,N)]]=\"\",\"\",Table1[[#This Row],[SEND (E,K,N)]])","v":""},"",{"$f":"IF(LEN(Table3[[#This Row],[Pupil Name]])>0,1,0)","v":0}]
[{"$f":"IF(Table1[[#This Row],[School/Group Name]]=\"\",\"\",Table1[[#This Row],[School/Group Name]])","v":""},{"$f":"IF(Table1[[#This Row],[Pupil Name]]=\"\",\"\",Table1[[#This Row],[Pupil Name]])","v":""},{"$f":"IF(Table1[[#This Row],[Gender (M/F)]]=\"\",\"\",Table1[[#This Row],[Gender (M/F)]])","v":""},{"$f":"IF(Table1[[#This Row],[DisAdv (Y/N)]]=\"\",\"\",Table1[[#This Row],[DisAdv (Y/N)]])","v":""},{"$f":"IF(Table1[[#This Row],[SEND (E,K,N)]]=\"\",\"\",Table1[[#This Row],[SEND (E,K,N)]])","v":""},"",{"$f":"IF(LEN(Table3[[#This Row],[Pupil Name]])>0,1,0)","v":0}]
[{"$f":"IF(Table1[[#This Row],[School/Group Name]]=\"\",\"\",Table1[[#This Row],[School/Group Name]])","v":""},{"$f":"IF(Table1[[#This Row],[Pupil Name]]=\"\",\"\",Table1[[#This Row],[Pupil Name]])","v":""},{"$f":"IF(Table1[[#This Row],[Gender (M/F)]]=\"\",\"\",Table1[[#This Row],[Gender (M/F)]])","v":""},{"$f":"IF(Table1[[#This Row],[DisAdv (Y/N)]]=\"\",\"\",Table1[[#This Row],[DisAdv (Y/N)]])","v":""},{"$f":"IF(Table1[[#This Row],[SEND (E,K,N)]]=\"\",\"\",Table1[[#This Row],[SEND (E,K,N)]])","v":""},"",{"$f":"IF(LEN(Table3[[#This Row],[Pupil Name]])>0,1,0)","v":0}]
[{"$f":"IF(Table1[[#This Row],[School/Group Name]]=\"\",\"\",Table1[[#This Row],[School/Group Name]])","v":""},{"$f":"IF(Table1[[#This Row],[Pupil Name]]=\"\",\"\",Table1[[#This Row],[Pupil Name]])","v":""},{"$f":"IF(Table1[[#This Row],[Gender (M/F)]]=\"\",\"\",Table1[[#This Row],[Gender (M/F)]])","v":""},{"$f":"IF(Table1[[#This Row],[DisAdv (Y/N)]]=\"\",\"\",Table1[[#This Row],[DisAdv (Y/N)]])","v":""},{"$f":"IF(Table1[[#This Row],[SEND (E,K,N)]]=\"\",\"\",Table1[[#This Row],[SEND (E,K,N)]])","v":""},"",{"$f":"IF(LEN(Table3[[#This Row],[Pupil Name]])>0,1,0)","v":0}]
[{"$f":"IF(Table1[[#This Row],[School/Group Name]]=\"\",\"\",Table1[[#This Row],[School/Group Name]])","v":""},{"$f":"IF(Table1[[#This Row],[Pupil Name]]=\"\",\"\",Table1[[#This Row],[Pupil Name]])","v":""},{"$f":"IF(Table1[[#This Row],[Gender (M/F)]]=\"\",\"\",Table1[[#This Row],[Gender (M/F)]])","v":""},{"$f":"IF(Table1[[#This Row],[DisAdv (Y/N)]]=\"\",\"\",Table1[[#This Row],[DisAdv (Y/N)]])","v":""},{"$f":"IF(Table1[[#This Row],[SEND (E,K,N)]]=\"\",\"\",Table1[[#This Row],[SEND (E,K,N)]])","v":""},"",{"$f":"IF(LEN(Table3[[#This Row],[Pupil Name]])>0,1,0)","v":0}]
[{"$f":"IF(Table1[[#This Row],[School/Group Name]]=\"\",\"\",Table1[[#This Row],[School/Group Name]])","v":""},{"$f":"IF(Table1[[#This Row],[Pupil Name]]=\"\",\"\",Table1[[#This Row],[Pupil Name]])","v":""},{"$f":"IF(Table1[[#This Row],[Gender (M/F)]]=\"\",\"\",Table1[[#This Row],[Gender (M/F)]])","v":""},{"$f":"IF(Table1[[#This Row],[DisAdv (Y/N)]]=\"\",\"\",Table1[[#This Row],[DisAdv (Y/N)]])","v":""},{"$f":"IF(Table1[[#This Row],[SEND (E,K,N)]]=\"\",\"\",Table1[[#This Row],[SEND (E,K,N)]])","v":""},"",{"$f":"IF(LEN(Table3[[#This Row],[Pupil Name]])>0,1,0)","v":0}]
[{"$f":"IF(Table1[[#This Row],[School/Group Name]]=\"\",\"\",Table1[[#This Row],[School/Group Name]])","v":""},{"$f":"IF(Table1[[#This Row],[Pupil Name]]=\"\",\"\",Table1[[#This Row],[Pupil Name]])","v":""},{"$f":"IF(Table1[[#This Row],[Gender (M/F)]]=\"\",\"\",Table1[[#This Row],[Gender (M/F)]])","v":""},{"$f":"IF(Table1[[#This Row],[DisAdv (Y/N)]]=\"\",\"\",Table1[[#This Row],[DisAdv (Y/N)]])","v":""},{"$f":"IF(Table1[[#This Row],[SEND (E,K,N)]]=\"\",\"\",Table1[[#This Row],[SEND (E,K,N)]])","v":""},"",{"$f":"IF(LEN(Table3[[#This Row],[Pupil Name]])>0,1,0)","v":0}]
[{"$f":"IF(Table1[[#This Row],[School/Group Name]]=\"\",\"\",Table1[[#This Row],[School/Group Name]])","v":""},{"$f":"IF(Table1[[#This Row],[Pupil Name]]=\"\",\"\",Table1[[#This Row],[Pupil Name]])","v":""},{"$f":"IF(Table1[[#This Row],[Gender (M/F)]]=\"\",\"\",Table1[[#This Row],[Gender (M/F)]])","v":""},{"$f":"IF(Table1[[#This Row],[DisAdv (Y/N)]]=\"\",\"\",Table1[[#This Row],[DisAdv (Y/N)]])","v":""},{"$f":"IF(Table1[[#This Row],[SEND (E,K,N)]]=\"\",\"\",Table1[[#This Row],[SEND (E,K,N)]])","v":""},"",{"$f":"IF(LEN(Table3[[#This Row],[Pupil Name]])>0,1,0)","v":0}]
[{"$f":"IF(Table1[[#This Row],[School/Group Name]]=\"\",\"\",Table1[[#This Row],[School/Group Name]])","v":""},{"$f":"IF(Table1[[#This Row],[Pupil Name]]=\"\",\"\",Table1[[#This Row],[Pupil Name]])","v":""},{"$f":"IF(Table1[[#This Row],[Gender (M/F)]]=\"\",\"\",Table1[[#This Row],[Gender (M/F)]])","v":""},{"$f":"IF(Table1[[#This Row],[DisAdv (Y/N)]]=\"\",\"\",Table1[[#This Row],[DisAdv (Y/N)]])","v":""},{"$f":"IF(Table1[[#This Row],[SEND (E,K,N)]]=\"\",\"\",Table1[[#This Row],[SEND (E,K,N)]])","v":""},"",{"$f":"IF(LEN(Table3[[#This Row],[Pupil Name]])>0,1,0)","v":0}]
[{"$f":"IF(Table1[[#This Row],[School/Group Name]]=\"\",\"\",Table1[[#This Row],[School/Group Name]])","v":""},{"$f":"IF(Table1[[#This Row],[Pupil Name]]=\"\",\"\",Table1[[#This Row],[Pupil Name]])","v":""},{"$f":"IF(Table1[[#This Row],[Gender (M/F)]]=\"\",\"\",Table1[[#This Row],[Gender (M/F)]])","v":""},{"$f":"IF(Table1[[#This Row],[DisAdv (Y/N)]]=\"\",\"\",Table1[[#This Row],[DisAdv (Y/N)]])","v":""},{"$f":"IF(Table1[[#This Row],[SEND (E,K,N)]]=\"\",\"\",Table1[[#This Row],[SEND (E,K,N)]])","v":""},"",{"$f":"IF(LEN(Table3[[#This Row],[Pupil Name]])>0,1,0)","v":0}]
[{"$f":"IF(Table1[[#This Row],[School/Group Name]]=\"\",\"\",Table1[[#This Row],[School/Group Name]])","v":""},{"$f":"IF(Table1[[#This Row],[Pupil Name]]=\"\",\"\",Table1[[#This Row],[Pupil Name]])","v":""},{"$f":"IF(Table1[[#This Row],[Gender (M/F)]]=\"\",\"\",Table1[[#This Row],[Gender (M/F)]])","v":""},{"$f":"IF(Table1[[#This Row],[DisAdv (Y/N)]]=\"\",\"\",Table1[[#This Row],[DisAdv (Y/N)]])","v":""},{"$f":"IF(Table1[[#This Row],[SEND (E,K,N)]]=\"\",\"\",Table1[[#This Row],[SEND (E,K,N)]])","v":""},"",{"$f":"IF(LEN(Table3[[#This Row],[Pupil Name]])>0,1,0)","v":0}]
[{"$f":"IF(Table1[[#This Row],[School/Group Name]]=\"\",\"\",Table1[[#This Row],[School/Group Name]])","v":""},{"$f":"IF(Table1[[#This Row],[Pupil Name]]=\"\",\"\",Table1[[#This Row],[Pupil Name]])","v":""},{"$f":"IF(Table1[[#This Row],[Gender (M/F)]]=\"\",\"\",Table1[[#This Row],[Gender (M/F)]])","v":""},{"$f":"IF(Table1[[#This Row],[DisAdv (Y/N)]]=\"\",\"\",Table1[[#This Row],[DisAdv (Y/N)]])","v":""},{"$f":"IF(Table1[[#This Row],[SEND (E,K,N)]]=\"\",\"\",Table1[[#This Row],[SEND (E,K,N)]])","v":""},"",{"$f":"IF(LEN(Table3[[#This Row],[Pupil Name]])>0,1,0)","v":0}]
[{"$f":"IF(Table1[[#This Row],[School/Group Name]]=\"\",\"\",Table1[[#This Row],[School/Group Name]])","v":""},{"$f":"IF(Table1[[#This Row],[Pupil Name]]=\"\",\"\",Table1[[#This Row],[Pupil Name]])","v":""},{"$f":"IF(Table1[[#This Row],[Gender (M/F)]]=\"\",\"\",Table1[[#This Row],[Gender (M/F)]])","v":""},{"$f":"IF(Table1[[#This Row],[DisAdv (Y/N)]]=\"\",\"\",Table1[[#This Row],[DisAdv (Y/N)]])","v":""},{"$f":"IF(Table1[[#This Row],[SEND (E,K,N)]]=\"\",\"\",Table1[[#This Row],[SEND (E,K,N)]])","v":""},"",{"$f":"IF(LEN(Table3[[#This Row],[Pupil Name]])>0,1,0)","v":0}]
[{"$f":"IF(Table1[[#This Row],[School/Group Name]]=\"\",\"\",Table1[[#This Row],[School/Group Name]])","v":""},{"$f":"IF(Table1[[#This Row],[Pupil Name]]=\"\",\"\",Table1[[#This Row],[Pupil Name]])","v":""},{"$f":"IF(Table1[[#This Row],[Gender (M/F)]]=\"\",\"\",Table1[[#This Row],[Gender (M/F)]])","v":""},{"$f":"IF(Table1[[#This Row],[DisAdv (Y/N)]]=\"\",\"\",Table1[[#This Row],[DisAdv (Y/N)]])","v":""},{"$f":"IF(Table1[[#This Row],[SEND (E,K,N)]]=\"\",\"\",Table1[[#This Row],[SEND (E,K,N)]])","v":""},"",{"$f":"IF(LEN(Table3[[#This Row],[Pupil Name]])>0,1,0)","v":0}]
[{"$f":"IF(Table1[[#This Row],[School/Group Name]]=\"\",\"\",Table1[[#This Row],[School/Group Name]])","v":""},{"$f":"IF(Table1[[#This Row],[Pupil Name]]=\"\",\"\",Table1[[#This Row],[Pupil Name]])","v":""},{"$f":"IF(Table1[[#This Row],[Gender (M/F)]]=\"\",\"\",Table1[[#This Row],[Gender (M/F)]])","v":""},{"$f":"IF(Table1[[#This Row],[DisAdv (Y/N)]]=\"\",\"\",Table1[[#This Row],[DisAdv (Y/N)]])","v":""},{"$f":"IF(Table1[[#This Row],[SEND (E,K,N)]]=\"\",\"\",Table1[[#This Row],[SEND (E,K,N)]])","v":""},"",{"$f":"IF(LEN(Table3[[#This Row],[Pupil Name]])>0,1,0)","v":0}]
[{"$f":"IF(Table1[[#This Row],[School/Group Name]]=\"\",\"\",Table1[[#This Row],[School/Group Name]])","v":""},{"$f":"IF(Table1[[#This Row],[Pupil Name]]=\"\",\"\",Table1[[#This Row],[Pupil Name]])","v":""},{"$f":"IF(Table1[[#This Row],[Gender (M/F)]]=\"\",\"\",Table1[[#This Row],[Gender (M/F)]])","v":""},{"$f":"IF(Table1[[#This Row],[DisAdv (Y/N)]]=\"\",\"\",Table1[[#This Row],[DisAdv (Y/N)]])","v":""},{"$f":"IF(Table1[[#This Row],[SEND (E,K,N)]]=\"\",\"\",Table1[[#This Row],[SEND (E,K,N)]])","v":""},"",{"$f":"IF(LEN(Table3[[#This Row],[Pupil Name]])>0,1,0)","v":0}]
[{"$f":"IF(Table1[[#This Row],[School/Group Name]]=\"\",\"\",Table1[[#This Row],[School/Group Name]])","v":""},{"$f":"IF(Table1[[#This Row],[Pupil Name]]=\"\",\"\",Table1[[#This Row],[Pupil Name]])","v":""},{"$f":"IF(Table1[[#This Row],[Gender (M/F)]]=\"\",\"\",Table1[[#This Row],[Gender (M/F)]])","v":""},{"$f":"IF(Table1[[#This Row],[DisAdv (Y/N)]]=\"\",\"\",Table1[[#This Row],[DisAdv (Y/N)]])","v":""},{"$f":"IF(Table1[[#This Row],[SEND (E,K,N)]]=\"\",\"\",Table1[[#This Row],[SEND (E,K,N)]])","v":""},"",{"$f":"IF(LEN(Table3[[#This Row],[Pupil Name]])>0,1,0)","v":0}]
[{"$f":"IF(Table1[[#This Row],[School/Group Name]]=\"\",\"\",Table1[[#This Row],[School/Group Name]])","v":""},{"$f":"IF(Table1[[#This Row],[Pupil Name]]=\"\",\"\",Table1[[#This Row],[Pupil Name]])","v":""},{"$f":"IF(Table1[[#This Row],[Gender (M/F)]]=\"\",\"\",Table1[[#This Row],[Gender (M/F)]])","v":""},{"$f":"IF(Table1[[#This Row],[DisAdv (Y/N)]]=\"\",\"\",Table1[[#This Row],[DisAdv (Y/N)]])","v":""},{"$f":"IF(Table1[[#This Row],[SEND (E,K,N)]]=\"\",\"\",Table1[[#This Row],[SEND (E,K,N)]])","v":""},"",{"$f":"IF(LEN(Table3[[#This Row],[Pupil Name]])>0,1,0)","v":0}]
[{"$f":"IF(Table1[[#This Row],[School/Group Name]]=\"\",\"\",Table1[[#This Row],[School/Group Name]])","v":""},{"$f":"IF(Table1[[#This Row],[Pupil Name]]=\"\",\"\",Table1[[#This Row],[Pupil Name]])","v":""},{"$f":"IF(Table1[[#This Row],[Gender (M/F)]]=\"\",\"\",Table1[[#This Row],[Gender (M/F)]])","v":""},{"$f":"IF(Table1[[#This Row],[DisAdv (Y/N)]]=\"\",\"\",Table1[[#This Row],[DisAdv (Y/N)]])","v":""},{"$f":"IF(Table1[[#This Row],[SEND (E,K,N)]]=\"\",\"\",Table1[[#This Row],[SEND (E,K,N)]])","v":""},"",{"$f":"IF(LEN(Table3[[#This Row],[Pupil Name]])>0,1,0)","v":0}]
[{"$f":"IF(Table1[[#This Row],[School/Group Name]]=\"\",\"\",Table1[[#This Row],[School/Group Name]])","v":""},{"$f":"IF(Table1[[#This Row],[Pupil Name]]=\"\",\"\",Table1[[#This Row],[Pupil Name]])","v":""},{"$f":"IF(Table1[[#This Row],[Gender (M/F)]]=\"\",\"\",Table1[[#This Row],[Gender (M/F)]])","v":""},{"$f":"IF(Table1[[#This Row],[DisAdv (Y/N)]]=\"\",\"\",Table1[[#This Row],[DisAdv (Y/N)]])","v":""},{"$f":"IF(Table1[[#This Row],[SEND (E,K,N)]]=\"\",\"\",Table1[[#This Row],[SEND (E,K,N)]])","v":""},"",{"$f":"IF(LEN(Table3[[#This Row],[Pupil Name]])>0,1,0)","v":0}]
[{"$f":"IF(Table1[[#This Row],[School/Group Name]]=\"\",\"\",Table1[[#This Row],[School/Group Name]])","v":""},{"$f":"IF(Table1[[#This Row],[Pupil Name]]=\"\",\"\",Table1[[#This Row],[Pupil Name]])","v":""},{"$f":"IF(Table1[[#This Row],[Gender (M/F)]]=\"\",\"\",Table1[[#This Row],[Gender (M/F)]])","v":""},{"$f":"IF(Table1[[#This Row],[DisAdv (Y/N)]]=\"\",\"\",Table1[[#This Row],[DisAdv (Y/N)]])","v":""},{"$f":"IF(Table1[[#This Row],[SEND (E,K,N)]]=\"\",\"\",Table1[[#This Row],[SEND (E,K,N)]])","v":""},"",{"$f":"IF(LEN(Table3[[#This Row],[Pupil Name]])>0,1,0)","v":0}]
[{"$f":"IF(Table1[[#This Row],[School/Group Name]]=\"\",\"\",Table1[[#This Row],[School/Group Name]])","v":""},{"$f":"IF(Table1[[#This Row],[Pupil Name]]=\"\",\"\",Table1[[#This Row],[Pupil Name]])","v":""},{"$f":"IF(Table1[[#This Row],[Gender (M/F)]]=\"\",\"\",Table1[[#This Row],[Gender (M/F)]])","v":""},{"$f":"IF(Table1[[#This Row],[DisAdv (Y/N)]]=\"\",\"\",Table1[[#This Row],[DisAdv (Y/N)]])","v":""},{"$f":"IF(Table1[[#This Row],[SEND (E,K,N)]]=\"\",\"\",Table1[[#This Row],[SEND (E,K,N)]])","v":""},"",{"$f":"IF(LEN(Table3[[#This Row],[Pupil Name]])>0,1,0)","v":0}]
[{"$f":"IF(Table1[[#This Row],[School/Group Name]]=\"\",\"\",Table1[[#This Row],[School/Group Name]])","v":""},{"$f":"IF(Table1[[#This Row],[Pupil Name]]=\"\",\"\",Table1[[#This Row],[Pupil Name]])","v":""},{"$f":"IF(Table1[[#This Row],[Gender (M/F)]]=\"\",\"\",Table1[[#This Row],[Gender (M/F)]])","v":""},{"$f":"IF(Table1[[#This Row],[DisAdv (Y/N)]]=\"\",\"\",Table1[[#This Row],[DisAdv (Y/N)]])","v":""},{"$f":"IF(Table1[[#This Row],[SEND (E,K,N)]]=\"\",\"\",Table1[[#This Row],[SEND (E,K,N)]])","v":""},"",{"$f":"IF(LEN(Table3[[#This Row],[Pupil Name]])>0,1,0)","v":0}]
[{"$f":"IF(Table1[[#This Row],[School/Group Name]]=\"\",\"\",Table1[[#This Row],[School/Group Name]])","v":""},{"$f":"IF(Table1[[#This Row],[Pupil Name]]=\"\",\"\",Table1[[#This Row],[Pupil Name]])","v":""},{"$f":"IF(Table1[[#This Row],[Gender (M/F)]]=\"\",\"\",Table1[[#This Row],[Gender (M/F)]])","v":""},{"$f":"IF(Table1[[#This Row],[DisAdv (Y/N)]]=\"\",\"\",Table1[[#This Row],[DisAdv (Y/N)]])","v":""},{"$f":"IF(Table1[[#This Row],[SEND (E,K,N)]]=\"\",\"\",Table1[[#This Row],[SEND (E,K,N)]])","v":""},"",{"$f":"IF(LEN(Table3[[#This Row],[Pupil Name]])>0,1,0)","v":0}]
[{"$f":"IF(Table1[[#This Row],[School/Group Name]]=\"\",\"\",Table1[[#This Row],[School/Group Name]])","v":""},{"$f":"IF(Table1[[#This Row],[Pupil Name]]=\"\",\"\",Table1[[#This Row],[Pupil Name]])","v":""},{"$f":"IF(Table1[[#This Row],[Gender (M/F)]]=\"\",\"\",Table1[[#This Row],[Gender (M/F)]])","v":""},{"$f":"IF(Table1[[#This Row],[DisAdv (Y/N)]]=\"\",\"\",Table1[[#This Row],[DisAdv (Y/N)]])","v":""},{"$f":"IF(Table1[[#This Row],[SEND (E,K,N)]]=\"\",\"\",Table1[[#This Row],[SEND (E,K,N)]])","v":""},"",{"$f":"IF(LEN(Table3[[#This Row],[Pupil Name]])>0,1,0)","v":0}]
[{"$f":"IF(Table1[[#This Row],[School/Group Name]]=\"\",\"\",Table1[[#This Row],[School/Group Name]])","v":""},{"$f":"IF(Table1[[#This Row],[Pupil Name]]=\"\",\"\",Table1[[#This Row],[Pupil Name]])","v":""},{"$f":"IF(Table1[[#This Row],[Gender (M/F)]]=\"\",\"\",Table1[[#This Row],[Gender (M/F)]])","v":""},{"$f":"IF(Table1[[#This Row],[DisAdv (Y/N)]]=\"\",\"\",Table1[[#This Row],[DisAdv (Y/N)]])","v":""},{"$f":"IF(Table1[[#This Row],[SEND (E,K,N)]]=\"\",\"\",Table1[[#This Row],[SEND (E,K,N)]])","v":""},"",{"$f":"IF(LEN(Table3[[#This Row],[Pupil Name]])>0,1,0)","v":0}]
[{"$f":"IF(Table1[[#This Row],[School/Group Name]]=\"\",\"\",Table1[[#This Row],[School/Group Name]])","v":""},{"$f":"IF(Table1[[#This Row],[Pupil Name]]=\"\",\"\",Table1[[#This Row],[Pupil Name]])","v":""},{"$f":"IF(Table1[[#This Row],[Gender (M/F)]]=\"\",\"\",Table1[[#This Row],[Gender (M/F)]])","v":""},{"$f":"IF(Table1[[#This Row],[DisAdv (Y/N)]]=\"\",\"\",Table1[[#This Row],[DisAdv (Y/N)]])","v":""},{"$f":"IF(Table1[[#This Row],[SEND (E,K,N)]]=\"\",\"\",Table1[[#This Row],[SEND (E,K,N)]])","v":""},"",{"$f":"IF(LEN(Table3[[#This Row],[Pupil Name]])>0,1,0)","v":0}]
[{"$f":"IF(Table1[[#This Row],[School/Group Name]]=\"\",\"\",Table1[[#This Row],[School/Group Name]])","v":""},{"$f":"IF(Table1[[#This Row],[Pupil Name]]=\"\",\"\",Table1[[#This Row],[Pupil Name]])","v":""},{"$f":"IF(Table1[[#This Row],[Gender (M/F)]]=\"\",\"\",Table1[[#This Row],[Gender (M/F)]])","v":""},{"$f":"IF(Table1[[#This Row],[DisAdv (Y/N)]]=\"\",\"\",Table1[[#This Row],[DisAdv (Y/N)]])","v":""},{"$f":"IF(Table1[[#This Row],[SEND (E,K,N)]]=\"\",\"\",Table1[[#This Row],[SEND (E,K,N)]])","v":""},"",{"$f":"IF(LEN(Table3[[#This Row],[Pupil Name]])>0,1,0)","v":0}]
[{"$f":"IF(Table1[[#This Row],[School/Group Name]]=\"\",\"\",Table1[[#This Row],[School/Group Name]])","v":""},{"$f":"IF(Table1[[#This Row],[Pupil Name]]=\"\",\"\",Table1[[#This Row],[Pupil Name]])","v":""},{"$f":"IF(Table1[[#This Row],[Gender (M/F)]]=\"\",\"\",Table1[[#This Row],[Gender (M/F)]])","v":""},{"$f":"IF(Table1[[#This Row],[DisAdv (Y/N)]]=\"\",\"\",Table1[[#This Row],[DisAdv (Y/N)]])","v":""},{"$f":"IF(Table1[[#This Row],[SEND (E,K,N)]]=\"\",\"\",Table1[[#This Row],[SEND (E,K,N)]])","v":""},"",{"$f":"IF(LEN(Table3[[#This Row],[Pupil Name]])>0,1,0)","v":0}]
[{"$f":"IF(Table1[[#This Row],[School/Group Name]]=\"\",\"\",Table1[[#This Row],[School/Group Name]])","v":""},{"$f":"IF(Table1[[#This Row],[Pupil Name]]=\"\",\"\",Table1[[#This Row],[Pupil Name]])","v":""},{"$f":"IF(Table1[[#This Row],[Gender (M/F)]]=\"\",\"\",Table1[[#This Row],[Gender (M/F)]])","v":""},{"$f":"IF(Table1[[#This Row],[DisAdv (Y/N)]]=\"\",\"\",Table1[[#This Row],[DisAdv (Y/N)]])","v":""},{"$f":"IF(Table1[[#This Row],[SEND (E,K,N)]]=\"\",\"\",Table1[[#This Row],[SEND (E,K,N)]])","v":""},"",{"$f":"IF(LEN(Table3[[#This Row],[Pupil Name]])>0,1,0)","v":0}]
[{"$f":"IF(Table1[[#This Row],[School/Group Name]]=\"\",\"\",Table1[[#This Row],[School/Group Name]])","v":""},{"$f":"IF(Table1[[#This Row],[Pupil Name]]=\"\",\"\",Table1[[#This Row],[Pupil Name]])","v":""},{"$f":"IF(Table1[[#This Row],[Gender (M/F)]]=\"\",\"\",Table1[[#This Row],[Gender (M/F)]])","v":""},{"$f":"IF(Table1[[#This Row],[DisAdv (Y/N)]]=\"\",\"\",Table1[[#This Row],[DisAdv (Y/N)]])","v":""},{"$f":"IF(Table1[[#This Row],[SEND (E,K,N)]]=\"\",\"\",Table1[[#This Row],[SEND (E,K,N)]])","v":""},"",{"$f":"IF(LEN(Table3[[#This Row],[Pupil Name]])>0,1,0)","v":0}]
[{"$f":"IF(Table1[[#This Row],[School/Group Name]]=\"\",\"\",Table1[[#This Row],[School/Group Name]])","v":""},{"$f":"IF(Table1[[#This Row],[Pupil Name]]=\"\",\"\",Table1[[#This Row],[Pupil Name]])","v":""},{"$f":"IF(Table1[[#This Row],[Gender (M/F)]]=\"\",\"\",Table1[[#This Row],[Gender (M/F)]])","v":""},{"$f":"IF(Table1[[#This Row],[DisAdv (Y/N)]]=\"\",\"\",Table1[[#This Row],[DisAdv (Y/N)]])","v":""},{"$f":"IF(Table1[[#This Row],[SEND (E,K,N)]]=\"\",\"\",Table1[[#This Row],[SEND (E,K,N)]])","v":""},"",{"$f":"IF(LEN(Table3[[#This Row],[Pupil Name]])>0,1,0)","v":0}]
[{"$f":"IF(Table1[[#This Row],[School/Group Name]]=\"\",\"\",Table1[[#This Row],[School/Group Name]])","v":""},{"$f":"IF(Table1[[#This Row],[Pupil Name]]=\"\",\"\",Table1[[#This Row],[Pupil Name]])","v":""},{"$f":"IF(Table1[[#This Row],[Gender (M/F)]]=\"\",\"\",Table1[[#This Row],[Gender (M/F)]])","v":""},{"$f":"IF(Table1[[#This Row],[DisAdv (Y/N)]]=\"\",\"\",Table1[[#This Row],[DisAdv (Y/N)]])","v":""},{"$f":"IF(Table1[[#This Row],[SEND (E,K,N)]]=\"\",\"\",Table1[[#This Row],[SEND (E,K,N)]])","v":""},"",{"$f":"IF(LEN(Table3[[#This Row],[Pupil Name]])>0,1,0)","v":0}]
[{"$f":"IF(Table1[[#This Row],[School/Group Name]]=\"\",\"\",Table1[[#This Row],[School/Group Name]])","v":""},{"$f":"IF(Table1[[#This Row],[Pupil Name]]=\"\",\"\",Table1[[#This Row],[Pupil Name]])","v":""},{"$f":"IF(Table1[[#This Row],[Gender (M/F)]]=\"\",\"\",Table1[[#This Row],[Gender (M/F)]])","v":""},{"$f":"IF(Table1[[#This Row],[DisAdv (Y/N)]]=\"\",\"\",Table1[[#This Row],[DisAdv (Y/N)]])","v":""},{"$f":"IF(Table1[[#This Row],[SEND (E,K,N)]]=\"\",\"\",Table1[[#This Row],[SEND (E,K,N)]])","v":""},"",{"$f":"IF(LEN(Table3[[#This Row],[Pupil Name]])>0,1,0)","v":0}]
[{"$f":"IF(Table1[[#This Row],[School/Group Name]]=\"\",\"\",Table1[[#This Row],[School/Group Name]])","v":""},{"$f":"IF(Table1[[#This Row],[Pupil Name]]=\"\",\"\",Table1[[#This Row],[Pupil Name]])","v":""},{"$f":"IF(Table1[[#This Row],[Gender (M/F)]]=\"\",\"\",Table1[[#This Row],[Gender (M/F)]])","v":""},{"$f":"IF(Table1[[#This Row],[DisAdv (Y/N)]]=\"\",\"\",Table1[[#This Row],[DisAdv (Y/N)]])","v":""},{"$f":"IF(Table1[[#This Row],[SEND (E,K,N)]]=\"\",\"\",Table1[[#This Row],[SEND (E,K,N)]])","v":""},"",{"$f":"IF(LEN(Table3[[#This Row],[Pupil Name]])>0,1,0)","v":0}]
[{"$f":"IF(Table1[[#This Row],[School/Group Name]]=\"\",\"\",Table1[[#This Row],[School/Group Name]])","v":""},{"$f":"IF(Table1[[#This Row],[Pupil Name]]=\"\",\"\",Table1[[#This Row],[Pupil Name]])","v":""},{"$f":"IF(Table1[[#This Row],[Gender (M/F)]]=\"\",\"\",Table1[[#This Row],[Gender (M/F)]])","v":""},{"$f":"IF(Table1[[#This Row],[DisAdv (Y/N)]]=\"\",\"\",Table1[[#This Row],[DisAdv (Y/N)]])","v":""},{"$f":"IF(Table1[[#This Row],[SEND (E,K,N)]]=\"\",\"\",Table1[[#This Row],[SEND (E,K,N)]])","v":""},"",{"$f":"IF(LEN(Table3[[#This Row],[Pupil Name]])>0,1,0)","v":0}]
[{"$f":"IF(Table1[[#This Row],[School/Group Name]]=\"\",\"\",Table1[[#This Row],[School/Group Name]])","v":""},{"$f":"IF(Table1[[#This Row],[Pupil Name]]=\"\",\"\",Table1[[#This Row],[Pupil Name]])","v":""},{"$f":"IF(Table1[[#This Row],[Gender (M/F)]]=\"\",\"\",Table1[[#This Row],[Gender (M/F)]])","v":""},{"$f":"IF(Table1[[#This Row],[DisAdv (Y/N)]]=\"\",\"\",Table1[[#This Row],[DisAdv (Y/N)]])","v":""},{"$f":"IF(Table1[[#This Row],[SEND (E,K,N)]]=\"\",\"\",Table1[[#This Row],[SEND (E,K,N)]])","v":""},"",{"$f":"IF(LEN(Table3[[#This Row],[Pupil Name]])>0,1,0)","v":0}]
[{"$f":"IF(Table1[[#This Row],[School/Group Name]]=\"\",\"\",Table1[[#This Row],[School/Group Name]])","v":""},{"$f":"IF(Table1[[#This Row],[Pupil Name]]=\"\",\"\",Table1[[#This Row],[Pupil Name]])","v":""},{"$f":"IF(Table1[[#This Row],[Gender (M/F)]]=\"\",\"\",Table1[[#This Row],[Gender (M/F)]])","v":""},{"$f":"IF(Table1[[#This Row],[DisAdv (Y/N)]]=\"\",\"\",Table1[[#This Row],[DisAdv (Y/N)]])","v":""},{"$f":"IF(Table1[[#This Row],[SEND (E,K,N)]]=\"\",\"\",Table1[[#This Row],[SEND (E,K,N)]])","v":""},"",{"$f":"IF(LEN(Table3[[#This Row],[Pupil Name]])>0,1,0)","v":0}]
[{"$f":"IF(Table1[[#This Row],[School/Group Name]]=\"\",\"\",Table1[[#This Row],[School/Group Name]])","v":""},{"$f":"IF(Table1[[#This Row],[Pupil Name]]=\"\",\"\",Table1[[#This Row],[Pupil Name]])","v":""},{"$f":"IF(Table1[[#This Row],[Gender (M/F)]]=\"\",\"\",Table1[[#This Row],[Gender (M/F)]])","v":""},{"$f":"IF(Table1[[#This Row],[DisAdv (Y/N)]]=\"\",\"\",Table1[[#This Row],[DisAdv (Y/N)]])","v":""},{"$f":"IF(Table1[[#This Row],[SEND (E,K,N)]]=\"\",\"\",Table1[[#This Row],[SEND (E,K,N)]])","v":""},"",{"$f":"IF(LEN(Table3[[#This Row],[Pupil Name]])>0,1,0)","v":0}]
[{"$f":"IF(Table1[[#This Row],[School/Group Name]]=\"\",\"\",Table1[[#This Row],[School/Group Name]])","v":""},{"$f":"IF(Table1[[#This Row],[Pupil Name]]=\"\",\"\",Table1[[#This Row],[Pupil Name]])","v":""},{"$f":"IF(Table1[[#This Row],[Gender (M/F)]]=\"\",\"\",Table1[[#This Row],[Gender (M/F)]])","v":""},{"$f":"IF(Table1[[#This Row],[DisAdv (Y/N)]]=\"\",\"\",Table1[[#This Row],[DisAdv (Y/N)]])","v":""},{"$f":"IF(Table1[[#This Row],[SEND (E,K,N)]]=\"\",\"\",Table1[[#This Row],[SEND (E,K,N)]])","v":""},"",{"$f":"IF(LEN(Table3[[#This Row],[Pupil Name]])>0,1,0)","v":0}]
[{"$f":"IF(Table1[[#This Row],[School/Group Name]]=\"\",\"\",Table1[[#This Row],[School/Group Name]])","v":""},{"$f":"IF(Table1[[#This Row],[Pupil Name]]=\"\",\"\",Table1[[#This Row],[Pupil Name]])","v":""},{"$f":"IF(Table1[[#This Row],[Gender (M/F)]]=\"\",\"\",Table1[[#This Row],[Gender (M/F)]])","v":""},{"$f":"IF(Table1[[#This Row],[DisAdv (Y/N)]]=\"\",\"\",Table1[[#This Row],[DisAdv (Y/N)]])","v":""},{"$f":"IF(Table1[[#This Row],[SEND (E,K,N)]]=\"\",\"\",Table1[[#This Row],[SEND (E,K,N)]])","v":""},"",{"$f":"IF(LEN(Table3[[#This Row],[Pupil Name]])>0,1,0)","v":0}]
[{"$f":"IF(Table1[[#This Row],[School/Group Name]]=\"\",\"\",Table1[[#This Row],[School/Group Name]])","v":""},{"$f":"IF(Table1[[#This Row],[Pupil Name]]=\"\",\"\",Table1[[#This Row],[Pupil Name]])","v":""},{"$f":"IF(Table1[[#This Row],[Gender (M/F)]]=\"\",\"\",Table1[[#This Row],[Gender (M/F)]])","v":""},{"$f":"IF(Table1[[#This Row],[DisAdv (Y/N)]]=\"\",\"\",Table1[[#This Row],[DisAdv (Y/N)]])","v":""},{"$f":"IF(Table1[[#This Row],[SEND (E,K,N)]]=\"\",\"\",Table1[[#This Row],[SEND (E,K,N)]])","v":""},"",{"$f":"IF(LEN(Table3[[#This Row],[Pupil Name]])>0,1,0)","v":0}]
[{"$f":"IF(Table1[[#This Row],[School/Group Name]]=\"\",\"\",Table1[[#This Row],[School/Group Name]])","v":""},{"$f":"IF(Table1[[#This Row],[Pupil Name]]=\"\",\"\",Table1[[#This Row],[Pupil Name]])","v":""},{"$f":"IF(Table1[[#This Row],[Gender (M/F)]]=\"\",\"\",Table1[[#This Row],[Gender (M/F)]])","v":""},{"$f":"IF(Table1[[#This Row],[DisAdv (Y/N)]]=\"\",\"\",Table1[[#This Row],[DisAdv (Y/N)]])","v":""},{"$f":"IF(Table1[[#This Row],[SEND (E,K,N)]]=\"\",\"\",Table1[[#This Row],[SEND (E,K,N)]])","v":""},"",{"$f":"IF(LEN(Table3[[#This Row],[Pupil Name]])>0,1,0)","v":0}]
[{"$f":"IF(Table1[[#This Row],[School/Group Name]]=\"\",\"\",Table1[[#This Row],[School/Group Name]])","v":""},{"$f":"IF(Table1[[#This Row],[Pupil Name]]=\"\",\"\",Table1[[#This Row],[Pupil Name]])","v":""},{"$f":"IF(Table1[[#This Row],[Gender (M/F)]]=\"\",\"\",Table1[[#This Row],[Gender (M/F)]])","v":""},{"$f":"IF(Table1[[#This Row],[DisAdv (Y/N)]]=\"\",\"\",Table1[[#This Row],[DisAdv (Y/N)]])","v":""},{"$f":"IF(Table1[[#This Row],[SEND (E,K,N)]]=\"\",\"\",Table1[[#This Row],[SEND (E,K,N)]])","v":""},{"$f":"IF(H199=\"\",\"\",(SUM(H199:AH199)))","v":""},{"$f":"IF(LEN(Table3[[#This Row],[Pupil Name]])>0,1,0)","v":0}]
[{"$f":"IF(Table1[[#This Row],[School/Group Name]]=\"\",\"\",Table1[[#This Row],[School/Group Name]])","v":""},{"$f":"IF(Table1[[#This Row],[Pupil Name]]=\"\",\"\",Table1[[#This Row],[Pupil Name]])","v":""},{"$f":"IF(Table1[[#This Row],[Gender (M/F)]]=\"\",\"\",Table1[[#This Row],[Gender (M/F)]])","v":""},{"$f":"IF(Table1[[#This Row],[DisAdv (Y/N)]]=\"\",\"\",Table1[[#This Row],[DisAdv (Y/N)]])","v":""},{"$f":"IF(Table1[[#This Row],[SEND (E,K,N)]]=\"\",\"\",Table1[[#This Row],[SEND (E,K,N)]])","v":""},"",{"$f":"IF(LEN(Table3[[#This Row],[Pupil Name]])>0,1,0)","v":0}]
[{"$f":"IF(Table1[[#This Row],[School/Group Name]]=\"\",\"\",Table1[[#This Row],[School/Group Name]])","v":""},{"$f":"IF(Table1[[#This Row],[Pupil Name]]=\"\",\"\",Table1[[#This Row],[Pupil Name]])","v":""},{"$f":"IF(Table1[[#This Row],[Gender (M/F)]]=\"\",\"\",Table1[[#This Row],[Gender (M/F)]])","v":""},{"$f":"IF(Table1[[#This Row],[DisAdv (Y/N)]]=\"\",\"\",Table1[[#This Row],[DisAdv (Y/N)]])","v":""},{"$f":"IF(Table1[[#This Row],[SEND (E,K,N)]]=\"\",\"\",Table1[[#This Row],[SEND (E,K,N)]])","v":""},"",{"$f":"IF(LEN(Table3[[#This Row],[Pupil Name]])>0,1,0)","v":0}]
[{"$f":"IF(Table1[[#This Row],[School/Group Name]]=\"\",\"\",Table1[[#This Row],[School/Group Name]])","v":""},{"$f":"IF(Table1[[#This Row],[Pupil Name]]=\"\",\"\",Table1[[#This Row],[Pupil Name]])","v":""},{"$f":"IF(Table1[[#This Row],[Gender (M/F)]]=\"\",\"\",Table1[[#This Row],[Gender (M/F)]])","v":""},{"$f":"IF(Table1[[#This Row],[DisAdv (Y/N)]]=\"\",\"\",Table1[[#This Row],[DisAdv (Y/N)]])","v":""},{"$f":"IF(Table1[[#This Row],[SEND (E,K,N)]]=\"\",\"\",Table1[[#This Row],[SEND (E,K,N)]])","v":""},"",{"$f":"IF(LEN(Table3[[#This Row],[Pupil Name]])>0,1,0)","v":0}]
[{"$f":"IF(Table1[[#This Row],[School/Group Name]]=\"\",\"\",Table1[[#This Row],[School/Group Name]])","v":""},{"$f":"IF(Table1[[#This Row],[Pupil Name]]=\"\",\"\",Table1[[#This Row],[Pupil Name]])","v":""},{"$f":"IF(Table1[[#This Row],[Gender (M/F)]]=\"\",\"\",Table1[[#This Row],[Gender (M/F)]])","v":""},{"$f":"IF(Table1[[#This Row],[DisAdv (Y/N)]]=\"\",\"\",Table1[[#This Row],[DisAdv (Y/N)]])","v":""},{"$f":"IF(Table1[[#This Row],[SEND (E,K,N)]]=\"\",\"\",Table1[[#This Row],[SEND (E,K,N)]])","v":""},"",{"$f":"IF(LEN(Table3[[#This Row],[Pupil Name]])>0,1,0)","v":0}]
[{"$f":"IF(Table1[[#This Row],[School/Group Name]]=\"\",\"\",Table1[[#This Row],[School/Group Name]])","v":""},{"$f":"IF(Table1[[#This Row],[Pupil Name]]=\"\",\"\",Table1[[#This Row],[Pupil Name]])","v":""},{"$f":"IF(Table1[[#This Row],[Gender (M/F)]]=\"\",\"\",Table1[[#This Row],[Gender (M/F)]])","v":""},{"$f":"IF(Table1[[#This Row],[DisAdv (Y/N)]]=\"\",\"\",Table1[[#This Row],[DisAdv (Y/N)]])","v":""},{"$f":"IF(Table1[[#This Row],[SEND (E,K,N)]]=\"\",\"\",Table1[[#This Row],[SEND (E,K,N)]])","v":""},"",{"$f":"IF(LEN(Table3[[#This Row],[Pupil Name]])>0,1,0)","v":0}]
[{"$f":"IF(Table1[[#This Row],[School/Group Name]]=\"\",\"\",Table1[[#This Row],[School/Group Name]])","v":""},{"$f":"IF(Table1[[#This Row],[Pupil Name]]=\"\",\"\",Table1[[#This Row],[Pupil Name]])","v":""},{"$f":"IF(Table1[[#This Row],[Gender (M/F)]]=\"\",\"\",Table1[[#This Row],[Gender (M/F)]])","v":""},{"$f":"IF(Table1[[#This Row],[DisAdv (Y/N)]]=\"\",\"\",Table1[[#This Row],[DisAdv (Y/N)]])","v":""},{"$f":"IF(Table1[[#This Row],[SEND (E,K,N)]]=\"\",\"\",Table1[[#This Row],[SEND (E,K,N)]])","v":""},"",{"$f":"IF(LEN(Table3[[#This Row],[Pupil Name]])>0,1,0)","v":0}]
[{"$f":"IF(Table1[[#This Row],[School/Group Name]]=\"\",\"\",Table1[[#This Row],[School/Group Name]])","v":""},{"$f":"IF(Table1[[#This Row],[Pupil Name]]=\"\",\"\",Table1[[#This Row],[Pupil Name]])","v":""},{"$f":"IF(Table1[[#This Row],[Gender (M/F)]]=\"\",\"\",Table1[[#This Row],[Gender (M/F)]])","v":""},{"$f":"IF(Table1[[#This Row],[DisAdv (Y/N)]]=\"\",\"\",Table1[[#This Row],[DisAdv (Y/N)]])","v":""},{"$f":"IF(Table1[[#This Row],[SEND (E,K,N)]]=\"\",\"\",Table1[[#This Row],[SEND (E,K,N)]])","v":""},"",{"$f":"IF(LEN(Table3[[#This Row],[Pupil Name]])>0,1,0)","v":0}]
[{"$f":"IF(Table1[[#This Row],[School/Group Name]]=\"\",\"\",Table1[[#This Row],[School/Group Name]])","v":""},{"$f":"IF(Table1[[#This Row],[Pupil Name]]=\"\",\"\",Table1[[#This Row],[Pupil Name]])","v":""},{"$f":"IF(Table1[[#This Row],[Gender (M/F)]]=\"\",\"\",Table1[[#This Row],[Gender (M/F)]])","v":""},{"$f":"IF(Table1[[#This Row],[DisAdv (Y/N)]]=\"\",\"\",Table1[[#This Row],[DisAdv (Y/N)]])","v":""},{"$f":"IF(Table1[[#This Row],[SEND (E,K,N)]]=\"\",\"\",Table1[[#This Row],[SEND (E,K,N)]])","v":""},"",{"$f":"IF(LEN(Table3[[#This Row],[Pupil Name]])>0,1,0)","v":0}]
[{"$f":"IF(Table1[[#This Row],[School/Group Name]]=\"\",\"\",Table1[[#This Row],[School/Group Name]])","v":""},{"$f":"IF(Table1[[#This Row],[Pupil Name]]=\"\",\"\",Table1[[#This Row],[Pupil Name]])","v":""},{"$f":"IF(Table1[[#This Row],[Gender (M/F)]]=\"\",\"\",Table1[[#This Row],[Gender (M/F)]])","v":""},{"$f":"IF(Table1[[#This Row],[DisAdv (Y/N)]]=\"\",\"\",Table1[[#This Row],[DisAdv (Y/N)]])","v":""},{"$f":"IF(Table1[[#This Row],[SEND (E,K,N)]]=\"\",\"\",Table1[[#This Row],[SEND (E,K,N)]])","v":""},"",{"$f":"IF(LEN(Table3[[#This Row],[Pupil Name]])>0,1,0)","v":0}]
[{"$f":"IF(Table1[[#This Row],[School/Group Name]]=\"\",\"\",Table1[[#This Row],[School/Group Name]])","v":""},{"$f":"IF(Table1[[#This Row],[Pupil Name]]=\"\",\"\",Table1[[#This Row],[Pupil Name]])","v":""},{"$f":"IF(Table1[[#This Row],[Gender (M/F)]]=\"\",\"\",Table1[[#This Row],[Gender (M/F)]])","v":""},{"$f":"IF(Table1[[#This Row],[DisAdv (Y/N)]]=\"\",\"\",Table1[[#This Row],[DisAdv (Y/N)]])","v":""},{"$f":"IF(Table1[[#This Row],[SEND (E,K,N)]]=\"\",\"\",Table1[[#This Row],[SEND (E,K,N)]])","v":""},"",{"$f":"IF(LEN(Table3[[#This Row],[Pupil Name]])>0,1,0)","v":0}]
[{"$f":"IF(Table1[[#This Row],[School/Group Name]]=\"\",\"\",Table1[[#This Row],[School/Group Name]])","v":""},{"$f":"IF(Table1[[#This Row],[Pupil Name]]=\"\",\"\",Table1[[#This Row],[Pupil Name]])","v":""},{"$f":"IF(Table1[[#This Row],[Gender (M/F)]]=\"\",\"\",Table1[[#This Row],[Gender (M/F)]])","v":""},{"$f":"IF(Table1[[#This Row],[DisAdv (Y/N)]]=\"\",\"\",Table1[[#This Row],[DisAdv (Y/N)]])","v":""},{"$f":"IF(Table1[[#This Row],[SEND (E,K,N)]]=\"\",\"\",Table1[[#This Row],[SEND (E,K,N)]])","v":""},"",{"$f":"IF(LEN(Table3[[#This Row],[Pupil Name]])>0,1,0)","v":0}]
[{"$f":"IF(Table1[[#This Row],[School/Group Name]]=\"\",\"\",Table1[[#This Row],[School/Group Name]])","v":""},{"$f":"IF(Table1[[#This Row],[Pupil Name]]=\"\",\"\",Table1[[#This Row],[Pupil Name]])","v":""},{"$f":"IF(Table1[[#This Row],[Gender (M/F)]]=\"\",\"\",Table1[[#This Row],[Gender (M/F)]])","v":""},{"$f":"IF(Table1[[#This Row],[DisAdv (Y/N)]]=\"\",\"\",Table1[[#This Row],[DisAdv (Y/N)]])","v":""},{"$f":"IF(Table1[[#This Row],[SEND (E,K,N)]]=\"\",\"\",Table1[[#This Row],[SEND (E,K,N)]])","v":""},"",{"$f":"IF(LEN(Table3[[#This Row],[Pupil Name]])>0,1,0)","v":0}]
[{"$f":"IF(Table1[[#This Row],[School/Group Name]]=\"\",\"\",Table1[[#This Row],[School/Group Name]])","v":""},{"$f":"IF(Table1[[#This Row],[Pupil Name]]=\"\",\"\",Table1[[#This Row],[Pupil Name]])","v":""},{"$f":"IF(Table1[[#This Row],[Gender (M/F)]]=\"\",\"\",Table1[[#This Row],[Gender (M/F)]])","v":""},{"$f":"IF(Table1[[#This Row],[DisAdv (Y/N)]]=\"\",\"\",Table1[[#This Row],[DisAdv (Y/N)]])","v":""},{"$f":"IF(Table1[[#This Row],[SEND (E,K,N)]]=\"\",\"\",Table1[[#This Row],[SEND (E,K,N)]])","v":""},"",{"$f":"IF(LEN(Table3[[#This Row],[Pupil Name]])>0,1,0)","v":0}]
[{"$f":"IF(Table1[[#This Row],[School/Group Name]]=\"\",\"\",Table1[[#This Row],[School/Group Name]])","v":""},{"$f":"IF(Table1[[#This Row],[Pupil Name]]=\"\",\"\",Table1[[#This Row],[Pupil Name]])","v":""},{"$f":"IF(Table1[[#This Row],[Gender (M/F)]]=\"\",\"\",Table1[[#This Row],[Gender (M/F)]])","v":""},{"$f":"IF(Table1[[#This Row],[DisAdv (Y/N)]]=\"\",\"\",Table1[[#This Row],[DisAdv (Y/N)]])","v":""},{"$f":"IF(Table1[[#This Row],[SEND (E,K,N)]]=\"\",\"\",Table1[[#This Row],[SEND (E,K,N)]])","v":""},"",{"$f":"IF(LEN(Table3[[#This Row],[Pupil Name]])>0,1,0)","v":0}]
[{"$f":"IF(Table1[[#This Row],[School/Group Name]]=\"\",\"\",Table1[[#This Row],[School/Group Name]])","v":""},{"$f":"IF(Table1[[#This Row],[Pupil Name]]=\"\",\"\",Table1[[#This Row],[Pupil Name]])","v":""},{"$f":"IF(Table1[[#This Row],[Gender (M/F)]]=\"\",\"\",Table1[[#This Row],[Gender (M/F)]])","v":""},{"$f":"IF(Table1[[#This Row],[DisAdv (Y/N)]]=\"\",\"\",Table1[[#This Row],[DisAdv (Y/N)]])","v":""},{"$f":"IF(Table1[[#This Row],[SEND (E,K,N)]]=\"\",\"\",Table1[[#This Row],[SEND (E,K,N)]])","v":""},"",{"$f":"IF(LEN(Table3[[#This Row],[Pupil Name]])>0,1,0)","v":0}]
[{"$f":"IF(Table1[[#This Row],[School/Group Name]]=\"\",\"\",Table1[[#This Row],[School/Group Name]])","v":""},{"$f":"IF(Table1[[#This Row],[Pupil Name]]=\"\",\"\",Table1[[#This Row],[Pupil Name]])","v":""},{"$f":"IF(Table1[[#This Row],[Gender (M/F)]]=\"\",\"\",Table1[[#This Row],[Gender (M/F)]])","v":""},{"$f":"IF(Table1[[#This Row],[DisAdv (Y/N)]]=\"\",\"\",Table1[[#This Row],[DisAdv (Y/N)]])","v":""},{"$f":"IF(Table1[[#This Row],[SEND (E,K,N)]]=\"\",\"\",Table1[[#This Row],[SEND (E,K,N)]])","v":""},"",{"$f":"IF(LEN(Table3[[#This Row],[Pupil Name]])>0,1,0)","v":0}]
[{"$f":"IF(Table1[[#This Row],[School/Group Name]]=\"\",\"\",Table1[[#This Row],[School/Group Name]])","v":""},{"$f":"IF(Table1[[#This Row],[Pupil Name]]=\"\",\"\",Table1[[#This Row],[Pupil Name]])","v":""},{"$f":"IF(Table1[[#This Row],[Gender (M/F)]]=\"\",\"\",Table1[[#This Row],[Gender (M/F)]])","v":""},{"$f":"IF(Table1[[#This Row],[DisAdv (Y/N)]]=\"\",\"\",Table1[[#This Row],[DisAdv (Y/N)]])","v":""},{"$f":"IF(Table1[[#This Row],[SEND (E,K,N)]]=\"\",\"\",Table1[[#This Row],[SEND (E,K,N)]])","v":""},"",{"$f":"IF(LEN(Table3[[#This Row],[Pupil Name]])>0,1,0)","v":0}]
[{"$f":"IF(Table1[[#This Row],[School/Group Name]]=\"\",\"\",Table1[[#This Row],[School/Group Name]])","v":""},{"$f":"IF(Table1[[#This Row],[Pupil Name]]=\"\",\"\",Table1[[#This Row],[Pupil Name]])","v":""},{"$f":"IF(Table1[[#This Row],[Gender (M/F)]]=\"\",\"\",Table1[[#This Row],[Gender (M/F)]])","v":""},{"$f":"IF(Table1[[#This Row],[DisAdv (Y/N)]]=\"\",\"\",Table1[[#This Row],[DisAdv (Y/N)]])","v":""},{"$f":"IF(Table1[[#This Row],[SEND (E,K,N)]]=\"\",\"\",Table1[[#This Row],[SEND (E,K,N)]])","v":""},"",{"$f":"IF(LEN(Table3[[#This Row],[Pupil Name]])>0,1,0)","v":0}]
[{"$f":"IF(Table1[[#This Row],[School/Group Name]]=\"\",\"\",Table1[[#This Row],[School/Group Name]])","v":""},{"$f":"IF(Table1[[#This Row],[Pupil Name]]=\"\",\"\",Table1[[#This Row],[Pupil Name]])","v":""},{"$f":"IF(Table1[[#This Row],[Gender (M/F)]]=\"\",\"\",Table1[[#This Row],[Gender (M/F)]])","v":""},{"$f":"IF(Table1[[#This Row],[DisAdv (Y/N)]]=\"\",\"\",Table1[[#This Row],[DisAdv (Y/N)]])","v":""},{"$f":"IF(Table1[[#This Row],[SEND (E,K,N)]]=\"\",\"\",Table1[[#This Row],[SEND (E,K,N)]])","v":""},"",{"$f":"IF(LEN(Table3[[#This Row],[Pupil Name]])>0,1,0)","v":0}]
[{"$f":"IF(Table1[[#This Row],[School/Group Name]]=\"\",\"\",Table1[[#This Row],[School/Group Name]])","v":""},{"$f":"IF(Table1[[#This Row],[Pupil Name]]=\"\",\"\",Table1[[#This Row],[Pupil Name]])","v":""},{"$f":"IF(Table1[[#This Row],[Gender (M/F)]]=\"\",\"\",Table1[[#This Row],[Gender (M/F)]])","v":""},{"$f":"IF(Table1[[#This Row],[DisAdv (Y/N)]]=\"\",\"\",Table1[[#This Row],[DisAdv (Y/N)]])","v":""},{"$f":"IF(Table1[[#This Row],[SEND (E,K,N)]]=\"\",\"\",Table1[[#This Row],[SEND (E,K,N)]])","v":""},"",{"$f":"IF(LEN(Table3[[#This Row],[Pupil Name]])>0,1,0)","v":0}]
[{"$f":"IF(Table1[[#This Row],[School/Group Name]]=\"\",\"\",Table1[[#This Row],[School/Group Name]])","v":""},{"$f":"IF(Table1[[#This Row],[Pupil Name]]=\"\",\"\",Table1[[#This Row],[Pupil Name]])","v":""},{"$f":"IF(Table1[[#This Row],[Gender (M/F)]]=\"\",\"\",Table1[[#This Row],[Gender (M/F)]])","v":""},{"$f":"IF(Table1[[#This Row],[DisAdv (Y/N)]]=\"\",\"\",Table1[[#This Row],[DisAdv (Y/N)]])","v":""},{"$f":"IF(Table1[[#This Row],[SEND (E,K,N)]]=\"\",\"\",Table1[[#This Row],[SEND (E,K,N)]])","v":""},"",{"$f":"IF(LEN(Table3[[#This Row],[Pupil Name]])>0,1,0)","v":0}]
[{"$f":"IF(Table1[[#This Row],[School/Group Name]]=\"\",\"\",Table1[[#This Row],[School/Group Name]])","v":""},{"$f":"IF(Table1[[#This Row],[Pupil Name]]=\"\",\"\",Table1[[#This Row],[Pupil Name]])","v":""},{"$f":"IF(Table1[[#This Row],[Gender (M/F)]]=\"\",\"\",Table1[[#This Row],[Gender (M/F)]])","v":""},{"$f":"IF(Table1[[#This Row],[DisAdv (Y/N)]]=\"\",\"\",Table1[[#This Row],[DisAdv (Y/N)]])","v":""},{"$f":"IF(Table1[[#This Row],[SEND (E,K,N)]]=\"\",\"\",Table1[[#This Row],[SEND (E,K,N)]])","v":""},"",{"$f":"IF(LEN(Table3[[#This Row],[Pupil Name]])>0,1,0)","v":0}]
[{"$f":"IF(Table1[[#This Row],[School/Group Name]]=\"\",\"\",Table1[[#This Row],[School/Group Name]])","v":""},{"$f":"IF(Table1[[#This Row],[Pupil Name]]=\"\",\"\",Table1[[#This Row],[Pupil Name]])","v":""},{"$f":"IF(Table1[[#This Row],[Gender (M/F)]]=\"\",\"\",Table1[[#This Row],[Gender (M/F)]])","v":""},{"$f":"IF(Table1[[#This Row],[DisAdv (Y/N)]]=\"\",\"\",Table1[[#This Row],[DisAdv (Y/N)]])","v":""},{"$f":"IF(Table1[[#This Row],[SEND (E,K,N)]]=\"\",\"\",Table1[[#This Row],[SEND (E,K,N)]])","v":""},"",{"$f":"IF(LEN(Table3[[#This Row],[Pupil Name]])>0,1,0)","v":0}]
[{"$f":"IF(Table1[[#This Row],[School/Group Name]]=\"\",\"\",Table1[[#This Row],[School/Group Name]])","v":""},{"$f":"IF(Table1[[#This Row],[Pupil Name]]=\"\",\"\",Table1[[#This Row],[Pupil Name]])","v":""},{"$f":"IF(Table1[[#This Row],[Gender (M/F)]]=\"\",\"\",Table1[[#This Row],[Gender (M/F)]])","v":""},{"$f":"IF(Table1[[#This Row],[DisAdv (Y/N)]]=\"\",\"\",Table1[[#This Row],[DisAdv (Y/N)]])","v":""},{"$f":"IF(Table1[[#This Row],[SEND (E,K,N)]]=\"\",\"\",Table1[[#This Row],[SEND (E,K,N)]])","v":""},"",{"$f":"IF(LEN(Table3[[#This Row],[Pupil Name]])>0,1,0)","v":0}]
[{"$f":"IF(Table1[[#This Row],[School/Group Name]]=\"\",\"\",Table1[[#This Row],[School/Group Name]])","v":""},{"$f":"IF(Table1[[#This Row],[Pupil Name]]=\"\",\"\",Table1[[#This Row],[Pupil Name]])","v":""},{"$f":"IF(Table1[[#This Row],[Gender (M/F)]]=\"\",\"\",Table1[[#This Row],[Gender (M/F)]])","v":""},{"$f":"IF(Table1[[#This Row],[DisAdv (Y/N)]]=\"\",\"\",Table1[[#This Row],[DisAdv (Y/N)]])","v":""},{"$f":"IF(Table1[[#This Row],[SEND (E,K,N)]]=\"\",\"\",Table1[[#This Row],[SEND (E,K,N)]])","v":""},"",{"$f":"IF(LEN(Table3[[#This Row],[Pupil Name]])>0,1,0)","v":0}]
[{"$f":"IF(Table1[[#This Row],[School/Group Name]]=\"\",\"\",Table1[[#This Row],[School/Group Name]])","v":""},{"$f":"IF(Table1[[#This Row],[Pupil Name]]=\"\",\"\",Table1[[#This Row],[Pupil Name]])","v":""},{"$f":"IF(Table1[[#This Row],[Gender (M/F)]]=\"\",\"\",Table1[[#This Row],[Gender (M/F)]])","v":""},{"$f":"IF(Table1[[#This Row],[DisAdv (Y/N)]]=\"\",\"\",Table1[[#This Row],[DisAdv (Y/N)]])","v":""},{"$f":"IF(Table1[[#This Row],[SEND (E,K,N)]]=\"\",\"\",Table1[[#This Row],[SEND (E,K,N)]])","v":""},"",{"$f":"IF(LEN(Table3[[#This Row],[Pupil Name]])>0,1,0)","v":0}]
[{"$f":"IF(Table1[[#This Row],[School/Group Name]]=\"\",\"\",Table1[[#This Row],[School/Group Name]])","v":""},{"$f":"IF(Table1[[#This Row],[Pupil Name]]=\"\",\"\",Table1[[#This Row],[Pupil Name]])","v":""},{"$f":"IF(Table1[[#This Row],[Gender (M/F)]]=\"\",\"\",Table1[[#This Row],[Gender (M/F)]])","v":""},{"$f":"IF(Table1[[#This Row],[DisAdv (Y/N)]]=\"\",\"\",Table1[[#This Row],[DisAdv (Y/N)]])","v":""},{"$f":"IF(Table1[[#This Row],[SEND (E,K,N)]]=\"\",\"\",Table1[[#This Row],[SEND (E,K,N)]])","v":""},"",{"$f":"IF(LEN(Table3[[#This Row],[Pupil Name]])>0,1,0)","v":0}]
[{"$f":"IF(Table1[[#This Row],[School/Group Name]]=\"\",\"\",Table1[[#This Row],[School/Group Name]])","v":""},{"$f":"IF(Table1[[#This Row],[Pupil Name]]=\"\",\"\",Table1[[#This Row],[Pupil Name]])","v":""},{"$f":"IF(Table1[[#This Row],[Gender (M/F)]]=\"\",\"\",Table1[[#This Row],[Gender (M/F)]])","v":""},{"$f":"IF(Table1[[#This Row],[DisAdv (Y/N)]]=\"\",\"\",Table1[[#This Row],[DisAdv (Y/N)]])","v":""},{"$f":"IF(Table1[[#This Row],[SEND (E,K,N)]]=\"\",\"\",Table1[[#This Row],[SEND (E,K,N)]])","v":""},"",{"$f":"IF(LEN(Table3[[#This Row],[Pupil Name]])>0,1,0)","v":0}]
[{"$f":"IF(Table1[[#This Row],[School/Group Name]]=\"\",\"\",Table1[[#This Row],[School/Group Name]])","v":""},{"$f":"IF(Table1[[#This Row],[Pupil Name]]=\"\",\"\",Table1[[#This Row],[Pupil Name]])","v":""},{"$f":"IF(Table1[[#This Row],[Gender (M/F)]]=\"\",\"\",Table1[[#This Row],[Gender (M/F)]])","v":""},{"$f":"IF(Table1[[#This Row],[DisAdv (Y/N)]]=\"\",\"\",Table1[[#This Row],[DisAdv (Y/N)]])","v":""},{"$f":"IF(Table1[[#This Row],[SEND (E,K,N)]]=\"\",\"\",Table1[[#This Row],[SEND (E,K,N)]])","v":""},"",{"$f":"IF(LEN(Table3[[#This Row],[Pupil Name]])>0,1,0)","v":0}]
[{"$f":"IF(Table1[[#This Row],[School/Group Name]]=\"\",\"\",Table1[[#This Row],[School/Group Name]])","v":""},{"$f":"IF(Table1[[#This Row],[Pupil Name]]=\"\",\"\",Table1[[#This Row],[Pupil Name]])","v":""},{"$f":"IF(Table1[[#This Row],[Gender (M/F)]]=\"\",\"\",Table1[[#This Row],[Gender (M/F)]])","v":""},{"$f":"IF(Table1[[#This Row],[DisAdv (Y/N)]]=\"\",\"\",Table1[[#This Row],[DisAdv (Y/N)]])","v":""},{"$f":"IF(Table1[[#This Row],[SEND (E,K,N)]]=\"\",\"\",Table1[[#This Row],[SEND (E,K,N)]])","v":""},"",{"$f":"IF(LEN(Table3[[#This Row],[Pupil Name]])>0,1,0)","v":0}]
[{"$f":"IF(Table1[[#This Row],[School/Group Name]]=\"\",\"\",Table1[[#This Row],[School/Group Name]])","v":""},{"$f":"IF(Table1[[#This Row],[Pupil Name]]=\"\",\"\",Table1[[#This Row],[Pupil Name]])","v":""},{"$f":"IF(Table1[[#This Row],[Gender (M/F)]]=\"\",\"\",Table1[[#This Row],[Gender (M/F)]])","v":""},{"$f":"IF(Table1[[#This Row],[DisAdv (Y/N)]]=\"\",\"\",Table1[[#This Row],[DisAdv (Y/N)]])","v":""},{"$f":"IF(Table1[[#This Row],[SEND (E,K,N)]]=\"\",\"\",Table1[[#This Row],[SEND (E,K,N)]])","v":""},"",{"$f":"IF(LEN(Table3[[#This Row],[Pupil Name]])>0,1,0)","v":0}]
[{"$f":"IF(Table1[[#This Row],[School/Group Name]]=\"\",\"\",Table1[[#This Row],[School/Group Name]])","v":""},{"$f":"IF(Table1[[#This Row],[Pupil Name]]=\"\",\"\",Table1[[#This Row],[Pupil Name]])","v":""},{"$f":"IF(Table1[[#This Row],[Gender (M/F)]]=\"\",\"\",Table1[[#This Row],[Gender (M/F)]])","v":""},{"$f":"IF(Table1[[#This Row],[DisAdv (Y/N)]]=\"\",\"\",Table1[[#This Row],[DisAdv (Y/N)]])","v":""},{"$f":"IF(Table1[[#This Row],[SEND (E,K,N)]]=\"\",\"\",Table1[[#This Row],[SEND (E,K,N)]])","v":""},"",{"$f":"IF(LEN(Table3[[#This Row],[Pupil Name]])>0,1,0)","v":0}]
[{"$f":"IF(Table1[[#This Row],[School/Group Name]]=\"\",\"\",Table1[[#This Row],[School/Group Name]])","v":""},{"$f":"IF(Table1[[#This Row],[Pupil Name]]=\"\",\"\",Table1[[#This Row],[Pupil Name]])","v":""},{"$f":"IF(Table1[[#This Row],[Gender (M/F)]]=\"\",\"\",Table1[[#This Row],[Gender (M/F)]])","v":""},{"$f":"IF(Table1[[#This Row],[DisAdv (Y/N)]]=\"\",\"\",Table1[[#This Row],[DisAdv (Y/N)]])","v":""},{"$f":"IF(Table1[[#This Row],[SEND (E,K,N)]]=\"\",\"\",Table1[[#This Row],[SEND (E,K,N)]])","v":""},"",{"$f":"IF(LEN(Table3[[#This Row],[Pupil Name]])>0,1,0)","v":0}]
[{"$f":"IF(Table1[[#This Row],[School/Group Name]]=\"\",\"\",Table1[[#This Row],[School/Group Name]])","v":""},{"$f":"IF(Table1[[#This Row],[Pupil Name]]=\"\",\"\",Table1[[#This Row],[Pupil Name]])","v":""},{"$f":"IF(Table1[[#This Row],[Gender (M/F)]]=\"\",\"\",Table1[[#This Row],[Gender (M/F)]])","v":""},{"$f":"IF(Table1[[#This Row],[DisAdv (Y/N)]]=\"\",\"\",Table1[[#This Row],[DisAdv (Y/N)]])","v":""},{"$f":"IF(Table1[[#This Row],[SEND (E,K,N)]]=\"\",\"\",Table1[[#This Row],[SEND (E,K,N)]])","v":""},"",{"$f":"IF(LEN(Table3[[#This Row],[Pupil Name]])>0,1,0)","v":0}]
[{"$f":"IF(Table1[[#This Row],[School/Group Name]]=\"\",\"\",Table1[[#This Row],[School/Group Name]])","v":""},{"$f":"IF(Table1[[#This Row],[Pupil Name]]=\"\",\"\",Table1[[#This Row],[Pupil Name]])","v":""},{"$f":"IF(Table1[[#This Row],[Gender (M/F)]]=\"\",\"\",Table1[[#This Row],[Gender (M/F)]])","v":""},{"$f":"IF(Table1[[#This Row],[DisAdv (Y/N)]]=\"\",\"\",Table1[[#This Row],[DisAdv (Y/N)]])","v":""},{"$f":"IF(Table1[[#This Row],[SEND (E,K,N)]]=\"\",\"\",Table1[[#This Row],[SEND (E,K,N)]])","v":""},"",{"$f":"IF(LEN(Table3[[#This Row],[Pupil Name]])>0,1,0)","v":0}]
[{"$f":"IF(Table1[[#This Row],[School/Group Name]]=\"\",\"\",Table1[[#This Row],[School/Group Name]])","v":""},{"$f":"IF(Table1[[#This Row],[Pupil Name]]=\"\",\"\",Table1[[#This Row],[Pupil Name]])","v":""},{"$f":"IF(Table1[[#This Row],[Gender (M/F)]]=\"\",\"\",Table1[[#This Row],[Gender (M/F)]])","v":""},{"$f":"IF(Table1[[#This Row],[DisAdv (Y/N)]]=\"\",\"\",Table1[[#This Row],[DisAdv (Y/N)]])","v":""},{"$f":"IF(Table1[[#This Row],[SEND (E,K,N)]]=\"\",\"\",Table1[[#This Row],[SEND (E,K,N)]])","v":""},"",{"$f":"IF(LEN(Table3[[#This Row],[Pupil Name]])>0,1,0)","v":0}]
[{"$f":"IF(Table1[[#This Row],[School/Group Name]]=\"\",\"\",Table1[[#This Row],[School/Group Name]])","v":""},{"$f":"IF(Table1[[#This Row],[Pupil Name]]=\"\",\"\",Table1[[#This Row],[Pupil Name]])","v":""},{"$f":"IF(Table1[[#This Row],[Gender (M/F)]]=\"\",\"\",Table1[[#This Row],[Gender (M/F)]])","v":""},{"$f":"IF(Table1[[#This Row],[DisAdv (Y/N)]]=\"\",\"\",Table1[[#This Row],[DisAdv (Y/N)]])","v":""},{"$f":"IF(Table1[[#This Row],[SEND (E,K,N)]]=\"\",\"\",Table1[[#This Row],[SEND (E,K,N)]])","v":""},"",{"$f":"IF(LEN(Table3[[#This Row],[Pupil Name]])>0,1,0)","v":0}]
[{"$f":"IF(Table1[[#This Row],[School/Group Name]]=\"\",\"\",Table1[[#This Row],[School/Group Name]])","v":""},{"$f":"IF(Table1[[#This Row],[Pupil Name]]=\"\",\"\",Table1[[#This Row],[Pupil Name]])","v":""},{"$f":"IF(Table1[[#This Row],[Gender (M/F)]]=\"\",\"\",Table1[[#This Row],[Gender (M/F)]])","v":""},{"$f":"IF(Table1[[#This Row],[DisAdv (Y/N)]]=\"\",\"\",Table1[[#This Row],[DisAdv (Y/N)]])","v":""},{"$f":"IF(Table1[[#This Row],[SEND (E,K,N)]]=\"\",\"\",Table1[[#This Row],[SEND (E,K,N)]])","v":""},"",{"$f":"IF(LEN(Table3[[#This Row],[Pupil Name]])>0,1,0)","v":0}]
[{"$f":"IF(Table1[[#This Row],[School/Group Name]]=\"\",\"\",Table1[[#This Row],[School/Group Name]])","v":""},{"$f":"IF(Table1[[#This Row],[Pupil Name]]=\"\",\"\",Table1[[#This Row],[Pupil Name]])","v":""},{"$f":"IF(Table1[[#This Row],[Gender (M/F)]]=\"\",\"\",Table1[[#This Row],[Gender (M/F)]])","v":""},{"$f":"IF(Table1[[#This Row],[DisAdv (Y/N)]]=\"\",\"\",Table1[[#This Row],[DisAdv (Y/N)]])","v":""},{"$f":"IF(Table1[[#This Row],[SEND (E,K,N)]]=\"\",\"\",Table1[[#This Row],[SEND (E,K,N)]])","v":""},"",{"$f":"IF(LEN(Table3[[#This Row],[Pupil Name]])>0,1,0)","v":0}]
[{"$f":"IF(Table1[[#This Row],[School/Group Name]]=\"\",\"\",Table1[[#This Row],[School/Group Name]])","v":""},{"$f":"IF(Table1[[#This Row],[Pupil Name]]=\"\",\"\",Table1[[#This Row],[Pupil Name]])","v":""},{"$f":"IF(Table1[[#This Row],[Gender (M/F)]]=\"\",\"\",Table1[[#This Row],[Gender (M/F)]])","v":""},{"$f":"IF(Table1[[#This Row],[DisAdv (Y/N)]]=\"\",\"\",Table1[[#This Row],[DisAdv (Y/N)]])","v":""},{"$f":"IF(Table1[[#This Row],[SEND (E,K,N)]]=\"\",\"\",Table1[[#This Row],[SEND (E,K,N)]])","v":""},"",{"$f":"IF(LEN(Table3[[#This Row],[Pupil Name]])>0,1,0)","v":0}]
[{"$f":"IF(Table1[[#This Row],[School/Group Name]]=\"\",\"\",Table1[[#This Row],[School/Group Name]])","v":""},{"$f":"IF(Table1[[#This Row],[Pupil Name]]=\"\",\"\",Table1[[#This Row],[Pupil Name]])","v":""},{"$f":"IF(Table1[[#This Row],[Gender (M/F)]]=\"\",\"\",Table1[[#This Row],[Gender (M/F)]])","v":""},{"$f":"IF(Table1[[#This Row],[DisAdv (Y/N)]]=\"\",\"\",Table1[[#This Row],[DisAdv (Y/N)]])","v":""},{"$f":"IF(Table1[[#This Row],[SEND (E,K,N)]]=\"\",\"\",Table1[[#This Row],[SEND (E,K,N)]])","v":""},"",{"$f":"IF(LEN(Table3[[#This Row],[Pupil Name]])>0,1,0)","v":0}]
[{"$f":"IF(Table1[[#This Row],[School/Group Name]]=\"\",\"\",Table1[[#This Row],[School/Group Name]])","v":""},{"$f":"IF(Table1[[#This Row],[Pupil Name]]=\"\",\"\",Table1[[#This Row],[Pupil Name]])","v":""},{"$f":"IF(Table1[[#This Row],[Gender (M/F)]]=\"\",\"\",Table1[[#This Row],[Gender (M/F)]])","v":""},{"$f":"IF(Table1[[#This Row],[DisAdv (Y/N)]]=\"\",\"\",Table1[[#This Row],[DisAdv (Y/N)]])","v":""},{"$f":"IF(Table1[[#This Row],[SEND (E,K,N)]]=\"\",\"\",Table1[[#This Row],[SEND (E,K,N)]])","v":""},"",{"$f":"IF(LEN(Table3[[#This Row],[Pupil Name]])>0,1,0)","v":0}]
[{"$f":"IF(Table1[[#This Row],[School/Group Name]]=\"\",\"\",Table1[[#This Row],[School/Group Name]])","v":""},{"$f":"IF(Table1[[#This Row],[Pupil Name]]=\"\",\"\",Table1[[#This Row],[Pupil Name]])","v":""},{"$f":"IF(Table1[[#This Row],[Gender (M/F)]]=\"\",\"\",Table1[[#This Row],[Gender (M/F)]])","v":""},{"$f":"IF(Table1[[#This Row],[DisAdv (Y/N)]]=\"\",\"\",Table1[[#This Row],[DisAdv (Y/N)]])","v":""},{"$f":"IF(Table1[[#This Row],[SEND (E,K,N)]]=\"\",\"\",Table1[[#This Row],[SEND (E,K,N)]])","v":""},"",{"$f":"IF(LEN(Table3[[#This Row],[Pupil Name]])>0,1,0)","v":0}]
[{"$f":"IF(Table1[[#This Row],[School/Group Name]]=\"\",\"\",Table1[[#This Row],[School/Group Name]])","v":""},{"$f":"IF(Table1[[#This Row],[Pupil Name]]=\"\",\"\",Table1[[#This Row],[Pupil Name]])","v":""},{"$f":"IF(Table1[[#This Row],[Gender (M/F)]]=\"\",\"\",Table1[[#This Row],[Gender (M/F)]])","v":""},{"$f":"IF(Table1[[#This Row],[DisAdv (Y/N)]]=\"\",\"\",Table1[[#This Row],[DisAdv (Y/N)]])","v":""},{"$f":"IF(Table1[[#This Row],[SEND (E,K,N)]]=\"\",\"\",Table1[[#This Row],[SEND (E,K,N)]])","v":""},"",{"$f":"IF(LEN(Table3[[#This Row],[Pupil Name]])>0,1,0)","v":0}]
[{"$f":"IF(Table1[[#This Row],[School/Group Name]]=\"\",\"\",Table1[[#This Row],[School/Group Name]])","v":""},{"$f":"IF(Table1[[#This Row],[Pupil Name]]=\"\",\"\",Table1[[#This Row],[Pupil Name]])","v":""},{"$f":"IF(Table1[[#This Row],[Gender (M/F)]]=\"\",\"\",Table1[[#This Row],[Gender (M/F)]])","v":""},{"$f":"IF(Table1[[#This Row],[DisAdv (Y/N)]]=\"\",\"\",Table1[[#This Row],[DisAdv (Y/N)]])","v":""},{"$f":"IF(Table1[[#This Row],[SEND (E,K,N)]]=\"\",\"\",Table1[[#This Row],[SEND (E,K,N)]])","v":""},"",{"$f":"IF(LEN(Table3[[#This Row],[Pupil Name]])>0,1,0)","v":0}]
[{"$f":"IF(Table1[[#This Row],[School/Group Name]]=\"\",\"\",Table1[[#This Row],[School/Group Name]])","v":""},{"$f":"IF(Table1[[#This Row],[Pupil Name]]=\"\",\"\",Table1[[#This Row],[Pupil Name]])","v":""},{"$f":"IF(Table1[[#This Row],[Gender (M/F)]]=\"\",\"\",Table1[[#This Row],[Gender (M/F)]])","v":""},{"$f":"IF(Table1[[#This Row],[DisAdv (Y/N)]]=\"\",\"\",Table1[[#This Row],[DisAdv (Y/N)]])","v":""},{"$f":"IF(Table1[[#This Row],[SEND (E,K,N)]]=\"\",\"\",Table1[[#This Row],[SEND (E,K,N)]])","v":""},"",{"$f":"IF(LEN(Table3[[#This Row],[Pupil Name]])>0,1,0)","v":0}]
[{"$f":"IF(Table1[[#This Row],[School/Group Name]]=\"\",\"\",Table1[[#This Row],[School/Group Name]])","v":""},{"$f":"IF(Table1[[#This Row],[Pupil Name]]=\"\",\"\",Table1[[#This Row],[Pupil Name]])","v":""},{"$f":"IF(Table1[[#This Row],[Gender (M/F)]]=\"\",\"\",Table1[[#This Row],[Gender (M/F)]])","v":""},{"$f":"IF(Table1[[#This Row],[DisAdv (Y/N)]]=\"\",\"\",Table1[[#This Row],[DisAdv (Y/N)]])","v":""},{"$f":"IF(Table1[[#This Row],[SEND (E,K,N)]]=\"\",\"\",Table1[[#This Row],[SEND (E,K,N)]])","v":""},"",{"$f":"IF(LEN(Table3[[#This Row],[Pupil Name]])>0,1,0)","v":0}]
[{"$f":"IF(Table1[[#This Row],[School/Group Name]]=\"\",\"\",Table1[[#This Row],[School/Group Name]])","v":""},{"$f":"IF(Table1[[#This Row],[Pupil Name]]=\"\",\"\",Table1[[#This Row],[Pupil Name]])","v":""},{"$f":"IF(Table1[[#This Row],[Gender (M/F)]]=\"\",\"\",Table1[[#This Row],[Gender (M/F)]])","v":""},{"$f":"IF(Table1[[#This Row],[DisAdv (Y/N)]]=\"\",\"\",Table1[[#This Row],[DisAdv (Y/N)]])","v":""},{"$f":"IF(Table1[[#This Row],[SEND (E,K,N)]]=\"\",\"\",Table1[[#This Row],[SEND (E,K,N)]])","v":""},"",{"$f":"IF(LEN(Table3[[#This Row],[Pupil Name]])>0,1,0)","v":0}]
[{"$f":"IF(Table1[[#This Row],[School/Group Name]]=\"\",\"\",Table1[[#This Row],[School/Group Name]])","v":""},{"$f":"IF(Table1[[#This Row],[Pupil Name]]=\"\",\"\",Table1[[#This Row],[Pupil Name]])","v":""},{"$f":"IF(Table1[[#This Row],[Gender (M/F)]]=\"\",\"\",Table1[[#This Row],[Gender (M/F)]])","v":""},{"$f":"IF(Table1[[#This Row],[DisAdv (Y/N)]]=\"\",\"\",Table1[[#This Row],[DisAdv (Y/N)]])","v":""},{"$f":"IF(Table1[[#This Row],[SEND (E,K,N)]]=\"\",\"\",Table1[[#This Row],[SEND (E,K,N)]])","v":""},"",{"$f":"IF(LEN(Table3[[#This Row],[Pupil Name]])>0,1,0)","v":0}]
[{"$f":"IF(Table1[[#This Row],[School/Group Name]]=\"\",\"\",Table1[[#This Row],[School/Group Name]])","v":""},{"$f":"IF(Table1[[#This Row],[Pupil Name]]=\"\",\"\",Table1[[#This Row],[Pupil Name]])","v":""},{"$f":"IF(Table1[[#This Row],[Gender (M/F)]]=\"\",\"\",Table1[[#This Row],[Gender (M/F)]])","v":""},{"$f":"IF(Table1[[#This Row],[DisAdv (Y/N)]]=\"\",\"\",Table1[[#This Row],[DisAdv (Y/N)]])","v":""},{"$f":"IF(Table1[[#This Row],[SEND (E,K,N)]]=\"\",\"\",Table1[[#This Row],[SEND (E,K,N)]])","v":""},"",{"$f":"IF(LEN(Table3[[#This Row],[Pupil Name]])>0,1,0)","v":0}]
[{"$f":"IF(Table1[[#This Row],[School/Group Name]]=\"\",\"\",Table1[[#This Row],[School/Group Name]])","v":""},{"$f":"IF(Table1[[#This Row],[Pupil Name]]=\"\",\"\",Table1[[#This Row],[Pupil Name]])","v":""},{"$f":"IF(Table1[[#This Row],[Gender (M/F)]]=\"\",\"\",Table1[[#This Row],[Gender (M/F)]])","v":""},{"$f":"IF(Table1[[#This Row],[DisAdv (Y/N)]]=\"\",\"\",Table1[[#This Row],[DisAdv (Y/N)]])","v":""},{"$f":"IF(Table1[[#This Row],[SEND (E,K,N)]]=\"\",\"\",Table1[[#This Row],[SEND (E,K,N)]])","v":""},"",{"$f":"IF(LEN(Table3[[#This Row],[Pupil Name]])>0,1,0)","v":0}]
[{"$f":"IF(Table1[[#This Row],[School/Group Name]]=\"\",\"\",Table1[[#This Row],[School/Group Name]])","v":""},{"$f":"IF(Table1[[#This Row],[Pupil Name]]=\"\",\"\",Table1[[#This Row],[Pupil Name]])","v":""},{"$f":"IF(Table1[[#This Row],[Gender (M/F)]]=\"\",\"\",Table1[[#This Row],[Gender (M/F)]])","v":""},{"$f":"IF(Table1[[#This Row],[DisAdv (Y/N)]]=\"\",\"\",Table1[[#This Row],[DisAdv (Y/N)]])","v":""},{"$f":"IF(Table1[[#This Row],[SEND (E,K,N)]]=\"\",\"\",Table1[[#This Row],[SEND (E,K,N)]])","v":""},"",{"$f":"IF(LEN(Table3[[#This Row],[Pupil Name]])>0,1,0)","v":0}]
[{"$f":"IF(Table1[[#This Row],[School/Group Name]]=\"\",\"\",Table1[[#This Row],[School/Group Name]])","v":""},{"$f":"IF(Table1[[#This Row],[Pupil Name]]=\"\",\"\",Table1[[#This Row],[Pupil Name]])","v":""},{"$f":"IF(Table1[[#This Row],[Gender (M/F)]]=\"\",\"\",Table1[[#This Row],[Gender (M/F)]])","v":""},{"$f":"IF(Table1[[#This Row],[DisAdv (Y/N)]]=\"\",\"\",Table1[[#This Row],[DisAdv (Y/N)]])","v":""},{"$f":"IF(Table1[[#This Row],[SEND (E,K,N)]]=\"\",\"\",Table1[[#This Row],[SEND (E,K,N)]])","v":""},"",{"$f":"IF(LEN(Table3[[#This Row],[Pupil Name]])>0,1,0)","v":0}]
[{"$f":"IF(Table1[[#This Row],[School/Group Name]]=\"\",\"\",Table1[[#This Row],[School/Group Name]])","v":""},{"$f":"IF(Table1[[#This Row],[Pupil Name]]=\"\",\"\",Table1[[#This Row],[Pupil Name]])","v":""},{"$f":"IF(Table1[[#This Row],[Gender (M/F)]]=\"\",\"\",Table1[[#This Row],[Gender (M/F)]])","v":""},{"$f":"IF(Table1[[#This Row],[DisAdv (Y/N)]]=\"\",\"\",Table1[[#This Row],[DisAdv (Y/N)]])","v":""},{"$f":"IF(Table1[[#This Row],[SEND (E,K,N)]]=\"\",\"\",Table1[[#This Row],[SEND (E,K,N)]])","v":""},"",{"$f":"IF(LEN(Table3[[#This Row],[Pupil Name]])>0,1,0)","v":0}]
[{"$f":"IF(Table1[[#This Row],[School/Group Name]]=\"\",\"\",Table1[[#This Row],[School/Group Name]])","v":""},{"$f":"IF(Table1[[#This Row],[Pupil Name]]=\"\",\"\",Table1[[#This Row],[Pupil Name]])","v":""},{"$f":"IF(Table1[[#This Row],[Gender (M/F)]]=\"\",\"\",Table1[[#This Row],[Gender (M/F)]])","v":""},{"$f":"IF(Table1[[#This Row],[DisAdv (Y/N)]]=\"\",\"\",Table1[[#This Row],[DisAdv (Y/N)]])","v":""},{"$f":"IF(Table1[[#This Row],[SEND (E,K,N)]]=\"\",\"\",Table1[[#This Row],[SEND (E,K,N)]])","v":""},"",{"$f":"IF(LEN(Table3[[#This Row],[Pupil Name]])>0,1,0)","v":0}]
[{"$f":"IF(Table1[[#This Row],[School/Group Name]]=\"\",\"\",Table1[[#This Row],[School/Group Name]])","v":""},{"$f":"IF(Table1[[#This Row],[Pupil Name]]=\"\",\"\",Table1[[#This Row],[Pupil Name]])","v":""},{"$f":"IF(Table1[[#This Row],[Gender (M/F)]]=\"\",\"\",Table1[[#This Row],[Gender (M/F)]])","v":""},{"$f":"IF(Table1[[#This Row],[DisAdv (Y/N)]]=\"\",\"\",Table1[[#This Row],[DisAdv (Y/N)]])","v":""},{"$f":"IF(Table1[[#This Row],[SEND (E,K,N)]]=\"\",\"\",Table1[[#This Row],[SEND (E,K,N)]])","v":""},"",{"$f":"IF(LEN(Table3[[#This Row],[Pupil Name]])>0,1,0)","v":0}]
[{"$f":"IF(Table1[[#This Row],[School/Group Name]]=\"\",\"\",Table1[[#This Row],[School/Group Name]])","v":""},{"$f":"IF(Table1[[#This Row],[Pupil Name]]=\"\",\"\",Table1[[#This Row],[Pupil Name]])","v":""},{"$f":"IF(Table1[[#This Row],[Gender (M/F)]]=\"\",\"\",Table1[[#This Row],[Gender (M/F)]])","v":""},{"$f":"IF(Table1[[#This Row],[DisAdv (Y/N)]]=\"\",\"\",Table1[[#This Row],[DisAdv (Y/N)]])","v":""},{"$f":"IF(Table1[[#This Row],[SEND (E,K,N)]]=\"\",\"\",Table1[[#This Row],[SEND (E,K,N)]])","v":""},"",{"$f":"IF(LEN(Table3[[#This Row],[Pupil Name]])>0,1,0)","v":0}]
[{"$f":"IF(Table1[[#This Row],[School/Group Name]]=\"\",\"\",Table1[[#This Row],[School/Group Name]])","v":""},{"$f":"IF(Table1[[#This Row],[Pupil Name]]=\"\",\"\",Table1[[#This Row],[Pupil Name]])","v":""},{"$f":"IF(Table1[[#This Row],[Gender (M/F)]]=\"\",\"\",Table1[[#This Row],[Gender (M/F)]])","v":""},{"$f":"IF(Table1[[#This Row],[DisAdv (Y/N)]]=\"\",\"\",Table1[[#This Row],[DisAdv (Y/N)]])","v":""},{"$f":"IF(Table1[[#This Row],[SEND (E,K,N)]]=\"\",\"\",Table1[[#This Row],[SEND (E,K,N)]])","v":""},"",{"$f":"IF(LEN(Table3[[#This Row],[Pupil Name]])>0,1,0)","v":0}]
[{"$f":"IF(Table1[[#This Row],[School/Group Name]]=\"\",\"\",Table1[[#This Row],[School/Group Name]])","v":""},{"$f":"IF(Table1[[#This Row],[Pupil Name]]=\"\",\"\",Table1[[#This Row],[Pupil Name]])","v":""},{"$f":"IF(Table1[[#This Row],[Gender (M/F)]]=\"\",\"\",Table1[[#This Row],[Gender (M/F)]])","v":""},{"$f":"IF(Table1[[#This Row],[DisAdv (Y/N)]]=\"\",\"\",Table1[[#This Row],[DisAdv (Y/N)]])","v":""},{"$f":"IF(Table1[[#This Row],[SEND (E,K,N)]]=\"\",\"\",Table1[[#This Row],[SEND (E,K,N)]])","v":""},"",{"$f":"IF(LEN(Table3[[#This Row],[Pupil Name]])>0,1,0)","v":0}]
[{"$f":"IF(Table1[[#This Row],[School/Group Name]]=\"\",\"\",Table1[[#This Row],[School/Group Name]])","v":""},{"$f":"IF(Table1[[#This Row],[Pupil Name]]=\"\",\"\",Table1[[#This Row],[Pupil Name]])","v":""},{"$f":"IF(Table1[[#This Row],[Gender (M/F)]]=\"\",\"\",Table1[[#This Row],[Gender (M/F)]])","v":""},{"$f":"IF(Table1[[#This Row],[DisAdv (Y/N)]]=\"\",\"\",Table1[[#This Row],[DisAdv (Y/N)]])","v":""},{"$f":"IF(Table1[[#This Row],[SEND (E,K,N)]]=\"\",\"\",Table1[[#This Row],[SEND (E,K,N)]])","v":""},"",{"$f":"IF(LEN(Table3[[#This Row],[Pupil Name]])>0,1,0)","v":0}]
[{"$f":"IF(Table1[[#This Row],[School/Group Name]]=\"\",\"\",Table1[[#This Row],[School/Group Name]])","v":""},{"$f":"IF(Table1[[#This Row],[Pupil Name]]=\"\",\"\",Table1[[#This Row],[Pupil Name]])","v":""},{"$f":"IF(Table1[[#This Row],[Gender (M/F)]]=\"\",\"\",Table1[[#This Row],[Gender (M/F)]])","v":""},{"$f":"IF(Table1[[#This Row],[DisAdv (Y/N)]]=\"\",\"\",Table1[[#This Row],[DisAdv (Y/N)]])","v":""},{"$f":"IF(Table1[[#This Row],[SEND (E,K,N)]]=\"\",\"\",Table1[[#This Row],[SEND (E,K,N)]])","v":""},"",{"$f":"IF(LEN(Table3[[#This Row],[Pupil Name]])>0,1,0)","v":0}]
[{"$f":"IF(Table1[[#This Row],[School/Group Name]]=\"\",\"\",Table1[[#This Row],[School/Group Name]])","v":""},{"$f":"IF(Table1[[#This Row],[Pupil Name]]=\"\",\"\",Table1[[#This Row],[Pupil Name]])","v":""},{"$f":"IF(Table1[[#This Row],[Gender (M/F)]]=\"\",\"\",Table1[[#This Row],[Gender (M/F)]])","v":""},{"$f":"IF(Table1[[#This Row],[DisAdv (Y/N)]]=\"\",\"\",Table1[[#This Row],[DisAdv (Y/N)]])","v":""},{"$f":"IF(Table1[[#This Row],[SEND (E,K,N)]]=\"\",\"\",Table1[[#This Row],[SEND (E,K,N)]])","v":""},"",{"$f":"IF(LEN(Table3[[#This Row],[Pupil Name]])>0,1,0)","v":0}]
[{"$f":"IF(Table1[[#This Row],[School/Group Name]]=\"\",\"\",Table1[[#This Row],[School/Group Name]])","v":""},{"$f":"IF(Table1[[#This Row],[Pupil Name]]=\"\",\"\",Table1[[#This Row],[Pupil Name]])","v":""},{"$f":"IF(Table1[[#This Row],[Gender (M/F)]]=\"\",\"\",Table1[[#This Row],[Gender (M/F)]])","v":""},{"$f":"IF(Table1[[#This Row],[DisAdv (Y/N)]]=\"\",\"\",Table1[[#This Row],[DisAdv (Y/N)]])","v":""},{"$f":"IF(Table1[[#This Row],[SEND (E,K,N)]]=\"\",\"\",Table1[[#This Row],[SEND (E,K,N)]])","v":""},"",{"$f":"IF(LEN(Table3[[#This Row],[Pupil Name]])>0,1,0)","v":0}]
[{"$f":"IF(Table1[[#This Row],[School/Group Name]]=\"\",\"\",Table1[[#This Row],[School/Group Name]])","v":""},{"$f":"IF(Table1[[#This Row],[Pupil Name]]=\"\",\"\",Table1[[#This Row],[Pupil Name]])","v":""},{"$f":"IF(Table1[[#This Row],[Gender (M/F)]]=\"\",\"\",Table1[[#This Row],[Gender (M/F)]])","v":""},{"$f":"IF(Table1[[#This Row],[DisAdv (Y/N)]]=\"\",\"\",Table1[[#This Row],[DisAdv (Y/N)]])","v":""},{"$f":"IF(Table1[[#This Row],[SEND (E,K,N)]]=\"\",\"\",Table1[[#This Row],[SEND (E,K,N)]])","v":""},{"$f":"IF(H263=\"\",\"\",(SUM(H263:AH263)))","v":""},{"$f":"IF(LEN(Table3[[#This Row],[Pupil Name]])>0,1,0)","v":0}]
[{"$f":"IF(Table1[[#This Row],[School/Group Name]]=\"\",\"\",Table1[[#This Row],[School/Group Name]])","v":""},{"$f":"IF(Table1[[#This Row],[Pupil Name]]=\"\",\"\",Table1[[#This Row],[Pupil Name]])","v":""},{"$f":"IF(Table1[[#This Row],[Gender (M/F)]]=\"\",\"\",Table1[[#This Row],[Gender (M/F)]])","v":""},{"$f":"IF(Table1[[#This Row],[DisAdv (Y/N)]]=\"\",\"\",Table1[[#This Row],[DisAdv (Y/N)]])","v":""},{"$f":"IF(Table1[[#This Row],[SEND (E,K,N)]]=\"\",\"\",Table1[[#This Row],[SEND (E,K,N)]])","v":""},"",{"$f":"IF(LEN(Table3[[#This Row],[Pupil Name]])>0,1,0)","v":0}]
[{"$f":"IF(Table1[[#This Row],[School/Group Name]]=\"\",\"\",Table1[[#This Row],[School/Group Name]])","v":""},{"$f":"IF(Table1[[#This Row],[Pupil Name]]=\"\",\"\",Table1[[#This Row],[Pupil Name]])","v":""},{"$f":"IF(Table1[[#This Row],[Gender (M/F)]]=\"\",\"\",Table1[[#This Row],[Gender (M/F)]])","v":""},{"$f":"IF(Table1[[#This Row],[DisAdv (Y/N)]]=\"\",\"\",Table1[[#This Row],[DisAdv (Y/N)]])","v":""},{"$f":"IF(Table1[[#This Row],[SEND (E,K,N)]]=\"\",\"\",Table1[[#This Row],[SEND (E,K,N)]])","v":""},"",{"$f":"IF(LEN(Table3[[#This Row],[Pupil Name]])>0,1,0)","v":0}]
[{"$f":"IF(Table1[[#This Row],[School/Group Name]]=\"\",\"\",Table1[[#This Row],[School/Group Name]])","v":""},{"$f":"IF(Table1[[#This Row],[Pupil Name]]=\"\",\"\",Table1[[#This Row],[Pupil Name]])","v":""},{"$f":"IF(Table1[[#This Row],[Gender (M/F)]]=\"\",\"\",Table1[[#This Row],[Gender (M/F)]])","v":""},{"$f":"IF(Table1[[#This Row],[DisAdv (Y/N)]]=\"\",\"\",Table1[[#This Row],[DisAdv (Y/N)]])","v":""},{"$f":"IF(Table1[[#This Row],[SEND (E,K,N)]]=\"\",\"\",Table1[[#This Row],[SEND (E,K,N)]])","v":""},"",{"$f":"IF(LEN(Table3[[#This Row],[Pupil Name]])>0,1,0)","v":0}]
[{"$f":"IF(Table1[[#This Row],[School/Group Name]]=\"\",\"\",Table1[[#This Row],[School/Group Name]])","v":""},{"$f":"IF(Table1[[#This Row],[Pupil Name]]=\"\",\"\",Table1[[#This Row],[Pupil Name]])","v":""},{"$f":"IF(Table1[[#This Row],[Gender (M/F)]]=\"\",\"\",Table1[[#This Row],[Gender (M/F)]])","v":""},{"$f":"IF(Table1[[#This Row],[DisAdv (Y/N)]]=\"\",\"\",Table1[[#This Row],[DisAdv (Y/N)]])","v":""},{"$f":"IF(Table1[[#This Row],[SEND (E,K,N)]]=\"\",\"\",Table1[[#This Row],[SEND (E,K,N)]])","v":""},"",{"$f":"IF(LEN(Table3[[#This Row],[Pupil Name]])>0,1,0)","v":0}]
[{"$f":"IF(Table1[[#This Row],[School/Group Name]]=\"\",\"\",Table1[[#This Row],[School/Group Name]])","v":""},{"$f":"IF(Table1[[#This Row],[Pupil Name]]=\"\",\"\",Table1[[#This Row],[Pupil Name]])","v":""},{"$f":"IF(Table1[[#This Row],[Gender (M/F)]]=\"\",\"\",Table1[[#This Row],[Gender (M/F)]])","v":""},{"$f":"IF(Table1[[#This Row],[DisAdv (Y/N)]]=\"\",\"\",Table1[[#This Row],[DisAdv (Y/N)]])","v":""},{"$f":"IF(Table1[[#This Row],[SEND (E,K,N)]]=\"\",\"\",Table1[[#This Row],[SEND (E,K,N)]])","v":""},"",{"$f":"IF(LEN(Table3[[#This Row],[Pupil Name]])>0,1,0)","v":0}]
[{"$f":"IF(Table1[[#This Row],[School/Group Name]]=\"\",\"\",Table1[[#This Row],[School/Group Name]])","v":""},{"$f":"IF(Table1[[#This Row],[Pupil Name]]=\"\",\"\",Table1[[#This Row],[Pupil Name]])","v":""},{"$f":"IF(Table1[[#This Row],[Gender (M/F)]]=\"\",\"\",Table1[[#This Row],[Gender (M/F)]])","v":""},{"$f":"IF(Table1[[#This Row],[DisAdv (Y/N)]]=\"\",\"\",Table1[[#This Row],[DisAdv (Y/N)]])","v":""},{"$f":"IF(Table1[[#This Row],[SEND (E,K,N)]]=\"\",\"\",Table1[[#This Row],[SEND (E,K,N)]])","v":""},"",{"$f":"IF(LEN(Table3[[#This Row],[Pupil Name]])>0,1,0)","v":0}]
[{"$f":"IF(Table1[[#This Row],[School/Group Name]]=\"\",\"\",Table1[[#This Row],[School/Group Name]])","v":""},{"$f":"IF(Table1[[#This Row],[Pupil Name]]=\"\",\"\",Table1[[#This Row],[Pupil Name]])","v":""},{"$f":"IF(Table1[[#This Row],[Gender (M/F)]]=\"\",\"\",Table1[[#This Row],[Gender (M/F)]])","v":""},{"$f":"IF(Table1[[#This Row],[DisAdv (Y/N)]]=\"\",\"\",Table1[[#This Row],[DisAdv (Y/N)]])","v":""},{"$f":"IF(Table1[[#This Row],[SEND (E,K,N)]]=\"\",\"\",Table1[[#This Row],[SEND (E,K,N)]])","v":""},"",{"$f":"IF(LEN(Table3[[#This Row],[Pupil Name]])>0,1,0)","v":0}]
[{"$f":"IF(Table1[[#This Row],[School/Group Name]]=\"\",\"\",Table1[[#This Row],[School/Group Name]])","v":""},{"$f":"IF(Table1[[#This Row],[Pupil Name]]=\"\",\"\",Table1[[#This Row],[Pupil Name]])","v":""},{"$f":"IF(Table1[[#This Row],[Gender (M/F)]]=\"\",\"\",Table1[[#This Row],[Gender (M/F)]])","v":""},{"$f":"IF(Table1[[#This Row],[DisAdv (Y/N)]]=\"\",\"\",Table1[[#This Row],[DisAdv (Y/N)]])","v":""},{"$f":"IF(Table1[[#This Row],[SEND (E,K,N)]]=\"\",\"\",Table1[[#This Row],[SEND (E,K,N)]])","v":""},"",{"$f":"IF(LEN(Table3[[#This Row],[Pupil Name]])>0,1,0)","v":0}]
[{"$f":"IF(Table1[[#This Row],[School/Group Name]]=\"\",\"\",Table1[[#This Row],[School/Group Name]])","v":""},{"$f":"IF(Table1[[#This Row],[Pupil Name]]=\"\",\"\",Table1[[#This Row],[Pupil Name]])","v":""},{"$f":"IF(Table1[[#This Row],[Gender (M/F)]]=\"\",\"\",Table1[[#This Row],[Gender (M/F)]])","v":""},{"$f":"IF(Table1[[#This Row],[DisAdv (Y/N)]]=\"\",\"\",Table1[[#This Row],[DisAdv (Y/N)]])","v":""},{"$f":"IF(Table1[[#This Row],[SEND (E,K,N)]]=\"\",\"\",Table1[[#This Row],[SEND (E,K,N)]])","v":""},"",{"$f":"IF(LEN(Table3[[#This Row],[Pupil Name]])>0,1,0)","v":0}]
[{"$f":"IF(Table1[[#This Row],[School/Group Name]]=\"\",\"\",Table1[[#This Row],[School/Group Name]])","v":""},{"$f":"IF(Table1[[#This Row],[Pupil Name]]=\"\",\"\",Table1[[#This Row],[Pupil Name]])","v":""},{"$f":"IF(Table1[[#This Row],[Gender (M/F)]]=\"\",\"\",Table1[[#This Row],[Gender (M/F)]])","v":""},{"$f":"IF(Table1[[#This Row],[DisAdv (Y/N)]]=\"\",\"\",Table1[[#This Row],[DisAdv (Y/N)]])","v":""},{"$f":"IF(Table1[[#This Row],[SEND (E,K,N)]]=\"\",\"\",Table1[[#This Row],[SEND (E,K,N)]])","v":""},"",{"$f":"IF(LEN(Table3[[#This Row],[Pupil Name]])>0,1,0)","v":0}]
[{"$f":"IF(Table1[[#This Row],[School/Group Name]]=\"\",\"\",Table1[[#This Row],[School/Group Name]])","v":""},{"$f":"IF(Table1[[#This Row],[Pupil Name]]=\"\",\"\",Table1[[#This Row],[Pupil Name]])","v":""},{"$f":"IF(Table1[[#This Row],[Gender (M/F)]]=\"\",\"\",Table1[[#This Row],[Gender (M/F)]])","v":""},{"$f":"IF(Table1[[#This Row],[DisAdv (Y/N)]]=\"\",\"\",Table1[[#This Row],[DisAdv (Y/N)]])","v":""},{"$f":"IF(Table1[[#This Row],[SEND (E,K,N)]]=\"\",\"\",Table1[[#This Row],[SEND (E,K,N)]])","v":""},"",{"$f":"IF(LEN(Table3[[#This Row],[Pupil Name]])>0,1,0)","v":0}]
[{"$f":"IF(Table1[[#This Row],[School/Group Name]]=\"\",\"\",Table1[[#This Row],[School/Group Name]])","v":""},{"$f":"IF(Table1[[#This Row],[Pupil Name]]=\"\",\"\",Table1[[#This Row],[Pupil Name]])","v":""},{"$f":"IF(Table1[[#This Row],[Gender (M/F)]]=\"\",\"\",Table1[[#This Row],[Gender (M/F)]])","v":""},{"$f":"IF(Table1[[#This Row],[DisAdv (Y/N)]]=\"\",\"\",Table1[[#This Row],[DisAdv (Y/N)]])","v":""},{"$f":"IF(Table1[[#This Row],[SEND (E,K,N)]]=\"\",\"\",Table1[[#This Row],[SEND (E,K,N)]])","v":""},"",{"$f":"IF(LEN(Table3[[#This Row],[Pupil Name]])>0,1,0)","v":0}]
[{"$f":"IF(Table1[[#This Row],[School/Group Name]]=\"\",\"\",Table1[[#This Row],[School/Group Name]])","v":""},{"$f":"IF(Table1[[#This Row],[Pupil Name]]=\"\",\"\",Table1[[#This Row],[Pupil Name]])","v":""},{"$f":"IF(Table1[[#This Row],[Gender (M/F)]]=\"\",\"\",Table1[[#This Row],[Gender (M/F)]])","v":""},{"$f":"IF(Table1[[#This Row],[DisAdv (Y/N)]]=\"\",\"\",Table1[[#This Row],[DisAdv (Y/N)]])","v":""},{"$f":"IF(Table1[[#This Row],[SEND (E,K,N)]]=\"\",\"\",Table1[[#This Row],[SEND (E,K,N)]])","v":""},"",{"$f":"IF(LEN(Table3[[#This Row],[Pupil Name]])>0,1,0)","v":0}]
[{"$f":"IF(Table1[[#This Row],[School/Group Name]]=\"\",\"\",Table1[[#This Row],[School/Group Name]])","v":""},{"$f":"IF(Table1[[#This Row],[Pupil Name]]=\"\",\"\",Table1[[#This Row],[Pupil Name]])","v":""},{"$f":"IF(Table1[[#This Row],[Gender (M/F)]]=\"\",\"\",Table1[[#This Row],[Gender (M/F)]])","v":""},{"$f":"IF(Table1[[#This Row],[DisAdv (Y/N)]]=\"\",\"\",Table1[[#This Row],[DisAdv (Y/N)]])","v":""},{"$f":"IF(Table1[[#This Row],[SEND (E,K,N)]]=\"\",\"\",Table1[[#This Row],[SEND (E,K,N)]])","v":""},"",{"$f":"IF(LEN(Table3[[#This Row],[Pupil Name]])>0,1,0)","v":0}]
[{"$f":"IF(Table1[[#This Row],[School/Group Name]]=\"\",\"\",Table1[[#This Row],[School/Group Name]])","v":""},{"$f":"IF(Table1[[#This Row],[Pupil Name]]=\"\",\"\",Table1[[#This Row],[Pupil Name]])","v":""},{"$f":"IF(Table1[[#This Row],[Gender (M/F)]]=\"\",\"\",Table1[[#This Row],[Gender (M/F)]])","v":""},{"$f":"IF(Table1[[#This Row],[DisAdv (Y/N)]]=\"\",\"\",Table1[[#This Row],[DisAdv (Y/N)]])","v":""},{"$f":"IF(Table1[[#This Row],[SEND (E,K,N)]]=\"\",\"\",Table1[[#This Row],[SEND (E,K,N)]])","v":""},"",{"$f":"IF(LEN(Table3[[#This Row],[Pupil Name]])>0,1,0)","v":0}]
[{"$f":"IF(Table1[[#This Row],[School/Group Name]]=\"\",\"\",Table1[[#This Row],[School/Group Name]])","v":""},{"$f":"IF(Table1[[#This Row],[Pupil Name]]=\"\",\"\",Table1[[#This Row],[Pupil Name]])","v":""},{"$f":"IF(Table1[[#This Row],[Gender (M/F)]]=\"\",\"\",Table1[[#This Row],[Gender (M/F)]])","v":""},{"$f":"IF(Table1[[#This Row],[DisAdv (Y/N)]]=\"\",\"\",Table1[[#This Row],[DisAdv (Y/N)]])","v":""},{"$f":"IF(Table1[[#This Row],[SEND (E,K,N)]]=\"\",\"\",Table1[[#This Row],[SEND (E,K,N)]])","v":""},"",{"$f":"IF(LEN(Table3[[#This Row],[Pupil Name]])>0,1,0)","v":0}]
[{"$f":"IF(Table1[[#This Row],[School/Group Name]]=\"\",\"\",Table1[[#This Row],[School/Group Name]])","v":""},{"$f":"IF(Table1[[#This Row],[Pupil Name]]=\"\",\"\",Table1[[#This Row],[Pupil Name]])","v":""},{"$f":"IF(Table1[[#This Row],[Gender (M/F)]]=\"\",\"\",Table1[[#This Row],[Gender (M/F)]])","v":""},{"$f":"IF(Table1[[#This Row],[DisAdv (Y/N)]]=\"\",\"\",Table1[[#This Row],[DisAdv (Y/N)]])","v":""},{"$f":"IF(Table1[[#This Row],[SEND (E,K,N)]]=\"\",\"\",Table1[[#This Row],[SEND (E,K,N)]])","v":""},"",{"$f":"IF(LEN(Table3[[#This Row],[Pupil Name]])>0,1,0)","v":0}]
[{"$f":"IF(Table1[[#This Row],[School/Group Name]]=\"\",\"\",Table1[[#This Row],[School/Group Name]])","v":""},{"$f":"IF(Table1[[#This Row],[Pupil Name]]=\"\",\"\",Table1[[#This Row],[Pupil Name]])","v":""},{"$f":"IF(Table1[[#This Row],[Gender (M/F)]]=\"\",\"\",Table1[[#This Row],[Gender (M/F)]])","v":""},{"$f":"IF(Table1[[#This Row],[DisAdv (Y/N)]]=\"\",\"\",Table1[[#This Row],[DisAdv (Y/N)]])","v":""},{"$f":"IF(Table1[[#This Row],[SEND (E,K,N)]]=\"\",\"\",Table1[[#This Row],[SEND (E,K,N)]])","v":""},"",{"$f":"IF(LEN(Table3[[#This Row],[Pupil Name]])>0,1,0)","v":0}]
[{"$f":"IF(Table1[[#This Row],[School/Group Name]]=\"\",\"\",Table1[[#This Row],[School/Group Name]])","v":""},{"$f":"IF(Table1[[#This Row],[Pupil Name]]=\"\",\"\",Table1[[#This Row],[Pupil Name]])","v":""},{"$f":"IF(Table1[[#This Row],[Gender (M/F)]]=\"\",\"\",Table1[[#This Row],[Gender (M/F)]])","v":""},{"$f":"IF(Table1[[#This Row],[DisAdv (Y/N)]]=\"\",\"\",Table1[[#This Row],[DisAdv (Y/N)]])","v":""},{"$f":"IF(Table1[[#This Row],[SEND (E,K,N)]]=\"\",\"\",Table1[[#This Row],[SEND (E,K,N)]])","v":""},"",{"$f":"IF(LEN(Table3[[#This Row],[Pupil Name]])>0,1,0)","v":0}]
[{"$f":"IF(Table1[[#This Row],[School/Group Name]]=\"\",\"\",Table1[[#This Row],[School/Group Name]])","v":""},{"$f":"IF(Table1[[#This Row],[Pupil Name]]=\"\",\"\",Table1[[#This Row],[Pupil Name]])","v":""},{"$f":"IF(Table1[[#This Row],[Gender (M/F)]]=\"\",\"\",Table1[[#This Row],[Gender (M/F)]])","v":""},{"$f":"IF(Table1[[#This Row],[DisAdv (Y/N)]]=\"\",\"\",Table1[[#This Row],[DisAdv (Y/N)]])","v":""},{"$f":"IF(Table1[[#This Row],[SEND (E,K,N)]]=\"\",\"\",Table1[[#This Row],[SEND (E,K,N)]])","v":""},"",{"$f":"IF(LEN(Table3[[#This Row],[Pupil Name]])>0,1,0)","v":0}]
[{"$f":"IF(Table1[[#This Row],[School/Group Name]]=\"\",\"\",Table1[[#This Row],[School/Group Name]])","v":""},{"$f":"IF(Table1[[#This Row],[Pupil Name]]=\"\",\"\",Table1[[#This Row],[Pupil Name]])","v":""},{"$f":"IF(Table1[[#This Row],[Gender (M/F)]]=\"\",\"\",Table1[[#This Row],[Gender (M/F)]])","v":""},{"$f":"IF(Table1[[#This Row],[DisAdv (Y/N)]]=\"\",\"\",Table1[[#This Row],[DisAdv (Y/N)]])","v":""},{"$f":"IF(Table1[[#This Row],[SEND (E,K,N)]]=\"\",\"\",Table1[[#This Row],[SEND (E,K,N)]])","v":""},"",{"$f":"IF(LEN(Table3[[#This Row],[Pupil Name]])>0,1,0)","v":0}]
[{"$f":"IF(Table1[[#This Row],[School/Group Name]]=\"\",\"\",Table1[[#This Row],[School/Group Name]])","v":""},{"$f":"IF(Table1[[#This Row],[Pupil Name]]=\"\",\"\",Table1[[#This Row],[Pupil Name]])","v":""},{"$f":"IF(Table1[[#This Row],[Gender (M/F)]]=\"\",\"\",Table1[[#This Row],[Gender (M/F)]])","v":""},{"$f":"IF(Table1[[#This Row],[DisAdv (Y/N)]]=\"\",\"\",Table1[[#This Row],[DisAdv (Y/N)]])","v":""},{"$f":"IF(Table1[[#This Row],[SEND (E,K,N)]]=\"\",\"\",Table1[[#This Row],[SEND (E,K,N)]])","v":""},"",{"$f":"IF(LEN(Table3[[#This Row],[Pupil Name]])>0,1,0)","v":0}]
[{"$f":"IF(Table1[[#This Row],[School/Group Name]]=\"\",\"\",Table1[[#This Row],[School/Group Name]])","v":""},{"$f":"IF(Table1[[#This Row],[Pupil Name]]=\"\",\"\",Table1[[#This Row],[Pupil Name]])","v":""},{"$f":"IF(Table1[[#This Row],[Gender (M/F)]]=\"\",\"\",Table1[[#This Row],[Gender (M/F)]])","v":""},{"$f":"IF(Table1[[#This Row],[DisAdv (Y/N)]]=\"\",\"\",Table1[[#This Row],[DisAdv (Y/N)]])","v":""},{"$f":"IF(Table1[[#This Row],[SEND (E,K,N)]]=\"\",\"\",Table1[[#This Row],[SEND (E,K,N)]])","v":""},"",{"$f":"IF(LEN(Table3[[#This Row],[Pupil Name]])>0,1,0)","v":0}]
[{"$f":"IF(Table1[[#This Row],[School/Group Name]]=\"\",\"\",Table1[[#This Row],[School/Group Name]])","v":""},{"$f":"IF(Table1[[#This Row],[Pupil Name]]=\"\",\"\",Table1[[#This Row],[Pupil Name]])","v":""},{"$f":"IF(Table1[[#This Row],[Gender (M/F)]]=\"\",\"\",Table1[[#This Row],[Gender (M/F)]])","v":""},{"$f":"IF(Table1[[#This Row],[DisAdv (Y/N)]]=\"\",\"\",Table1[[#This Row],[DisAdv (Y/N)]])","v":""},{"$f":"IF(Table1[[#This Row],[SEND (E,K,N)]]=\"\",\"\",Table1[[#This Row],[SEND (E,K,N)]])","v":""},"",{"$f":"IF(LEN(Table3[[#This Row],[Pupil Name]])>0,1,0)","v":0}]
[{"$f":"IF(Table1[[#This Row],[School/Group Name]]=\"\",\"\",Table1[[#This Row],[School/Group Name]])","v":""},{"$f":"IF(Table1[[#This Row],[Pupil Name]]=\"\",\"\",Table1[[#This Row],[Pupil Name]])","v":""},{"$f":"IF(Table1[[#This Row],[Gender (M/F)]]=\"\",\"\",Table1[[#This Row],[Gender (M/F)]])","v":""},{"$f":"IF(Table1[[#This Row],[DisAdv (Y/N)]]=\"\",\"\",Table1[[#This Row],[DisAdv (Y/N)]])","v":""},{"$f":"IF(Table1[[#This Row],[SEND (E,K,N)]]=\"\",\"\",Table1[[#This Row],[SEND (E,K,N)]])","v":""},"",{"$f":"IF(LEN(Table3[[#This Row],[Pupil Name]])>0,1,0)","v":0}]
[{"$f":"IF(Table1[[#This Row],[School/Group Name]]=\"\",\"\",Table1[[#This Row],[School/Group Name]])","v":""},{"$f":"IF(Table1[[#This Row],[Pupil Name]]=\"\",\"\",Table1[[#This Row],[Pupil Name]])","v":""},{"$f":"IF(Table1[[#This Row],[Gender (M/F)]]=\"\",\"\",Table1[[#This Row],[Gender (M/F)]])","v":""},{"$f":"IF(Table1[[#This Row],[DisAdv (Y/N)]]=\"\",\"\",Table1[[#This Row],[DisAdv (Y/N)]])","v":""},{"$f":"IF(Table1[[#This Row],[SEND (E,K,N)]]=\"\",\"\",Table1[[#This Row],[SEND (E,K,N)]])","v":""},"",{"$f":"IF(LEN(Table3[[#This Row],[Pupil Name]])>0,1,0)","v":0}]
[{"$f":"IF(Table1[[#This Row],[School/Group Name]]=\"\",\"\",Table1[[#This Row],[School/Group Name]])","v":""},{"$f":"IF(Table1[[#This Row],[Pupil Name]]=\"\",\"\",Table1[[#This Row],[Pupil Name]])","v":""},{"$f":"IF(Table1[[#This Row],[Gender (M/F)]]=\"\",\"\",Table1[[#This Row],[Gender (M/F)]])","v":""},{"$f":"IF(Table1[[#This Row],[DisAdv (Y/N)]]=\"\",\"\",Table1[[#This Row],[DisAdv (Y/N)]])","v":""},{"$f":"IF(Table1[[#This Row],[SEND (E,K,N)]]=\"\",\"\",Table1[[#This Row],[SEND (E,K,N)]])","v":""},"",{"$f":"IF(LEN(Table3[[#This Row],[Pupil Name]])>0,1,0)","v":0}]
[{"$f":"IF(Table1[[#This Row],[School/Group Name]]=\"\",\"\",Table1[[#This Row],[School/Group Name]])","v":""},{"$f":"IF(Table1[[#This Row],[Pupil Name]]=\"\",\"\",Table1[[#This Row],[Pupil Name]])","v":""},{"$f":"IF(Table1[[#This Row],[Gender (M/F)]]=\"\",\"\",Table1[[#This Row],[Gender (M/F)]])","v":""},{"$f":"IF(Table1[[#This Row],[DisAdv (Y/N)]]=\"\",\"\",Table1[[#This Row],[DisAdv (Y/N)]])","v":""},{"$f":"IF(Table1[[#This Row],[SEND (E,K,N)]]=\"\",\"\",Table1[[#This Row],[SEND (E,K,N)]])","v":""},"",{"$f":"IF(LEN(Table3[[#This Row],[Pupil Name]])>0,1,0)","v":0}]
[{"$f":"IF(Table1[[#This Row],[School/Group Name]]=\"\",\"\",Table1[[#This Row],[School/Group Name]])","v":""},{"$f":"IF(Table1[[#This Row],[Pupil Name]]=\"\",\"\",Table1[[#This Row],[Pupil Name]])","v":""},{"$f":"IF(Table1[[#This Row],[Gender (M/F)]]=\"\",\"\",Table1[[#This Row],[Gender (M/F)]])","v":""},{"$f":"IF(Table1[[#This Row],[DisAdv (Y/N)]]=\"\",\"\",Table1[[#This Row],[DisAdv (Y/N)]])","v":""},{"$f":"IF(Table1[[#This Row],[SEND (E,K,N)]]=\"\",\"\",Table1[[#This Row],[SEND (E,K,N)]])","v":""},"",{"$f":"IF(LEN(Table3[[#This Row],[Pupil Name]])>0,1,0)","v":0}]
[{"$f":"IF(Table1[[#This Row],[School/Group Name]]=\"\",\"\",Table1[[#This Row],[School/Group Name]])","v":""},{"$f":"IF(Table1[[#This Row],[Pupil Name]]=\"\",\"\",Table1[[#This Row],[Pupil Name]])","v":""},{"$f":"IF(Table1[[#This Row],[Gender (M/F)]]=\"\",\"\",Table1[[#This Row],[Gender (M/F)]])","v":""},{"$f":"IF(Table1[[#This Row],[DisAdv (Y/N)]]=\"\",\"\",Table1[[#This Row],[DisAdv (Y/N)]])","v":""},{"$f":"IF(Table1[[#This Row],[SEND (E,K,N)]]=\"\",\"\",Table1[[#This Row],[SEND (E,K,N)]])","v":""},"",{"$f":"IF(LEN(Table3[[#This Row],[Pupil Name]])>0,1,0)","v":0}]
[{"$f":"IF(Table1[[#This Row],[School/Group Name]]=\"\",\"\",Table1[[#This Row],[School/Group Name]])","v":""},{"$f":"IF(Table1[[#This Row],[Pupil Name]]=\"\",\"\",Table1[[#This Row],[Pupil Name]])","v":""},{"$f":"IF(Table1[[#This Row],[Gender (M/F)]]=\"\",\"\",Table1[[#This Row],[Gender (M/F)]])","v":""},{"$f":"IF(Table1[[#This Row],[DisAdv (Y/N)]]=\"\",\"\",Table1[[#This Row],[DisAdv (Y/N)]])","v":""},{"$f":"IF(Table1[[#This Row],[SEND (E,K,N)]]=\"\",\"\",Table1[[#This Row],[SEND (E,K,N)]])","v":""},"",{"$f":"IF(LEN(Table3[[#This Row],[Pupil Name]])>0,1,0)","v":0}]
[{"$f":"IF(Table1[[#This Row],[School/Group Name]]=\"\",\"\",Table1[[#This Row],[School/Group Name]])","v":""},{"$f":"IF(Table1[[#This Row],[Pupil Name]]=\"\",\"\",Table1[[#This Row],[Pupil Name]])","v":""},{"$f":"IF(Table1[[#This Row],[Gender (M/F)]]=\"\",\"\",Table1[[#This Row],[Gender (M/F)]])","v":""},{"$f":"IF(Table1[[#This Row],[DisAdv (Y/N)]]=\"\",\"\",Table1[[#This Row],[DisAdv (Y/N)]])","v":""},{"$f":"IF(Table1[[#This Row],[SEND (E,K,N)]]=\"\",\"\",Table1[[#This Row],[SEND (E,K,N)]])","v":""},"",{"$f":"IF(LEN(Table3[[#This Row],[Pupil Name]])>0,1,0)","v":0}]
[{"$f":"IF(Table1[[#This Row],[School/Group Name]]=\"\",\"\",Table1[[#This Row],[School/Group Name]])","v":""},{"$f":"IF(Table1[[#This Row],[Pupil Name]]=\"\",\"\",Table1[[#This Row],[Pupil Name]])","v":""},{"$f":"IF(Table1[[#This Row],[Gender (M/F)]]=\"\",\"\",Table1[[#This Row],[Gender (M/F)]])","v":""},{"$f":"IF(Table1[[#This Row],[DisAdv (Y/N)]]=\"\",\"\",Table1[[#This Row],[DisAdv (Y/N)]])","v":""},{"$f":"IF(Table1[[#This Row],[SEND (E,K,N)]]=\"\",\"\",Table1[[#This Row],[SEND (E,K,N)]])","v":""},"",{"$f":"IF(LEN(Table3[[#This Row],[Pupil Name]])>0,1,0)","v":0}]
[{"$f":"IF(Table1[[#This Row],[School/Group Name]]=\"\",\"\",Table1[[#This Row],[School/Group Name]])","v":""},{"$f":"IF(Table1[[#This Row],[Pupil Name]]=\"\",\"\",Table1[[#This Row],[Pupil Name]])","v":""},{"$f":"IF(Table1[[#This Row],[Gender (M/F)]]=\"\",\"\",Table1[[#This Row],[Gender (M/F)]])","v":""},{"$f":"IF(Table1[[#This Row],[DisAdv (Y/N)]]=\"\",\"\",Table1[[#This Row],[DisAdv (Y/N)]])","v":""},{"$f":"IF(Table1[[#This Row],[SEND (E,K,N)]]=\"\",\"\",Table1[[#This Row],[SEND (E,K,N)]])","v":""},"",{"$f":"IF(LEN(Table3[[#This Row],[Pupil Name]])>0,1,0)","v":0}]
[{"$f":"IF(Table1[[#This Row],[School/Group Name]]=\"\",\"\",Table1[[#This Row],[School/Group Name]])","v":""},{"$f":"IF(Table1[[#This Row],[Pupil Name]]=\"\",\"\",Table1[[#This Row],[Pupil Name]])","v":""},{"$f":"IF(Table1[[#This Row],[Gender (M/F)]]=\"\",\"\",Table1[[#This Row],[Gender (M/F)]])","v":""},{"$f":"IF(Table1[[#This Row],[DisAdv (Y/N)]]=\"\",\"\",Table1[[#This Row],[DisAdv (Y/N)]])","v":""},{"$f":"IF(Table1[[#This Row],[SEND (E,K,N)]]=\"\",\"\",Table1[[#This Row],[SEND (E,K,N)]])","v":""},"",{"$f":"IF(LEN(Table3[[#This Row],[Pupil Name]])>0,1,0)","v":0}]
[{"$f":"IF(Table1[[#This Row],[School/Group Name]]=\"\",\"\",Table1[[#This Row],[School/Group Name]])","v":""},{"$f":"IF(Table1[[#This Row],[Pupil Name]]=\"\",\"\",Table1[[#This Row],[Pupil Name]])","v":""},{"$f":"IF(Table1[[#This Row],[Gender (M/F)]]=\"\",\"\",Table1[[#This Row],[Gender (M/F)]])","v":""},{"$f":"IF(Table1[[#This Row],[DisAdv (Y/N)]]=\"\",\"\",Table1[[#This Row],[DisAdv (Y/N)]])","v":""},{"$f":"IF(Table1[[#This Row],[SEND (E,K,N)]]=\"\",\"\",Table1[[#This Row],[SEND (E,K,N)]])","v":""},"",{"$f":"IF(LEN(Table3[[#This Row],[Pupil Name]])>0,1,0)","v":0}]
[{"$f":"IF(Table1[[#This Row],[School/Group Name]]=\"\",\"\",Table1[[#This Row],[School/Group Name]])","v":""},{"$f":"IF(Table1[[#This Row],[Pupil Name]]=\"\",\"\",Table1[[#This Row],[Pupil Name]])","v":""},{"$f":"IF(Table1[[#This Row],[Gender (M/F)]]=\"\",\"\",Table1[[#This Row],[Gender (M/F)]])","v":""},{"$f":"IF(Table1[[#This Row],[DisAdv (Y/N)]]=\"\",\"\",Table1[[#This Row],[DisAdv (Y/N)]])","v":""},{"$f":"IF(Table1[[#This Row],[SEND (E,K,N)]]=\"\",\"\",Table1[[#This Row],[SEND (E,K,N)]])","v":""},"",{"$f":"IF(LEN(Table3[[#This Row],[Pupil Name]])>0,1,0)","v":0}]
[{"$f":"IF(Table1[[#This Row],[School/Group Name]]=\"\",\"\",Table1[[#This Row],[School/Group Name]])","v":""},{"$f":"IF(Table1[[#This Row],[Pupil Name]]=\"\",\"\",Table1[[#This Row],[Pupil Name]])","v":""},{"$f":"IF(Table1[[#This Row],[Gender (M/F)]]=\"\",\"\",Table1[[#This Row],[Gender (M/F)]])","v":""},{"$f":"IF(Table1[[#This Row],[DisAdv (Y/N)]]=\"\",\"\",Table1[[#This Row],[DisAdv (Y/N)]])","v":""},{"$f":"IF(Table1[[#This Row],[SEND (E,K,N)]]=\"\",\"\",Table1[[#This Row],[SEND (E,K,N)]])","v":""},"",{"$f":"IF(LEN(Table3[[#This Row],[Pupil Name]])>0,1,0)","v":0}]
[{"$f":"IF(Table1[[#This Row],[School/Group Name]]=\"\",\"\",Table1[[#This Row],[School/Group Name]])","v":""},{"$f":"IF(Table1[[#This Row],[Pupil Name]]=\"\",\"\",Table1[[#This Row],[Pupil Name]])","v":""},{"$f":"IF(Table1[[#This Row],[Gender (M/F)]]=\"\",\"\",Table1[[#This Row],[Gender (M/F)]])","v":""},{"$f":"IF(Table1[[#This Row],[DisAdv (Y/N)]]=\"\",\"\",Table1[[#This Row],[DisAdv (Y/N)]])","v":""},{"$f":"IF(Table1[[#This Row],[SEND (E,K,N)]]=\"\",\"\",Table1[[#This Row],[SEND (E,K,N)]])","v":""},"",{"$f":"IF(LEN(Table3[[#This Row],[Pupil Name]])>0,1,0)","v":0}]
[{"$f":"IF(Table1[[#This Row],[School/Group Name]]=\"\",\"\",Table1[[#This Row],[School/Group Name]])","v":""},{"$f":"IF(Table1[[#This Row],[Pupil Name]]=\"\",\"\",Table1[[#This Row],[Pupil Name]])","v":""},{"$f":"IF(Table1[[#This Row],[Gender (M/F)]]=\"\",\"\",Table1[[#This Row],[Gender (M/F)]])","v":""},{"$f":"IF(Table1[[#This Row],[DisAdv (Y/N)]]=\"\",\"\",Table1[[#This Row],[DisAdv (Y/N)]])","v":""},{"$f":"IF(Table1[[#This Row],[SEND (E,K,N)]]=\"\",\"\",Table1[[#This Row],[SEND (E,K,N)]])","v":""},"",{"$f":"IF(LEN(Table3[[#This Row],[Pupil Name]])>0,1,0)","v":0}]
[{"$f":"IF(Table1[[#This Row],[School/Group Name]]=\"\",\"\",Table1[[#This Row],[School/Group Name]])","v":""},{"$f":"IF(Table1[[#This Row],[Pupil Name]]=\"\",\"\",Table1[[#This Row],[Pupil Name]])","v":""},{"$f":"IF(Table1[[#This Row],[Gender (M/F)]]=\"\",\"\",Table1[[#This Row],[Gender (M/F)]])","v":""},{"$f":"IF(Table1[[#This Row],[DisAdv (Y/N)]]=\"\",\"\",Table1[[#This Row],[DisAdv (Y/N)]])","v":""},{"$f":"IF(Table1[[#This Row],[SEND (E,K,N)]]=\"\",\"\",Table1[[#This Row],[SEND (E,K,N)]])","v":""},"",{"$f":"IF(LEN(Table3[[#This Row],[Pupil Name]])>0,1,0)","v":0}]
[{"$f":"IF(Table1[[#This Row],[School/Group Name]]=\"\",\"\",Table1[[#This Row],[School/Group Name]])","v":""},{"$f":"IF(Table1[[#This Row],[Pupil Name]]=\"\",\"\",Table1[[#This Row],[Pupil Name]])","v":""},{"$f":"IF(Table1[[#This Row],[Gender (M/F)]]=\"\",\"\",Table1[[#This Row],[Gender (M/F)]])","v":""},{"$f":"IF(Table1[[#This Row],[DisAdv (Y/N)]]=\"\",\"\",Table1[[#This Row],[DisAdv (Y/N)]])","v":""},{"$f":"IF(Table1[[#This Row],[SEND (E,K,N)]]=\"\",\"\",Table1[[#This Row],[SEND (E,K,N)]])","v":""},"",{"$f":"IF(LEN(Table3[[#This Row],[Pupil Name]])>0,1,0)","v":0}]
[{"$f":"IF(Table1[[#This Row],[School/Group Name]]=\"\",\"\",Table1[[#This Row],[School/Group Name]])","v":""},{"$f":"IF(Table1[[#This Row],[Pupil Name]]=\"\",\"\",Table1[[#This Row],[Pupil Name]])","v":""},{"$f":"IF(Table1[[#This Row],[Gender (M/F)]]=\"\",\"\",Table1[[#This Row],[Gender (M/F)]])","v":""},{"$f":"IF(Table1[[#This Row],[DisAdv (Y/N)]]=\"\",\"\",Table1[[#This Row],[DisAdv (Y/N)]])","v":""},{"$f":"IF(Table1[[#This Row],[SEND (E,K,N)]]=\"\",\"\",Table1[[#This Row],[SEND (E,K,N)]])","v":""},"",{"$f":"IF(LEN(Table3[[#This Row],[Pupil Name]])>0,1,0)","v":0}]
[{"$f":"IF(Table1[[#This Row],[School/Group Name]]=\"\",\"\",Table1[[#This Row],[School/Group Name]])","v":""},{"$f":"IF(Table1[[#This Row],[Pupil Name]]=\"\",\"\",Table1[[#This Row],[Pupil Name]])","v":""},{"$f":"IF(Table1[[#This Row],[Gender (M/F)]]=\"\",\"\",Table1[[#This Row],[Gender (M/F)]])","v":""},{"$f":"IF(Table1[[#This Row],[DisAdv (Y/N)]]=\"\",\"\",Table1[[#This Row],[DisAdv (Y/N)]])","v":""},{"$f":"IF(Table1[[#This Row],[SEND (E,K,N)]]=\"\",\"\",Table1[[#This Row],[SEND (E,K,N)]])","v":""},"",{"$f":"IF(LEN(Table3[[#This Row],[Pupil Name]])>0,1,0)","v":0}]
[{"$f":"IF(Table1[[#This Row],[School/Group Name]]=\"\",\"\",Table1[[#This Row],[School/Group Name]])","v":""},{"$f":"IF(Table1[[#This Row],[Pupil Name]]=\"\",\"\",Table1[[#This Row],[Pupil Name]])","v":""},{"$f":"IF(Table1[[#This Row],[Gender (M/F)]]=\"\",\"\",Table1[[#This Row],[Gender (M/F)]])","v":""},{"$f":"IF(Table1[[#This Row],[DisAdv (Y/N)]]=\"\",\"\",Table1[[#This Row],[DisAdv (Y/N)]])","v":""},{"$f":"IF(Table1[[#This Row],[SEND (E,K,N)]]=\"\",\"\",Table1[[#This Row],[SEND (E,K,N)]])","v":""},"",{"$f":"IF(LEN(Table3[[#This Row],[Pupil Name]])>0,1,0)","v":0}]
[{"$f":"IF(Table1[[#This Row],[School/Group Name]]=\"\",\"\",Table1[[#This Row],[School/Group Name]])","v":""},{"$f":"IF(Table1[[#This Row],[Pupil Name]]=\"\",\"\",Table1[[#This Row],[Pupil Name]])","v":""},{"$f":"IF(Table1[[#This Row],[Gender (M/F)]]=\"\",\"\",Table1[[#This Row],[Gender (M/F)]])","v":""},{"$f":"IF(Table1[[#This Row],[DisAdv (Y/N)]]=\"\",\"\",Table1[[#This Row],[DisAdv (Y/N)]])","v":""},{"$f":"IF(Table1[[#This Row],[SEND (E,K,N)]]=\"\",\"\",Table1[[#This Row],[SEND (E,K,N)]])","v":""},"",{"$f":"IF(LEN(Table3[[#This Row],[Pupil Name]])>0,1,0)","v":0}]
[{"$f":"IF(Table1[[#This Row],[School/Group Name]]=\"\",\"\",Table1[[#This Row],[School/Group Name]])","v":""},{"$f":"IF(Table1[[#This Row],[Pupil Name]]=\"\",\"\",Table1[[#This Row],[Pupil Name]])","v":""},{"$f":"IF(Table1[[#This Row],[Gender (M/F)]]=\"\",\"\",Table1[[#This Row],[Gender (M/F)]])","v":""},{"$f":"IF(Table1[[#This Row],[DisAdv (Y/N)]]=\"\",\"\",Table1[[#This Row],[DisAdv (Y/N)]])","v":""},{"$f":"IF(Table1[[#This Row],[SEND (E,K,N)]]=\"\",\"\",Table1[[#This Row],[SEND (E,K,N)]])","v":""},"",{"$f":"IF(LEN(Table3[[#This Row],[Pupil Name]])>0,1,0)","v":0}]
[{"$f":"IF(Table1[[#This Row],[School/Group Name]]=\"\",\"\",Table1[[#This Row],[School/Group Name]])","v":""},{"$f":"IF(Table1[[#This Row],[Pupil Name]]=\"\",\"\",Table1[[#This Row],[Pupil Name]])","v":""},{"$f":"IF(Table1[[#This Row],[Gender (M/F)]]=\"\",\"\",Table1[[#This Row],[Gender (M/F)]])","v":""},{"$f":"IF(Table1[[#This Row],[DisAdv (Y/N)]]=\"\",\"\",Table1[[#This Row],[DisAdv (Y/N)]])","v":""},{"$f":"IF(Table1[[#This Row],[SEND (E,K,N)]]=\"\",\"\",Table1[[#This Row],[SEND (E,K,N)]])","v":""},"",{"$f":"IF(LEN(Table3[[#This Row],[Pupil Name]])>0,1,0)","v":0}]
[{"$f":"IF(Table1[[#This Row],[School/Group Name]]=\"\",\"\",Table1[[#This Row],[School/Group Name]])","v":""},{"$f":"IF(Table1[[#This Row],[Pupil Name]]=\"\",\"\",Table1[[#This Row],[Pupil Name]])","v":""},{"$f":"IF(Table1[[#This Row],[Gender (M/F)]]=\"\",\"\",Table1[[#This Row],[Gender (M/F)]])","v":""},{"$f":"IF(Table1[[#This Row],[DisAdv (Y/N)]]=\"\",\"\",Table1[[#This Row],[DisAdv (Y/N)]])","v":""},{"$f":"IF(Table1[[#This Row],[SEND (E,K,N)]]=\"\",\"\",Table1[[#This Row],[SEND (E,K,N)]])","v":""},"",{"$f":"IF(LEN(Table3[[#This Row],[Pupil Name]])>0,1,0)","v":0}]
[{"$f":"IF(Table1[[#This Row],[School/Group Name]]=\"\",\"\",Table1[[#This Row],[School/Group Name]])","v":""},{"$f":"IF(Table1[[#This Row],[Pupil Name]]=\"\",\"\",Table1[[#This Row],[Pupil Name]])","v":""},{"$f":"IF(Table1[[#This Row],[Gender (M/F)]]=\"\",\"\",Table1[[#This Row],[Gender (M/F)]])","v":""},{"$f":"IF(Table1[[#This Row],[DisAdv (Y/N)]]=\"\",\"\",Table1[[#This Row],[DisAdv (Y/N)]])","v":""},{"$f":"IF(Table1[[#This Row],[SEND (E,K,N)]]=\"\",\"\",Table1[[#This Row],[SEND (E,K,N)]])","v":""},"",{"$f":"IF(LEN(Table3[[#This Row],[Pupil Name]])>0,1,0)","v":0}]
[{"$f":"IF(Table1[[#This Row],[School/Group Name]]=\"\",\"\",Table1[[#This Row],[School/Group Name]])","v":""},{"$f":"IF(Table1[[#This Row],[Pupil Name]]=\"\",\"\",Table1[[#This Row],[Pupil Name]])","v":""},{"$f":"IF(Table1[[#This Row],[Gender (M/F)]]=\"\",\"\",Table1[[#This Row],[Gender (M/F)]])","v":""},{"$f":"IF(Table1[[#This Row],[DisAdv (Y/N)]]=\"\",\"\",Table1[[#This Row],[DisAdv (Y/N)]])","v":""},{"$f":"IF(Table1[[#This Row],[SEND (E,K,N)]]=\"\",\"\",Table1[[#This Row],[SEND (E,K,N)]])","v":""},"",{"$f":"IF(LEN(Table3[[#This Row],[Pupil Name]])>0,1,0)","v":0}]
[{"$f":"IF(Table1[[#This Row],[School/Group Name]]=\"\",\"\",Table1[[#This Row],[School/Group Name]])","v":""},{"$f":"IF(Table1[[#This Row],[Pupil Name]]=\"\",\"\",Table1[[#This Row],[Pupil Name]])","v":""},{"$f":"IF(Table1[[#This Row],[Gender (M/F)]]=\"\",\"\",Table1[[#This Row],[Gender (M/F)]])","v":""},{"$f":"IF(Table1[[#This Row],[DisAdv (Y/N)]]=\"\",\"\",Table1[[#This Row],[DisAdv (Y/N)]])","v":""},{"$f":"IF(Table1[[#This Row],[SEND (E,K,N)]]=\"\",\"\",Table1[[#This Row],[SEND (E,K,N)]])","v":""},"",{"$f":"IF(LEN(Table3[[#This Row],[Pupil Name]])>0,1,0)","v":0}]
[{"$f":"IF(Table1[[#This Row],[School/Group Name]]=\"\",\"\",Table1[[#This Row],[School/Group Name]])","v":""},{"$f":"IF(Table1[[#This Row],[Pupil Name]]=\"\",\"\",Table1[[#This Row],[Pupil Name]])","v":""},{"$f":"IF(Table1[[#This Row],[Gender (M/F)]]=\"\",\"\",Table1[[#This Row],[Gender (M/F)]])","v":""},{"$f":"IF(Table1[[#This Row],[DisAdv (Y/N)]]=\"\",\"\",Table1[[#This Row],[DisAdv (Y/N)]])","v":""},{"$f":"IF(Table1[[#This Row],[SEND (E,K,N)]]=\"\",\"\",Table1[[#This Row],[SEND (E,K,N)]])","v":""},"",{"$f":"IF(LEN(Table3[[#This Row],[Pupil Name]])>0,1,0)","v":0}]
[{"$f":"IF(Table1[[#This Row],[School/Group Name]]=\"\",\"\",Table1[[#This Row],[School/Group Name]])","v":""},{"$f":"IF(Table1[[#This Row],[Pupil Name]]=\"\",\"\",Table1[[#This Row],[Pupil Name]])","v":""},{"$f":"IF(Table1[[#This Row],[Gender (M/F)]]=\"\",\"\",Table1[[#This Row],[Gender (M/F)]])","v":""},{"$f":"IF(Table1[[#This Row],[DisAdv (Y/N)]]=\"\",\"\",Table1[[#This Row],[DisAdv (Y/N)]])","v":""},{"$f":"IF(Table1[[#This Row],[SEND (E,K,N)]]=\"\",\"\",Table1[[#This Row],[SEND (E,K,N)]])","v":""},"",{"$f":"IF(LEN(Table3[[#This Row],[Pupil Name]])>0,1,0)","v":0}]
[{"$f":"IF(Table1[[#This Row],[School/Group Name]]=\"\",\"\",Table1[[#This Row],[School/Group Name]])","v":""},{"$f":"IF(Table1[[#This Row],[Pupil Name]]=\"\",\"\",Table1[[#This Row],[Pupil Name]])","v":""},{"$f":"IF(Table1[[#This Row],[Gender (M/F)]]=\"\",\"\",Table1[[#This Row],[Gender (M/F)]])","v":""},{"$f":"IF(Table1[[#This Row],[DisAdv (Y/N)]]=\"\",\"\",Table1[[#This Row],[DisAdv (Y/N)]])","v":""},{"$f":"IF(Table1[[#This Row],[SEND (E,K,N)]]=\"\",\"\",Table1[[#This Row],[SEND (E,K,N)]])","v":""},"",{"$f":"IF(LEN(Table3[[#This Row],[Pupil Name]])>0,1,0)","v":0}]
[{"$f":"IF(Table1[[#This Row],[School/Group Name]]=\"\",\"\",Table1[[#This Row],[School/Group Name]])","v":""},{"$f":"IF(Table1[[#This Row],[Pupil Name]]=\"\",\"\",Table1[[#This Row],[Pupil Name]])","v":""},{"$f":"IF(Table1[[#This Row],[Gender (M/F)]]=\"\",\"\",Table1[[#This Row],[Gender (M/F)]])","v":""},{"$f":"IF(Table1[[#This Row],[DisAdv (Y/N)]]=\"\",\"\",Table1[[#This Row],[DisAdv (Y/N)]])","v":""},{"$f":"IF(Table1[[#This Row],[SEND (E,K,N)]]=\"\",\"\",Table1[[#This Row],[SEND (E,K,N)]])","v":""},"",{"$f":"IF(LEN(Table3[[#This Row],[Pupil Name]])>0,1,0)","v":0}]
[{"$f":"IF(Table1[[#This Row],[School/Group Name]]=\"\",\"\",Table1[[#This Row],[School/Group Name]])","v":""},{"$f":"IF(Table1[[#This Row],[Pupil Name]]=\"\",\"\",Table1[[#This Row],[Pupil Name]])","v":""},{"$f":"IF(Table1[[#This Row],[Gender (M/F)]]=\"\",\"\",Table1[[#This Row],[Gender (M/F)]])","v":""},{"$f":"IF(Table1[[#This Row],[DisAdv (Y/N)]]=\"\",\"\",Table1[[#This Row],[DisAdv (Y/N)]])","v":""},{"$f":"IF(Table1[[#This Row],[SEND (E,K,N)]]=\"\",\"\",Table1[[#This Row],[SEND (E,K,N)]])","v":""},"",{"$f":"IF(LEN(Table3[[#This Row],[Pupil Name]])>0,1,0)","v":0}]
[{"$f":"IF(Table1[[#This Row],[School/Group Name]]=\"\",\"\",Table1[[#This Row],[School/Group Name]])","v":""},{"$f":"IF(Table1[[#This Row],[Pupil Name]]=\"\",\"\",Table1[[#This Row],[Pupil Name]])","v":""},{"$f":"IF(Table1[[#This Row],[Gender (M/F)]]=\"\",\"\",Table1[[#This Row],[Gender (M/F)]])","v":""},{"$f":"IF(Table1[[#This Row],[DisAdv (Y/N)]]=\"\",\"\",Table1[[#This Row],[DisAdv (Y/N)]])","v":""},{"$f":"IF(Table1[[#This Row],[SEND (E,K,N)]]=\"\",\"\",Table1[[#This Row],[SEND (E,K,N)]])","v":""},"",{"$f":"IF(LEN(Table3[[#This Row],[Pupil Name]])>0,1,0)","v":0}]
[{"$f":"IF(Table1[[#This Row],[School/Group Name]]=\"\",\"\",Table1[[#This Row],[School/Group Name]])","v":""},{"$f":"IF(Table1[[#This Row],[Pupil Name]]=\"\",\"\",Table1[[#This Row],[Pupil Name]])","v":""},{"$f":"IF(Table1[[#This Row],[Gender (M/F)]]=\"\",\"\",Table1[[#This Row],[Gender (M/F)]])","v":""},{"$f":"IF(Table1[[#This Row],[DisAdv (Y/N)]]=\"\",\"\",Table1[[#This Row],[DisAdv (Y/N)]])","v":""},{"$f":"IF(Table1[[#This Row],[SEND (E,K,N)]]=\"\",\"\",Table1[[#This Row],[SEND (E,K,N)]])","v":""},"",{"$f":"IF(LEN(Table3[[#This Row],[Pupil Name]])>0,1,0)","v":0}]
[{"$f":"IF(Table1[[#This Row],[School/Group Name]]=\"\",\"\",Table1[[#This Row],[School/Group Name]])","v":""},{"$f":"IF(Table1[[#This Row],[Pupil Name]]=\"\",\"\",Table1[[#This Row],[Pupil Name]])","v":""},{"$f":"IF(Table1[[#This Row],[Gender (M/F)]]=\"\",\"\",Table1[[#This Row],[Gender (M/F)]])","v":""},{"$f":"IF(Table1[[#This Row],[DisAdv (Y/N)]]=\"\",\"\",Table1[[#This Row],[DisAdv (Y/N)]])","v":""},{"$f":"IF(Table1[[#This Row],[SEND (E,K,N)]]=\"\",\"\",Table1[[#This Row],[SEND (E,K,N)]])","v":""},"",{"$f":"IF(LEN(Table3[[#This Row],[Pupil Name]])>0,1,0)","v":0}]
[{"$f":"IF(Table1[[#This Row],[School/Group Name]]=\"\",\"\",Table1[[#This Row],[School/Group Name]])","v":""},{"$f":"IF(Table1[[#This Row],[Pupil Name]]=\"\",\"\",Table1[[#This Row],[Pupil Name]])","v":""},{"$f":"IF(Table1[[#This Row],[Gender (M/F)]]=\"\",\"\",Table1[[#This Row],[Gender (M/F)]])","v":""},{"$f":"IF(Table1[[#This Row],[DisAdv (Y/N)]]=\"\",\"\",Table1[[#This Row],[DisAdv (Y/N)]])","v":""},{"$f":"IF(Table1[[#This Row],[SEND (E,K,N)]]=\"\",\"\",Table1[[#This Row],[SEND (E,K,N)]])","v":""},"",{"$f":"IF(LEN(Table3[[#This Row],[Pupil Name]])>0,1,0)","v":0}]
[{"$f":"IF(Table1[[#This Row],[School/Group Name]]=\"\",\"\",Table1[[#This Row],[School/Group Name]])","v":""},{"$f":"IF(Table1[[#This Row],[Pupil Name]]=\"\",\"\",Table1[[#This Row],[Pupil Name]])","v":""},{"$f":"IF(Table1[[#This Row],[Gender (M/F)]]=\"\",\"\",Table1[[#This Row],[Gender (M/F)]])","v":""},{"$f":"IF(Table1[[#This Row],[DisAdv (Y/N)]]=\"\",\"\",Table1[[#This Row],[DisAdv (Y/N)]])","v":""},{"$f":"IF(Table1[[#This Row],[SEND (E,K,N)]]=\"\",\"\",Table1[[#This Row],[SEND (E,K,N)]])","v":""},"",{"$f":"IF(LEN(Table3[[#This Row],[Pupil Name]])>0,1,0)","v":0}]
[{"$f":"IF(Table1[[#This Row],[School/Group Name]]=\"\",\"\",Table1[[#This Row],[School/Group Name]])","v":""},{"$f":"IF(Table1[[#This Row],[Pupil Name]]=\"\",\"\",Table1[[#This Row],[Pupil Name]])","v":""},{"$f":"IF(Table1[[#This Row],[Gender (M/F)]]=\"\",\"\",Table1[[#This Row],[Gender (M/F)]])","v":""},{"$f":"IF(Table1[[#This Row],[DisAdv (Y/N)]]=\"\",\"\",Table1[[#This Row],[DisAdv (Y/N)]])","v":""},{"$f":"IF(Table1[[#This Row],[SEND (E,K,N)]]=\"\",\"\",Table1[[#This Row],[SEND (E,K,N)]])","v":""},"",{"$f":"IF(LEN(Table3[[#This Row],[Pupil Name]])>0,1,0)","v":0}]
[{"$f":"IF(Table1[[#This Row],[School/Group Name]]=\"\",\"\",Table1[[#This Row],[School/Group Name]])","v":""},{"$f":"IF(Table1[[#This Row],[Pupil Name]]=\"\",\"\",Table1[[#This Row],[Pupil Name]])","v":""},{"$f":"IF(Table1[[#This Row],[Gender (M/F)]]=\"\",\"\",Table1[[#This Row],[Gender (M/F)]])","v":""},{"$f":"IF(Table1[[#This Row],[DisAdv (Y/N)]]=\"\",\"\",Table1[[#This Row],[DisAdv (Y/N)]])","v":""},{"$f":"IF(Table1[[#This Row],[SEND (E,K,N)]]=\"\",\"\",Table1[[#This Row],[SEND (E,K,N)]])","v":""},{"$f":"IF(H327=\"\",\"\",(SUM(H327:AH327)))","v":""},{"$f":"IF(LEN(Table3[[#This Row],[Pupil Name]])>0,1,0)","v":0}]
[{"$f":"IF(Table1[[#This Row],[School/Group Name]]=\"\",\"\",Table1[[#This Row],[School/Group Name]])","v":""},{"$f":"IF(Table1[[#This Row],[Pupil Name]]=\"\",\"\",Table1[[#This Row],[Pupil Name]])","v":""},{"$f":"IF(Table1[[#This Row],[Gender (M/F)]]=\"\",\"\",Table1[[#This Row],[Gender (M/F)]])","v":""},{"$f":"IF(Table1[[#This Row],[DisAdv (Y/N)]]=\"\",\"\",Table1[[#This Row],[DisAdv (Y/N)]])","v":""},{"$f":"IF(Table1[[#This Row],[SEND (E,K,N)]]=\"\",\"\",Table1[[#This Row],[SEND (E,K,N)]])","v":""},"",{"$f":"IF(LEN(Table3[[#This Row],[Pupil Name]])>0,1,0)","v":0}]
[{"$f":"IF(Table1[[#This Row],[School/Group Name]]=\"\",\"\",Table1[[#This Row],[School/Group Name]])","v":""},{"$f":"IF(Table1[[#This Row],[Pupil Name]]=\"\",\"\",Table1[[#This Row],[Pupil Name]])","v":""},{"$f":"IF(Table1[[#This Row],[Gender (M/F)]]=\"\",\"\",Table1[[#This Row],[Gender (M/F)]])","v":""},{"$f":"IF(Table1[[#This Row],[DisAdv (Y/N)]]=\"\",\"\",Table1[[#This Row],[DisAdv (Y/N)]])","v":""},{"$f":"IF(Table1[[#This Row],[SEND (E,K,N)]]=\"\",\"\",Table1[[#This Row],[SEND (E,K,N)]])","v":""},"",{"$f":"IF(LEN(Table3[[#This Row],[Pupil Name]])>0,1,0)","v":0}]
[{"$f":"IF(Table1[[#This Row],[School/Group Name]]=\"\",\"\",Table1[[#This Row],[School/Group Name]])","v":""},{"$f":"IF(Table1[[#This Row],[Pupil Name]]=\"\",\"\",Table1[[#This Row],[Pupil Name]])","v":""},{"$f":"IF(Table1[[#This Row],[Gender (M/F)]]=\"\",\"\",Table1[[#This Row],[Gender (M/F)]])","v":""},{"$f":"IF(Table1[[#This Row],[DisAdv (Y/N)]]=\"\",\"\",Table1[[#This Row],[DisAdv (Y/N)]])","v":""},{"$f":"IF(Table1[[#This Row],[SEND (E,K,N)]]=\"\",\"\",Table1[[#This Row],[SEND (E,K,N)]])","v":""},"",{"$f":"IF(LEN(Table3[[#This Row],[Pupil Name]])>0,1,0)","v":0}]
[{"$f":"IF(Table1[[#This Row],[School/Group Name]]=\"\",\"\",Table1[[#This Row],[School/Group Name]])","v":""},{"$f":"IF(Table1[[#This Row],[Pupil Name]]=\"\",\"\",Table1[[#This Row],[Pupil Name]])","v":""},{"$f":"IF(Table1[[#This Row],[Gender (M/F)]]=\"\",\"\",Table1[[#This Row],[Gender (M/F)]])","v":""},{"$f":"IF(Table1[[#This Row],[DisAdv (Y/N)]]=\"\",\"\",Table1[[#This Row],[DisAdv (Y/N)]])","v":""},{"$f":"IF(Table1[[#This Row],[SEND (E,K,N)]]=\"\",\"\",Table1[[#This Row],[SEND (E,K,N)]])","v":""},"",{"$f":"IF(LEN(Table3[[#This Row],[Pupil Name]])>0,1,0)","v":0}]
[{"$f":"IF(Table1[[#This Row],[School/Group Name]]=\"\",\"\",Table1[[#This Row],[School/Group Name]])","v":""},{"$f":"IF(Table1[[#This Row],[Pupil Name]]=\"\",\"\",Table1[[#This Row],[Pupil Name]])","v":""},{"$f":"IF(Table1[[#This Row],[Gender (M/F)]]=\"\",\"\",Table1[[#This Row],[Gender (M/F)]])","v":""},{"$f":"IF(Table1[[#This Row],[DisAdv (Y/N)]]=\"\",\"\",Table1[[#This Row],[DisAdv (Y/N)]])","v":""},{"$f":"IF(Table1[[#This Row],[SEND (E,K,N)]]=\"\",\"\",Table1[[#This Row],[SEND (E,K,N)]])","v":""},"",{"$f":"IF(LEN(Table3[[#This Row],[Pupil Name]])>0,1,0)","v":0}]
[{"$f":"IF(Table1[[#This Row],[School/Group Name]]=\"\",\"\",Table1[[#This Row],[School/Group Name]])","v":""},{"$f":"IF(Table1[[#This Row],[Pupil Name]]=\"\",\"\",Table1[[#This Row],[Pupil Name]])","v":""},{"$f":"IF(Table1[[#This Row],[Gender (M/F)]]=\"\",\"\",Table1[[#This Row],[Gender (M/F)]])","v":""},{"$f":"IF(Table1[[#This Row],[DisAdv (Y/N)]]=\"\",\"\",Table1[[#This Row],[DisAdv (Y/N)]])","v":""},{"$f":"IF(Table1[[#This Row],[SEND (E,K,N)]]=\"\",\"\",Table1[[#This Row],[SEND (E,K,N)]])","v":""},"",{"$f":"IF(LEN(Table3[[#This Row],[Pupil Name]])>0,1,0)","v":0}]
[{"$f":"IF(Table1[[#This Row],[School/Group Name]]=\"\",\"\",Table1[[#This Row],[School/Group Name]])","v":""},{"$f":"IF(Table1[[#This Row],[Pupil Name]]=\"\",\"\",Table1[[#This Row],[Pupil Name]])","v":""},{"$f":"IF(Table1[[#This Row],[Gender (M/F)]]=\"\",\"\",Table1[[#This Row],[Gender (M/F)]])","v":""},{"$f":"IF(Table1[[#This Row],[DisAdv (Y/N)]]=\"\",\"\",Table1[[#This Row],[DisAdv (Y/N)]])","v":""},{"$f":"IF(Table1[[#This Row],[SEND (E,K,N)]]=\"\",\"\",Table1[[#This Row],[SEND (E,K,N)]])","v":""},"",{"$f":"IF(LEN(Table3[[#This Row],[Pupil Name]])>0,1,0)","v":0}]
[{"$f":"IF(Table1[[#This Row],[School/Group Name]]=\"\",\"\",Table1[[#This Row],[School/Group Name]])","v":""},{"$f":"IF(Table1[[#This Row],[Pupil Name]]=\"\",\"\",Table1[[#This Row],[Pupil Name]])","v":""},{"$f":"IF(Table1[[#This Row],[Gender (M/F)]]=\"\",\"\",Table1[[#This Row],[Gender (M/F)]])","v":""},{"$f":"IF(Table1[[#This Row],[DisAdv (Y/N)]]=\"\",\"\",Table1[[#This Row],[DisAdv (Y/N)]])","v":""},{"$f":"IF(Table1[[#This Row],[SEND (E,K,N)]]=\"\",\"\",Table1[[#This Row],[SEND (E,K,N)]])","v":""},"",{"$f":"IF(LEN(Table3[[#This Row],[Pupil Name]])>0,1,0)","v":0}]
[{"$f":"IF(Table1[[#This Row],[School/Group Name]]=\"\",\"\",Table1[[#This Row],[School/Group Name]])","v":""},{"$f":"IF(Table1[[#This Row],[Pupil Name]]=\"\",\"\",Table1[[#This Row],[Pupil Name]])","v":""},{"$f":"IF(Table1[[#This Row],[Gender (M/F)]]=\"\",\"\",Table1[[#This Row],[Gender (M/F)]])","v":""},{"$f":"IF(Table1[[#This Row],[DisAdv (Y/N)]]=\"\",\"\",Table1[[#This Row],[DisAdv (Y/N)]])","v":""},{"$f":"IF(Table1[[#This Row],[SEND (E,K,N)]]=\"\",\"\",Table1[[#This Row],[SEND (E,K,N)]])","v":""},"",{"$f":"IF(LEN(Table3[[#This Row],[Pupil Name]])>0,1,0)","v":0}]
[{"$f":"IF(Table1[[#This Row],[School/Group Name]]=\"\",\"\",Table1[[#This Row],[School/Group Name]])","v":""},{"$f":"IF(Table1[[#This Row],[Pupil Name]]=\"\",\"\",Table1[[#This Row],[Pupil Name]])","v":""},{"$f":"IF(Table1[[#This Row],[Gender (M/F)]]=\"\",\"\",Table1[[#This Row],[Gender (M/F)]])","v":""},{"$f":"IF(Table1[[#This Row],[DisAdv (Y/N)]]=\"\",\"\",Table1[[#This Row],[DisAdv (Y/N)]])","v":""},{"$f":"IF(Table1[[#This Row],[SEND (E,K,N)]]=\"\",\"\",Table1[[#This Row],[SEND (E,K,N)]])","v":""},"",{"$f":"IF(LEN(Table3[[#This Row],[Pupil Name]])>0,1,0)","v":0}]
[{"$f":"IF(Table1[[#This Row],[School/Group Name]]=\"\",\"\",Table1[[#This Row],[School/Group Name]])","v":""},{"$f":"IF(Table1[[#This Row],[Pupil Name]]=\"\",\"\",Table1[[#This Row],[Pupil Name]])","v":""},{"$f":"IF(Table1[[#This Row],[Gender (M/F)]]=\"\",\"\",Table1[[#This Row],[Gender (M/F)]])","v":""},{"$f":"IF(Table1[[#This Row],[DisAdv (Y/N)]]=\"\",\"\",Table1[[#This Row],[DisAdv (Y/N)]])","v":""},{"$f":"IF(Table1[[#This Row],[SEND (E,K,N)]]=\"\",\"\",Table1[[#This Row],[SEND (E,K,N)]])","v":""},"",{"$f":"IF(LEN(Table3[[#This Row],[Pupil Name]])>0,1,0)","v":0}]
[{"$f":"IF(Table1[[#This Row],[School/Group Name]]=\"\",\"\",Table1[[#This Row],[School/Group Name]])","v":""},{"$f":"IF(Table1[[#This Row],[Pupil Name]]=\"\",\"\",Table1[[#This Row],[Pupil Name]])","v":""},{"$f":"IF(Table1[[#This Row],[Gender (M/F)]]=\"\",\"\",Table1[[#This Row],[Gender (M/F)]])","v":""},{"$f":"IF(Table1[[#This Row],[DisAdv (Y/N)]]=\"\",\"\",Table1[[#This Row],[DisAdv (Y/N)]])","v":""},{"$f":"IF(Table1[[#This Row],[SEND (E,K,N)]]=\"\",\"\",Table1[[#This Row],[SEND (E,K,N)]])","v":""},"",{"$f":"IF(LEN(Table3[[#This Row],[Pupil Name]])>0,1,0)","v":0}]
[{"$f":"IF(Table1[[#This Row],[School/Group Name]]=\"\",\"\",Table1[[#This Row],[School/Group Name]])","v":""},{"$f":"IF(Table1[[#This Row],[Pupil Name]]=\"\",\"\",Table1[[#This Row],[Pupil Name]])","v":""},{"$f":"IF(Table1[[#This Row],[Gender (M/F)]]=\"\",\"\",Table1[[#This Row],[Gender (M/F)]])","v":""},{"$f":"IF(Table1[[#This Row],[DisAdv (Y/N)]]=\"\",\"\",Table1[[#This Row],[DisAdv (Y/N)]])","v":""},{"$f":"IF(Table1[[#This Row],[SEND (E,K,N)]]=\"\",\"\",Table1[[#This Row],[SEND (E,K,N)]])","v":""},"",{"$f":"IF(LEN(Table3[[#This Row],[Pupil Name]])>0,1,0)","v":0}]
[{"$f":"IF(Table1[[#This Row],[School/Group Name]]=\"\",\"\",Table1[[#This Row],[School/Group Name]])","v":""},{"$f":"IF(Table1[[#This Row],[Pupil Name]]=\"\",\"\",Table1[[#This Row],[Pupil Name]])","v":""},{"$f":"IF(Table1[[#This Row],[Gender (M/F)]]=\"\",\"\",Table1[[#This Row],[Gender (M/F)]])","v":""},{"$f":"IF(Table1[[#This Row],[DisAdv (Y/N)]]=\"\",\"\",Table1[[#This Row],[DisAdv (Y/N)]])","v":""},{"$f":"IF(Table1[[#This Row],[SEND (E,K,N)]]=\"\",\"\",Table1[[#This Row],[SEND (E,K,N)]])","v":""},"",{"$f":"IF(LEN(Table3[[#This Row],[Pupil Name]])>0,1,0)","v":0}]
[{"$f":"IF(Table1[[#This Row],[School/Group Name]]=\"\",\"\",Table1[[#This Row],[School/Group Name]])","v":""},{"$f":"IF(Table1[[#This Row],[Pupil Name]]=\"\",\"\",Table1[[#This Row],[Pupil Name]])","v":""},{"$f":"IF(Table1[[#This Row],[Gender (M/F)]]=\"\",\"\",Table1[[#This Row],[Gender (M/F)]])","v":""},{"$f":"IF(Table1[[#This Row],[DisAdv (Y/N)]]=\"\",\"\",Table1[[#This Row],[DisAdv (Y/N)]])","v":""},{"$f":"IF(Table1[[#This Row],[SEND (E,K,N)]]=\"\",\"\",Table1[[#This Row],[SEND (E,K,N)]])","v":""},"",{"$f":"IF(LEN(Table3[[#This Row],[Pupil Name]])>0,1,0)","v":0}]
[{"$f":"IF(Table1[[#This Row],[School/Group Name]]=\"\",\"\",Table1[[#This Row],[School/Group Name]])","v":""},{"$f":"IF(Table1[[#This Row],[Pupil Name]]=\"\",\"\",Table1[[#This Row],[Pupil Name]])","v":""},{"$f":"IF(Table1[[#This Row],[Gender (M/F)]]=\"\",\"\",Table1[[#This Row],[Gender (M/F)]])","v":""},{"$f":"IF(Table1[[#This Row],[DisAdv (Y/N)]]=\"\",\"\",Table1[[#This Row],[DisAdv (Y/N)]])","v":""},{"$f":"IF(Table1[[#This Row],[SEND (E,K,N)]]=\"\",\"\",Table1[[#This Row],[SEND (E,K,N)]])","v":""},"",{"$f":"IF(LEN(Table3[[#This Row],[Pupil Name]])>0,1,0)","v":0}]
[{"$f":"IF(Table1[[#This Row],[School/Group Name]]=\"\",\"\",Table1[[#This Row],[School/Group Name]])","v":""},{"$f":"IF(Table1[[#This Row],[Pupil Name]]=\"\",\"\",Table1[[#This Row],[Pupil Name]])","v":""},{"$f":"IF(Table1[[#This Row],[Gender (M/F)]]=\"\",\"\",Table1[[#This Row],[Gender (M/F)]])","v":""},{"$f":"IF(Table1[[#This Row],[DisAdv (Y/N)]]=\"\",\"\",Table1[[#This Row],[DisAdv (Y/N)]])","v":""},{"$f":"IF(Table1[[#This Row],[SEND (E,K,N)]]=\"\",\"\",Table1[[#This Row],[SEND (E,K,N)]])","v":""},"",{"$f":"IF(LEN(Table3[[#This Row],[Pupil Name]])>0,1,0)","v":0}]
[{"$f":"IF(Table1[[#This Row],[School/Group Name]]=\"\",\"\",Table1[[#This Row],[School/Group Name]])","v":""},{"$f":"IF(Table1[[#This Row],[Pupil Name]]=\"\",\"\",Table1[[#This Row],[Pupil Name]])","v":""},{"$f":"IF(Table1[[#This Row],[Gender (M/F)]]=\"\",\"\",Table1[[#This Row],[Gender (M/F)]])","v":""},{"$f":"IF(Table1[[#This Row],[DisAdv (Y/N)]]=\"\",\"\",Table1[[#This Row],[DisAdv (Y/N)]])","v":""},{"$f":"IF(Table1[[#This Row],[SEND (E,K,N)]]=\"\",\"\",Table1[[#This Row],[SEND (E,K,N)]])","v":""},"",{"$f":"IF(LEN(Table3[[#This Row],[Pupil Name]])>0,1,0)","v":0}]
[{"$f":"IF(Table1[[#This Row],[School/Group Name]]=\"\",\"\",Table1[[#This Row],[School/Group Name]])","v":""},{"$f":"IF(Table1[[#This Row],[Pupil Name]]=\"\",\"\",Table1[[#This Row],[Pupil Name]])","v":""},{"$f":"IF(Table1[[#This Row],[Gender (M/F)]]=\"\",\"\",Table1[[#This Row],[Gender (M/F)]])","v":""},{"$f":"IF(Table1[[#This Row],[DisAdv (Y/N)]]=\"\",\"\",Table1[[#This Row],[DisAdv (Y/N)]])","v":""},{"$f":"IF(Table1[[#This Row],[SEND (E,K,N)]]=\"\",\"\",Table1[[#This Row],[SEND (E,K,N)]])","v":""},"",{"$f":"IF(LEN(Table3[[#This Row],[Pupil Name]])>0,1,0)","v":0}]
[{"$f":"IF(Table1[[#This Row],[School/Group Name]]=\"\",\"\",Table1[[#This Row],[School/Group Name]])","v":""},{"$f":"IF(Table1[[#This Row],[Pupil Name]]=\"\",\"\",Table1[[#This Row],[Pupil Name]])","v":""},{"$f":"IF(Table1[[#This Row],[Gender (M/F)]]=\"\",\"\",Table1[[#This Row],[Gender (M/F)]])","v":""},{"$f":"IF(Table1[[#This Row],[DisAdv (Y/N)]]=\"\",\"\",Table1[[#This Row],[DisAdv (Y/N)]])","v":""},{"$f":"IF(Table1[[#This Row],[SEND (E,K,N)]]=\"\",\"\",Table1[[#This Row],[SEND (E,K,N)]])","v":""},"",{"$f":"IF(LEN(Table3[[#This Row],[Pupil Name]])>0,1,0)","v":0}]
[{"$f":"IF(Table1[[#This Row],[School/Group Name]]=\"\",\"\",Table1[[#This Row],[School/Group Name]])","v":""},{"$f":"IF(Table1[[#This Row],[Pupil Name]]=\"\",\"\",Table1[[#This Row],[Pupil Name]])","v":""},{"$f":"IF(Table1[[#This Row],[Gender (M/F)]]=\"\",\"\",Table1[[#This Row],[Gender (M/F)]])","v":""},{"$f":"IF(Table1[[#This Row],[DisAdv (Y/N)]]=\"\",\"\",Table1[[#This Row],[DisAdv (Y/N)]])","v":""},{"$f":"IF(Table1[[#This Row],[SEND (E,K,N)]]=\"\",\"\",Table1[[#This Row],[SEND (E,K,N)]])","v":""},"",{"$f":"IF(LEN(Table3[[#This Row],[Pupil Name]])>0,1,0)","v":0}]
[{"$f":"IF(Table1[[#This Row],[School/Group Name]]=\"\",\"\",Table1[[#This Row],[School/Group Name]])","v":""},{"$f":"IF(Table1[[#This Row],[Pupil Name]]=\"\",\"\",Table1[[#This Row],[Pupil Name]])","v":""},{"$f":"IF(Table1[[#This Row],[Gender (M/F)]]=\"\",\"\",Table1[[#This Row],[Gender (M/F)]])","v":""},{"$f":"IF(Table1[[#This Row],[DisAdv (Y/N)]]=\"\",\"\",Table1[[#This Row],[DisAdv (Y/N)]])","v":""},{"$f":"IF(Table1[[#This Row],[SEND (E,K,N)]]=\"\",\"\",Table1[[#This Row],[SEND (E,K,N)]])","v":""},"",{"$f":"IF(LEN(Table3[[#This Row],[Pupil Name]])>0,1,0)","v":0}]
[{"$f":"IF(Table1[[#This Row],[School/Group Name]]=\"\",\"\",Table1[[#This Row],[School/Group Name]])","v":""},{"$f":"IF(Table1[[#This Row],[Pupil Name]]=\"\",\"\",Table1[[#This Row],[Pupil Name]])","v":""},{"$f":"IF(Table1[[#This Row],[Gender (M/F)]]=\"\",\"\",Table1[[#This Row],[Gender (M/F)]])","v":""},{"$f":"IF(Table1[[#This Row],[DisAdv (Y/N)]]=\"\",\"\",Table1[[#This Row],[DisAdv (Y/N)]])","v":""},{"$f":"IF(Table1[[#This Row],[SEND (E,K,N)]]=\"\",\"\",Table1[[#This Row],[SEND (E,K,N)]])","v":""},"",{"$f":"IF(LEN(Table3[[#This Row],[Pupil Name]])>0,1,0)","v":0}]
[{"$f":"IF(Table1[[#This Row],[School/Group Name]]=\"\",\"\",Table1[[#This Row],[School/Group Name]])","v":""},{"$f":"IF(Table1[[#This Row],[Pupil Name]]=\"\",\"\",Table1[[#This Row],[Pupil Name]])","v":""},{"$f":"IF(Table1[[#This Row],[Gender (M/F)]]=\"\",\"\",Table1[[#This Row],[Gender (M/F)]])","v":""},{"$f":"IF(Table1[[#This Row],[DisAdv (Y/N)]]=\"\",\"\",Table1[[#This Row],[DisAdv (Y/N)]])","v":""},{"$f":"IF(Table1[[#This Row],[SEND (E,K,N)]]=\"\",\"\",Table1[[#This Row],[SEND (E,K,N)]])","v":""},"",{"$f":"IF(LEN(Table3[[#This Row],[Pupil Name]])>0,1,0)","v":0}]
[{"$f":"IF(Table1[[#This Row],[School/Group Name]]=\"\",\"\",Table1[[#This Row],[School/Group Name]])","v":""},{"$f":"IF(Table1[[#This Row],[Pupil Name]]=\"\",\"\",Table1[[#This Row],[Pupil Name]])","v":""},{"$f":"IF(Table1[[#This Row],[Gender (M/F)]]=\"\",\"\",Table1[[#This Row],[Gender (M/F)]])","v":""},{"$f":"IF(Table1[[#This Row],[DisAdv (Y/N)]]=\"\",\"\",Table1[[#This Row],[DisAdv (Y/N)]])","v":""},{"$f":"IF(Table1[[#This Row],[SEND (E,K,N)]]=\"\",\"\",Table1[[#This Row],[SEND (E,K,N)]])","v":""},"",{"$f":"IF(LEN(Table3[[#This Row],[Pupil Name]])>0,1,0)","v":0}]
[{"$f":"IF(Table1[[#This Row],[School/Group Name]]=\"\",\"\",Table1[[#This Row],[School/Group Name]])","v":""},{"$f":"IF(Table1[[#This Row],[Pupil Name]]=\"\",\"\",Table1[[#This Row],[Pupil Name]])","v":""},{"$f":"IF(Table1[[#This Row],[Gender (M/F)]]=\"\",\"\",Table1[[#This Row],[Gender (M/F)]])","v":""},{"$f":"IF(Table1[[#This Row],[DisAdv (Y/N)]]=\"\",\"\",Table1[[#This Row],[DisAdv (Y/N)]])","v":""},{"$f":"IF(Table1[[#This Row],[SEND (E,K,N)]]=\"\",\"\",Table1[[#This Row],[SEND (E,K,N)]])","v":""},"",{"$f":"IF(LEN(Table3[[#This Row],[Pupil Name]])>0,1,0)","v":0}]
[{"$f":"IF(Table1[[#This Row],[School/Group Name]]=\"\",\"\",Table1[[#This Row],[School/Group Name]])","v":""},{"$f":"IF(Table1[[#This Row],[Pupil Name]]=\"\",\"\",Table1[[#This Row],[Pupil Name]])","v":""},{"$f":"IF(Table1[[#This Row],[Gender (M/F)]]=\"\",\"\",Table1[[#This Row],[Gender (M/F)]])","v":""},{"$f":"IF(Table1[[#This Row],[DisAdv (Y/N)]]=\"\",\"\",Table1[[#This Row],[DisAdv (Y/N)]])","v":""},{"$f":"IF(Table1[[#This Row],[SEND (E,K,N)]]=\"\",\"\",Table1[[#This Row],[SEND (E,K,N)]])","v":""},"",{"$f":"IF(LEN(Table3[[#This Row],[Pupil Name]])>0,1,0)","v":0}]
[{"$f":"IF(Table1[[#This Row],[School/Group Name]]=\"\",\"\",Table1[[#This Row],[School/Group Name]])","v":""},{"$f":"IF(Table1[[#This Row],[Pupil Name]]=\"\",\"\",Table1[[#This Row],[Pupil Name]])","v":""},{"$f":"IF(Table1[[#This Row],[Gender (M/F)]]=\"\",\"\",Table1[[#This Row],[Gender (M/F)]])","v":""},{"$f":"IF(Table1[[#This Row],[DisAdv (Y/N)]]=\"\",\"\",Table1[[#This Row],[DisAdv (Y/N)]])","v":""},{"$f":"IF(Table1[[#This Row],[SEND (E,K,N)]]=\"\",\"\",Table1[[#This Row],[SEND (E,K,N)]])","v":""},"",{"$f":"IF(LEN(Table3[[#This Row],[Pupil Name]])>0,1,0)","v":0}]
[{"$f":"IF(Table1[[#This Row],[School/Group Name]]=\"\",\"\",Table1[[#This Row],[School/Group Name]])","v":""},{"$f":"IF(Table1[[#This Row],[Pupil Name]]=\"\",\"\",Table1[[#This Row],[Pupil Name]])","v":""},{"$f":"IF(Table1[[#This Row],[Gender (M/F)]]=\"\",\"\",Table1[[#This Row],[Gender (M/F)]])","v":""},{"$f":"IF(Table1[[#This Row],[DisAdv (Y/N)]]=\"\",\"\",Table1[[#This Row],[DisAdv (Y/N)]])","v":""},{"$f":"IF(Table1[[#This Row],[SEND (E,K,N)]]=\"\",\"\",Table1[[#This Row],[SEND (E,K,N)]])","v":""},"",{"$f":"IF(LEN(Table3[[#This Row],[Pupil Name]])>0,1,0)","v":0}]
[{"$f":"IF(Table1[[#This Row],[School/Group Name]]=\"\",\"\",Table1[[#This Row],[School/Group Name]])","v":""},{"$f":"IF(Table1[[#This Row],[Pupil Name]]=\"\",\"\",Table1[[#This Row],[Pupil Name]])","v":""},{"$f":"IF(Table1[[#This Row],[Gender (M/F)]]=\"\",\"\",Table1[[#This Row],[Gender (M/F)]])","v":""},{"$f":"IF(Table1[[#This Row],[DisAdv (Y/N)]]=\"\",\"\",Table1[[#This Row],[DisAdv (Y/N)]])","v":""},{"$f":"IF(Table1[[#This Row],[SEND (E,K,N)]]=\"\",\"\",Table1[[#This Row],[SEND (E,K,N)]])","v":""},"",{"$f":"IF(LEN(Table3[[#This Row],[Pupil Name]])>0,1,0)","v":0}]
[{"$f":"IF(Table1[[#This Row],[School/Group Name]]=\"\",\"\",Table1[[#This Row],[School/Group Name]])","v":""},{"$f":"IF(Table1[[#This Row],[Pupil Name]]=\"\",\"\",Table1[[#This Row],[Pupil Name]])","v":""},{"$f":"IF(Table1[[#This Row],[Gender (M/F)]]=\"\",\"\",Table1[[#This Row],[Gender (M/F)]])","v":""},{"$f":"IF(Table1[[#This Row],[DisAdv (Y/N)]]=\"\",\"\",Table1[[#This Row],[DisAdv (Y/N)]])","v":""},{"$f":"IF(Table1[[#This Row],[SEND (E,K,N)]]=\"\",\"\",Table1[[#This Row],[SEND (E,K,N)]])","v":""},"",{"$f":"IF(LEN(Table3[[#This Row],[Pupil Name]])>0,1,0)","v":0}]
[{"$f":"IF(Table1[[#This Row],[School/Group Name]]=\"\",\"\",Table1[[#This Row],[School/Group Name]])","v":""},{"$f":"IF(Table1[[#This Row],[Pupil Name]]=\"\",\"\",Table1[[#This Row],[Pupil Name]])","v":""},{"$f":"IF(Table1[[#This Row],[Gender (M/F)]]=\"\",\"\",Table1[[#This Row],[Gender (M/F)]])","v":""},{"$f":"IF(Table1[[#This Row],[DisAdv (Y/N)]]=\"\",\"\",Table1[[#This Row],[DisAdv (Y/N)]])","v":""},{"$f":"IF(Table1[[#This Row],[SEND (E,K,N)]]=\"\",\"\",Table1[[#This Row],[SEND (E,K,N)]])","v":""},"",{"$f":"IF(LEN(Table3[[#This Row],[Pupil Name]])>0,1,0)","v":0}]
[{"$f":"IF(Table1[[#This Row],[School/Group Name]]=\"\",\"\",Table1[[#This Row],[School/Group Name]])","v":""},{"$f":"IF(Table1[[#This Row],[Pupil Name]]=\"\",\"\",Table1[[#This Row],[Pupil Name]])","v":""},{"$f":"IF(Table1[[#This Row],[Gender (M/F)]]=\"\",\"\",Table1[[#This Row],[Gender (M/F)]])","v":""},{"$f":"IF(Table1[[#This Row],[DisAdv (Y/N)]]=\"\",\"\",Table1[[#This Row],[DisAdv (Y/N)]])","v":""},{"$f":"IF(Table1[[#This Row],[SEND (E,K,N)]]=\"\",\"\",Table1[[#This Row],[SEND (E,K,N)]])","v":""},"",{"$f":"IF(LEN(Table3[[#This Row],[Pupil Name]])>0,1,0)","v":0}]
[{"$f":"IF(Table1[[#This Row],[School/Group Name]]=\"\",\"\",Table1[[#This Row],[School/Group Name]])","v":""},{"$f":"IF(Table1[[#This Row],[Pupil Name]]=\"\",\"\",Table1[[#This Row],[Pupil Name]])","v":""},{"$f":"IF(Table1[[#This Row],[Gender (M/F)]]=\"\",\"\",Table1[[#This Row],[Gender (M/F)]])","v":""},{"$f":"IF(Table1[[#This Row],[DisAdv (Y/N)]]=\"\",\"\",Table1[[#This Row],[DisAdv (Y/N)]])","v":""},{"$f":"IF(Table1[[#This Row],[SEND (E,K,N)]]=\"\",\"\",Table1[[#This Row],[SEND (E,K,N)]])","v":""},"",{"$f":"IF(LEN(Table3[[#This Row],[Pupil Name]])>0,1,0)","v":0}]
[{"$f":"IF(Table1[[#This Row],[School/Group Name]]=\"\",\"\",Table1[[#This Row],[School/Group Name]])","v":""},{"$f":"IF(Table1[[#This Row],[Pupil Name]]=\"\",\"\",Table1[[#This Row],[Pupil Name]])","v":""},{"$f":"IF(Table1[[#This Row],[Gender (M/F)]]=\"\",\"\",Table1[[#This Row],[Gender (M/F)]])","v":""},{"$f":"IF(Table1[[#This Row],[DisAdv (Y/N)]]=\"\",\"\",Table1[[#This Row],[DisAdv (Y/N)]])","v":""},{"$f":"IF(Table1[[#This Row],[SEND (E,K,N)]]=\"\",\"\",Table1[[#This Row],[SEND (E,K,N)]])","v":""},"",{"$f":"IF(LEN(Table3[[#This Row],[Pupil Name]])>0,1,0)","v":0}]
[{"$f":"IF(Table1[[#This Row],[School/Group Name]]=\"\",\"\",Table1[[#This Row],[School/Group Name]])","v":""},{"$f":"IF(Table1[[#This Row],[Pupil Name]]=\"\",\"\",Table1[[#This Row],[Pupil Name]])","v":""},{"$f":"IF(Table1[[#This Row],[Gender (M/F)]]=\"\",\"\",Table1[[#This Row],[Gender (M/F)]])","v":""},{"$f":"IF(Table1[[#This Row],[DisAdv (Y/N)]]=\"\",\"\",Table1[[#This Row],[DisAdv (Y/N)]])","v":""},{"$f":"IF(Table1[[#This Row],[SEND (E,K,N)]]=\"\",\"\",Table1[[#This Row],[SEND (E,K,N)]])","v":""},"",{"$f":"IF(LEN(Table3[[#This Row],[Pupil Name]])>0,1,0)","v":0}]
[{"$f":"IF(Table1[[#This Row],[School/Group Name]]=\"\",\"\",Table1[[#This Row],[School/Group Name]])","v":""},{"$f":"IF(Table1[[#This Row],[Pupil Name]]=\"\",\"\",Table1[[#This Row],[Pupil Name]])","v":""},{"$f":"IF(Table1[[#This Row],[Gender (M/F)]]=\"\",\"\",Table1[[#This Row],[Gender (M/F)]])","v":""},{"$f":"IF(Table1[[#This Row],[DisAdv (Y/N)]]=\"\",\"\",Table1[[#This Row],[DisAdv (Y/N)]])","v":""},{"$f":"IF(Table1[[#This Row],[SEND (E,K,N)]]=\"\",\"\",Table1[[#This Row],[SEND (E,K,N)]])","v":""},"",{"$f":"IF(LEN(Table3[[#This Row],[Pupil Name]])>0,1,0)","v":0}]
[{"$f":"IF(Table1[[#This Row],[School/Group Name]]=\"\",\"\",Table1[[#This Row],[School/Group Name]])","v":""},{"$f":"IF(Table1[[#This Row],[Pupil Name]]=\"\",\"\",Table1[[#This Row],[Pupil Name]])","v":""},{"$f":"IF(Table1[[#This Row],[Gender (M/F)]]=\"\",\"\",Table1[[#This Row],[Gender (M/F)]])","v":""},{"$f":"IF(Table1[[#This Row],[DisAdv (Y/N)]]=\"\",\"\",Table1[[#This Row],[DisAdv (Y/N)]])","v":""},{"$f":"IF(Table1[[#This Row],[SEND (E,K,N)]]=\"\",\"\",Table1[[#This Row],[SEND (E,K,N)]])","v":""},"",{"$f":"IF(LEN(Table3[[#This Row],[Pupil Name]])>0,1,0)","v":0}]
[{"$f":"IF(Table1[[#This Row],[School/Group Name]]=\"\",\"\",Table1[[#This Row],[School/Group Name]])","v":""},{"$f":"IF(Table1[[#This Row],[Pupil Name]]=\"\",\"\",Table1[[#This Row],[Pupil Name]])","v":""},{"$f":"IF(Table1[[#This Row],[Gender (M/F)]]=\"\",\"\",Table1[[#This Row],[Gender (M/F)]])","v":""},{"$f":"IF(Table1[[#This Row],[DisAdv (Y/N)]]=\"\",\"\",Table1[[#This Row],[DisAdv (Y/N)]])","v":""},{"$f":"IF(Table1[[#This Row],[SEND (E,K,N)]]=\"\",\"\",Table1[[#This Row],[SEND (E,K,N)]])","v":""},"",{"$f":"IF(LEN(Table3[[#This Row],[Pupil Name]])>0,1,0)","v":0}]
[{"$f":"IF(Table1[[#This Row],[School/Group Name]]=\"\",\"\",Table1[[#This Row],[School/Group Name]])","v":""},{"$f":"IF(Table1[[#This Row],[Pupil Name]]=\"\",\"\",Table1[[#This Row],[Pupil Name]])","v":""},{"$f":"IF(Table1[[#This Row],[Gender (M/F)]]=\"\",\"\",Table1[[#This Row],[Gender (M/F)]])","v":""},{"$f":"IF(Table1[[#This Row],[DisAdv (Y/N)]]=\"\",\"\",Table1[[#This Row],[DisAdv (Y/N)]])","v":""},{"$f":"IF(Table1[[#This Row],[SEND (E,K,N)]]=\"\",\"\",Table1[[#This Row],[SEND (E,K,N)]])","v":""},"",{"$f":"IF(LEN(Table3[[#This Row],[Pupil Name]])>0,1,0)","v":0}]
[{"$f":"IF(Table1[[#This Row],[School/Group Name]]=\"\",\"\",Table1[[#This Row],[School/Group Name]])","v":""},{"$f":"IF(Table1[[#This Row],[Pupil Name]]=\"\",\"\",Table1[[#This Row],[Pupil Name]])","v":""},{"$f":"IF(Table1[[#This Row],[Gender (M/F)]]=\"\",\"\",Table1[[#This Row],[Gender (M/F)]])","v":""},{"$f":"IF(Table1[[#This Row],[DisAdv (Y/N)]]=\"\",\"\",Table1[[#This Row],[DisAdv (Y/N)]])","v":""},{"$f":"IF(Table1[[#This Row],[SEND (E,K,N)]]=\"\",\"\",Table1[[#This Row],[SEND (E,K,N)]])","v":""},"",{"$f":"IF(LEN(Table3[[#This Row],[Pupil Name]])>0,1,0)","v":0}]
[{"$f":"IF(Table1[[#This Row],[School/Group Name]]=\"\",\"\",Table1[[#This Row],[School/Group Name]])","v":""},{"$f":"IF(Table1[[#This Row],[Pupil Name]]=\"\",\"\",Table1[[#This Row],[Pupil Name]])","v":""},{"$f":"IF(Table1[[#This Row],[Gender (M/F)]]=\"\",\"\",Table1[[#This Row],[Gender (M/F)]])","v":""},{"$f":"IF(Table1[[#This Row],[DisAdv (Y/N)]]=\"\",\"\",Table1[[#This Row],[DisAdv (Y/N)]])","v":""},{"$f":"IF(Table1[[#This Row],[SEND (E,K,N)]]=\"\",\"\",Table1[[#This Row],[SEND (E,K,N)]])","v":""},"",{"$f":"IF(LEN(Table3[[#This Row],[Pupil Name]])>0,1,0)","v":0}]
[{"$f":"IF(Table1[[#This Row],[School/Group Name]]=\"\",\"\",Table1[[#This Row],[School/Group Name]])","v":""},{"$f":"IF(Table1[[#This Row],[Pupil Name]]=\"\",\"\",Table1[[#This Row],[Pupil Name]])","v":""},{"$f":"IF(Table1[[#This Row],[Gender (M/F)]]=\"\",\"\",Table1[[#This Row],[Gender (M/F)]])","v":""},{"$f":"IF(Table1[[#This Row],[DisAdv (Y/N)]]=\"\",\"\",Table1[[#This Row],[DisAdv (Y/N)]])","v":""},{"$f":"IF(Table1[[#This Row],[SEND (E,K,N)]]=\"\",\"\",Table1[[#This Row],[SEND (E,K,N)]])","v":""},"",{"$f":"IF(LEN(Table3[[#This Row],[Pupil Name]])>0,1,0)","v":0}]
[{"$f":"IF(Table1[[#This Row],[School/Group Name]]=\"\",\"\",Table1[[#This Row],[School/Group Name]])","v":""},{"$f":"IF(Table1[[#This Row],[Pupil Name]]=\"\",\"\",Table1[[#This Row],[Pupil Name]])","v":""},{"$f":"IF(Table1[[#This Row],[Gender (M/F)]]=\"\",\"\",Table1[[#This Row],[Gender (M/F)]])","v":""},{"$f":"IF(Table1[[#This Row],[DisAdv (Y/N)]]=\"\",\"\",Table1[[#This Row],[DisAdv (Y/N)]])","v":""},{"$f":"IF(Table1[[#This Row],[SEND (E,K,N)]]=\"\",\"\",Table1[[#This Row],[SEND (E,K,N)]])","v":""},"",{"$f":"IF(LEN(Table3[[#This Row],[Pupil Name]])>0,1,0)","v":0}]
[{"$f":"IF(Table1[[#This Row],[School/Group Name]]=\"\",\"\",Table1[[#This Row],[School/Group Name]])","v":""},{"$f":"IF(Table1[[#This Row],[Pupil Name]]=\"\",\"\",Table1[[#This Row],[Pupil Name]])","v":""},{"$f":"IF(Table1[[#This Row],[Gender (M/F)]]=\"\",\"\",Table1[[#This Row],[Gender (M/F)]])","v":""},{"$f":"IF(Table1[[#This Row],[DisAdv (Y/N)]]=\"\",\"\",Table1[[#This Row],[DisAdv (Y/N)]])","v":""},{"$f":"IF(Table1[[#This Row],[SEND (E,K,N)]]=\"\",\"\",Table1[[#This Row],[SEND (E,K,N)]])","v":""},"",{"$f":"IF(LEN(Table3[[#This Row],[Pupil Name]])>0,1,0)","v":0}]
[{"$f":"IF(Table1[[#This Row],[School/Group Name]]=\"\",\"\",Table1[[#This Row],[School/Group Name]])","v":""},{"$f":"IF(Table1[[#This Row],[Pupil Name]]=\"\",\"\",Table1[[#This Row],[Pupil Name]])","v":""},{"$f":"IF(Table1[[#This Row],[Gender (M/F)]]=\"\",\"\",Table1[[#This Row],[Gender (M/F)]])","v":""},{"$f":"IF(Table1[[#This Row],[DisAdv (Y/N)]]=\"\",\"\",Table1[[#This Row],[DisAdv (Y/N)]])","v":""},{"$f":"IF(Table1[[#This Row],[SEND (E,K,N)]]=\"\",\"\",Table1[[#This Row],[SEND (E,K,N)]])","v":""},"",{"$f":"IF(LEN(Table3[[#This Row],[Pupil Name]])>0,1,0)","v":0}]
[{"$f":"IF(Table1[[#This Row],[School/Group Name]]=\"\",\"\",Table1[[#This Row],[School/Group Name]])","v":""},{"$f":"IF(Table1[[#This Row],[Pupil Name]]=\"\",\"\",Table1[[#This Row],[Pupil Name]])","v":""},{"$f":"IF(Table1[[#This Row],[Gender (M/F)]]=\"\",\"\",Table1[[#This Row],[Gender (M/F)]])","v":""},{"$f":"IF(Table1[[#This Row],[DisAdv (Y/N)]]=\"\",\"\",Table1[[#This Row],[DisAdv (Y/N)]])","v":""},{"$f":"IF(Table1[[#This Row],[SEND (E,K,N)]]=\"\",\"\",Table1[[#This Row],[SEND (E,K,N)]])","v":""},"",{"$f":"IF(LEN(Table3[[#This Row],[Pupil Name]])>0,1,0)","v":0}]
[{"$f":"IF(Table1[[#This Row],[School/Group Name]]=\"\",\"\",Table1[[#This Row],[School/Group Name]])","v":""},{"$f":"IF(Table1[[#This Row],[Pupil Name]]=\"\",\"\",Table1[[#This Row],[Pupil Name]])","v":""},{"$f":"IF(Table1[[#This Row],[Gender (M/F)]]=\"\",\"\",Table1[[#This Row],[Gender (M/F)]])","v":""},{"$f":"IF(Table1[[#This Row],[DisAdv (Y/N)]]=\"\",\"\",Table1[[#This Row],[DisAdv (Y/N)]])","v":""},{"$f":"IF(Table1[[#This Row],[SEND (E,K,N)]]=\"\",\"\",Table1[[#This Row],[SEND (E,K,N)]])","v":""},"",{"$f":"IF(LEN(Table3[[#This Row],[Pupil Name]])>0,1,0)","v":0}]
[{"$f":"IF(Table1[[#This Row],[School/Group Name]]=\"\",\"\",Table1[[#This Row],[School/Group Name]])","v":""},{"$f":"IF(Table1[[#This Row],[Pupil Name]]=\"\",\"\",Table1[[#This Row],[Pupil Name]])","v":""},{"$f":"IF(Table1[[#This Row],[Gender (M/F)]]=\"\",\"\",Table1[[#This Row],[Gender (M/F)]])","v":""},{"$f":"IF(Table1[[#This Row],[DisAdv (Y/N)]]=\"\",\"\",Table1[[#This Row],[DisAdv (Y/N)]])","v":""},{"$f":"IF(Table1[[#This Row],[SEND (E,K,N)]]=\"\",\"\",Table1[[#This Row],[SEND (E,K,N)]])","v":""},"",{"$f":"IF(LEN(Table3[[#This Row],[Pupil Name]])>0,1,0)","v":0}]
[{"$f":"IF(Table1[[#This Row],[School/Group Name]]=\"\",\"\",Table1[[#This Row],[School/Group Name]])","v":""},{"$f":"IF(Table1[[#This Row],[Pupil Name]]=\"\",\"\",Table1[[#This Row],[Pupil Name]])","v":""},{"$f":"IF(Table1[[#This Row],[Gender (M/F)]]=\"\",\"\",Table1[[#This Row],[Gender (M/F)]])","v":""},{"$f":"IF(Table1[[#This Row],[DisAdv (Y/N)]]=\"\",\"\",Table1[[#This Row],[DisAdv (Y/N)]])","v":""},{"$f":"IF(Table1[[#This Row],[SEND (E,K,N)]]=\"\",\"\",Table1[[#This Row],[SEND (E,K,N)]])","v":""},"",{"$f":"IF(LEN(Table3[[#This Row],[Pupil Name]])>0,1,0)","v":0}]
[{"$f":"IF(Table1[[#This Row],[School/Group Name]]=\"\",\"\",Table1[[#This Row],[School/Group Name]])","v":""},{"$f":"IF(Table1[[#This Row],[Pupil Name]]=\"\",\"\",Table1[[#This Row],[Pupil Name]])","v":""},{"$f":"IF(Table1[[#This Row],[Gender (M/F)]]=\"\",\"\",Table1[[#This Row],[Gender (M/F)]])","v":""},{"$f":"IF(Table1[[#This Row],[DisAdv (Y/N)]]=\"\",\"\",Table1[[#This Row],[DisAdv (Y/N)]])","v":""},{"$f":"IF(Table1[[#This Row],[SEND (E,K,N)]]=\"\",\"\",Table1[[#This Row],[SEND (E,K,N)]])","v":""},"",{"$f":"IF(LEN(Table3[[#This Row],[Pupil Name]])>0,1,0)","v":0}]
[{"$f":"IF(Table1[[#This Row],[School/Group Name]]=\"\",\"\",Table1[[#This Row],[School/Group Name]])","v":""},{"$f":"IF(Table1[[#This Row],[Pupil Name]]=\"\",\"\",Table1[[#This Row],[Pupil Name]])","v":""},{"$f":"IF(Table1[[#This Row],[Gender (M/F)]]=\"\",\"\",Table1[[#This Row],[Gender (M/F)]])","v":""},{"$f":"IF(Table1[[#This Row],[DisAdv (Y/N)]]=\"\",\"\",Table1[[#This Row],[DisAdv (Y/N)]])","v":""},{"$f":"IF(Table1[[#This Row],[SEND (E,K,N)]]=\"\",\"\",Table1[[#This Row],[SEND (E,K,N)]])","v":""},"",{"$f":"IF(LEN(Table3[[#This Row],[Pupil Name]])>0,1,0)","v":0}]
[{"$f":"IF(Table1[[#This Row],[School/Group Name]]=\"\",\"\",Table1[[#This Row],[School/Group Name]])","v":""},{"$f":"IF(Table1[[#This Row],[Pupil Name]]=\"\",\"\",Table1[[#This Row],[Pupil Name]])","v":""},{"$f":"IF(Table1[[#This Row],[Gender (M/F)]]=\"\",\"\",Table1[[#This Row],[Gender (M/F)]])","v":""},{"$f":"IF(Table1[[#This Row],[DisAdv (Y/N)]]=\"\",\"\",Table1[[#This Row],[DisAdv (Y/N)]])","v":""},{"$f":"IF(Table1[[#This Row],[SEND (E,K,N)]]=\"\",\"\",Table1[[#This Row],[SEND (E,K,N)]])","v":""},"",{"$f":"IF(LEN(Table3[[#This Row],[Pupil Name]])>0,1,0)","v":0}]
[{"$f":"IF(Table1[[#This Row],[School/Group Name]]=\"\",\"\",Table1[[#This Row],[School/Group Name]])","v":""},{"$f":"IF(Table1[[#This Row],[Pupil Name]]=\"\",\"\",Table1[[#This Row],[Pupil Name]])","v":""},{"$f":"IF(Table1[[#This Row],[Gender (M/F)]]=\"\",\"\",Table1[[#This Row],[Gender (M/F)]])","v":""},{"$f":"IF(Table1[[#This Row],[DisAdv (Y/N)]]=\"\",\"\",Table1[[#This Row],[DisAdv (Y/N)]])","v":""},{"$f":"IF(Table1[[#This Row],[SEND (E,K,N)]]=\"\",\"\",Table1[[#This Row],[SEND (E,K,N)]])","v":""},"",{"$f":"IF(LEN(Table3[[#This Row],[Pupil Name]])>0,1,0)","v":0}]
[{"$f":"IF(Table1[[#This Row],[School/Group Name]]=\"\",\"\",Table1[[#This Row],[School/Group Name]])","v":""},{"$f":"IF(Table1[[#This Row],[Pupil Name]]=\"\",\"\",Table1[[#This Row],[Pupil Name]])","v":""},{"$f":"IF(Table1[[#This Row],[Gender (M/F)]]=\"\",\"\",Table1[[#This Row],[Gender (M/F)]])","v":""},{"$f":"IF(Table1[[#This Row],[DisAdv (Y/N)]]=\"\",\"\",Table1[[#This Row],[DisAdv (Y/N)]])","v":""},{"$f":"IF(Table1[[#This Row],[SEND (E,K,N)]]=\"\",\"\",Table1[[#This Row],[SEND (E,K,N)]])","v":""},"",{"$f":"IF(LEN(Table3[[#This Row],[Pupil Name]])>0,1,0)","v":0}]
[{"$f":"IF(Table1[[#This Row],[School/Group Name]]=\"\",\"\",Table1[[#This Row],[School/Group Name]])","v":""},{"$f":"IF(Table1[[#This Row],[Pupil Name]]=\"\",\"\",Table1[[#This Row],[Pupil Name]])","v":""},{"$f":"IF(Table1[[#This Row],[Gender (M/F)]]=\"\",\"\",Table1[[#This Row],[Gender (M/F)]])","v":""},{"$f":"IF(Table1[[#This Row],[DisAdv (Y/N)]]=\"\",\"\",Table1[[#This Row],[DisAdv (Y/N)]])","v":""},{"$f":"IF(Table1[[#This Row],[SEND (E,K,N)]]=\"\",\"\",Table1[[#This Row],[SEND (E,K,N)]])","v":""},"",{"$f":"IF(LEN(Table3[[#This Row],[Pupil Name]])>0,1,0)","v":0}]
[{"$f":"IF(Table1[[#This Row],[School/Group Name]]=\"\",\"\",Table1[[#This Row],[School/Group Name]])","v":""},{"$f":"IF(Table1[[#This Row],[Pupil Name]]=\"\",\"\",Table1[[#This Row],[Pupil Name]])","v":""},{"$f":"IF(Table1[[#This Row],[Gender (M/F)]]=\"\",\"\",Table1[[#This Row],[Gender (M/F)]])","v":""},{"$f":"IF(Table1[[#This Row],[DisAdv (Y/N)]]=\"\",\"\",Table1[[#This Row],[DisAdv (Y/N)]])","v":""},{"$f":"IF(Table1[[#This Row],[SEND (E,K,N)]]=\"\",\"\",Table1[[#This Row],[SEND (E,K,N)]])","v":""},"",{"$f":"IF(LEN(Table3[[#This Row],[Pupil Name]])>0,1,0)","v":0}]
[{"$f":"IF(Table1[[#This Row],[School/Group Name]]=\"\",\"\",Table1[[#This Row],[School/Group Name]])","v":""},{"$f":"IF(Table1[[#This Row],[Pupil Name]]=\"\",\"\",Table1[[#This Row],[Pupil Name]])","v":""},{"$f":"IF(Table1[[#This Row],[Gender (M/F)]]=\"\",\"\",Table1[[#This Row],[Gender (M/F)]])","v":""},{"$f":"IF(Table1[[#This Row],[DisAdv (Y/N)]]=\"\",\"\",Table1[[#This Row],[DisAdv (Y/N)]])","v":""},{"$f":"IF(Table1[[#This Row],[SEND (E,K,N)]]=\"\",\"\",Table1[[#This Row],[SEND (E,K,N)]])","v":""},"",{"$f":"IF(LEN(Table3[[#This Row],[Pupil Name]])>0,1,0)","v":0}]
[{"$f":"IF(Table1[[#This Row],[School/Group Name]]=\"\",\"\",Table1[[#This Row],[School/Group Name]])","v":""},{"$f":"IF(Table1[[#This Row],[Pupil Name]]=\"\",\"\",Table1[[#This Row],[Pupil Name]])","v":""},{"$f":"IF(Table1[[#This Row],[Gender (M/F)]]=\"\",\"\",Table1[[#This Row],[Gender (M/F)]])","v":""},{"$f":"IF(Table1[[#This Row],[DisAdv (Y/N)]]=\"\",\"\",Table1[[#This Row],[DisAdv (Y/N)]])","v":""},{"$f":"IF(Table1[[#This Row],[SEND (E,K,N)]]=\"\",\"\",Table1[[#This Row],[SEND (E,K,N)]])","v":""},"",{"$f":"IF(LEN(Table3[[#This Row],[Pupil Name]])>0,1,0)","v":0}]
[{"$f":"IF(Table1[[#This Row],[School/Group Name]]=\"\",\"\",Table1[[#This Row],[School/Group Name]])","v":""},{"$f":"IF(Table1[[#This Row],[Pupil Name]]=\"\",\"\",Table1[[#This Row],[Pupil Name]])","v":""},{"$f":"IF(Table1[[#This Row],[Gender (M/F)]]=\"\",\"\",Table1[[#This Row],[Gender (M/F)]])","v":""},{"$f":"IF(Table1[[#This Row],[DisAdv (Y/N)]]=\"\",\"\",Table1[[#This Row],[DisAdv (Y/N)]])","v":""},{"$f":"IF(Table1[[#This Row],[SEND (E,K,N)]]=\"\",\"\",Table1[[#This Row],[SEND (E,K,N)]])","v":""},"",{"$f":"IF(LEN(Table3[[#This Row],[Pupil Name]])>0,1,0)","v":0}]
[{"$f":"IF(Table1[[#This Row],[School/Group Name]]=\"\",\"\",Table1[[#This Row],[School/Group Name]])","v":""},{"$f":"IF(Table1[[#This Row],[Pupil Name]]=\"\",\"\",Table1[[#This Row],[Pupil Name]])","v":""},{"$f":"IF(Table1[[#This Row],[Gender (M/F)]]=\"\",\"\",Table1[[#This Row],[Gender (M/F)]])","v":""},{"$f":"IF(Table1[[#This Row],[DisAdv (Y/N)]]=\"\",\"\",Table1[[#This Row],[DisAdv (Y/N)]])","v":""},{"$f":"IF(Table1[[#This Row],[SEND (E,K,N)]]=\"\",\"\",Table1[[#This Row],[SEND (E,K,N)]])","v":""},"",{"$f":"IF(LEN(Table3[[#This Row],[Pupil Name]])>0,1,0)","v":0}]
[{"$f":"IF(Table1[[#This Row],[School/Group Name]]=\"\",\"\",Table1[[#This Row],[School/Group Name]])","v":""},{"$f":"IF(Table1[[#This Row],[Pupil Name]]=\"\",\"\",Table1[[#This Row],[Pupil Name]])","v":""},{"$f":"IF(Table1[[#This Row],[Gender (M/F)]]=\"\",\"\",Table1[[#This Row],[Gender (M/F)]])","v":""},{"$f":"IF(Table1[[#This Row],[DisAdv (Y/N)]]=\"\",\"\",Table1[[#This Row],[DisAdv (Y/N)]])","v":""},{"$f":"IF(Table1[[#This Row],[SEND (E,K,N)]]=\"\",\"\",Table1[[#This Row],[SEND (E,K,N)]])","v":""},"",{"$f":"IF(LEN(Table3[[#This Row],[Pupil Name]])>0,1,0)","v":0}]
[{"$f":"IF(Table1[[#This Row],[School/Group Name]]=\"\",\"\",Table1[[#This Row],[School/Group Name]])","v":""},{"$f":"IF(Table1[[#This Row],[Pupil Name]]=\"\",\"\",Table1[[#This Row],[Pupil Name]])","v":""},{"$f":"IF(Table1[[#This Row],[Gender (M/F)]]=\"\",\"\",Table1[[#This Row],[Gender (M/F)]])","v":""},{"$f":"IF(Table1[[#This Row],[DisAdv (Y/N)]]=\"\",\"\",Table1[[#This Row],[DisAdv (Y/N)]])","v":""},{"$f":"IF(Table1[[#This Row],[SEND (E,K,N)]]=\"\",\"\",Table1[[#This Row],[SEND (E,K,N)]])","v":""},"",{"$f":"IF(LEN(Table3[[#This Row],[Pupil Name]])>0,1,0)","v":0}]
[{"$f":"IF(Table1[[#This Row],[School/Group Name]]=\"\",\"\",Table1[[#This Row],[School/Group Name]])","v":""},{"$f":"IF(Table1[[#This Row],[Pupil Name]]=\"\",\"\",Table1[[#This Row],[Pupil Name]])","v":""},{"$f":"IF(Table1[[#This Row],[Gender (M/F)]]=\"\",\"\",Table1[[#This Row],[Gender (M/F)]])","v":""},{"$f":"IF(Table1[[#This Row],[DisAdv (Y/N)]]=\"\",\"\",Table1[[#This Row],[DisAdv (Y/N)]])","v":""},{"$f":"IF(Table1[[#This Row],[SEND (E,K,N)]]=\"\",\"\",Table1[[#This Row],[SEND (E,K,N)]])","v":""},{"$f":"IF(H391=\"\",\"\",(SUM(H391:AH391)))","v":""},{"$f":"IF(LEN(Table3[[#This Row],[Pupil Name]])>0,1,0)","v":0}]
[{"$f":"IF(Table1[[#This Row],[School/Group Name]]=\"\",\"\",Table1[[#This Row],[School/Group Name]])","v":""},{"$f":"IF(Table1[[#This Row],[Pupil Name]]=\"\",\"\",Table1[[#This Row],[Pupil Name]])","v":""},{"$f":"IF(Table1[[#This Row],[Gender (M/F)]]=\"\",\"\",Table1[[#This Row],[Gender (M/F)]])","v":""},{"$f":"IF(Table1[[#This Row],[DisAdv (Y/N)]]=\"\",\"\",Table1[[#This Row],[DisAdv (Y/N)]])","v":""},{"$f":"IF(Table1[[#This Row],[SEND (E,K,N)]]=\"\",\"\",Table1[[#This Row],[SEND (E,K,N)]])","v":""},"",{"$f":"IF(LEN(Table3[[#This Row],[Pupil Name]])>0,1,0)","v":0}]
[{"$f":"IF(Table1[[#This Row],[School/Group Name]]=\"\",\"\",Table1[[#This Row],[School/Group Name]])","v":""},{"$f":"IF(Table1[[#This Row],[Pupil Name]]=\"\",\"\",Table1[[#This Row],[Pupil Name]])","v":""},{"$f":"IF(Table1[[#This Row],[Gender (M/F)]]=\"\",\"\",Table1[[#This Row],[Gender (M/F)]])","v":""},{"$f":"IF(Table1[[#This Row],[DisAdv (Y/N)]]=\"\",\"\",Table1[[#This Row],[DisAdv (Y/N)]])","v":""},{"$f":"IF(Table1[[#This Row],[SEND (E,K,N)]]=\"\",\"\",Table1[[#This Row],[SEND (E,K,N)]])","v":""},"",{"$f":"IF(LEN(Table3[[#This Row],[Pupil Name]])>0,1,0)","v":0}]
[{"$f":"IF(Table1[[#This Row],[School/Group Name]]=\"\",\"\",Table1[[#This Row],[School/Group Name]])","v":""},{"$f":"IF(Table1[[#This Row],[Pupil Name]]=\"\",\"\",Table1[[#This Row],[Pupil Name]])","v":""},{"$f":"IF(Table1[[#This Row],[Gender (M/F)]]=\"\",\"\",Table1[[#This Row],[Gender (M/F)]])","v":""},{"$f":"IF(Table1[[#This Row],[DisAdv (Y/N)]]=\"\",\"\",Table1[[#This Row],[DisAdv (Y/N)]])","v":""},{"$f":"IF(Table1[[#This Row],[SEND (E,K,N)]]=\"\",\"\",Table1[[#This Row],[SEND (E,K,N)]])","v":""},"",{"$f":"IF(LEN(Table3[[#This Row],[Pupil Name]])>0,1,0)","v":0}]
[{"$f":"IF(Table1[[#This Row],[School/Group Name]]=\"\",\"\",Table1[[#This Row],[School/Group Name]])","v":""},{"$f":"IF(Table1[[#This Row],[Pupil Name]]=\"\",\"\",Table1[[#This Row],[Pupil Name]])","v":""},{"$f":"IF(Table1[[#This Row],[Gender (M/F)]]=\"\",\"\",Table1[[#This Row],[Gender (M/F)]])","v":""},{"$f":"IF(Table1[[#This Row],[DisAdv (Y/N)]]=\"\",\"\",Table1[[#This Row],[DisAdv (Y/N)]])","v":""},{"$f":"IF(Table1[[#This Row],[SEND (E,K,N)]]=\"\",\"\",Table1[[#This Row],[SEND (E,K,N)]])","v":""},"",{"$f":"IF(LEN(Table3[[#This Row],[Pupil Name]])>0,1,0)","v":0}]
[{"$f":"IF(Table1[[#This Row],[School/Group Name]]=\"\",\"\",Table1[[#This Row],[School/Group Name]])","v":""},{"$f":"IF(Table1[[#This Row],[Pupil Name]]=\"\",\"\",Table1[[#This Row],[Pupil Name]])","v":""},{"$f":"IF(Table1[[#This Row],[Gender (M/F)]]=\"\",\"\",Table1[[#This Row],[Gender (M/F)]])","v":""},{"$f":"IF(Table1[[#This Row],[DisAdv (Y/N)]]=\"\",\"\",Table1[[#This Row],[DisAdv (Y/N)]])","v":""},{"$f":"IF(Table1[[#This Row],[SEND (E,K,N)]]=\"\",\"\",Table1[[#This Row],[SEND (E,K,N)]])","v":""},"",{"$f":"IF(LEN(Table3[[#This Row],[Pupil Name]])>0,1,0)","v":0}]
[{"$f":"IF(Table1[[#This Row],[School/Group Name]]=\"\",\"\",Table1[[#This Row],[School/Group Name]])","v":""},{"$f":"IF(Table1[[#This Row],[Pupil Name]]=\"\",\"\",Table1[[#This Row],[Pupil Name]])","v":""},{"$f":"IF(Table1[[#This Row],[Gender (M/F)]]=\"\",\"\",Table1[[#This Row],[Gender (M/F)]])","v":""},{"$f":"IF(Table1[[#This Row],[DisAdv (Y/N)]]=\"\",\"\",Table1[[#This Row],[DisAdv (Y/N)]])","v":""},{"$f":"IF(Table1[[#This Row],[SEND (E,K,N)]]=\"\",\"\",Table1[[#This Row],[SEND (E,K,N)]])","v":""},"",{"$f":"IF(LEN(Table3[[#This Row],[Pupil Name]])>0,1,0)","v":0}]
[{"$f":"IF(Table1[[#This Row],[School/Group Name]]=\"\",\"\",Table1[[#This Row],[School/Group Name]])","v":""},{"$f":"IF(Table1[[#This Row],[Pupil Name]]=\"\",\"\",Table1[[#This Row],[Pupil Name]])","v":""},{"$f":"IF(Table1[[#This Row],[Gender (M/F)]]=\"\",\"\",Table1[[#This Row],[Gender (M/F)]])","v":""},{"$f":"IF(Table1[[#This Row],[DisAdv (Y/N)]]=\"\",\"\",Table1[[#This Row],[DisAdv (Y/N)]])","v":""},{"$f":"IF(Table1[[#This Row],[SEND (E,K,N)]]=\"\",\"\",Table1[[#This Row],[SEND (E,K,N)]])","v":""},"",{"$f":"IF(LEN(Table3[[#This Row],[Pupil Name]])>0,1,0)","v":0}]
[{"$f":"IF(Table1[[#This Row],[School/Group Name]]=\"\",\"\",Table1[[#This Row],[School/Group Name]])","v":""},{"$f":"IF(Table1[[#This Row],[Pupil Name]]=\"\",\"\",Table1[[#This Row],[Pupil Name]])","v":""},{"$f":"IF(Table1[[#This Row],[Gender (M/F)]]=\"\",\"\",Table1[[#This Row],[Gender (M/F)]])","v":""},{"$f":"IF(Table1[[#This Row],[DisAdv (Y/N)]]=\"\",\"\",Table1[[#This Row],[DisAdv (Y/N)]])","v":""},{"$f":"IF(Table1[[#This Row],[SEND (E,K,N)]]=\"\",\"\",Table1[[#This Row],[SEND (E,K,N)]])","v":""},"",{"$f":"IF(LEN(Table3[[#This Row],[Pupil Name]])>0,1,0)","v":0}]
[{"$f":"IF(Table1[[#This Row],[School/Group Name]]=\"\",\"\",Table1[[#This Row],[School/Group Name]])","v":""},{"$f":"IF(Table1[[#This Row],[Pupil Name]]=\"\",\"\",Table1[[#This Row],[Pupil Name]])","v":""},{"$f":"IF(Table1[[#This Row],[Gender (M/F)]]=\"\",\"\",Table1[[#This Row],[Gender (M/F)]])","v":""},{"$f":"IF(Table1[[#This Row],[DisAdv (Y/N)]]=\"\",\"\",Table1[[#This Row],[DisAdv (Y/N)]])","v":""},{"$f":"IF(Table1[[#This Row],[SEND (E,K,N)]]=\"\",\"\",Table1[[#This Row],[SEND (E,K,N)]])","v":""},"",{"$f":"IF(LEN(Table3[[#This Row],[Pupil Name]])>0,1,0)","v":0}]
[{"$f":"IF(Table1[[#This Row],[School/Group Name]]=\"\",\"\",Table1[[#This Row],[School/Group Name]])","v":""},{"$f":"IF(Table1[[#This Row],[Pupil Name]]=\"\",\"\",Table1[[#This Row],[Pupil Name]])","v":""},{"$f":"IF(Table1[[#This Row],[Gender (M/F)]]=\"\",\"\",Table1[[#This Row],[Gender (M/F)]])","v":""},{"$f":"IF(Table1[[#This Row],[DisAdv (Y/N)]]=\"\",\"\",Table1[[#This Row],[DisAdv (Y/N)]])","v":""},{"$f":"IF(Table1[[#This Row],[SEND (E,K,N)]]=\"\",\"\",Table1[[#This Row],[SEND (E,K,N)]])","v":""},"",{"$f":"IF(LEN(Table3[[#This Row],[Pupil Name]])>0,1,0)","v":0}]
[{"$f":"IF(Table1[[#This Row],[School/Group Name]]=\"\",\"\",Table1[[#This Row],[School/Group Name]])","v":""},{"$f":"IF(Table1[[#This Row],[Pupil Name]]=\"\",\"\",Table1[[#This Row],[Pupil Name]])","v":""},{"$f":"IF(Table1[[#This Row],[Gender (M/F)]]=\"\",\"\",Table1[[#This Row],[Gender (M/F)]])","v":""},{"$f":"IF(Table1[[#This Row],[DisAdv (Y/N)]]=\"\",\"\",Table1[[#This Row],[DisAdv (Y/N)]])","v":""},{"$f":"IF(Table1[[#This Row],[SEND (E,K,N)]]=\"\",\"\",Table1[[#This Row],[SEND (E,K,N)]])","v":""},"",{"$f":"IF(LEN(Table3[[#This Row],[Pupil Name]])>0,1,0)","v":0}]
[{"$f":"IF(Table1[[#This Row],[School/Group Name]]=\"\",\"\",Table1[[#This Row],[School/Group Name]])","v":""},{"$f":"IF(Table1[[#This Row],[Pupil Name]]=\"\",\"\",Table1[[#This Row],[Pupil Name]])","v":""},{"$f":"IF(Table1[[#This Row],[Gender (M/F)]]=\"\",\"\",Table1[[#This Row],[Gender (M/F)]])","v":""},{"$f":"IF(Table1[[#This Row],[DisAdv (Y/N)]]=\"\",\"\",Table1[[#This Row],[DisAdv (Y/N)]])","v":""},{"$f":"IF(Table1[[#This Row],[SEND (E,K,N)]]=\"\",\"\",Table1[[#This Row],[SEND (E,K,N)]])","v":""},"",{"$f":"IF(LEN(Table3[[#This Row],[Pupil Name]])>0,1,0)","v":0}]
[{"$f":"IF(Table1[[#This Row],[School/Group Name]]=\"\",\"\",Table1[[#This Row],[School/Group Name]])","v":""},{"$f":"IF(Table1[[#This Row],[Pupil Name]]=\"\",\"\",Table1[[#This Row],[Pupil Name]])","v":""},{"$f":"IF(Table1[[#This Row],[Gender (M/F)]]=\"\",\"\",Table1[[#This Row],[Gender (M/F)]])","v":""},{"$f":"IF(Table1[[#This Row],[DisAdv (Y/N)]]=\"\",\"\",Table1[[#This Row],[DisAdv (Y/N)]])","v":""},{"$f":"IF(Table1[[#This Row],[SEND (E,K,N)]]=\"\",\"\",Table1[[#This Row],[SEND (E,K,N)]])","v":""},"",{"$f":"IF(LEN(Table3[[#This Row],[Pupil Name]])>0,1,0)","v":0}]
[{"$f":"IF(Table1[[#This Row],[School/Group Name]]=\"\",\"\",Table1[[#This Row],[School/Group Name]])","v":""},{"$f":"IF(Table1[[#This Row],[Pupil Name]]=\"\",\"\",Table1[[#This Row],[Pupil Name]])","v":""},{"$f":"IF(Table1[[#This Row],[Gender (M/F)]]=\"\",\"\",Table1[[#This Row],[Gender (M/F)]])","v":""},{"$f":"IF(Table1[[#This Row],[DisAdv (Y/N)]]=\"\",\"\",Table1[[#This Row],[DisAdv (Y/N)]])","v":""},{"$f":"IF(Table1[[#This Row],[SEND (E,K,N)]]=\"\",\"\",Table1[[#This Row],[SEND (E,K,N)]])","v":""},"",{"$f":"IF(LEN(Table3[[#This Row],[Pupil Name]])>0,1,0)","v":0}]
[{"$f":"IF(Table1[[#This Row],[School/Group Name]]=\"\",\"\",Table1[[#This Row],[School/Group Name]])","v":""},{"$f":"IF(Table1[[#This Row],[Pupil Name]]=\"\",\"\",Table1[[#This Row],[Pupil Name]])","v":""},{"$f":"IF(Table1[[#This Row],[Gender (M/F)]]=\"\",\"\",Table1[[#This Row],[Gender (M/F)]])","v":""},{"$f":"IF(Table1[[#This Row],[DisAdv (Y/N)]]=\"\",\"\",Table1[[#This Row],[DisAdv (Y/N)]])","v":""},{"$f":"IF(Table1[[#This Row],[SEND (E,K,N)]]=\"\",\"\",Table1[[#This Row],[SEND (E,K,N)]])","v":""},"",{"$f":"IF(LEN(Table3[[#This Row],[Pupil Name]])>0,1,0)","v":0}]
[{"$f":"IF(Table1[[#This Row],[School/Group Name]]=\"\",\"\",Table1[[#This Row],[School/Group Name]])","v":""},{"$f":"IF(Table1[[#This Row],[Pupil Name]]=\"\",\"\",Table1[[#This Row],[Pupil Name]])","v":""},{"$f":"IF(Table1[[#This Row],[Gender (M/F)]]=\"\",\"\",Table1[[#This Row],[Gender (M/F)]])","v":""},{"$f":"IF(Table1[[#This Row],[DisAdv (Y/N)]]=\"\",\"\",Table1[[#This Row],[DisAdv (Y/N)]])","v":""},{"$f":"IF(Table1[[#This Row],[SEND (E,K,N)]]=\"\",\"\",Table1[[#This Row],[SEND (E,K,N)]])","v":""},"",{"$f":"IF(LEN(Table3[[#This Row],[Pupil Name]])>0,1,0)","v":0}]
[{"$f":"IF(Table1[[#This Row],[School/Group Name]]=\"\",\"\",Table1[[#This Row],[School/Group Name]])","v":""},{"$f":"IF(Table1[[#This Row],[Pupil Name]]=\"\",\"\",Table1[[#This Row],[Pupil Name]])","v":""},{"$f":"IF(Table1[[#This Row],[Gender (M/F)]]=\"\",\"\",Table1[[#This Row],[Gender (M/F)]])","v":""},{"$f":"IF(Table1[[#This Row],[DisAdv (Y/N)]]=\"\",\"\",Table1[[#This Row],[DisAdv (Y/N)]])","v":""},{"$f":"IF(Table1[[#This Row],[SEND (E,K,N)]]=\"\",\"\",Table1[[#This Row],[SEND (E,K,N)]])","v":""},"",{"$f":"IF(LEN(Table3[[#This Row],[Pupil Name]])>0,1,0)","v":0}]
[{"$f":"IF(Table1[[#This Row],[School/Group Name]]=\"\",\"\",Table1[[#This Row],[School/Group Name]])","v":""},{"$f":"IF(Table1[[#This Row],[Pupil Name]]=\"\",\"\",Table1[[#This Row],[Pupil Name]])","v":""},{"$f":"IF(Table1[[#This Row],[Gender (M/F)]]=\"\",\"\",Table1[[#This Row],[Gender (M/F)]])","v":""},{"$f":"IF(Table1[[#This Row],[DisAdv (Y/N)]]=\"\",\"\",Table1[[#This Row],[DisAdv (Y/N)]])","v":""},{"$f":"IF(Table1[[#This Row],[SEND (E,K,N)]]=\"\",\"\",Table1[[#This Row],[SEND (E,K,N)]])","v":""},"",{"$f":"IF(LEN(Table3[[#This Row],[Pupil Name]])>0,1,0)","v":0}]
[{"$f":"IF(Table1[[#This Row],[School/Group Name]]=\"\",\"\",Table1[[#This Row],[School/Group Name]])","v":""},{"$f":"IF(Table1[[#This Row],[Pupil Name]]=\"\",\"\",Table1[[#This Row],[Pupil Name]])","v":""},{"$f":"IF(Table1[[#This Row],[Gender (M/F)]]=\"\",\"\",Table1[[#This Row],[Gender (M/F)]])","v":""},{"$f":"IF(Table1[[#This Row],[DisAdv (Y/N)]]=\"\",\"\",Table1[[#This Row],[DisAdv (Y/N)]])","v":""},{"$f":"IF(Table1[[#This Row],[SEND (E,K,N)]]=\"\",\"\",Table1[[#This Row],[SEND (E,K,N)]])","v":""},"",{"$f":"IF(LEN(Table3[[#This Row],[Pupil Name]])>0,1,0)","v":0}]
[{"$f":"IF(Table1[[#This Row],[School/Group Name]]=\"\",\"\",Table1[[#This Row],[School/Group Name]])","v":""},{"$f":"IF(Table1[[#This Row],[Pupil Name]]=\"\",\"\",Table1[[#This Row],[Pupil Name]])","v":""},{"$f":"IF(Table1[[#This Row],[Gender (M/F)]]=\"\",\"\",Table1[[#This Row],[Gender (M/F)]])","v":""},{"$f":"IF(Table1[[#This Row],[DisAdv (Y/N)]]=\"\",\"\",Table1[[#This Row],[DisAdv (Y/N)]])","v":""},{"$f":"IF(Table1[[#This Row],[SEND (E,K,N)]]=\"\",\"\",Table1[[#This Row],[SEND (E,K,N)]])","v":""},"",{"$f":"IF(LEN(Table3[[#This Row],[Pupil Name]])>0,1,0)","v":0}]
[{"$f":"IF(Table1[[#This Row],[School/Group Name]]=\"\",\"\",Table1[[#This Row],[School/Group Name]])","v":""},{"$f":"IF(Table1[[#This Row],[Pupil Name]]=\"\",\"\",Table1[[#This Row],[Pupil Name]])","v":""},{"$f":"IF(Table1[[#This Row],[Gender (M/F)]]=\"\",\"\",Table1[[#This Row],[Gender (M/F)]])","v":""},{"$f":"IF(Table1[[#This Row],[DisAdv (Y/N)]]=\"\",\"\",Table1[[#This Row],[DisAdv (Y/N)]])","v":""},{"$f":"IF(Table1[[#This Row],[SEND (E,K,N)]]=\"\",\"\",Table1[[#This Row],[SEND (E,K,N)]])","v":""},"",{"$f":"IF(LEN(Table3[[#This Row],[Pupil Name]])>0,1,0)","v":0}]
[{"$f":"IF(Table1[[#This Row],[School/Group Name]]=\"\",\"\",Table1[[#This Row],[School/Group Name]])","v":""},{"$f":"IF(Table1[[#This Row],[Pupil Name]]=\"\",\"\",Table1[[#This Row],[Pupil Name]])","v":""},{"$f":"IF(Table1[[#This Row],[Gender (M/F)]]=\"\",\"\",Table1[[#This Row],[Gender (M/F)]])","v":""},{"$f":"IF(Table1[[#This Row],[DisAdv (Y/N)]]=\"\",\"\",Table1[[#This Row],[DisAdv (Y/N)]])","v":""},{"$f":"IF(Table1[[#This Row],[SEND (E,K,N)]]=\"\",\"\",Table1[[#This Row],[SEND (E,K,N)]])","v":""},"",{"$f":"IF(LEN(Table3[[#This Row],[Pupil Name]])>0,1,0)","v":0}]
[{"$f":"IF(Table1[[#This Row],[School/Group Name]]=\"\",\"\",Table1[[#This Row],[School/Group Name]])","v":""},{"$f":"IF(Table1[[#This Row],[Pupil Name]]=\"\",\"\",Table1[[#This Row],[Pupil Name]])","v":""},{"$f":"IF(Table1[[#This Row],[Gender (M/F)]]=\"\",\"\",Table1[[#This Row],[Gender (M/F)]])","v":""},{"$f":"IF(Table1[[#This Row],[DisAdv (Y/N)]]=\"\",\"\",Table1[[#This Row],[DisAdv (Y/N)]])","v":""},{"$f":"IF(Table1[[#This Row],[SEND (E,K,N)]]=\"\",\"\",Table1[[#This Row],[SEND (E,K,N)]])","v":""},"",{"$f":"IF(LEN(Table3[[#This Row],[Pupil Name]])>0,1,0)","v":0}]
[{"$f":"IF(Table1[[#This Row],[School/Group Name]]=\"\",\"\",Table1[[#This Row],[School/Group Name]])","v":""},{"$f":"IF(Table1[[#This Row],[Pupil Name]]=\"\",\"\",Table1[[#This Row],[Pupil Name]])","v":""},{"$f":"IF(Table1[[#This Row],[Gender (M/F)]]=\"\",\"\",Table1[[#This Row],[Gender (M/F)]])","v":""},{"$f":"IF(Table1[[#This Row],[DisAdv (Y/N)]]=\"\",\"\",Table1[[#This Row],[DisAdv (Y/N)]])","v":""},{"$f":"IF(Table1[[#This Row],[SEND (E,K,N)]]=\"\",\"\",Table1[[#This Row],[SEND (E,K,N)]])","v":""},"",{"$f":"IF(LEN(Table3[[#This Row],[Pupil Name]])>0,1,0)","v":0}]
[{"$f":"IF(Table1[[#This Row],[School/Group Name]]=\"\",\"\",Table1[[#This Row],[School/Group Name]])","v":""},{"$f":"IF(Table1[[#This Row],[Pupil Name]]=\"\",\"\",Table1[[#This Row],[Pupil Name]])","v":""},{"$f":"IF(Table1[[#This Row],[Gender (M/F)]]=\"\",\"\",Table1[[#This Row],[Gender (M/F)]])","v":""},{"$f":"IF(Table1[[#This Row],[DisAdv (Y/N)]]=\"\",\"\",Table1[[#This Row],[DisAdv (Y/N)]])","v":""},{"$f":"IF(Table1[[#This Row],[SEND (E,K,N)]]=\"\",\"\",Table1[[#This Row],[SEND (E,K,N)]])","v":""},"",{"$f":"IF(LEN(Table3[[#This Row],[Pupil Name]])>0,1,0)","v":0}]
[{"$f":"IF(Table1[[#This Row],[School/Group Name]]=\"\",\"\",Table1[[#This Row],[School/Group Name]])","v":""},{"$f":"IF(Table1[[#This Row],[Pupil Name]]=\"\",\"\",Table1[[#This Row],[Pupil Name]])","v":""},{"$f":"IF(Table1[[#This Row],[Gender (M/F)]]=\"\",\"\",Table1[[#This Row],[Gender (M/F)]])","v":""},{"$f":"IF(Table1[[#This Row],[DisAdv (Y/N)]]=\"\",\"\",Table1[[#This Row],[DisAdv (Y/N)]])","v":""},{"$f":"IF(Table1[[#This Row],[SEND (E,K,N)]]=\"\",\"\",Table1[[#This Row],[SEND (E,K,N)]])","v":""},"",{"$f":"IF(LEN(Table3[[#This Row],[Pupil Name]])>0,1,0)","v":0}]
[{"$f":"IF(Table1[[#This Row],[School/Group Name]]=\"\",\"\",Table1[[#This Row],[School/Group Name]])","v":""},{"$f":"IF(Table1[[#This Row],[Pupil Name]]=\"\",\"\",Table1[[#This Row],[Pupil Name]])","v":""},{"$f":"IF(Table1[[#This Row],[Gender (M/F)]]=\"\",\"\",Table1[[#This Row],[Gender (M/F)]])","v":""},{"$f":"IF(Table1[[#This Row],[DisAdv (Y/N)]]=\"\",\"\",Table1[[#This Row],[DisAdv (Y/N)]])","v":""},{"$f":"IF(Table1[[#This Row],[SEND (E,K,N)]]=\"\",\"\",Table1[[#This Row],[SEND (E,K,N)]])","v":""},"",{"$f":"IF(LEN(Table3[[#This Row],[Pupil Name]])>0,1,0)","v":0}]
[{"$f":"IF(Table1[[#This Row],[School/Group Name]]=\"\",\"\",Table1[[#This Row],[School/Group Name]])","v":""},{"$f":"IF(Table1[[#This Row],[Pupil Name]]=\"\",\"\",Table1[[#This Row],[Pupil Name]])","v":""},{"$f":"IF(Table1[[#This Row],[Gender (M/F)]]=\"\",\"\",Table1[[#This Row],[Gender (M/F)]])","v":""},{"$f":"IF(Table1[[#This Row],[DisAdv (Y/N)]]=\"\",\"\",Table1[[#This Row],[DisAdv (Y/N)]])","v":""},{"$f":"IF(Table1[[#This Row],[SEND (E,K,N)]]=\"\",\"\",Table1[[#This Row],[SEND (E,K,N)]])","v":""},"",{"$f":"IF(LEN(Table3[[#This Row],[Pupil Name]])>0,1,0)","v":0}]
[{"$f":"IF(Table1[[#This Row],[School/Group Name]]=\"\",\"\",Table1[[#This Row],[School/Group Name]])","v":""},{"$f":"IF(Table1[[#This Row],[Pupil Name]]=\"\",\"\",Table1[[#This Row],[Pupil Name]])","v":""},{"$f":"IF(Table1[[#This Row],[Gender (M/F)]]=\"\",\"\",Table1[[#This Row],[Gender (M/F)]])","v":""},{"$f":"IF(Table1[[#This Row],[DisAdv (Y/N)]]=\"\",\"\",Table1[[#This Row],[DisAdv (Y/N)]])","v":""},{"$f":"IF(Table1[[#This Row],[SEND (E,K,N)]]=\"\",\"\",Table1[[#This Row],[SEND (E,K,N)]])","v":""},"",{"$f":"IF(LEN(Table3[[#This Row],[Pupil Name]])>0,1,0)","v":0}]
[{"$f":"IF(Table1[[#This Row],[School/Group Name]]=\"\",\"\",Table1[[#This Row],[School/Group Name]])","v":""},{"$f":"IF(Table1[[#This Row],[Pupil Name]]=\"\",\"\",Table1[[#This Row],[Pupil Name]])","v":""},{"$f":"IF(Table1[[#This Row],[Gender (M/F)]]=\"\",\"\",Table1[[#This Row],[Gender (M/F)]])","v":""},{"$f":"IF(Table1[[#This Row],[DisAdv (Y/N)]]=\"\",\"\",Table1[[#This Row],[DisAdv (Y/N)]])","v":""},{"$f":"IF(Table1[[#This Row],[SEND (E,K,N)]]=\"\",\"\",Table1[[#This Row],[SEND (E,K,N)]])","v":""},"",{"$f":"IF(LEN(Table3[[#This Row],[Pupil Name]])>0,1,0)","v":0}]
[{"$f":"IF(Table1[[#This Row],[School/Group Name]]=\"\",\"\",Table1[[#This Row],[School/Group Name]])","v":""},{"$f":"IF(Table1[[#This Row],[Pupil Name]]=\"\",\"\",Table1[[#This Row],[Pupil Name]])","v":""},{"$f":"IF(Table1[[#This Row],[Gender (M/F)]]=\"\",\"\",Table1[[#This Row],[Gender (M/F)]])","v":""},{"$f":"IF(Table1[[#This Row],[DisAdv (Y/N)]]=\"\",\"\",Table1[[#This Row],[DisAdv (Y/N)]])","v":""},{"$f":"IF(Table1[[#This Row],[SEND (E,K,N)]]=\"\",\"\",Table1[[#This Row],[SEND (E,K,N)]])","v":""},"",{"$f":"IF(LEN(Table3[[#This Row],[Pupil Name]])>0,1,0)","v":0}]
[{"$f":"IF(Table1[[#This Row],[School/Group Name]]=\"\",\"\",Table1[[#This Row],[School/Group Name]])","v":""},{"$f":"IF(Table1[[#This Row],[Pupil Name]]=\"\",\"\",Table1[[#This Row],[Pupil Name]])","v":""},{"$f":"IF(Table1[[#This Row],[Gender (M/F)]]=\"\",\"\",Table1[[#This Row],[Gender (M/F)]])","v":""},{"$f":"IF(Table1[[#This Row],[DisAdv (Y/N)]]=\"\",\"\",Table1[[#This Row],[DisAdv (Y/N)]])","v":""},{"$f":"IF(Table1[[#This Row],[SEND (E,K,N)]]=\"\",\"\",Table1[[#This Row],[SEND (E,K,N)]])","v":""},"",{"$f":"IF(LEN(Table3[[#This Row],[Pupil Name]])>0,1,0)","v":0}]
[{"$f":"IF(Table1[[#This Row],[School/Group Name]]=\"\",\"\",Table1[[#This Row],[School/Group Name]])","v":""},{"$f":"IF(Table1[[#This Row],[Pupil Name]]=\"\",\"\",Table1[[#This Row],[Pupil Name]])","v":""},{"$f":"IF(Table1[[#This Row],[Gender (M/F)]]=\"\",\"\",Table1[[#This Row],[Gender (M/F)]])","v":""},{"$f":"IF(Table1[[#This Row],[DisAdv (Y/N)]]=\"\",\"\",Table1[[#This Row],[DisAdv (Y/N)]])","v":""},{"$f":"IF(Table1[[#This Row],[SEND (E,K,N)]]=\"\",\"\",Table1[[#This Row],[SEND (E,K,N)]])","v":""},"",{"$f":"IF(LEN(Table3[[#This Row],[Pupil Name]])>0,1,0)","v":0}]
[{"$f":"IF(Table1[[#This Row],[School/Group Name]]=\"\",\"\",Table1[[#This Row],[School/Group Name]])","v":""},{"$f":"IF(Table1[[#This Row],[Pupil Name]]=\"\",\"\",Table1[[#This Row],[Pupil Name]])","v":""},{"$f":"IF(Table1[[#This Row],[Gender (M/F)]]=\"\",\"\",Table1[[#This Row],[Gender (M/F)]])","v":""},{"$f":"IF(Table1[[#This Row],[DisAdv (Y/N)]]=\"\",\"\",Table1[[#This Row],[DisAdv (Y/N)]])","v":""},{"$f":"IF(Table1[[#This Row],[SEND (E,K,N)]]=\"\",\"\",Table1[[#This Row],[SEND (E,K,N)]])","v":""},"",{"$f":"IF(LEN(Table3[[#This Row],[Pupil Name]])>0,1,0)","v":0}]
[{"$f":"IF(Table1[[#This Row],[School/Group Name]]=\"\",\"\",Table1[[#This Row],[School/Group Name]])","v":""},{"$f":"IF(Table1[[#This Row],[Pupil Name]]=\"\",\"\",Table1[[#This Row],[Pupil Name]])","v":""},{"$f":"IF(Table1[[#This Row],[Gender (M/F)]]=\"\",\"\",Table1[[#This Row],[Gender (M/F)]])","v":""},{"$f":"IF(Table1[[#This Row],[DisAdv (Y/N)]]=\"\",\"\",Table1[[#This Row],[DisAdv (Y/N)]])","v":""},{"$f":"IF(Table1[[#This Row],[SEND (E,K,N)]]=\"\",\"\",Table1[[#This Row],[SEND (E,K,N)]])","v":""},"",{"$f":"IF(LEN(Table3[[#This Row],[Pupil Name]])>0,1,0)","v":0}]
[{"$f":"IF(Table1[[#This Row],[School/Group Name]]=\"\",\"\",Table1[[#This Row],[School/Group Name]])","v":""},{"$f":"IF(Table1[[#This Row],[Pupil Name]]=\"\",\"\",Table1[[#This Row],[Pupil Name]])","v":""},{"$f":"IF(Table1[[#This Row],[Gender (M/F)]]=\"\",\"\",Table1[[#This Row],[Gender (M/F)]])","v":""},{"$f":"IF(Table1[[#This Row],[DisAdv (Y/N)]]=\"\",\"\",Table1[[#This Row],[DisAdv (Y/N)]])","v":""},{"$f":"IF(Table1[[#This Row],[SEND (E,K,N)]]=\"\",\"\",Table1[[#This Row],[SEND (E,K,N)]])","v":""},"",{"$f":"IF(LEN(Table3[[#This Row],[Pupil Name]])>0,1,0)","v":0}]
[{"$f":"IF(Table1[[#This Row],[School/Group Name]]=\"\",\"\",Table1[[#This Row],[School/Group Name]])","v":""},{"$f":"IF(Table1[[#This Row],[Pupil Name]]=\"\",\"\",Table1[[#This Row],[Pupil Name]])","v":""},{"$f":"IF(Table1[[#This Row],[Gender (M/F)]]=\"\",\"\",Table1[[#This Row],[Gender (M/F)]])","v":""},{"$f":"IF(Table1[[#This Row],[DisAdv (Y/N)]]=\"\",\"\",Table1[[#This Row],[DisAdv (Y/N)]])","v":""},{"$f":"IF(Table1[[#This Row],[SEND (E,K,N)]]=\"\",\"\",Table1[[#This Row],[SEND (E,K,N)]])","v":""},"",{"$f":"IF(LEN(Table3[[#This Row],[Pupil Name]])>0,1,0)","v":0}]
[{"$f":"IF(Table1[[#This Row],[School/Group Name]]=\"\",\"\",Table1[[#This Row],[School/Group Name]])","v":""},{"$f":"IF(Table1[[#This Row],[Pupil Name]]=\"\",\"\",Table1[[#This Row],[Pupil Name]])","v":""},{"$f":"IF(Table1[[#This Row],[Gender (M/F)]]=\"\",\"\",Table1[[#This Row],[Gender (M/F)]])","v":""},{"$f":"IF(Table1[[#This Row],[DisAdv (Y/N)]]=\"\",\"\",Table1[[#This Row],[DisAdv (Y/N)]])","v":""},{"$f":"IF(Table1[[#This Row],[SEND (E,K,N)]]=\"\",\"\",Table1[[#This Row],[SEND (E,K,N)]])","v":""},"",{"$f":"IF(LEN(Table3[[#This Row],[Pupil Name]])>0,1,0)","v":0}]
[{"$f":"IF(Table1[[#This Row],[School/Group Name]]=\"\",\"\",Table1[[#This Row],[School/Group Name]])","v":""},{"$f":"IF(Table1[[#This Row],[Pupil Name]]=\"\",\"\",Table1[[#This Row],[Pupil Name]])","v":""},{"$f":"IF(Table1[[#This Row],[Gender (M/F)]]=\"\",\"\",Table1[[#This Row],[Gender (M/F)]])","v":""},{"$f":"IF(Table1[[#This Row],[DisAdv (Y/N)]]=\"\",\"\",Table1[[#This Row],[DisAdv (Y/N)]])","v":""},{"$f":"IF(Table1[[#This Row],[SEND (E,K,N)]]=\"\",\"\",Table1[[#This Row],[SEND (E,K,N)]])","v":""},"",{"$f":"IF(LEN(Table3[[#This Row],[Pupil Name]])>0,1,0)","v":0}]
[{"$f":"IF(Table1[[#This Row],[School/Group Name]]=\"\",\"\",Table1[[#This Row],[School/Group Name]])","v":""},{"$f":"IF(Table1[[#This Row],[Pupil Name]]=\"\",\"\",Table1[[#This Row],[Pupil Name]])","v":""},{"$f":"IF(Table1[[#This Row],[Gender (M/F)]]=\"\",\"\",Table1[[#This Row],[Gender (M/F)]])","v":""},{"$f":"IF(Table1[[#This Row],[DisAdv (Y/N)]]=\"\",\"\",Table1[[#This Row],[DisAdv (Y/N)]])","v":""},{"$f":"IF(Table1[[#This Row],[SEND (E,K,N)]]=\"\",\"\",Table1[[#This Row],[SEND (E,K,N)]])","v":""},"",{"$f":"IF(LEN(Table3[[#This Row],[Pupil Name]])>0,1,0)","v":0}]
[{"$f":"IF(Table1[[#This Row],[School/Group Name]]=\"\",\"\",Table1[[#This Row],[School/Group Name]])","v":""},{"$f":"IF(Table1[[#This Row],[Pupil Name]]=\"\",\"\",Table1[[#This Row],[Pupil Name]])","v":""},{"$f":"IF(Table1[[#This Row],[Gender (M/F)]]=\"\",\"\",Table1[[#This Row],[Gender (M/F)]])","v":""},{"$f":"IF(Table1[[#This Row],[DisAdv (Y/N)]]=\"\",\"\",Table1[[#This Row],[DisAdv (Y/N)]])","v":""},{"$f":"IF(Table1[[#This Row],[SEND (E,K,N)]]=\"\",\"\",Table1[[#This Row],[SEND (E,K,N)]])","v":""},"",{"$f":"IF(LEN(Table3[[#This Row],[Pupil Name]])>0,1,0)","v":0}]
[{"$f":"IF(Table1[[#This Row],[School/Group Name]]=\"\",\"\",Table1[[#This Row],[School/Group Name]])","v":""},{"$f":"IF(Table1[[#This Row],[Pupil Name]]=\"\",\"\",Table1[[#This Row],[Pupil Name]])","v":""},{"$f":"IF(Table1[[#This Row],[Gender (M/F)]]=\"\",\"\",Table1[[#This Row],[Gender (M/F)]])","v":""},{"$f":"IF(Table1[[#This Row],[DisAdv (Y/N)]]=\"\",\"\",Table1[[#This Row],[DisAdv (Y/N)]])","v":""},{"$f":"IF(Table1[[#This Row],[SEND (E,K,N)]]=\"\",\"\",Table1[[#This Row],[SEND (E,K,N)]])","v":""},"",{"$f":"IF(LEN(Table3[[#This Row],[Pupil Name]])>0,1,0)","v":0}]
[{"$f":"IF(Table1[[#This Row],[School/Group Name]]=\"\",\"\",Table1[[#This Row],[School/Group Name]])","v":""},{"$f":"IF(Table1[[#This Row],[Pupil Name]]=\"\",\"\",Table1[[#This Row],[Pupil Name]])","v":""},{"$f":"IF(Table1[[#This Row],[Gender (M/F)]]=\"\",\"\",Table1[[#This Row],[Gender (M/F)]])","v":""},{"$f":"IF(Table1[[#This Row],[DisAdv (Y/N)]]=\"\",\"\",Table1[[#This Row],[DisAdv (Y/N)]])","v":""},{"$f":"IF(Table1[[#This Row],[SEND (E,K,N)]]=\"\",\"\",Table1[[#This Row],[SEND (E,K,N)]])","v":""},"",{"$f":"IF(LEN(Table3[[#This Row],[Pupil Name]])>0,1,0)","v":0}]
[{"$f":"IF(Table1[[#This Row],[School/Group Name]]=\"\",\"\",Table1[[#This Row],[School/Group Name]])","v":""},{"$f":"IF(Table1[[#This Row],[Pupil Name]]=\"\",\"\",Table1[[#This Row],[Pupil Name]])","v":""},{"$f":"IF(Table1[[#This Row],[Gender (M/F)]]=\"\",\"\",Table1[[#This Row],[Gender (M/F)]])","v":""},{"$f":"IF(Table1[[#This Row],[DisAdv (Y/N)]]=\"\",\"\",Table1[[#This Row],[DisAdv (Y/N)]])","v":""},{"$f":"IF(Table1[[#This Row],[SEND (E,K,N)]]=\"\",\"\",Table1[[#This Row],[SEND (E,K,N)]])","v":""},"",{"$f":"IF(LEN(Table3[[#This Row],[Pupil Name]])>0,1,0)","v":0}]
[{"$f":"IF(Table1[[#This Row],[School/Group Name]]=\"\",\"\",Table1[[#This Row],[School/Group Name]])","v":""},{"$f":"IF(Table1[[#This Row],[Pupil Name]]=\"\",\"\",Table1[[#This Row],[Pupil Name]])","v":""},{"$f":"IF(Table1[[#This Row],[Gender (M/F)]]=\"\",\"\",Table1[[#This Row],[Gender (M/F)]])","v":""},{"$f":"IF(Table1[[#This Row],[DisAdv (Y/N)]]=\"\",\"\",Table1[[#This Row],[DisAdv (Y/N)]])","v":""},{"$f":"IF(Table1[[#This Row],[SEND (E,K,N)]]=\"\",\"\",Table1[[#This Row],[SEND (E,K,N)]])","v":""},"",{"$f":"IF(LEN(Table3[[#This Row],[Pupil Name]])>0,1,0)","v":0}]
[{"$f":"IF(Table1[[#This Row],[School/Group Name]]=\"\",\"\",Table1[[#This Row],[School/Group Name]])","v":""},{"$f":"IF(Table1[[#This Row],[Pupil Name]]=\"\",\"\",Table1[[#This Row],[Pupil Name]])","v":""},{"$f":"IF(Table1[[#This Row],[Gender (M/F)]]=\"\",\"\",Table1[[#This Row],[Gender (M/F)]])","v":""},{"$f":"IF(Table1[[#This Row],[DisAdv (Y/N)]]=\"\",\"\",Table1[[#This Row],[DisAdv (Y/N)]])","v":""},{"$f":"IF(Table1[[#This Row],[SEND (E,K,N)]]=\"\",\"\",Table1[[#This Row],[SEND (E,K,N)]])","v":""},"",{"$f":"IF(LEN(Table3[[#This Row],[Pupil Name]])>0,1,0)","v":0}]
[{"$f":"IF(Table1[[#This Row],[School/Group Name]]=\"\",\"\",Table1[[#This Row],[School/Group Name]])","v":""},{"$f":"IF(Table1[[#This Row],[Pupil Name]]=\"\",\"\",Table1[[#This Row],[Pupil Name]])","v":""},{"$f":"IF(Table1[[#This Row],[Gender (M/F)]]=\"\",\"\",Table1[[#This Row],[Gender (M/F)]])","v":""},{"$f":"IF(Table1[[#This Row],[DisAdv (Y/N)]]=\"\",\"\",Table1[[#This Row],[DisAdv (Y/N)]])","v":""},{"$f":"IF(Table1[[#This Row],[SEND (E,K,N)]]=\"\",\"\",Table1[[#This Row],[SEND (E,K,N)]])","v":""},"",{"$f":"IF(LEN(Table3[[#This Row],[Pupil Name]])>0,1,0)","v":0}]
[{"$f":"IF(Table1[[#This Row],[School/Group Name]]=\"\",\"\",Table1[[#This Row],[School/Group Name]])","v":""},{"$f":"IF(Table1[[#This Row],[Pupil Name]]=\"\",\"\",Table1[[#This Row],[Pupil Name]])","v":""},{"$f":"IF(Table1[[#This Row],[Gender (M/F)]]=\"\",\"\",Table1[[#This Row],[Gender (M/F)]])","v":""},{"$f":"IF(Table1[[#This Row],[DisAdv (Y/N)]]=\"\",\"\",Table1[[#This Row],[DisAdv (Y/N)]])","v":""},{"$f":"IF(Table1[[#This Row],[SEND (E,K,N)]]=\"\",\"\",Table1[[#This Row],[SEND (E,K,N)]])","v":""},"",{"$f":"IF(LEN(Table3[[#This Row],[Pupil Name]])>0,1,0)","v":0}]
[{"$f":"IF(Table1[[#This Row],[School/Group Name]]=\"\",\"\",Table1[[#This Row],[School/Group Name]])","v":""},{"$f":"IF(Table1[[#This Row],[Pupil Name]]=\"\",\"\",Table1[[#This Row],[Pupil Name]])","v":""},{"$f":"IF(Table1[[#This Row],[Gender (M/F)]]=\"\",\"\",Table1[[#This Row],[Gender (M/F)]])","v":""},{"$f":"IF(Table1[[#This Row],[DisAdv (Y/N)]]=\"\",\"\",Table1[[#This Row],[DisAdv (Y/N)]])","v":""},{"$f":"IF(Table1[[#This Row],[SEND (E,K,N)]]=\"\",\"\",Table1[[#This Row],[SEND (E,K,N)]])","v":""},"",{"$f":"IF(LEN(Table3[[#This Row],[Pupil Name]])>0,1,0)","v":0}]
[{"$f":"IF(Table1[[#This Row],[School/Group Name]]=\"\",\"\",Table1[[#This Row],[School/Group Name]])","v":""},{"$f":"IF(Table1[[#This Row],[Pupil Name]]=\"\",\"\",Table1[[#This Row],[Pupil Name]])","v":""},{"$f":"IF(Table1[[#This Row],[Gender (M/F)]]=\"\",\"\",Table1[[#This Row],[Gender (M/F)]])","v":""},{"$f":"IF(Table1[[#This Row],[DisAdv (Y/N)]]=\"\",\"\",Table1[[#This Row],[DisAdv (Y/N)]])","v":""},{"$f":"IF(Table1[[#This Row],[SEND (E,K,N)]]=\"\",\"\",Table1[[#This Row],[SEND (E,K,N)]])","v":""},"",{"$f":"IF(LEN(Table3[[#This Row],[Pupil Name]])>0,1,0)","v":0}]
[{"$f":"IF(Table1[[#This Row],[School/Group Name]]=\"\",\"\",Table1[[#This Row],[School/Group Name]])","v":""},{"$f":"IF(Table1[[#This Row],[Pupil Name]]=\"\",\"\",Table1[[#This Row],[Pupil Name]])","v":""},{"$f":"IF(Table1[[#This Row],[Gender (M/F)]]=\"\",\"\",Table1[[#This Row],[Gender (M/F)]])","v":""},{"$f":"IF(Table1[[#This Row],[DisAdv (Y/N)]]=\"\",\"\",Table1[[#This Row],[DisAdv (Y/N)]])","v":""},{"$f":"IF(Table1[[#This Row],[SEND (E,K,N)]]=\"\",\"\",Table1[[#This Row],[SEND (E,K,N)]])","v":""},"",{"$f":"IF(LEN(Table3[[#This Row],[Pupil Name]])>0,1,0)","v":0}]
[{"$f":"IF(Table1[[#This Row],[School/Group Name]]=\"\",\"\",Table1[[#This Row],[School/Group Name]])","v":""},{"$f":"IF(Table1[[#This Row],[Pupil Name]]=\"\",\"\",Table1[[#This Row],[Pupil Name]])","v":""},{"$f":"IF(Table1[[#This Row],[Gender (M/F)]]=\"\",\"\",Table1[[#This Row],[Gender (M/F)]])","v":""},{"$f":"IF(Table1[[#This Row],[DisAdv (Y/N)]]=\"\",\"\",Table1[[#This Row],[DisAdv (Y/N)]])","v":""},{"$f":"IF(Table1[[#This Row],[SEND (E,K,N)]]=\"\",\"\",Table1[[#This Row],[SEND (E,K,N)]])","v":""},"",{"$f":"IF(LEN(Table3[[#This Row],[Pupil Name]])>0,1,0)","v":0}]
[{"$f":"IF(Table1[[#This Row],[School/Group Name]]=\"\",\"\",Table1[[#This Row],[School/Group Name]])","v":""},{"$f":"IF(Table1[[#This Row],[Pupil Name]]=\"\",\"\",Table1[[#This Row],[Pupil Name]])","v":""},{"$f":"IF(Table1[[#This Row],[Gender (M/F)]]=\"\",\"\",Table1[[#This Row],[Gender (M/F)]])","v":""},{"$f":"IF(Table1[[#This Row],[DisAdv (Y/N)]]=\"\",\"\",Table1[[#This Row],[DisAdv (Y/N)]])","v":""},{"$f":"IF(Table1[[#This Row],[SEND (E,K,N)]]=\"\",\"\",Table1[[#This Row],[SEND (E,K,N)]])","v":""},"",{"$f":"IF(LEN(Table3[[#This Row],[Pupil Name]])>0,1,0)","v":0}]
[{"$f":"IF(Table1[[#This Row],[School/Group Name]]=\"\",\"\",Table1[[#This Row],[School/Group Name]])","v":""},{"$f":"IF(Table1[[#This Row],[Pupil Name]]=\"\",\"\",Table1[[#This Row],[Pupil Name]])","v":""},{"$f":"IF(Table1[[#This Row],[Gender (M/F)]]=\"\",\"\",Table1[[#This Row],[Gender (M/F)]])","v":""},{"$f":"IF(Table1[[#This Row],[DisAdv (Y/N)]]=\"\",\"\",Table1[[#This Row],[DisAdv (Y/N)]])","v":""},{"$f":"IF(Table1[[#This Row],[SEND (E,K,N)]]=\"\",\"\",Table1[[#This Row],[SEND (E,K,N)]])","v":""},"",{"$f":"IF(LEN(Table3[[#This Row],[Pupil Name]])>0,1,0)","v":0}]
[{"$f":"IF(Table1[[#This Row],[School/Group Name]]=\"\",\"\",Table1[[#This Row],[School/Group Name]])","v":""},{"$f":"IF(Table1[[#This Row],[Pupil Name]]=\"\",\"\",Table1[[#This Row],[Pupil Name]])","v":""},{"$f":"IF(Table1[[#This Row],[Gender (M/F)]]=\"\",\"\",Table1[[#This Row],[Gender (M/F)]])","v":""},{"$f":"IF(Table1[[#This Row],[DisAdv (Y/N)]]=\"\",\"\",Table1[[#This Row],[DisAdv (Y/N)]])","v":""},{"$f":"IF(Table1[[#This Row],[SEND (E,K,N)]]=\"\",\"\",Table1[[#This Row],[SEND (E,K,N)]])","v":""},"",{"$f":"IF(LEN(Table3[[#This Row],[Pupil Name]])>0,1,0)","v":0}]
[{"$f":"IF(Table1[[#This Row],[School/Group Name]]=\"\",\"\",Table1[[#This Row],[School/Group Name]])","v":""},{"$f":"IF(Table1[[#This Row],[Pupil Name]]=\"\",\"\",Table1[[#This Row],[Pupil Name]])","v":""},{"$f":"IF(Table1[[#This Row],[Gender (M/F)]]=\"\",\"\",Table1[[#This Row],[Gender (M/F)]])","v":""},{"$f":"IF(Table1[[#This Row],[DisAdv (Y/N)]]=\"\",\"\",Table1[[#This Row],[DisAdv (Y/N)]])","v":""},{"$f":"IF(Table1[[#This Row],[SEND (E,K,N)]]=\"\",\"\",Table1[[#This Row],[SEND (E,K,N)]])","v":""},"",{"$f":"IF(LEN(Table3[[#This Row],[Pupil Name]])>0,1,0)","v":0}]
[{"$f":"IF(Table1[[#This Row],[School/Group Name]]=\"\",\"\",Table1[[#This Row],[School/Group Name]])","v":""},{"$f":"IF(Table1[[#This Row],[Pupil Name]]=\"\",\"\",Table1[[#This Row],[Pupil Name]])","v":""},{"$f":"IF(Table1[[#This Row],[Gender (M/F)]]=\"\",\"\",Table1[[#This Row],[Gender (M/F)]])","v":""},{"$f":"IF(Table1[[#This Row],[DisAdv (Y/N)]]=\"\",\"\",Table1[[#This Row],[DisAdv (Y/N)]])","v":""},{"$f":"IF(Table1[[#This Row],[SEND (E,K,N)]]=\"\",\"\",Table1[[#This Row],[SEND (E,K,N)]])","v":""},"",{"$f":"IF(LEN(Table3[[#This Row],[Pupil Name]])>0,1,0)","v":0}]
[{"$f":"IF(Table1[[#This Row],[School/Group Name]]=\"\",\"\",Table1[[#This Row],[School/Group Name]])","v":""},{"$f":"IF(Table1[[#This Row],[Pupil Name]]=\"\",\"\",Table1[[#This Row],[Pupil Name]])","v":""},{"$f":"IF(Table1[[#This Row],[Gender (M/F)]]=\"\",\"\",Table1[[#This Row],[Gender (M/F)]])","v":""},{"$f":"IF(Table1[[#This Row],[DisAdv (Y/N)]]=\"\",\"\",Table1[[#This Row],[DisAdv (Y/N)]])","v":""},{"$f":"IF(Table1[[#This Row],[SEND (E,K,N)]]=\"\",\"\",Table1[[#This Row],[SEND (E,K,N)]])","v":""},"",{"$f":"IF(LEN(Table3[[#This Row],[Pupil Name]])>0,1,0)","v":0}]
[{"$f":"IF(Table1[[#This Row],[School/Group Name]]=\"\",\"\",Table1[[#This Row],[School/Group Name]])","v":""},{"$f":"IF(Table1[[#This Row],[Pupil Name]]=\"\",\"\",Table1[[#This Row],[Pupil Name]])","v":""},{"$f":"IF(Table1[[#This Row],[Gender (M/F)]]=\"\",\"\",Table1[[#This Row],[Gender (M/F)]])","v":""},{"$f":"IF(Table1[[#This Row],[DisAdv (Y/N)]]=\"\",\"\",Table1[[#This Row],[DisAdv (Y/N)]])","v":""},{"$f":"IF(Table1[[#This Row],[SEND (E,K,N)]]=\"\",\"\",Table1[[#This Row],[SEND (E,K,N)]])","v":""},"",{"$f":"IF(LEN(Table3[[#This Row],[Pupil Name]])>0,1,0)","v":0}]
[{"$f":"IF(Table1[[#This Row],[School/Group Name]]=\"\",\"\",Table1[[#This Row],[School/Group Name]])","v":""},{"$f":"IF(Table1[[#This Row],[Pupil Name]]=\"\",\"\",Table1[[#This Row],[Pupil Name]])","v":""},{"$f":"IF(Table1[[#This Row],[Gender (M/F)]]=\"\",\"\",Table1[[#This Row],[Gender (M/F)]])","v":""},{"$f":"IF(Table1[[#This Row],[DisAdv (Y/N)]]=\"\",\"\",Table1[[#This Row],[DisAdv (Y/N)]])","v":""},{"$f":"IF(Table1[[#This Row],[SEND (E,K,N)]]=\"\",\"\",Table1[[#This Row],[SEND (E,K,N)]])","v":""},"",{"$f":"IF(LEN(Table3[[#This Row],[Pupil Name]])>0,1,0)","v":0}]
[{"$f":"IF(Table1[[#This Row],[School/Group Name]]=\"\",\"\",Table1[[#This Row],[School/Group Name]])","v":""},{"$f":"IF(Table1[[#This Row],[Pupil Name]]=\"\",\"\",Table1[[#This Row],[Pupil Name]])","v":""},{"$f":"IF(Table1[[#This Row],[Gender (M/F)]]=\"\",\"\",Table1[[#This Row],[Gender (M/F)]])","v":""},{"$f":"IF(Table1[[#This Row],[DisAdv (Y/N)]]=\"\",\"\",Table1[[#This Row],[DisAdv (Y/N)]])","v":""},{"$f":"IF(Table1[[#This Row],[SEND (E,K,N)]]=\"\",\"\",Table1[[#This Row],[SEND (E,K,N)]])","v":""},"",{"$f":"IF(LEN(Table3[[#This Row],[Pupil Name]])>0,1,0)","v":0}]
[{"$f":"IF(Table1[[#This Row],[School/Group Name]]=\"\",\"\",Table1[[#This Row],[School/Group Name]])","v":""},{"$f":"IF(Table1[[#This Row],[Pupil Name]]=\"\",\"\",Table1[[#This Row],[Pupil Name]])","v":""},{"$f":"IF(Table1[[#This Row],[Gender (M/F)]]=\"\",\"\",Table1[[#This Row],[Gender (M/F)]])","v":""},{"$f":"IF(Table1[[#This Row],[DisAdv (Y/N)]]=\"\",\"\",Table1[[#This Row],[DisAdv (Y/N)]])","v":""},{"$f":"IF(Table1[[#This Row],[SEND (E,K,N)]]=\"\",\"\",Table1[[#This Row],[SEND (E,K,N)]])","v":""},"",{"$f":"IF(LEN(Table3[[#This Row],[Pupil Name]])>0,1,0)","v":0}]
[{"$f":"IF(Table1[[#This Row],[School/Group Name]]=\"\",\"\",Table1[[#This Row],[School/Group Name]])","v":""},{"$f":"IF(Table1[[#This Row],[Pupil Name]]=\"\",\"\",Table1[[#This Row],[Pupil Name]])","v":""},{"$f":"IF(Table1[[#This Row],[Gender (M/F)]]=\"\",\"\",Table1[[#This Row],[Gender (M/F)]])","v":""},{"$f":"IF(Table1[[#This Row],[DisAdv (Y/N)]]=\"\",\"\",Table1[[#This Row],[DisAdv (Y/N)]])","v":""},{"$f":"IF(Table1[[#This Row],[SEND (E,K,N)]]=\"\",\"\",Table1[[#This Row],[SEND (E,K,N)]])","v":""},"",{"$f":"IF(LEN(Table3[[#This Row],[Pupil Name]])>0,1,0)","v":0}]
[{"$f":"IF(Table1[[#This Row],[School/Group Name]]=\"\",\"\",Table1[[#This Row],[School/Group Name]])","v":""},{"$f":"IF(Table1[[#This Row],[Pupil Name]]=\"\",\"\",Table1[[#This Row],[Pupil Name]])","v":""},{"$f":"IF(Table1[[#This Row],[Gender (M/F)]]=\"\",\"\",Table1[[#This Row],[Gender (M/F)]])","v":""},{"$f":"IF(Table1[[#This Row],[DisAdv (Y/N)]]=\"\",\"\",Table1[[#This Row],[DisAdv (Y/N)]])","v":""},{"$f":"IF(Table1[[#This Row],[SEND (E,K,N)]]=\"\",\"\",Table1[[#This Row],[SEND (E,K,N)]])","v":""},{"$f":"IF(H455=\"\",\"\",(SUM(H455:AH455)))","v":""},{"$f":"IF(LEN(Table3[[#This Row],[Pupil Name]])>0,1,0)","v":0}]
[{"$f":"IF(Table1[[#This Row],[School/Group Name]]=\"\",\"\",Table1[[#This Row],[School/Group Name]])","v":""},{"$f":"IF(Table1[[#This Row],[Pupil Name]]=\"\",\"\",Table1[[#This Row],[Pupil Name]])","v":""},{"$f":"IF(Table1[[#This Row],[Gender (M/F)]]=\"\",\"\",Table1[[#This Row],[Gender (M/F)]])","v":""},{"$f":"IF(Table1[[#This Row],[DisAdv (Y/N)]]=\"\",\"\",Table1[[#This Row],[DisAdv (Y/N)]])","v":""},{"$f":"IF(Table1[[#This Row],[SEND (E,K,N)]]=\"\",\"\",Table1[[#This Row],[SEND (E,K,N)]])","v":""},"",{"$f":"IF(LEN(Table3[[#This Row],[Pupil Name]])>0,1,0)","v":0}]
[{"$f":"IF(Table1[[#This Row],[School/Group Name]]=\"\",\"\",Table1[[#This Row],[School/Group Name]])","v":""},{"$f":"IF(Table1[[#This Row],[Pupil Name]]=\"\",\"\",Table1[[#This Row],[Pupil Name]])","v":""},{"$f":"IF(Table1[[#This Row],[Gender (M/F)]]=\"\",\"\",Table1[[#This Row],[Gender (M/F)]])","v":""},{"$f":"IF(Table1[[#This Row],[DisAdv (Y/N)]]=\"\",\"\",Table1[[#This Row],[DisAdv (Y/N)]])","v":""},{"$f":"IF(Table1[[#This Row],[SEND (E,K,N)]]=\"\",\"\",Table1[[#This Row],[SEND (E,K,N)]])","v":""},"",{"$f":"IF(LEN(Table3[[#This Row],[Pupil Name]])>0,1,0)","v":0}]
[{"$f":"IF(Table1[[#This Row],[School/Group Name]]=\"\",\"\",Table1[[#This Row],[School/Group Name]])","v":""},{"$f":"IF(Table1[[#This Row],[Pupil Name]]=\"\",\"\",Table1[[#This Row],[Pupil Name]])","v":""},{"$f":"IF(Table1[[#This Row],[Gender (M/F)]]=\"\",\"\",Table1[[#This Row],[Gender (M/F)]])","v":""},{"$f":"IF(Table1[[#This Row],[DisAdv (Y/N)]]=\"\",\"\",Table1[[#This Row],[DisAdv (Y/N)]])","v":""},{"$f":"IF(Table1[[#This Row],[SEND (E,K,N)]]=\"\",\"\",Table1[[#This Row],[SEND (E,K,N)]])","v":""},"",{"$f":"IF(LEN(Table3[[#This Row],[Pupil Name]])>0,1,0)","v":0}]
[{"$f":"IF(Table1[[#This Row],[School/Group Name]]=\"\",\"\",Table1[[#This Row],[School/Group Name]])","v":""},{"$f":"IF(Table1[[#This Row],[Pupil Name]]=\"\",\"\",Table1[[#This Row],[Pupil Name]])","v":""},{"$f":"IF(Table1[[#This Row],[Gender (M/F)]]=\"\",\"\",Table1[[#This Row],[Gender (M/F)]])","v":""},{"$f":"IF(Table1[[#This Row],[DisAdv (Y/N)]]=\"\",\"\",Table1[[#This Row],[DisAdv (Y/N)]])","v":""},{"$f":"IF(Table1[[#This Row],[SEND (E,K,N)]]=\"\",\"\",Table1[[#This Row],[SEND (E,K,N)]])","v":""},"",{"$f":"IF(LEN(Table3[[#This Row],[Pupil Name]])>0,1,0)","v":0}]
[{"$f":"IF(Table1[[#This Row],[School/Group Name]]=\"\",\"\",Table1[[#This Row],[School/Group Name]])","v":""},{"$f":"IF(Table1[[#This Row],[Pupil Name]]=\"\",\"\",Table1[[#This Row],[Pupil Name]])","v":""},{"$f":"IF(Table1[[#This Row],[Gender (M/F)]]=\"\",\"\",Table1[[#This Row],[Gender (M/F)]])","v":""},{"$f":"IF(Table1[[#This Row],[DisAdv (Y/N)]]=\"\",\"\",Table1[[#This Row],[DisAdv (Y/N)]])","v":""},{"$f":"IF(Table1[[#This Row],[SEND (E,K,N)]]=\"\",\"\",Table1[[#This Row],[SEND (E,K,N)]])","v":""},"",{"$f":"IF(LEN(Table3[[#This Row],[Pupil Name]])>0,1,0)","v":0}]
[{"$f":"IF(Table1[[#This Row],[School/Group Name]]=\"\",\"\",Table1[[#This Row],[School/Group Name]])","v":""},{"$f":"IF(Table1[[#This Row],[Pupil Name]]=\"\",\"\",Table1[[#This Row],[Pupil Name]])","v":""},{"$f":"IF(Table1[[#This Row],[Gender (M/F)]]=\"\",\"\",Table1[[#This Row],[Gender (M/F)]])","v":""},{"$f":"IF(Table1[[#This Row],[DisAdv (Y/N)]]=\"\",\"\",Table1[[#This Row],[DisAdv (Y/N)]])","v":""},{"$f":"IF(Table1[[#This Row],[SEND (E,K,N)]]=\"\",\"\",Table1[[#This Row],[SEND (E,K,N)]])","v":""},"",{"$f":"IF(LEN(Table3[[#This Row],[Pupil Name]])>0,1,0)","v":0}]
[{"$f":"IF(Table1[[#This Row],[School/Group Name]]=\"\",\"\",Table1[[#This Row],[School/Group Name]])","v":""},{"$f":"IF(Table1[[#This Row],[Pupil Name]]=\"\",\"\",Table1[[#This Row],[Pupil Name]])","v":""},{"$f":"IF(Table1[[#This Row],[Gender (M/F)]]=\"\",\"\",Table1[[#This Row],[Gender (M/F)]])","v":""},{"$f":"IF(Table1[[#This Row],[DisAdv (Y/N)]]=\"\",\"\",Table1[[#This Row],[DisAdv (Y/N)]])","v":""},{"$f":"IF(Table1[[#This Row],[SEND (E,K,N)]]=\"\",\"\",Table1[[#This Row],[SEND (E,K,N)]])","v":""},"",{"$f":"IF(LEN(Table3[[#This Row],[Pupil Name]])>0,1,0)","v":0}]
[{"$f":"IF(Table1[[#This Row],[School/Group Name]]=\"\",\"\",Table1[[#This Row],[School/Group Name]])","v":""},{"$f":"IF(Table1[[#This Row],[Pupil Name]]=\"\",\"\",Table1[[#This Row],[Pupil Name]])","v":""},{"$f":"IF(Table1[[#This Row],[Gender (M/F)]]=\"\",\"\",Table1[[#This Row],[Gender (M/F)]])","v":""},{"$f":"IF(Table1[[#This Row],[DisAdv (Y/N)]]=\"\",\"\",Table1[[#This Row],[DisAdv (Y/N)]])","v":""},{"$f":"IF(Table1[[#This Row],[SEND (E,K,N)]]=\"\",\"\",Table1[[#This Row],[SEND (E,K,N)]])","v":""},"",{"$f":"IF(LEN(Table3[[#This Row],[Pupil Name]])>0,1,0)","v":0}]
[{"$f":"IF(Table1[[#This Row],[School/Group Name]]=\"\",\"\",Table1[[#This Row],[School/Group Name]])","v":""},{"$f":"IF(Table1[[#This Row],[Pupil Name]]=\"\",\"\",Table1[[#This Row],[Pupil Name]])","v":""},{"$f":"IF(Table1[[#This Row],[Gender (M/F)]]=\"\",\"\",Table1[[#This Row],[Gender (M/F)]])","v":""},{"$f":"IF(Table1[[#This Row],[DisAdv (Y/N)]]=\"\",\"\",Table1[[#This Row],[DisAdv (Y/N)]])","v":""},{"$f":"IF(Table1[[#This Row],[SEND (E,K,N)]]=\"\",\"\",Table1[[#This Row],[SEND (E,K,N)]])","v":""},"",{"$f":"IF(LEN(Table3[[#This Row],[Pupil Name]])>0,1,0)","v":0}]
[{"$f":"IF(Table1[[#This Row],[School/Group Name]]=\"\",\"\",Table1[[#This Row],[School/Group Name]])","v":""},{"$f":"IF(Table1[[#This Row],[Pupil Name]]=\"\",\"\",Table1[[#This Row],[Pupil Name]])","v":""},{"$f":"IF(Table1[[#This Row],[Gender (M/F)]]=\"\",\"\",Table1[[#This Row],[Gender (M/F)]])","v":""},{"$f":"IF(Table1[[#This Row],[DisAdv (Y/N)]]=\"\",\"\",Table1[[#This Row],[DisAdv (Y/N)]])","v":""},{"$f":"IF(Table1[[#This Row],[SEND (E,K,N)]]=\"\",\"\",Table1[[#This Row],[SEND (E,K,N)]])","v":""},"",{"$f":"IF(LEN(Table3[[#This Row],[Pupil Name]])>0,1,0)","v":0}]
[{"$f":"IF(Table1[[#This Row],[School/Group Name]]=\"\",\"\",Table1[[#This Row],[School/Group Name]])","v":""},{"$f":"IF(Table1[[#This Row],[Pupil Name]]=\"\",\"\",Table1[[#This Row],[Pupil Name]])","v":""},{"$f":"IF(Table1[[#This Row],[Gender (M/F)]]=\"\",\"\",Table1[[#This Row],[Gender (M/F)]])","v":""},{"$f":"IF(Table1[[#This Row],[DisAdv (Y/N)]]=\"\",\"\",Table1[[#This Row],[DisAdv (Y/N)]])","v":""},{"$f":"IF(Table1[[#This Row],[SEND (E,K,N)]]=\"\",\"\",Table1[[#This Row],[SEND (E,K,N)]])","v":""},"",{"$f":"IF(LEN(Table3[[#This Row],[Pupil Name]])>0,1,0)","v":0}]
[{"$f":"IF(Table1[[#This Row],[School/Group Name]]=\"\",\"\",Table1[[#This Row],[School/Group Name]])","v":""},{"$f":"IF(Table1[[#This Row],[Pupil Name]]=\"\",\"\",Table1[[#This Row],[Pupil Name]])","v":""},{"$f":"IF(Table1[[#This Row],[Gender (M/F)]]=\"\",\"\",Table1[[#This Row],[Gender (M/F)]])","v":""},{"$f":"IF(Table1[[#This Row],[DisAdv (Y/N)]]=\"\",\"\",Table1[[#This Row],[DisAdv (Y/N)]])","v":""},{"$f":"IF(Table1[[#This Row],[SEND (E,K,N)]]=\"\",\"\",Table1[[#This Row],[SEND (E,K,N)]])","v":""},"",{"$f":"IF(LEN(Table3[[#This Row],[Pupil Name]])>0,1,0)","v":0}]
[{"$f":"IF(Table1[[#This Row],[School/Group Name]]=\"\",\"\",Table1[[#This Row],[School/Group Name]])","v":""},{"$f":"IF(Table1[[#This Row],[Pupil Name]]=\"\",\"\",Table1[[#This Row],[Pupil Name]])","v":""},{"$f":"IF(Table1[[#This Row],[Gender (M/F)]]=\"\",\"\",Table1[[#This Row],[Gender (M/F)]])","v":""},{"$f":"IF(Table1[[#This Row],[DisAdv (Y/N)]]=\"\",\"\",Table1[[#This Row],[DisAdv (Y/N)]])","v":""},{"$f":"IF(Table1[[#This Row],[SEND (E,K,N)]]=\"\",\"\",Table1[[#This Row],[SEND (E,K,N)]])","v":""},"",{"$f":"IF(LEN(Table3[[#This Row],[Pupil Name]])>0,1,0)","v":0}]
[{"$f":"IF(Table1[[#This Row],[School/Group Name]]=\"\",\"\",Table1[[#This Row],[School/Group Name]])","v":""},{"$f":"IF(Table1[[#This Row],[Pupil Name]]=\"\",\"\",Table1[[#This Row],[Pupil Name]])","v":""},{"$f":"IF(Table1[[#This Row],[Gender (M/F)]]=\"\",\"\",Table1[[#This Row],[Gender (M/F)]])","v":""},{"$f":"IF(Table1[[#This Row],[DisAdv (Y/N)]]=\"\",\"\",Table1[[#This Row],[DisAdv (Y/N)]])","v":""},{"$f":"IF(Table1[[#This Row],[SEND (E,K,N)]]=\"\",\"\",Table1[[#This Row],[SEND (E,K,N)]])","v":""},"",{"$f":"IF(LEN(Table3[[#This Row],[Pupil Name]])>0,1,0)","v":0}]
[{"$f":"IF(Table1[[#This Row],[School/Group Name]]=\"\",\"\",Table1[[#This Row],[School/Group Name]])","v":""},{"$f":"IF(Table1[[#This Row],[Pupil Name]]=\"\",\"\",Table1[[#This Row],[Pupil Name]])","v":""},{"$f":"IF(Table1[[#This Row],[Gender (M/F)]]=\"\",\"\",Table1[[#This Row],[Gender (M/F)]])","v":""},{"$f":"IF(Table1[[#This Row],[DisAdv (Y/N)]]=\"\",\"\",Table1[[#This Row],[DisAdv (Y/N)]])","v":""},{"$f":"IF(Table1[[#This Row],[SEND (E,K,N)]]=\"\",\"\",Table1[[#This Row],[SEND (E,K,N)]])","v":""},"",{"$f":"IF(LEN(Table3[[#This Row],[Pupil Name]])>0,1,0)","v":0}]
[{"$f":"IF(Table1[[#This Row],[School/Group Name]]=\"\",\"\",Table1[[#This Row],[School/Group Name]])","v":""},{"$f":"IF(Table1[[#This Row],[Pupil Name]]=\"\",\"\",Table1[[#This Row],[Pupil Name]])","v":""},{"$f":"IF(Table1[[#This Row],[Gender (M/F)]]=\"\",\"\",Table1[[#This Row],[Gender (M/F)]])","v":""},{"$f":"IF(Table1[[#This Row],[DisAdv (Y/N)]]=\"\",\"\",Table1[[#This Row],[DisAdv (Y/N)]])","v":""},{"$f":"IF(Table1[[#This Row],[SEND (E,K,N)]]=\"\",\"\",Table1[[#This Row],[SEND (E,K,N)]])","v":""},"",{"$f":"IF(LEN(Table3[[#This Row],[Pupil Name]])>0,1,0)","v":0}]
[{"$f":"IF(Table1[[#This Row],[School/Group Name]]=\"\",\"\",Table1[[#This Row],[School/Group Name]])","v":""},{"$f":"IF(Table1[[#This Row],[Pupil Name]]=\"\",\"\",Table1[[#This Row],[Pupil Name]])","v":""},{"$f":"IF(Table1[[#This Row],[Gender (M/F)]]=\"\",\"\",Table1[[#This Row],[Gender (M/F)]])","v":""},{"$f":"IF(Table1[[#This Row],[DisAdv (Y/N)]]=\"\",\"\",Table1[[#This Row],[DisAdv (Y/N)]])","v":""},{"$f":"IF(Table1[[#This Row],[SEND (E,K,N)]]=\"\",\"\",Table1[[#This Row],[SEND (E,K,N)]])","v":""},"",{"$f":"IF(LEN(Table3[[#This Row],[Pupil Name]])>0,1,0)","v":0}]
[{"$f":"IF(Table1[[#This Row],[School/Group Name]]=\"\",\"\",Table1[[#This Row],[School/Group Name]])","v":""},{"$f":"IF(Table1[[#This Row],[Pupil Name]]=\"\",\"\",Table1[[#This Row],[Pupil Name]])","v":""},{"$f":"IF(Table1[[#This Row],[Gender (M/F)]]=\"\",\"\",Table1[[#This Row],[Gender (M/F)]])","v":""},{"$f":"IF(Table1[[#This Row],[DisAdv (Y/N)]]=\"\",\"\",Table1[[#This Row],[DisAdv (Y/N)]])","v":""},{"$f":"IF(Table1[[#This Row],[SEND (E,K,N)]]=\"\",\"\",Table1[[#This Row],[SEND (E,K,N)]])","v":""},"",{"$f":"IF(LEN(Table3[[#This Row],[Pupil Name]])>0,1,0)","v":0}]
[{"$f":"IF(Table1[[#This Row],[School/Group Name]]=\"\",\"\",Table1[[#This Row],[School/Group Name]])","v":""},{"$f":"IF(Table1[[#This Row],[Pupil Name]]=\"\",\"\",Table1[[#This Row],[Pupil Name]])","v":""},{"$f":"IF(Table1[[#This Row],[Gender (M/F)]]=\"\",\"\",Table1[[#This Row],[Gender (M/F)]])","v":""},{"$f":"IF(Table1[[#This Row],[DisAdv (Y/N)]]=\"\",\"\",Table1[[#This Row],[DisAdv (Y/N)]])","v":""},{"$f":"IF(Table1[[#This Row],[SEND (E,K,N)]]=\"\",\"\",Table1[[#This Row],[SEND (E,K,N)]])","v":""},"",{"$f":"IF(LEN(Table3[[#This Row],[Pupil Name]])>0,1,0)","v":0}]
[{"$f":"IF(Table1[[#This Row],[School/Group Name]]=\"\",\"\",Table1[[#This Row],[School/Group Name]])","v":""},{"$f":"IF(Table1[[#This Row],[Pupil Name]]=\"\",\"\",Table1[[#This Row],[Pupil Name]])","v":""},{"$f":"IF(Table1[[#This Row],[Gender (M/F)]]=\"\",\"\",Table1[[#This Row],[Gender (M/F)]])","v":""},{"$f":"IF(Table1[[#This Row],[DisAdv (Y/N)]]=\"\",\"\",Table1[[#This Row],[DisAdv (Y/N)]])","v":""},{"$f":"IF(Table1[[#This Row],[SEND (E,K,N)]]=\"\",\"\",Table1[[#This Row],[SEND (E,K,N)]])","v":""},"",{"$f":"IF(LEN(Table3[[#This Row],[Pupil Name]])>0,1,0)","v":0}]
[{"$f":"IF(Table1[[#This Row],[School/Group Name]]=\"\",\"\",Table1[[#This Row],[School/Group Name]])","v":""},{"$f":"IF(Table1[[#This Row],[Pupil Name]]=\"\",\"\",Table1[[#This Row],[Pupil Name]])","v":""},{"$f":"IF(Table1[[#This Row],[Gender (M/F)]]=\"\",\"\",Table1[[#This Row],[Gender (M/F)]])","v":""},{"$f":"IF(Table1[[#This Row],[DisAdv (Y/N)]]=\"\",\"\",Table1[[#This Row],[DisAdv (Y/N)]])","v":""},{"$f":"IF(Table1[[#This Row],[SEND (E,K,N)]]=\"\",\"\",Table1[[#This Row],[SEND (E,K,N)]])","v":""},"",{"$f":"IF(LEN(Table3[[#This Row],[Pupil Name]])>0,1,0)","v":0}]
[{"$f":"IF(Table1[[#This Row],[School/Group Name]]=\"\",\"\",Table1[[#This Row],[School/Group Name]])","v":""},{"$f":"IF(Table1[[#This Row],[Pupil Name]]=\"\",\"\",Table1[[#This Row],[Pupil Name]])","v":""},{"$f":"IF(Table1[[#This Row],[Gender (M/F)]]=\"\",\"\",Table1[[#This Row],[Gender (M/F)]])","v":""},{"$f":"IF(Table1[[#This Row],[DisAdv (Y/N)]]=\"\",\"\",Table1[[#This Row],[DisAdv (Y/N)]])","v":""},{"$f":"IF(Table1[[#This Row],[SEND (E,K,N)]]=\"\",\"\",Table1[[#This Row],[SEND (E,K,N)]])","v":""},"",{"$f":"IF(LEN(Table3[[#This Row],[Pupil Name]])>0,1,0)","v":0}]
[{"$f":"IF(Table1[[#This Row],[School/Group Name]]=\"\",\"\",Table1[[#This Row],[School/Group Name]])","v":""},{"$f":"IF(Table1[[#This Row],[Pupil Name]]=\"\",\"\",Table1[[#This Row],[Pupil Name]])","v":""},{"$f":"IF(Table1[[#This Row],[Gender (M/F)]]=\"\",\"\",Table1[[#This Row],[Gender (M/F)]])","v":""},{"$f":"IF(Table1[[#This Row],[DisAdv (Y/N)]]=\"\",\"\",Table1[[#This Row],[DisAdv (Y/N)]])","v":""},{"$f":"IF(Table1[[#This Row],[SEND (E,K,N)]]=\"\",\"\",Table1[[#This Row],[SEND (E,K,N)]])","v":""},"",{"$f":"IF(LEN(Table3[[#This Row],[Pupil Name]])>0,1,0)","v":0}]
[{"$f":"IF(Table1[[#This Row],[School/Group Name]]=\"\",\"\",Table1[[#This Row],[School/Group Name]])","v":""},{"$f":"IF(Table1[[#This Row],[Pupil Name]]=\"\",\"\",Table1[[#This Row],[Pupil Name]])","v":""},{"$f":"IF(Table1[[#This Row],[Gender (M/F)]]=\"\",\"\",Table1[[#This Row],[Gender (M/F)]])","v":""},{"$f":"IF(Table1[[#This Row],[DisAdv (Y/N)]]=\"\",\"\",Table1[[#This Row],[DisAdv (Y/N)]])","v":""},{"$f":"IF(Table1[[#This Row],[SEND (E,K,N)]]=\"\",\"\",Table1[[#This Row],[SEND (E,K,N)]])","v":""},"",{"$f":"IF(LEN(Table3[[#This Row],[Pupil Name]])>0,1,0)","v":0}]
[{"$f":"IF(Table1[[#This Row],[School/Group Name]]=\"\",\"\",Table1[[#This Row],[School/Group Name]])","v":""},{"$f":"IF(Table1[[#This Row],[Pupil Name]]=\"\",\"\",Table1[[#This Row],[Pupil Name]])","v":""},{"$f":"IF(Table1[[#This Row],[Gender (M/F)]]=\"\",\"\",Table1[[#This Row],[Gender (M/F)]])","v":""},{"$f":"IF(Table1[[#This Row],[DisAdv (Y/N)]]=\"\",\"\",Table1[[#This Row],[DisAdv (Y/N)]])","v":""},{"$f":"IF(Table1[[#This Row],[SEND (E,K,N)]]=\"\",\"\",Table1[[#This Row],[SEND (E,K,N)]])","v":""},"",{"$f":"IF(LEN(Table3[[#This Row],[Pupil Name]])>0,1,0)","v":0}]
[{"$f":"IF(Table1[[#This Row],[School/Group Name]]=\"\",\"\",Table1[[#This Row],[School/Group Name]])","v":""},{"$f":"IF(Table1[[#This Row],[Pupil Name]]=\"\",\"\",Table1[[#This Row],[Pupil Name]])","v":""},{"$f":"IF(Table1[[#This Row],[Gender (M/F)]]=\"\",\"\",Table1[[#This Row],[Gender (M/F)]])","v":""},{"$f":"IF(Table1[[#This Row],[DisAdv (Y/N)]]=\"\",\"\",Table1[[#This Row],[DisAdv (Y/N)]])","v":""},{"$f":"IF(Table1[[#This Row],[SEND (E,K,N)]]=\"\",\"\",Table1[[#This Row],[SEND (E,K,N)]])","v":""},"",{"$f":"IF(LEN(Table3[[#This Row],[Pupil Name]])>0,1,0)","v":0}]
[{"$f":"IF(Table1[[#This Row],[School/Group Name]]=\"\",\"\",Table1[[#This Row],[School/Group Name]])","v":""},{"$f":"IF(Table1[[#This Row],[Pupil Name]]=\"\",\"\",Table1[[#This Row],[Pupil Name]])","v":""},{"$f":"IF(Table1[[#This Row],[Gender (M/F)]]=\"\",\"\",Table1[[#This Row],[Gender (M/F)]])","v":""},{"$f":"IF(Table1[[#This Row],[DisAdv (Y/N)]]=\"\",\"\",Table1[[#This Row],[DisAdv (Y/N)]])","v":""},{"$f":"IF(Table1[[#This Row],[SEND (E,K,N)]]=\"\",\"\",Table1[[#This Row],[SEND (E,K,N)]])","v":""},"",{"$f":"IF(LEN(Table3[[#This Row],[Pupil Name]])>0,1,0)","v":0}]
[{"$f":"IF(Table1[[#This Row],[School/Group Name]]=\"\",\"\",Table1[[#This Row],[School/Group Name]])","v":""},{"$f":"IF(Table1[[#This Row],[Pupil Name]]=\"\",\"\",Table1[[#This Row],[Pupil Name]])","v":""},{"$f":"IF(Table1[[#This Row],[Gender (M/F)]]=\"\",\"\",Table1[[#This Row],[Gender (M/F)]])","v":""},{"$f":"IF(Table1[[#This Row],[DisAdv (Y/N)]]=\"\",\"\",Table1[[#This Row],[DisAdv (Y/N)]])","v":""},{"$f":"IF(Table1[[#This Row],[SEND (E,K,N)]]=\"\",\"\",Table1[[#This Row],[SEND (E,K,N)]])","v":""},"",{"$f":"IF(LEN(Table3[[#This Row],[Pupil Name]])>0,1,0)","v":0}]
[{"$f":"IF(Table1[[#This Row],[School/Group Name]]=\"\",\"\",Table1[[#This Row],[School/Group Name]])","v":""},{"$f":"IF(Table1[[#This Row],[Pupil Name]]=\"\",\"\",Table1[[#This Row],[Pupil Name]])","v":""},{"$f":"IF(Table1[[#This Row],[Gender (M/F)]]=\"\",\"\",Table1[[#This Row],[Gender (M/F)]])","v":""},{"$f":"IF(Table1[[#This Row],[DisAdv (Y/N)]]=\"\",\"\",Table1[[#This Row],[DisAdv (Y/N)]])","v":""},{"$f":"IF(Table1[[#This Row],[SEND (E,K,N)]]=\"\",\"\",Table1[[#This Row],[SEND (E,K,N)]])","v":""},"",{"$f":"IF(LEN(Table3[[#This Row],[Pupil Name]])>0,1,0)","v":0}]
[{"$f":"IF(Table1[[#This Row],[School/Group Name]]=\"\",\"\",Table1[[#This Row],[School/Group Name]])","v":""},{"$f":"IF(Table1[[#This Row],[Pupil Name]]=\"\",\"\",Table1[[#This Row],[Pupil Name]])","v":""},{"$f":"IF(Table1[[#This Row],[Gender (M/F)]]=\"\",\"\",Table1[[#This Row],[Gender (M/F)]])","v":""},{"$f":"IF(Table1[[#This Row],[DisAdv (Y/N)]]=\"\",\"\",Table1[[#This Row],[DisAdv (Y/N)]])","v":""},{"$f":"IF(Table1[[#This Row],[SEND (E,K,N)]]=\"\",\"\",Table1[[#This Row],[SEND (E,K,N)]])","v":""},"",{"$f":"IF(LEN(Table3[[#This Row],[Pupil Name]])>0,1,0)","v":0}]
[{"$f":"IF(Table1[[#This Row],[School/Group Name]]=\"\",\"\",Table1[[#This Row],[School/Group Name]])","v":""},{"$f":"IF(Table1[[#This Row],[Pupil Name]]=\"\",\"\",Table1[[#This Row],[Pupil Name]])","v":""},{"$f":"IF(Table1[[#This Row],[Gender (M/F)]]=\"\",\"\",Table1[[#This Row],[Gender (M/F)]])","v":""},{"$f":"IF(Table1[[#This Row],[DisAdv (Y/N)]]=\"\",\"\",Table1[[#This Row],[DisAdv (Y/N)]])","v":""},{"$f":"IF(Table1[[#This Row],[SEND (E,K,N)]]=\"\",\"\",Table1[[#This Row],[SEND (E,K,N)]])","v":""},"",{"$f":"IF(LEN(Table3[[#This Row],[Pupil Name]])>0,1,0)","v":0}]
[{"$f":"IF(Table1[[#This Row],[School/Group Name]]=\"\",\"\",Table1[[#This Row],[School/Group Name]])","v":""},{"$f":"IF(Table1[[#This Row],[Pupil Name]]=\"\",\"\",Table1[[#This Row],[Pupil Name]])","v":""},{"$f":"IF(Table1[[#This Row],[Gender (M/F)]]=\"\",\"\",Table1[[#This Row],[Gender (M/F)]])","v":""},{"$f":"IF(Table1[[#This Row],[DisAdv (Y/N)]]=\"\",\"\",Table1[[#This Row],[DisAdv (Y/N)]])","v":""},{"$f":"IF(Table1[[#This Row],[SEND (E,K,N)]]=\"\",\"\",Table1[[#This Row],[SEND (E,K,N)]])","v":""},"",{"$f":"IF(LEN(Table3[[#This Row],[Pupil Name]])>0,1,0)","v":0}]
[{"$f":"IF(Table1[[#This Row],[School/Group Name]]=\"\",\"\",Table1[[#This Row],[School/Group Name]])","v":""},{"$f":"IF(Table1[[#This Row],[Pupil Name]]=\"\",\"\",Table1[[#This Row],[Pupil Name]])","v":""},{"$f":"IF(Table1[[#This Row],[Gender (M/F)]]=\"\",\"\",Table1[[#This Row],[Gender (M/F)]])","v":""},{"$f":"IF(Table1[[#This Row],[DisAdv (Y/N)]]=\"\",\"\",Table1[[#This Row],[DisAdv (Y/N)]])","v":""},{"$f":"IF(Table1[[#This Row],[SEND (E,K,N)]]=\"\",\"\",Table1[[#This Row],[SEND (E,K,N)]])","v":""},"",{"$f":"IF(LEN(Table3[[#This Row],[Pupil Name]])>0,1,0)","v":0}]
[{"$f":"IF(Table1[[#This Row],[School/Group Name]]=\"\",\"\",Table1[[#This Row],[School/Group Name]])","v":""},{"$f":"IF(Table1[[#This Row],[Pupil Name]]=\"\",\"\",Table1[[#This Row],[Pupil Name]])","v":""},{"$f":"IF(Table1[[#This Row],[Gender (M/F)]]=\"\",\"\",Table1[[#This Row],[Gender (M/F)]])","v":""},{"$f":"IF(Table1[[#This Row],[DisAdv (Y/N)]]=\"\",\"\",Table1[[#This Row],[DisAdv (Y/N)]])","v":""},{"$f":"IF(Table1[[#This Row],[SEND (E,K,N)]]=\"\",\"\",Table1[[#This Row],[SEND (E,K,N)]])","v":""},"",{"$f":"IF(LEN(Table3[[#This Row],[Pupil Name]])>0,1,0)","v":0}]
[{"$f":"IF(Table1[[#This Row],[School/Group Name]]=\"\",\"\",Table1[[#This Row],[School/Group Name]])","v":""},{"$f":"IF(Table1[[#This Row],[Pupil Name]]=\"\",\"\",Table1[[#This Row],[Pupil Name]])","v":""},{"$f":"IF(Table1[[#This Row],[Gender (M/F)]]=\"\",\"\",Table1[[#This Row],[Gender (M/F)]])","v":""},{"$f":"IF(Table1[[#This Row],[DisAdv (Y/N)]]=\"\",\"\",Table1[[#This Row],[DisAdv (Y/N)]])","v":""},{"$f":"IF(Table1[[#This Row],[SEND (E,K,N)]]=\"\",\"\",Table1[[#This Row],[SEND (E,K,N)]])","v":""},"",{"$f":"IF(LEN(Table3[[#This Row],[Pupil Name]])>0,1,0)","v":0}]
[{"$f":"IF(Table1[[#This Row],[School/Group Name]]=\"\",\"\",Table1[[#This Row],[School/Group Name]])","v":""},{"$f":"IF(Table1[[#This Row],[Pupil Name]]=\"\",\"\",Table1[[#This Row],[Pupil Name]])","v":""},{"$f":"IF(Table1[[#This Row],[Gender (M/F)]]=\"\",\"\",Table1[[#This Row],[Gender (M/F)]])","v":""},{"$f":"IF(Table1[[#This Row],[DisAdv (Y/N)]]=\"\",\"\",Table1[[#This Row],[DisAdv (Y/N)]])","v":""},{"$f":"IF(Table1[[#This Row],[SEND (E,K,N)]]=\"\",\"\",Table1[[#This Row],[SEND (E,K,N)]])","v":""},"",{"$f":"IF(LEN(Table3[[#This Row],[Pupil Name]])>0,1,0)","v":0}]
[{"$f":"IF(Table1[[#This Row],[School/Group Name]]=\"\",\"\",Table1[[#This Row],[School/Group Name]])","v":""},{"$f":"IF(Table1[[#This Row],[Pupil Name]]=\"\",\"\",Table1[[#This Row],[Pupil Name]])","v":""},{"$f":"IF(Table1[[#This Row],[Gender (M/F)]]=\"\",\"\",Table1[[#This Row],[Gender (M/F)]])","v":""},{"$f":"IF(Table1[[#This Row],[DisAdv (Y/N)]]=\"\",\"\",Table1[[#This Row],[DisAdv (Y/N)]])","v":""},{"$f":"IF(Table1[[#This Row],[SEND (E,K,N)]]=\"\",\"\",Table1[[#This Row],[SEND (E,K,N)]])","v":""},"",{"$f":"IF(LEN(Table3[[#This Row],[Pupil Name]])>0,1,0)","v":0}]
[{"$f":"IF(Table1[[#This Row],[School/Group Name]]=\"\",\"\",Table1[[#This Row],[School/Group Name]])","v":""},{"$f":"IF(Table1[[#This Row],[Pupil Name]]=\"\",\"\",Table1[[#This Row],[Pupil Name]])","v":""},{"$f":"IF(Table1[[#This Row],[Gender (M/F)]]=\"\",\"\",Table1[[#This Row],[Gender (M/F)]])","v":""},{"$f":"IF(Table1[[#This Row],[DisAdv (Y/N)]]=\"\",\"\",Table1[[#This Row],[DisAdv (Y/N)]])","v":""},{"$f":"IF(Table1[[#This Row],[SEND (E,K,N)]]=\"\",\"\",Table1[[#This Row],[SEND (E,K,N)]])","v":""},"",{"$f":"IF(LEN(Table3[[#This Row],[Pupil Name]])>0,1,0)","v":0}]
[{"$f":"IF(Table1[[#This Row],[School/Group Name]]=\"\",\"\",Table1[[#This Row],[School/Group Name]])","v":""},{"$f":"IF(Table1[[#This Row],[Pupil Name]]=\"\",\"\",Table1[[#This Row],[Pupil Name]])","v":""},{"$f":"IF(Table1[[#This Row],[Gender (M/F)]]=\"\",\"\",Table1[[#This Row],[Gender (M/F)]])","v":""},{"$f":"IF(Table1[[#This Row],[DisAdv (Y/N)]]=\"\",\"\",Table1[[#This Row],[DisAdv (Y/N)]])","v":""},{"$f":"IF(Table1[[#This Row],[SEND (E,K,N)]]=\"\",\"\",Table1[[#This Row],[SEND (E,K,N)]])","v":""},"",{"$f":"IF(LEN(Table3[[#This Row],[Pupil Name]])>0,1,0)","v":0}]
[{"$f":"IF(Table1[[#This Row],[School/Group Name]]=\"\",\"\",Table1[[#This Row],[School/Group Name]])","v":""},{"$f":"IF(Table1[[#This Row],[Pupil Name]]=\"\",\"\",Table1[[#This Row],[Pupil Name]])","v":""},{"$f":"IF(Table1[[#This Row],[Gender (M/F)]]=\"\",\"\",Table1[[#This Row],[Gender (M/F)]])","v":""},{"$f":"IF(Table1[[#This Row],[DisAdv (Y/N)]]=\"\",\"\",Table1[[#This Row],[DisAdv (Y/N)]])","v":""},{"$f":"IF(Table1[[#This Row],[SEND (E,K,N)]]=\"\",\"\",Table1[[#This Row],[SEND (E,K,N)]])","v":""},"",{"$f":"IF(LEN(Table3[[#This Row],[Pupil Name]])>0,1,0)","v":0}]
[{"$f":"IF(Table1[[#This Row],[School/Group Name]]=\"\",\"\",Table1[[#This Row],[School/Group Name]])","v":""},{"$f":"IF(Table1[[#This Row],[Pupil Name]]=\"\",\"\",Table1[[#This Row],[Pupil Name]])","v":""},{"$f":"IF(Table1[[#This Row],[Gender (M/F)]]=\"\",\"\",Table1[[#This Row],[Gender (M/F)]])","v":""},{"$f":"IF(Table1[[#This Row],[DisAdv (Y/N)]]=\"\",\"\",Table1[[#This Row],[DisAdv (Y/N)]])","v":""},{"$f":"IF(Table1[[#This Row],[SEND (E,K,N)]]=\"\",\"\",Table1[[#This Row],[SEND (E,K,N)]])","v":""},"",{"$f":"IF(LEN(Table3[[#This Row],[Pupil Name]])>0,1,0)","v":0}]
[{"$f":"IF(Table1[[#This Row],[School/Group Name]]=\"\",\"\",Table1[[#This Row],[School/Group Name]])","v":""},{"$f":"IF(Table1[[#This Row],[Pupil Name]]=\"\",\"\",Table1[[#This Row],[Pupil Name]])","v":""},{"$f":"IF(Table1[[#This Row],[Gender (M/F)]]=\"\",\"\",Table1[[#This Row],[Gender (M/F)]])","v":""},{"$f":"IF(Table1[[#This Row],[DisAdv (Y/N)]]=\"\",\"\",Table1[[#This Row],[DisAdv (Y/N)]])","v":""},{"$f":"IF(Table1[[#This Row],[SEND (E,K,N)]]=\"\",\"\",Table1[[#This Row],[SEND (E,K,N)]])","v":""},"",{"$f":"IF(LEN(Table3[[#This Row],[Pupil Name]])>0,1,0)","v":0}]
[{"$f":"IF(Table1[[#This Row],[School/Group Name]]=\"\",\"\",Table1[[#This Row],[School/Group Name]])","v":""},{"$f":"IF(Table1[[#This Row],[Pupil Name]]=\"\",\"\",Table1[[#This Row],[Pupil Name]])","v":""},{"$f":"IF(Table1[[#This Row],[Gender (M/F)]]=\"\",\"\",Table1[[#This Row],[Gender (M/F)]])","v":""},{"$f":"IF(Table1[[#This Row],[DisAdv (Y/N)]]=\"\",\"\",Table1[[#This Row],[DisAdv (Y/N)]])","v":""},{"$f":"IF(Table1[[#This Row],[SEND (E,K,N)]]=\"\",\"\",Table1[[#This Row],[SEND (E,K,N)]])","v":""},"",{"$f":"IF(LEN(Table3[[#This Row],[Pupil Name]])>0,1,0)","v":0}]
[{"$f":"IF(Table1[[#This Row],[School/Group Name]]=\"\",\"\",Table1[[#This Row],[School/Group Name]])","v":""},{"$f":"IF(Table1[[#This Row],[Pupil Name]]=\"\",\"\",Table1[[#This Row],[Pupil Name]])","v":""},{"$f":"IF(Table1[[#This Row],[Gender (M/F)]]=\"\",\"\",Table1[[#This Row],[Gender (M/F)]])","v":""},{"$f":"IF(Table1[[#This Row],[DisAdv (Y/N)]]=\"\",\"\",Table1[[#This Row],[DisAdv (Y/N)]])","v":""},{"$f":"IF(Table1[[#This Row],[SEND (E,K,N)]]=\"\",\"\",Table1[[#This Row],[SEND (E,K,N)]])","v":""},"",{"$f":"IF(LEN(Table3[[#This Row],[Pupil Name]])>0,1,0)","v":0}]
[{"$f":"IF(Table1[[#This Row],[School/Group Name]]=\"\",\"\",Table1[[#This Row],[School/Group Name]])","v":""},{"$f":"IF(Table1[[#This Row],[Pupil Name]]=\"\",\"\",Table1[[#This Row],[Pupil Name]])","v":""},{"$f":"IF(Table1[[#This Row],[Gender (M/F)]]=\"\",\"\",Table1[[#This Row],[Gender (M/F)]])","v":""},{"$f":"IF(Table1[[#This Row],[DisAdv (Y/N)]]=\"\",\"\",Table1[[#This Row],[DisAdv (Y/N)]])","v":""},{"$f":"IF(Table1[[#This Row],[SEND (E,K,N)]]=\"\",\"\",Table1[[#This Row],[SEND (E,K,N)]])","v":""},"",{"$f":"IF(LEN(Table3[[#This Row],[Pupil Name]])>0,1,0)","v":0}]

{"sheet":"Reading Summary","index":7,"n_rows":41,"n_cols":15,"rows_kept":41,"cut":false,"hidden":false,"merged":[]}
["Correct Count","Possible","Ques","Domain","Text","Marks","Your Correct","Nat Domain","Nat Correct","Gap to Nat",null,"READING 2019"]
[{"$f":"SUM(B2*G2%)","v":1},{"$f":"'Reading Data'!$F$4*F2","v":1},1,"2. Retrieve and record information / identify key details from fiction and non-fiction",1,1,{"$f":"'Reading Data'!$H$4","v":100},70,93.2,{"$f":"G2-I2","v":6.7999999999999972},null,"Link to Reading Booklet"]
[{"$f":"SUM(B3*G3%)","v":1},{"$f":"'Reading Data'!$F$4*F3","v":1},2,"4. Make inferences from the text / explain and justify inferences with evidence from text",1,1,{"$f":"'Reading Data'!$I$4","v":100},58,87.7,12.299999999999997,null,"Link to Answer Booklet"]
[1,{"$f":"'Reading Data'!$F$4*F4","v":1},3,"2. Retrieve and record information / identify key details from fiction and non-fiction",1,1,{"$f":"'Reading Data'!$J$4","v":100},70,91.2,8.7999999999999972,null,"Link to Mark Scheme"]
[1,{"$f":"'Reading Data'!$F$4*F5","v":1},4,"1. Give / explain the meaning of words in context",1,1,{"$f":"'Reading Data'!$K$4","v":100},78,95.1,4.9000000000000057]
[0,{"$f":"'Reading Data'!$F$4*F6","v":1},5,"2. Retrieve and record information / identify key details from fiction and non-fiction",1,1,{"$f":"'Reading Data'!$L$4","v":0},70,87.9,-87.9,null,"Domain","Marks Available","% Domain Correct","National Domain %"]
[0,{"$f":"'Reading Data'!$F$4*F7","v":1},6,"4. Make inferences from the text / explain and justify inferences with evidence from text",1,1,{"$f":"'Reading Data'!$M$4","v":0},58,87.8,-87.8,null,"1. Give / explain the meaning of words in context",6,50,78]
[1,{"$f":"'Reading Data'!$F$4*F8","v":1},7,"4. Make inferences from the text / explain and justify inferences with evidence from text",1,1,{"$f":"'Reading Data'!$N$4","v":100},58,86.8,13.200000000000003,null,"2. Retrieve and record information / identify key details from fiction and non-fiction",21,57.142857142857139,70]
[0,{"$f":"'Reading Data'!$F$4*F9","v":1},8,"1. Give / explain the meaning of words in context",1,1,{"$f":"'Reading Data'!$O$4","v":0},78,65,-65,null,"3. Summarise main ideas from more than one paragraph",1,0,93]
[1,{"$f":"'Reading Data'!$F$4*F10","v":1},9,"1. Give / explain the meaning of words in context",1,1,{"$f":"'Reading Data'!$P$4","v":100},78,92,8,null,"4. Make inferences from the text / explain and justify inferences with evidence from text",18,83.333333333333343,58]
[0,{"$f":"'Reading Data'!$F$4*F11","v":1},10,"5. Make comparisons within the text",1,1,{"$f":"'Reading Data'!$Q$4","v":0},54,53.9,-53.9,null,"5. Make comparisons within the text",1,0,54]
[1,{"$f":"'Reading Data'!$F$4*F12","v":1},11,"2. Retrieve and record information / identify key details from fiction and non-fiction",1,1,{"$f":"'Reading Data'!$R$4","v":100},70,72.900000000000006,27.099999999999994,null,"6. Identify / explain how meaning is enhanced through choice of words and phrases",3,66.666666666666657,74]
[0,{"$f":"'Reading Data'!$F$4*F13","v":1},12,"2. Retrieve and record information / identify key details from fiction and non-fiction",1,1,{"$f":"'Reading Data'!$S$4","v":0},70,80.599999999999994,-80.599999999999994]
[{"$f":"SUM(B14*G14%)","v":1},{"$f":"'Reading Data'!$F$4*F14","v":2},13,"2. Retrieve and record information / identify key details from fiction and non-fiction",1,2,{"$f":"'Reading Data'!$T$4","v":50},70,69.599999999999994,-19.599999999999994]
[1,{"$f":"'Reading Data'!$F$4*F15","v":1},14,"2. Retrieve and record information / identify key details from fiction and non-fiction",2,1,{"$f":"'Reading Data'!$U$4","v":100},70,79,21]
[2,{"$f":"'Reading Data'!$F$4*F16","v":2},15,"4. Make inferences from the text / explain and justify inferences with evidence from text",2,2,{"$f":"'Reading Data'!$V$4","v":100},58,53.5,46.5,null,"Text","Marks Available","% Correct"]
[1,{"$f":"'Reading Data'!$F$4*F17","v":1},16,"4. Make inferences from the text / explain and justify inferences with evidence from text",2,1,{"$f":"'Reading Data'!$W$4","v":100},58,78.8,21.200000000000003,null,1,14,57.142857142857139]
[0,{"$f":"'Reading Data'!$F$4*F18","v":1},17,"1. Give / explain the meaning of words in context",2,1,{"$f":"'Reading Data'!$X$4","v":0},78,85.9,-85.9,null,2,19,63.157894736842103]
[0,{"$f":"'Reading Data'!$F$4*F19","v":1},18,"3. Summarise main ideas from more than one paragraph",2,1,{"$f":"'Reading Data'!$Y$4","v":0},93,92.5,-92.5,null,3,17,70.588235294117652]
[0,{"$f":"'Reading Data'!$F$4*F20","v":1},19,"2. Retrieve and record information / identify key details from fiction and non-fiction",2,1,{"$f":"'Reading Data'!$Z$4","v":0},70,52.8,-52.8]
[1,{"$f":"'Reading Data'!$F$4*F21","v":1},20,"2. Retrieve and record information / identify key details from fiction and non-fiction",2,1,{"$f":"'Reading Data'!$AA$4","v":100},70,84.9,15.099999999999994]
[1,{"$f":"'Reading Data'!$F$4*F22","v":1},21,"1. Give / explain the meaning of words in context",2,1,{"$f":"'Reading Data'!$AB$4","v":100},78,66.7,33.299999999999997]
[1,{"$f":"'Reading Data'!$F$4*F23","v":1},22.1,"2. Retrieve and record information / identify key details from fiction and non-fiction",2,1,{"$f":"'Reading Data'!$AC$4","v":100},70,74.900000000000006,25.099999999999994]
[1,{"$f":"'Reading Data'!$F$4*F24","v":1},22.2,"2. Retrieve and record information / identify key details from fiction and non-fiction",2,1,{"$f":"'Reading Data'!$AD$4","v":100},70,80.099999999999994,19.900000000000006]
[1,{"$f":"'Reading Data'!$F$4*F25","v":1},23,"4. Make inferences from the text / explain and justify inferences with evidence from text",2,1,{"$f":"'Reading Data'!$AE$4","v":100},58,81.400000000000006,18.599999999999994]
[1,{"$f":"'Reading Data'!$F$4*F26","v":2},24,"2. Retrieve and record information / identify key details from fiction and non-fiction",2,2,{"$f":"'Reading Data'!$AF$4","v":50},70,75.3,-25.299999999999997]
[1,{"$f":"'Reading Data'!$F$4*F27","v":2},25,"2. Retrieve and record information / identify key details from fiction and non-fiction",2,2,{"$f":"'Reading Data'!$AG$4","v":50},70,42.3,7.7000000000000028]
[0,{"$f":"'Reading Data'!$F$4*F28","v":1},26,"6. Identify / explain how meaning is enhanced through choice of words and phrases",2,1,{"$f":"'Reading Data'!$AH$4","v":0},74,68.099999999999994,-68.099999999999994]
[1,{"$f":"'Reading Data'!$F$4*F29","v":2},27,"4. Make inferences from the text / explain and justify inferences with evidence from text",2,2,{"$f":"'Reading Data'!$AI$4","v":50},58,46.1,3.8999999999999986]
[1,{"$f":"'Reading Data'!$F$4*F30","v":1},28,"2. Retrieve and record information / identify key details from fiction and non-fiction",3,1,{"$f":"'Reading Data'!$AJ$4","v":100},70,80,20]
[1,{"$f":"'Reading Data'!$F$4*F31","v":1},29,"6. Identify / explain how meaning is enhanced through choice of words and phrases",3,1,{"$f":"'Reading Data'!$AK$4","v":100},74,89.3,10.700000000000003]
[1,{"$f":"'Reading Data'!$F$4*F32","v":1},30,"4. Make inferences from the text / explain and justify inferences with evidence from text",3,1,{"$f":"'Reading Data'!$AL$4","v":100},58,65.099999999999994,34.900000000000006]
[1,{"$f":"'Reading Data'!$F$4*F33","v":1},31,"4. Make inferences from the text / explain and justify inferences with evidence from text",3,1,{"$f":"'Reading Data'!$AM$4","v":100},58,55.3,44.7]
[1.9999999999999996,{"$f":"'Reading Data'!$F$4*F34","v":3},32,"4. Make inferences from the text / explain and justify inferences with evidence from text",3,3,{"$f":"'Reading Data'!$AN$4","v":66.666666666666657},58,47.3,19.36666666666666]
[1,{"$f":"'Reading Data'!$F$4*F35","v":2},33,"2. Retrieve and record information / identify key details from fiction and non-fiction",3,2,{"$f":"'Reading Data'!$AO$4","v":50},70,44.3,5.7000000000000028]
[1,{"$f":"'Reading Data'!$F$4*F36","v":1},34,"4. Make inferences from the text / explain and justify inferences with evidence from text",3,1,{"$f":"'Reading Data'!$AP$4","v":100},58,49.5,50.5]
[0,{"$f":"'Reading Data'!$F$4*F37","v":1},35,"2. Retrieve and record information / identify key details from fiction and non-fiction",3,1,{"$f":"'Reading Data'!$AQ$4","v":0},70,58.2,-58.2]
[0,{"$f":"'Reading Data'!$F$4*F38","v":1},36,"2. Retrieve and record information / identify key details from fiction and non-fiction",3,1,{"$f":"'Reading Data'!$AR$4","v":0},70,64.400000000000006,-64.400000000000006]
[0,{"$f":"'Reading Data'!$F$4*F39","v":1},37,"1. Give / explain the meaning of words in context",3,1,{"$f":"'Reading Data'!$AS$4","v":0},78,65.8,-65.8]
[1,{"$f":"'Reading Data'!$F$4*F40","v":1},38,"6. Identify / explain how meaning is enhanced through choice of words and phrases",3,1,{"$f":"'Reading Data'!$AT$4","v":100},74,65.5,34.5]
[3,{"$f":"'Reading Data'!$F$4*F41","v":3},39,"4. Make inferences from the text / explain and justify inferences with evidence from text",3,3,{"$f":"'Reading Data'!$AU$4","v":100},58,35.299999999999997,64.7]

{"sheet":"Reading Data","index":8,"n_rows":500,"n_cols":87,"rows_kept":500,"cut":false,"hidden":false,"merged":[]}
["Reading 2019",null,null,null,"Link to Reading Papers",null,"DfE Domain","2. Retrieve and record information / identify key details from fiction and non-fiction","4. Make inferences from the text / explain and justify inferences with evidence from text","2. Retrieve and record information / identify key details from fiction and non-fiction","1. Give / explain the meaning of words in context","2. Retrieve and record information / identify key details from fiction and non-fiction","4. Make inferences from the text / explain and justify inferences with evidence from text","4. Make inferences from the text / explain and justify inferences with evidence from text","1. Give / explain the meaning of words in context","1. Give / explain the meaning of words in context","5. Make comparisons within the text","2. Retrieve and record information / identify key details from fiction and non-fiction","2. Retrieve and record information / identify key details from fiction and non-fiction","2. Retrieve and record information / identify key details from fiction and non-fiction","2. Retrieve and record information / identify key details from fiction and non-fiction","4. Make inferences from the text / explain and justify inferences with evidence from text","4. Make inferences from the text / explain and justify inferences with evidence from text","1. Give / explain the meaning of words in context","3. Summarise main ideas from more than one paragraph","2. Retrieve and record information / identify key details from fiction and non-fiction","2. Retrieve and record information / identify key details from fiction and non-fiction","1. Give / explain the meaning of words in context","2. Retrieve and record information / identify key details from fiction and non-fiction","2. Retrieve and record information / identify key details from fiction and non-fiction","4. Make inferences from the text / explain and justify inferences with evidence from text","2. Retrieve and record information / identify key details from fiction and non-fiction","2. Retrieve and record information / identify key details from fiction and non-fiction","6. Identify / explain how meaning is enhanced through choice of words and phrases","4. Make inferences from the text / explain and justify inferences with evidence from text","2. Retrieve and record information / identify key details from fiction and non-fiction","6. Identify / explain how meaning is enhanced through choice of words and phrases","4. Make inferences from the text / explain and justify inferences with evidence from text","4. Make inferences from the text / explain and justify inferences with evidence from text","4. Make inferences from the text / explain and justify inferences with evidence from text","2. Retrieve and record information / identify key details from fiction and non-fiction","4. Make inferences from the text / explain and justify inferences with evidence from text","2. Retrieve and record information / identify key details from fiction and non-fiction","2. Retrieve and record information / identify key details from fiction and non-fiction","1. Give / explain the meaning of words in context","6. Identify / explain how meaning is enhanced through choice of words and phrases","4. Make inferences from the text / explain and justify inferences with evidence from text","2. Retrieve and record information / identify key details from fiction and non-fiction","4. Make inferences from the text / explain and justify inferences with evidence from text","2. Retrieve and record information / identify key details from fiction and non-fiction","1. Give / explain the meaning of words in context","2. Retrieve and record information / identify key details from fiction and non-fiction","4. Make inferences from the text / explain and justify inferences with evidence from text","4. Make inferences from the text / explain and justify inferences with evidence from text","1. Give / explain the meaning of words in context","1. Give / explain the meaning of words in context","5. Make comparisons within the text","2. Retrieve and record information / identify key details from fiction and non-fiction","2. Retrieve and record information / identify key details from fiction and non-fiction","2. Retrieve and record information / identify key details from fiction and non-fiction","2. Retrieve and record information / identify key details from fiction and non-fiction","4. Make inferences from the text / explain and justify inferences with evidence from text","4. Make inferences from the text / explain and justify inferences with evidence from text","1. Give / explain the meaning of words in context","3. Summarise main ideas from more than one paragraph","2. Retrieve and record information / identify key details from fiction and non-fiction","2. Retrieve and record information / identify key details from fiction and non-fiction","1. Give / explain the meaning of words in context","2. Retrieve and record information / identify key details from fiction and non-fiction","2. Retrieve and record information / identify key details from fiction and non-fiction","4. Make inferences from the text / explain and justify inferences with evidence from text","2. Retrieve and record information / identify key details from fiction and non-fiction","2. Retrieve and record information / identify key details from fiction and non-fiction","6. Identify / explain how meaning is enhanced through choice of words and phrases","4. Make inferences from the text / explain and justify inferences with evidence from text","2. Retrieve and record information / identify key details from fiction and non-fiction","6. Identify / explain how meaning is enhanced through choice of words and phrases","4. Make inferences from the text / explain and justify inferences with evidence from text","4. Make inferences from the text / explain and justify inferences with evidence from text","4. Make inferences from the text / explain and justify inferences with evidence from text","2. Retrieve and record information / identify key details from fiction and non-fiction","4. Make inferences from the text / explain and justify inferences with evidence from text","2. Retrieve and record information / identify key details from fiction and non-fiction","2. Retrieve and record information / identify key details from fiction and non-fiction","1. Give / explain the meaning of words in context","6. Identify / explain how meaning is enhanced through choice of words and phrases","4. Make inferences from the text / explain and justify inferences with evidence from text"]
[null,null,null,null,null,{"$f":"IF(H2=\"\",\"\",(SUM(H2:AU2)))","v":50},"Marks",1,1,1,1,1,1,1,1,1,1,1,1,2,1,2,1,1,1,1,1,1,1,1,1,2,2,1,2,1,1,1,1,3,2,1,1,1,1,1,3,1,1,1,1,1,1,1,1,1,1,1,1,2,1,2,1,1,1,1,1,1,1,1,1,2,2,1,2,1,1,1,1,3,2,1,1,1,1,1,3]
[null,null,null,null,null,null,"Nat Correct",93.2,87.7,91.2,95.1,87.9,87.8,86.8,65,92,53.9,72.900000000000006,80.599999999999994,69.599999999999994,79,53.5,78.8,85.9,92.5,52.8,84.9,66.7,74.900000000000006,80.099999999999994,81.400000000000006,75.3,42.3,68.099999999999994,46.1,80,89.3,65.099999999999994,55.3,47.3,44.3,49.5,58.2,64.400000000000006,65.8,65.5,35.299999999999997]
[null,null,null,null,"Pupil Count",{"$f":"SUBTOTAL(9,Table4[Question No])","v":1},"Filtered Correct",{"$f":"SUM(SUBTOTAL(9,H6:H491)/SUM(H2*$F$4))*100","v":100},{"$f":"SUM(SUBTOTAL(9,I6:I491)/SUM(I2*$F$4))*100","v":100},100,100,0,0,100,0,100,0,100,0,50,100,100,100,0,0,0,100,100,100,100,100,50,50,0,50,100,100,100,100,66.666666666666657,50,100,0,0,0,100,100,{"$f":"SUBTOTAL(109,AV6:AV6)","v":0.32},0.32,0.32,0.32,0,0,0.32,0,0.32,0,0.32,0,0.64,0.32,1.28,0.32,0,0,0,0.32,0.32,0.32,0.32,0.32,0.64,0.64,{"$error":"#VALUE!"},0.64,0.32,0.32,0.32,0.32,1.92,{"$f":"SUBTOTAL(9,CC6:CC6)","v":0.64},0.32,0,0,0,0.32,2.88]
["School Name","Pupil Name","Gender (M/F)","DisAdv (Y/N)","SEND (E,K,N)","Marks scored","Question No","1","2","3","4","5","6","7","8","9","10","11","12","13","14","15","16","17","18","19","20","21","22a","22b","23","24","25","26","27","28","29","30","31","32","33","34","35","36","37","38","39",1,2,3,4,5,6,7,8,9,10,11,12,13,14,15,16,17,18,19,20,21,"22a","22b",23,24,25,26,27,28,29,30,31,32,33,34,35,36,37,38,39]
[{"$f":"IF(Table1[[#This Row],[School/Group Name]]=\"\",\"\",Table1[[#This Row],[School/Group Name]])","v":"Hogwarts"},{"$f":"IF(Table1[[#This Row],[Pupil Name]]=\"\",\"\",Table1[[#This Row],[Pupil Name]])","v":"Harry"},{"$f":"IF(Table1[[#This Row],[Gender (M/F)]]=\"\",\"\",Table1[[#This Row],[Gender (M/F)]])","v":"M"},{"$f":"IF(Table1[[#This Row],[DisAdv (Y/N)]]=\"\",\"\",Table1[[#This Row],[DisAdv (Y/N)]])","v":"Y"},{"$f":"IF(Table1[[#This Row],[SEND (E,K,N)]]=\"\",\"\",Table1[[#This Row],[SEND (E,K,N)]])","v":"K"},{"$f":"IF(H6=\"\",\"\",(SUM(H6:AU6)))","v":32},{"$f":"IF(LEN(Table4[[#This Row],[Pupil Name]])>0,1,0)","v":1},1,1,1,1,0,0,1,0,1,0,1,0,1,1,2,1,0,0,0,1,1,1,1,1,1,1,"X",1,1,1,1,1,2,1,1,0,0,0,1,3,{"$f":"SUM($F6*AV$2)*H6%","v":0.32},{"$f":"SUM($F6*AW$2)*I6%","v":0.32},{"$f":"SUM($F6*AX$2)*J6%","v":0.32},0.32,0,0,0.32,0,0.32,0,0.32,0,0.64,0.32,1.28,0.32,0,0,{"$f":"SUM($F6*BN$2)*Z6%","v":0},0.32,0.32,0.32,0.32,0.32,0.64,0.64,{"$error":"#VALUE!"},0.64,0.32,0.32,0.32,0.32,1.92,0.64,{"$f":"SUM($F6*CD$2)*AP6%","v":0.32},0,0,0,0.32,2.88]
[{"$f":"IF(Table1[[#This Row],[School/Group Name]]=\"\",\"\",Table1[[#This Row],[School/Group Name]])","v":""},{"$f":"IF(Table1[[#This Row],[Pupil Name]]=\"\",\"\",Table1[[#This Row],[Pupil Name]])","v":""},{"$f":"IF(Table1[[#This Row],[Gender (M/F)]]=\"\",\"\",Table1[[#This Row],[Gender (M/F)]])","v":""},{"$f":"IF(Table1[[#This Row],[DisAdv (Y/N)]]=\"\",\"\",Table1[[#This Row],[DisAdv (Y/N)]])","v":""},{"$f":"IF(Table1[[#This Row],[SEND (E,K,N)]]=\"\",\"\",Table1[[#This Row],[SEND (E,K,N)]])","v":""},"",{"$f":"IF(LEN(Table4[[#This Row],[Pupil Name]])>0,1,0)","v":0}]
[{"$f":"IF(Table1[[#This Row],[School/Group Name]]=\"\",\"\",Table1[[#This Row],[School/Group Name]])","v":""},{"$f":"IF(Table1[[#This Row],[Pupil Name]]=\"\",\"\",Table1[[#This Row],[Pupil Name]])","v":""},{"$f":"IF(Table1[[#This Row],[Gender (M/F)]]=\"\",\"\",Table1[[#This Row],[Gender (M/F)]])","v":""},{"$f":"IF(Table1[[#This Row],[DisAdv (Y/N)]]=\"\",\"\",Table1[[#This Row],[DisAdv (Y/N)]])","v":""},{"$f":"IF(Table1[[#This Row],[SEND (E,K,N)]]=\"\",\"\",Table1[[#This Row],[SEND (E,K,N)]])","v":""},"",{"$f":"IF(LEN(Table4[[#This Row],[Pupil Name]])>0,1,0)","v":0}]
[{"$f":"IF(Table1[[#This Row],[School/Group Name]]=\"\",\"\",Table1[[#This Row],[School/Group Name]])","v":""},{"$f":"IF(Table1[[#This Row],[Pupil Name]]=\"\",\"\",Table1[[#This Row],[Pupil Name]])","v":""},{"$f":"IF(Table1[[#This Row],[Gender (M/F)]]=\"\",\"\",Table1[[#This Row],[Gender (M/F)]])","v":""},{"$f":"IF(Table1[[#This Row],[DisAdv (Y/N)]]=\"\",\"\",Table1[[#This Row],[DisAdv (Y/N)]])","v":""},{"$f":"IF(Table1[[#This Row],[SEND (E,K,N)]]=\"\",\"\",Table1[[#This Row],[SEND (E,K,N)]])","v":""},"",{"$f":"IF(LEN(Table4[[#This Row],[Pupil Name]])>0,1,0)","v":0}]
[{"$f":"IF(Table1[[#This Row],[School/Group Name]]=\"\",\"\",Table1[[#This Row],[School/Group Name]])","v":""},{"$f":"IF(Table1[[#This Row],[Pupil Name]]=\"\",\"\",Table1[[#This Row],[Pupil Name]])","v":""},{"$f":"IF(Table1[[#This Row],[Gender (M/F)]]=\"\",\"\",Table1[[#This Row],[Gender (M/F)]])","v":""},{"$f":"IF(Table1[[#This Row],[DisAdv (Y/N)]]=\"\",\"\",Table1[[#This Row],[DisAdv (Y/N)]])","v":""},{"$f":"IF(Table1[[#This Row],[SEND (E,K,N)]]=\"\",\"\",Table1[[#This Row],[SEND (E,K,N)]])","v":""},"",{"$f":"IF(LEN(Table4[[#This Row],[Pupil Name]])>0,1,0)","v":0}]
[{"$f":"IF(Table1[[#This Row],[School/Group Name]]=\"\",\"\",Table1[[#This Row],[School/Group Name]])","v":""},{"$f":"IF(Table1[[#This Row],[Pupil Name]]=\"\",\"\",Table1[[#This Row],[Pupil Name]])","v":""},{"$f":"IF(Table1[[#This Row],[Gender (M/F)]]=\"\",\"\",Table1[[#This Row],[Gender (M/F)]])","v":""},{"$f":"IF(Table1[[#This Row],[DisAdv (Y/N)]]=\"\",\"\",Table1[[#This Row],[DisAdv (Y/N)]])","v":""},{"$f":"IF(Table1[[#This Row],[SEND (E,K,N)]]=\"\",\"\",Table1[[#This Row],[SEND (E,K,N)]])","v":""},"",{"$f":"IF(LEN(Table4[[#This Row],[Pupil Name]])>0,1,0)","v":0}]
[{"$f":"IF(Table1[[#This Row],[School/Group Name]]=\"\",\"\",Table1[[#This Row],[School/Group Name]])","v":""},{"$f":"IF(Table1[[#This Row],[Pupil Name]]=\"\",\"\",Table1[[#This Row],[Pupil Name]])","v":""},{"$f":"IF(Table1[[#This Row],[Gender (M/F)]]=\"\",\"\",Table1[[#This Row],[Gender (M/F)]])","v":""},{"$f":"IF(Table1[[#This Row],[DisAdv (Y/N)]]=\"\",\"\",Table1[[#This Row],[DisAdv (Y/N)]])","v":""},{"$f":"IF(Table1[[#This Row],[SEND (E,K,N)]]=\"\",\"\",Table1[[#This Row],[SEND (E,K,N)]])","v":""},"",{"$f":"IF(LEN(Table4[[#This Row],[Pupil Name]])>0,1,0)","v":0}]
[{"$f":"IF(Table1[[#This Row],[School/Group Name]]=\"\",\"\",Table1[[#This Row],[School/Group Name]])","v":""},{"$f":"IF(Table1[[#This Row],[Pupil Name]]=\"\",\"\",Table1[[#This Row],[Pupil Name]])","v":""},{"$f":"IF(Table1[[#This Row],[Gender (M/F)]]=\"\",\"\",Table1[[#This Row],[Gender (M/F)]])","v":""},{"$f":"IF(Table1[[#This Row],[DisAdv (Y/N)]]=\"\",\"\",Table1[[#This Row],[DisAdv (Y/N)]])","v":""},{"$f":"IF(Table1[[#This Row],[SEND (E,K,N)]]=\"\",\"\",Table1[[#This Row],[SEND (E,K,N)]])","v":""},"",{"$f":"IF(LEN(Table4[[#This Row],[Pupil Name]])>0,1,0)","v":0}]
[{"$f":"IF(Table1[[#This Row],[School/Group Name]]=\"\",\"\",Table1[[#This Row],[School/Group Name]])","v":""},{"$f":"IF(Table1[[#This Row],[Pupil Name]]=\"\",\"\",Table1[[#This Row],[Pupil Name]])","v":""},{"$f":"IF(Table1[[#This Row],[Gender (M/F)]]=\"\",\"\",Table1[[#This Row],[Gender (M/F)]])","v":""},{"$f":"IF(Table1[[#This Row],[DisAdv (Y/N)]]=\"\",\"\",Table1[[#This Row],[DisAdv (Y/N)]])","v":""},{"$f":"IF(Table1[[#This Row],[SEND (E,K,N)]]=\"\",\"\",Table1[[#This Row],[SEND (E,K,N)]])","v":""},"",{"$f":"IF(LEN(Table4[[#This Row],[Pupil Name]])>0,1,0)","v":0}]
[{"$f":"IF(Table1[[#This Row],[School/Group Name]]=\"\",\"\",Table1[[#This Row],[School/Group Name]])","v":""},{"$f":"IF(Table1[[#This Row],[Pupil Name]]=\"\",\"\",Table1[[#This Row],[Pupil Name]])","v":""},{"$f":"IF(Table1[[#This Row],[Gender (M/F)]]=\"\",\"\",Table1[[#This Row],[Gender (M/F)]])","v":""},{"$f":"IF(Table1[[#This Row],[DisAdv (Y/N)]]=\"\",\"\",Table1[[#This Row],[DisAdv (Y/N)]])","v":""},{"$f":"IF(Table1[[#This Row],[SEND (E,K,N)]]=\"\",\"\",Table1[[#This Row],[SEND (E,K,N)]])","v":""},"",{"$f":"IF(LEN(Table4[[#This Row],[Pupil Name]])>0,1,0)","v":0}]
[{"$f":"IF(Table1[[#This Row],[School/Group Name]]=\"\",\"\",Table1[[#This Row],[School/Group Name]])","v":""},{"$f":"IF(Table1[[#This Row],[Pupil Name]]=\"\",\"\",Table1[[#This Row],[Pupil Name]])","v":""},{"$f":"IF(Table1[[#This Row],[Gender (M/F)]]=\"\",\"\",Table1[[#This Row],[Gender (M/F)]])","v":""},{"$f":"IF(Table1[[#This Row],[DisAdv (Y/N)]]=\"\",\"\",Table1[[#This Row],[DisAdv (Y/N)]])","v":""},{"$f":"IF(Table1[[#This Row],[SEND (E,K,N)]]=\"\",\"\",Table1[[#This Row],[SEND (E,K,N)]])","v":""},"",{"$f":"IF(LEN(Table4[[#This Row],[Pupil Name]])>0,1,0)","v":0}]
[{"$f":"IF(Table1[[#This Row],[School/Group Name]]=\"\",\"\",Table1[[#This Row],[School/Group Name]])","v":""},{"$f":"IF(Table1[[#This Row],[Pupil Name]]=\"\",\"\",Table1[[#This Row],[Pupil Name]])","v":""},{"$f":"IF(Table1[[#This Row],[Gender (M/F)]]=\"\",\"\",Table1[[#This Row],[Gender (M/F)]])","v":""},{"$f":"IF(Table1[[#This Row],[DisAdv (Y/N)]]=\"\",\"\",Table1[[#This Row],[DisAdv (Y/N)]])","v":""},{"$f":"IF(Table1[[#This Row],[SEND (E,K,N)]]=\"\",\"\",Table1[[#This Row],[SEND (E,K,N)]])","v":""},"",{"$f":"IF(LEN(Table4[[#This Row],[Pupil Name]])>0,1,0)","v":0}]
[{"$f":"IF(Table1[[#This Row],[School/Group Name]]=\"\",\"\",Table1[[#This Row],[School/Group Name]])","v":""},{"$f":"IF(Table1[[#This Row],[Pupil Name]]=\"\",\"\",Table1[[#This Row],[Pupil Name]])","v":""},{"$f":"IF(Table1[[#This Row],[Gender (M/F)]]=\"\",\"\",Table1[[#This Row],[Gender (M/F)]])","v":""},{"$f":"IF(Table1[[#This Row],[DisAdv (Y/N)]]=\"\",\"\",Table1[[#This Row],[DisAdv (Y/N)]])","v":""},{"$f":"IF(Table1[[#This Row],[SEND (E,K,N)]]=\"\",\"\",Table1[[#This Row],[SEND (E,K,N)]])","v":""},"",{"$f":"IF(LEN(Table4[[#This Row],[Pupil Name]])>0,1,0)","v":0}]
[{"$f":"IF(Table1[[#This Row],[School/Group Name]]=\"\",\"\",Table1[[#This Row],[School/Group Name]])","v":""},{"$f":"IF(Table1[[#This Row],[Pupil Name]]=\"\",\"\",Table1[[#This Row],[Pupil Name]])","v":""},{"$f":"IF(Table1[[#This Row],[Gender (M/F)]]=\"\",\"\",Table1[[#This Row],[Gender (M/F)]])","v":""},{"$f":"IF(Table1[[#This Row],[DisAdv (Y/N)]]=\"\",\"\",Table1[[#This Row],[DisAdv (Y/N)]])","v":""},{"$f":"IF(Table1[[#This Row],[SEND (E,K,N)]]=\"\",\"\",Table1[[#This Row],[SEND (E,K,N)]])","v":""},"",{"$f":"IF(LEN(Table4[[#This Row],[Pupil Name]])>0,1,0)","v":0}]
[{"$f":"IF(Table1[[#This Row],[School/Group Name]]=\"\",\"\",Table1[[#This Row],[School/Group Name]])","v":""},{"$f":"IF(Table1[[#This Row],[Pupil Name]]=\"\",\"\",Table1[[#This Row],[Pupil Name]])","v":""},{"$f":"IF(Table1[[#This Row],[Gender (M/F)]]=\"\",\"\",Table1[[#This Row],[Gender (M/F)]])","v":""},{"$f":"IF(Table1[[#This Row],[DisAdv (Y/N)]]=\"\",\"\",Table1[[#This Row],[DisAdv (Y/N)]])","v":""},{"$f":"IF(Table1[[#This Row],[SEND (E,K,N)]]=\"\",\"\",Table1[[#This Row],[SEND (E,K,N)]])","v":""},"",{"$f":"IF(LEN(Table4[[#This Row],[Pupil Name]])>0,1,0)","v":0}]
[{"$f":"IF(Table1[[#This Row],[School/Group Name]]=\"\",\"\",Table1[[#This Row],[School/Group Name]])","v":""},{"$f":"IF(Table1[[#This Row],[Pupil Name]]=\"\",\"\",Table1[[#This Row],[Pupil Name]])","v":""},{"$f":"IF(Table1[[#This Row],[Gender (M/F)]]=\"\",\"\",Table1[[#This Row],[Gender (M/F)]])","v":""},{"$f":"IF(Table1[[#This Row],[DisAdv (Y/N)]]=\"\",\"\",Table1[[#This Row],[DisAdv (Y/N)]])","v":""},{"$f":"IF(Table1[[#This Row],[SEND (E,K,N)]]=\"\",\"\",Table1[[#This Row],[SEND (E,K,N)]])","v":""},"",{"$f":"IF(LEN(Table4[[#This Row],[Pupil Name]])>0,1,0)","v":0}]
[{"$f":"IF(Table1[[#This Row],[School/Group Name]]=\"\",\"\",Table1[[#This Row],[School/Group Name]])","v":""},{"$f":"IF(Table1[[#This Row],[Pupil Name]]=\"\",\"\",Table1[[#This Row],[Pupil Name]])","v":""},{"$f":"IF(Table1[[#This Row],[Gender (M/F)]]=\"\",\"\",Table1[[#This Row],[Gender (M/F)]])","v":""},{"$f":"IF(Table1[[#This Row],[DisAdv (Y/N)]]=\"\",\"\",Table1[[#This Row],[DisAdv (Y/N)]])","v":""},{"$f":"IF(Table1[[#This Row],[SEND (E,K,N)]]=\"\",\"\",Table1[[#This Row],[SEND (E,K,N)]])","v":""},"",{"$f":"IF(LEN(Table4[[#This Row],[Pupil Name]])>0,1,0)","v":0}]
[{"$f":"IF(Table1[[#This Row],[School/Group Name]]=\"\",\"\",Table1[[#This Row],[School/Group Name]])","v":""},{"$f":"IF(Table1[[#This Row],[Pupil Name]]=\"\",\"\",Table1[[#This Row],[Pupil Name]])","v":""},{"$f":"IF(Table1[[#This Row],[Gender (M/F)]]=\"\",\"\",Table1[[#This Row],[Gender (M/F)]])","v":""},{"$f":"IF(Table1[[#This Row],[DisAdv (Y/N)]]=\"\",\"\",Table1[[#This Row],[DisAdv (Y/N)]])","v":""},{"$f":"IF(Table1[[#This Row],[SEND (E,K,N)]]=\"\",\"\",Table1[[#This Row],[SEND (E,K,N)]])","v":""},"",{"$f":"IF(LEN(Table4[[#This Row],[Pupil Name]])>0,1,0)","v":0}]
[{"$f":"IF(Table1[[#This Row],[School/Group Name]]=\"\",\"\",Table1[[#This Row],[School/Group Name]])","v":""},{"$f":"IF(Table1[[#This Row],[Pupil Name]]=\"\",\"\",Table1[[#This Row],[Pupil Name]])","v":""},{"$f":"IF(Table1[[#This Row],[Gender (M/F)]]=\"\",\"\",Table1[[#This Row],[Gender (M/F)]])","v":""},{"$f":"IF(Table1[[#This Row],[DisAdv (Y/N)]]=\"\",\"\",Table1[[#This Row],[DisAdv (Y/N)]])","v":""},{"$f":"IF(Table1[[#This Row],[SEND (E,K,N)]]=\"\",\"\",Table1[[#This Row],[SEND (E,K,N)]])","v":""},"",{"$f":"IF(LEN(Table4[[#This Row],[Pupil Name]])>0,1,0)","v":0}]
[{"$f":"IF(Table1[[#This Row],[School/Group Name]]=\"\",\"\",Table1[[#This Row],[School/Group Name]])","v":""},{"$f":"IF(Table1[[#This Row],[Pupil Name]]=\"\",\"\",Table1[[#This Row],[Pupil Name]])","v":""},{"$f":"IF(Table1[[#This Row],[Gender (M/F)]]=\"\",\"\",Table1[[#This Row],[Gender (M/F)]])","v":""},{"$f":"IF(Table1[[#This Row],[DisAdv (Y/N)]]=\"\",\"\",Table1[[#This Row],[DisAdv (Y/N)]])","v":""},{"$f":"IF(Table1[[#This Row],[SEND (E,K,N)]]=\"\",\"\",Table1[[#This Row],[SEND (E,K,N)]])","v":""},"",{"$f":"IF(LEN(Table4[[#This Row],[Pupil Name]])>0,1,0)","v":0}]
[{"$f":"IF(Table1[[#This Row],[School/Group Name]]=\"\",\"\",Table1[[#This Row],[School/Group Name]])","v":""},{"$f":"IF(Table1[[#This Row],[Pupil Name]]=\"\",\"\",Table1[[#This Row],[Pupil Name]])","v":""},{"$f":"IF(Table1[[#This Row],[Gender (M/F)]]=\"\",\"\",Table1[[#This Row],[Gender (M/F)]])","v":""},{"$f":"IF(Table1[[#This Row],[DisAdv (Y/N)]]=\"\",\"\",Table1[[#This Row],[DisAdv (Y/N)]])","v":""},{"$f":"IF(Table1[[#This Row],[SEND (E,K,N)]]=\"\",\"\",Table1[[#This Row],[SEND (E,K,N)]])","v":""},"",{"$f":"IF(LEN(Table4[[#This Row],[Pupil Name]])>0,1,0)","v":0}]
[{"$f":"IF(Table1[[#This Row],[School/Group Name]]=\"\",\"\",Table1[[#This Row],[School/Group Name]])","v":""},{"$f":"IF(Table1[[#This Row],[Pupil Name]]=\"\",\"\",Table1[[#This Row],[Pupil Name]])","v":""},{"$f":"IF(Table1[[#This Row],[Gender (M/F)]]=\"\",\"\",Table1[[#This Row],[Gender (M/F)]])","v":""},{"$f":"IF(Table1[[#This Row],[DisAdv (Y/N)]]=\"\",\"\",Table1[[#This Row],[DisAdv (Y/N)]])","v":""},{"$f":"IF(Table1[[#This Row],[SEND (E,K,N)]]=\"\",\"\",Table1[[#This Row],[SEND (E,K,N)]])","v":""},"",{"$f":"IF(LEN(Table4[[#This Row],[Pupil Name]])>0,1,0)","v":0}]
[{"$f":"IF(Table1[[#This Row],[School/Group Name]]=\"\",\"\",Table1[[#This Row],[School/Group Name]])","v":""},{"$f":"IF(Table1[[#This Row],[Pupil Name]]=\"\",\"\",Table1[[#This Row],[Pupil Name]])","v":""},{"$f":"IF(Table1[[#This Row],[Gender (M/F)]]=\"\",\"\",Table1[[#This Row],[Gender (M/F)]])","v":""},{"$f":"IF(Table1[[#This Row],[DisAdv (Y/N)]]=\"\",\"\",Table1[[#This Row],[DisAdv (Y/N)]])","v":""},{"$f":"IF(Table1[[#This Row],[SEND (E,K,N)]]=\"\",\"\",Table1[[#This Row],[SEND (E,K,N)]])","v":""},"",{"$f":"IF(LEN(Table4[[#This Row],[Pupil Name]])>0,1,0)","v":0}]
[{"$f":"IF(Table1[[#This Row],[School/Group Name]]=\"\",\"\",Table1[[#This Row],[School/Group Name]])","v":""},{"$f":"IF(Table1[[#This Row],[Pupil Name]]=\"\",\"\",Table1[[#This Row],[Pupil Name]])","v":""},{"$f":"IF(Table1[[#This Row],[Gender (M/F)]]=\"\",\"\",Table1[[#This Row],[Gender (M/F)]])","v":""},{"$f":"IF(Table1[[#This Row],[DisAdv (Y/N)]]=\"\",\"\",Table1[[#This Row],[DisAdv (Y/N)]])","v":""},{"$f":"IF(Table1[[#This Row],[SEND (E,K,N)]]=\"\",\"\",Table1[[#This Row],[SEND (E,K,N)]])","v":""},"",{"$f":"IF(LEN(Table4[[#This Row],[Pupil Name]])>0,1,0)","v":0}]
[{"$f":"IF(Table1[[#This Row],[School/Group Name]]=\"\",\"\",Table1[[#This Row],[School/Group Name]])","v":""},{"$f":"IF(Table1[[#This Row],[Pupil Name]]=\"\",\"\",Table1[[#This Row],[Pupil Name]])","v":""},{"$f":"IF(Table1[[#This Row],[Gender (M/F)]]=\"\",\"\",Table1[[#This Row],[Gender (M/F)]])","v":""},{"$f":"IF(Table1[[#This Row],[DisAdv (Y/N)]]=\"\",\"\",Table1[[#This Row],[DisAdv (Y/N)]])","v":""},{"$f":"IF(Table1[[#This Row],[SEND (E,K,N)]]=\"\",\"\",Table1[[#This Row],[SEND (E,K,N)]])","v":""},"",{"$f":"IF(LEN(Table4[[#This Row],[Pupil Name]])>0,1,0)","v":0}]
[{"$f":"IF(Table1[[#This Row],[School/Group Name]]=\"\",\"\",Table1[[#This Row],[School/Group Name]])","v":""},{"$f":"IF(Table1[[#This Row],[Pupil Name]]=\"\",\"\",Table1[[#This Row],[Pupil Name]])","v":""},{"$f":"IF(Table1[[#This Row],[Gender (M/F)]]=\"\",\"\",Table1[[#This Row],[Gender (M/F)]])","v":""},{"$f":"IF(Table1[[#This Row],[DisAdv (Y/N)]]=\"\",\"\",Table1[[#This Row],[DisAdv (Y/N)]])","v":""},{"$f":"IF(Table1[[#This Row],[SEND (E,K,N)]]=\"\",\"\",Table1[[#This Row],[SEND (E,K,N)]])","v":""},"",{"$f":"IF(LEN(Table4[[#This Row],[Pupil Name]])>0,1,0)","v":0}]
[{"$f":"IF(Table1[[#This Row],[School/Group Name]]=\"\",\"\",Table1[[#This Row],[School/Group Name]])","v":""},{"$f":"IF(Table1[[#This Row],[Pupil Name]]=\"\",\"\",Table1[[#This Row],[Pupil Name]])","v":""},{"$f":"IF(Table1[[#This Row],[Gender (M/F)]]=\"\",\"\",Table1[[#This Row],[Gender (M/F)]])","v":""},{"$f":"IF(Table1[[#This Row],[DisAdv (Y/N)]]=\"\",\"\",Table1[[#This Row],[DisAdv (Y/N)]])","v":""},{"$f":"IF(Table1[[#This Row],[SEND (E,K,N)]]=\"\",\"\",Table1[[#This Row],[SEND (E,K,N)]])","v":""},"",{"$f":"IF(LEN(Table4[[#This Row],[Pupil Name]])>0,1,0)","v":0}]
[{"$f":"IF(Table1[[#This Row],[School/Group Name]]=\"\",\"\",Table1[[#This Row],[School/Group Name]])","v":""},{"$f":"IF(Table1[[#This Row],[Pupil Name]]=\"\",\"\",Table1[[#This Row],[Pupil Name]])","v":""},{"$f":"IF(Table1[[#This Row],[Gender (M/F)]]=\"\",\"\",Table1[[#This Row],[Gender (M/F)]])","v":""},{"$f":"IF(Table1[[#This Row],[DisAdv (Y/N)]]=\"\",\"\",Table1[[#This Row],[DisAdv (Y/N)]])","v":""},{"$f":"IF(Table1[[#This Row],[SEND (E,K,N)]]=\"\",\"\",Table1[[#This Row],[SEND (E,K,N)]])","v":""},"",{"$f":"IF(LEN(Table4[[#This Row],[Pupil Name]])>0,1,0)","v":0}]
[{"$f":"IF(Table1[[#This Row],[School/Group Name]]=\"\",\"\",Table1[[#This Row],[School/Group Name]])","v":""},{"$f":"IF(Table1[[#This Row],[Pupil Name]]=\"\",\"\",Table1[[#This Row],[Pupil Name]])","v":""},{"$f":"IF(Table1[[#This Row],[Gender (M/F)]]=\"\",\"\",Table1[[#This Row],[Gender (M/F)]])","v":""},{"$f":"IF(Table1[[#This Row],[DisAdv (Y/N)]]=\"\",\"\",Table1[[#This Row],[DisAdv (Y/N)]])","v":""},{"$f":"IF(Table1[[#This Row],[SEND (E,K,N)]]=\"\",\"\",Table1[[#This Row],[SEND (E,K,N)]])","v":""},"",{"$f":"IF(LEN(Table4[[#This Row],[Pupil Name]])>0,1,0)","v":0}]
[{"$f":"IF(Table1[[#This Row],[School/Group Name]]=\"\",\"\",Table1[[#This Row],[School/Group Name]])","v":""},{"$f":"IF(Table1[[#This Row],[Pupil Name]]=\"\",\"\",Table1[[#This Row],[Pupil Name]])","v":""},{"$f":"IF(Table1[[#This Row],[Gender (M/F)]]=\"\",\"\",Table1[[#This Row],[Gender (M/F)]])","v":""},{"$f":"IF(Table1[[#This Row],[DisAdv (Y/N)]]=\"\",\"\",Table1[[#This Row],[DisAdv (Y/N)]])","v":""},{"$f":"IF(Table1[[#This Row],[SEND (E,K,N)]]=\"\",\"\",Table1[[#This Row],[SEND (E,K,N)]])","v":""},"",{"$f":"IF(LEN(Table4[[#This Row],[Pupil Name]])>0,1,0)","v":0}]
[{"$f":"IF(Table1[[#This Row],[School/Group Name]]=\"\",\"\",Table1[[#This Row],[School/Group Name]])","v":""},{"$f":"IF(Table1[[#This Row],[Pupil Name]]=\"\",\"\",Table1[[#This Row],[Pupil Name]])","v":""},{"$f":"IF(Table1[[#This Row],[Gender (M/F)]]=\"\",\"\",Table1[[#This Row],[Gender (M/F)]])","v":""},{"$f":"IF(Table1[[#This Row],[DisAdv (Y/N)]]=\"\",\"\",Table1[[#This Row],[DisAdv (Y/N)]])","v":""},{"$f":"IF(Table1[[#This Row],[SEND (E,K,N)]]=\"\",\"\",Table1[[#This Row],[SEND (E,K,N)]])","v":""},"",{"$f":"IF(LEN(Table4[[#This Row],[Pupil Name]])>0,1,0)","v":0}]
[{"$f":"IF(Table1[[#This Row],[School/Group Name]]=\"\",\"\",Table1[[#This Row],[School/Group Name]])","v":""},{"$f":"IF(Table1[[#This Row],[Pupil Name]]=\"\",\"\",Table1[[#This Row],[Pupil Name]])","v":""},{"$f":"IF(Table1[[#This Row],[Gender (M/F)]]=\"\",\"\",Table1[[#This Row],[Gender (M/F)]])","v":""},{"$f":"IF(Table1[[#This Row],[DisAdv (Y/N)]]=\"\",\"\",Table1[[#This Row],[DisAdv (Y/N)]])","v":""},{"$f":"IF(Table1[[#This Row],[SEND (E,K,N)]]=\"\",\"\",Table1[[#This Row],[SEND (E,K,N)]])","v":""},"",{"$f":"IF(LEN(Table4[[#This Row],[Pupil Name]])>0,1,0)","v":0}]
[{"$f":"IF(Table1[[#This Row],[School/Group Name]]=\"\",\"\",Table1[[#This Row],[School/Group Name]])","v":""},{"$f":"IF(Table1[[#This Row],[Pupil Name]]=\"\",\"\",Table1[[#This Row],[Pupil Name]])","v":""},{"$f":"IF(Table1[[#This Row],[Gender (M/F)]]=\"\",\"\",Table1[[#This Row],[Gender (M/F)]])","v":""},{"$f":"IF(Table1[[#This Row],[DisAdv (Y/N)]]=\"\",\"\",Table1[[#This Row],[DisAdv (Y/N)]])","v":""},{"$f":"IF(Table1[[#This Row],[SEND (E,K,N)]]=\"\",\"\",Table1[[#This Row],[SEND (E,K,N)]])","v":""},"",{"$f":"IF(LEN(Table4[[#This Row],[Pupil Name]])>0,1,0)","v":0}]
[{"$f":"IF(Table1[[#This Row],[School/Group Name]]=\"\",\"\",Table1[[#This Row],[School/Group Name]])","v":""},{"$f":"IF(Table1[[#This Row],[Pupil Name]]=\"\",\"\",Table1[[#This Row],[Pupil Name]])","v":""},{"$f":"IF(Table1[[#This Row],[Gender (M/F)]]=\"\",\"\",Table1[[#This Row],[Gender (M/F)]])","v":""},{"$f":"IF(Table1[[#This Row],[DisAdv (Y/N)]]=\"\",\"\",Table1[[#This Row],[DisAdv (Y/N)]])","v":""},{"$f":"IF(Table1[[#This Row],[SEND (E,K,N)]]=\"\",\"\",Table1[[#This Row],[SEND (E,K,N)]])","v":""},"",{"$f":"IF(LEN(Table4[[#This Row],[Pupil Name]])>0,1,0)","v":0}]
[{"$f":"IF(Table1[[#This Row],[School/Group Name]]=\"\",\"\",Table1[[#This Row],[School/Group Name]])","v":""},{"$f":"IF(Table1[[#This Row],[Pupil Name]]=\"\",\"\",Table1[[#This Row],[Pupil Name]])","v":""},{"$f":"IF(Table1[[#This Row],[Gender (M/F)]]=\"\",\"\",Table1[[#This Row],[Gender (M/F)]])","v":""},{"$f":"IF(Table1[[#This Row],[DisAdv (Y/N)]]=\"\",\"\",Table1[[#This Row],[DisAdv (Y/N)]])","v":""},{"$f":"IF(Table1[[#This Row],[SEND (E,K,N)]]=\"\",\"\",Table1[[#This Row],[SEND (E,K,N)]])","v":""},"",{"$f":"IF(LEN(Table4[[#This Row],[Pupil Name]])>0,1,0)","v":0}]
[{"$f":"IF(Table1[[#This Row],[School/Group Name]]=\"\",\"\",Table1[[#This Row],[School/Group Name]])","v":""},{"$f":"IF(Table1[[#This Row],[Pupil Name]]=\"\",\"\",Table1[[#This Row],[Pupil Name]])","v":""},{"$f":"IF(Table1[[#This Row],[Gender (M/F)]]=\"\",\"\",Table1[[#This Row],[Gender (M/F)]])","v":""},{"$f":"IF(Table1[[#This Row],[DisAdv (Y/N)]]=\"\",\"\",Table1[[#This Row],[DisAdv (Y/N)]])","v":""},{"$f":"IF(Table1[[#This Row],[SEND (E,K,N)]]=\"\",\"\",Table1[[#This Row],[SEND (E,K,N)]])","v":""},"",{"$f":"IF(LEN(Table4[[#This Row],[Pupil Name]])>0,1,0)","v":0}]
[{"$f":"IF(Table1[[#This Row],[School/Group Name]]=\"\",\"\",Table1[[#This Row],[School/Group Name]])","v":""},{"$f":"IF(Table1[[#This Row],[Pupil Name]]=\"\",\"\",Table1[[#This Row],[Pupil Name]])","v":""},{"$f":"IF(Table1[[#This Row],[Gender (M/F)]]=\"\",\"\",Table1[[#This Row],[Gender (M/F)]])","v":""},{"$f":"IF(Table1[[#This Row],[DisAdv (Y/N)]]=\"\",\"\",Table1[[#This Row],[DisAdv (Y/N)]])","v":""},{"$f":"IF(Table1[[#This Row],[SEND (E,K,N)]]=\"\",\"\",Table1[[#This Row],[SEND (E,K,N)]])","v":""},"",{"$f":"IF(LEN(Table4[[#This Row],[Pupil Name]])>0,1,0)","v":0}]
[{"$f":"IF(Table1[[#This Row],[School/Group Name]]=\"\",\"\",Table1[[#This Row],[School/Group Name]])","v":""},{"$f":"IF(Table1[[#This Row],[Pupil Name]]=\"\",\"\",Table1[[#This Row],[Pupil Name]])","v":""},{"$f":"IF(Table1[[#This Row],[Gender (M/F)]]=\"\",\"\",Table1[[#This Row],[Gender (M/F)]])","v":""},{"$f":"IF(Table1[[#This Row],[DisAdv (Y/N)]]=\"\",\"\",Table1[[#This Row],[DisAdv (Y/N)]])","v":""},{"$f":"IF(Table1[[#This Row],[SEND (E,K,N)]]=\"\",\"\",Table1[[#This Row],[SEND (E,K,N)]])","v":""},"",{"$f":"IF(LEN(Table4[[#This Row],[Pupil Name]])>0,1,0)","v":0}]
[{"$f":"IF(Table1[[#This Row],[School/Group Name]]=\"\",\"\",Table1[[#This Row],[School/Group Name]])","v":""},{"$f":"IF(Table1[[#This Row],[Pupil Name]]=\"\",\"\",Table1[[#This Row],[Pupil Name]])","v":""},{"$f":"IF(Table1[[#This Row],[Gender (M/F)]]=\"\",\"\",Table1[[#This Row],[Gender (M/F)]])","v":""},{"$f":"IF(Table1[[#This Row],[DisAdv (Y/N)]]=\"\",\"\",Table1[[#This Row],[DisAdv (Y/N)]])","v":""},{"$f":"IF(Table1[[#This Row],[SEND (E,K,N)]]=\"\",\"\",Table1[[#This Row],[SEND (E,K,N)]])","v":""},"",{"$f":"IF(LEN(Table4[[#This Row],[Pupil Name]])>0,1,0)","v":0}]
[{"$f":"IF(Table1[[#This Row],[School/Group Name]]=\"\",\"\",Table1[[#This Row],[School/Group Name]])","v":""},{"$f":"IF(Table1[[#This Row],[Pupil Name]]=\"\",\"\",Table1[[#This Row],[Pupil Name]])","v":""},{"$f":"IF(Table1[[#This Row],[Gender (M/F)]]=\"\",\"\",Table1[[#This Row],[Gender (M/F)]])","v":""},{"$f":"IF(Table1[[#This Row],[DisAdv (Y/N)]]=\"\",\"\",Table1[[#This Row],[DisAdv (Y/N)]])","v":""},{"$f":"IF(Table1[[#This Row],[SEND (E,K,N)]]=\"\",\"\",Table1[[#This Row],[SEND (E,K,N)]])","v":""},"",{"$f":"IF(LEN(Table4[[#This Row],[Pupil Name]])>0,1,0)","v":0}]
[{"$f":"IF(Table1[[#This Row],[School/Group Name]]=\"\",\"\",Table1[[#This Row],[School/Group Name]])","v":""},{"$f":"IF(Table1[[#This Row],[Pupil Name]]=\"\",\"\",Table1[[#This Row],[Pupil Name]])","v":""},{"$f":"IF(Table1[[#This Row],[Gender (M/F)]]=\"\",\"\",Table1[[#This Row],[Gender (M/F)]])","v":""},{"$f":"IF(Table1[[#This Row],[DisAdv (Y/N)]]=\"\",\"\",Table1[[#This Row],[DisAdv (Y/N)]])","v":""},{"$f":"IF(Table1[[#This Row],[SEND (E,K,N)]]=\"\",\"\",Table1[[#This Row],[SEND (E,K,N)]])","v":""},"",{"$f":"IF(LEN(Table4[[#This Row],[Pupil Name]])>0,1,0)","v":0}]
[{"$f":"IF(Table1[[#This Row],[School/Group Name]]=\"\",\"\",Table1[[#This Row],[School/Group Name]])","v":""},{"$f":"IF(Table1[[#This Row],[Pupil Name]]=\"\",\"\",Table1[[#This Row],[Pupil Name]])","v":""},{"$f":"IF(Table1[[#This Row],[Gender (M/F)]]=\"\",\"\",Table1[[#This Row],[Gender (M/F)]])","v":""},{"$f":"IF(Table1[[#This Row],[DisAdv (Y/N)]]=\"\",\"\",Table1[[#This Row],[DisAdv (Y/N)]])","v":""},{"$f":"IF(Table1[[#This Row],[SEND (E,K,N)]]=\"\",\"\",Table1[[#This Row],[SEND (E,K,N)]])","v":""},"",{"$f":"IF(LEN(Table4[[#This Row],[Pupil Name]])>0,1,0)","v":0}]
[{"$f":"IF(Table1[[#This Row],[School/Group Name]]=\"\",\"\",Table1[[#This Row],[School/Group Name]])","v":""},{"$f":"IF(Table1[[#This Row],[Pupil Name]]=\"\",\"\",Table1[[#This Row],[Pupil Name]])","v":""},{"$f":"IF(Table1[[#This Row],[Gender (M/F)]]=\"\",\"\",Table1[[#This Row],[Gender (M/F)]])","v":""},{"$f":"IF(Table1[[#This Row],[DisAdv (Y/N)]]=\"\",\"\",Table1[[#This Row],[DisAdv (Y/N)]])","v":""},{"$f":"IF(Table1[[#This Row],[SEND (E,K,N)]]=\"\",\"\",Table1[[#This Row],[SEND (E,K,N)]])","v":""},"",{"$f":"IF(LEN(Table4[[#This Row],[Pupil Name]])>0,1,0)","v":0}]
[{"$f":"IF(Table1[[#This Row],[School/Group Name]]=\"\",\"\",Table1[[#This Row],[School/Group Name]])","v":""},{"$f":"IF(Table1[[#This Row],[Pupil Name]]=\"\",\"\",Table1[[#This Row],[Pupil Name]])","v":""},{"$f":"IF(Table1[[#This Row],[Gender (M/F)]]=\"\",\"\",Table1[[#This Row],[Gender (M/F)]])","v":""},{"$f":"IF(Table1[[#This Row],[DisAdv (Y/N)]]=\"\",\"\",Table1[[#This Row],[DisAdv (Y/N)]])","v":""},{"$f":"IF(Table1[[#This Row],[SEND (E,K,N)]]=\"\",\"\",Table1[[#This Row],[SEND (E,K,N)]])","v":""},"",{"$f":"IF(LEN(Table4[[#This Row],[Pupil Name]])>0,1,0)","v":0}]
[{"$f":"IF(Table1[[#This Row],[School/Group Name]]=\"\",\"\",Table1[[#This Row],[School/Group Name]])","v":""},{"$f":"IF(Table1[[#This Row],[Pupil Name]]=\"\",\"\",Table1[[#This Row],[Pupil Name]])","v":""},{"$f":"IF(Table1[[#This Row],[Gender (M/F)]]=\"\",\"\",Table1[[#This Row],[Gender (M/F)]])","v":""},{"$f":"IF(Table1[[#This Row],[DisAdv (Y/N)]]=\"\",\"\",Table1[[#This Row],[DisAdv (Y/N)]])","v":""},{"$f":"IF(Table1[[#This Row],[SEND (E,K,N)]]=\"\",\"\",Table1[[#This Row],[SEND (E,K,N)]])","v":""},"",{"$f":"IF(LEN(Table4[[#This Row],[Pupil Name]])>0,1,0)","v":0}]
[{"$f":"IF(Table1[[#This Row],[School/Group Name]]=\"\",\"\",Table1[[#This Row],[School/Group Name]])","v":""},{"$f":"IF(Table1[[#This Row],[Pupil Name]]=\"\",\"\",Table1[[#This Row],[Pupil Name]])","v":""},{"$f":"IF(Table1[[#This Row],[Gender (M/F)]]=\"\",\"\",Table1[[#This Row],[Gender (M/F)]])","v":""},{"$f":"IF(Table1[[#This Row],[DisAdv (Y/N)]]=\"\",\"\",Table1[[#This Row],[DisAdv (Y/N)]])","v":""},{"$f":"IF(Table1[[#This Row],[SEND (E,K,N)]]=\"\",\"\",Table1[[#This Row],[SEND (E,K,N)]])","v":""},"",{"$f":"IF(LEN(Table4[[#This Row],[Pupil Name]])>0,1,0)","v":0}]
[{"$f":"IF(Table1[[#This Row],[School/Group Name]]=\"\",\"\",Table1[[#This Row],[School/Group Name]])","v":""},{"$f":"IF(Table1[[#This Row],[Pupil Name]]=\"\",\"\",Table1[[#This Row],[Pupil Name]])","v":""},{"$f":"IF(Table1[[#This Row],[Gender (M/F)]]=\"\",\"\",Table1[[#This Row],[Gender (M/F)]])","v":""},{"$f":"IF(Table1[[#This Row],[DisAdv (Y/N)]]=\"\",\"\",Table1[[#This Row],[DisAdv (Y/N)]])","v":""},{"$f":"IF(Table1[[#This Row],[SEND (E,K,N)]]=\"\",\"\",Table1[[#This Row],[SEND (E,K,N)]])","v":""},"",{"$f":"IF(LEN(Table4[[#This Row],[Pupil Name]])>0,1,0)","v":0}]
[{"$f":"IF(Table1[[#This Row],[School/Group Name]]=\"\",\"\",Table1[[#This Row],[School/Group Name]])","v":""},{"$f":"IF(Table1[[#This Row],[Pupil Name]]=\"\",\"\",Table1[[#This Row],[Pupil Name]])","v":""},{"$f":"IF(Table1[[#This Row],[Gender (M/F)]]=\"\",\"\",Table1[[#This Row],[Gender (M/F)]])","v":""},{"$f":"IF(Table1[[#This Row],[DisAdv (Y/N)]]=\"\",\"\",Table1[[#This Row],[DisAdv (Y/N)]])","v":""},{"$f":"IF(Table1[[#This Row],[SEND (E,K,N)]]=\"\",\"\",Table1[[#This Row],[SEND (E,K,N)]])","v":""},"",{"$f":"IF(LEN(Table4[[#This Row],[Pupil Name]])>0,1,0)","v":0}]
[{"$f":"IF(Table1[[#This Row],[School/Group Name]]=\"\",\"\",Table1[[#This Row],[School/Group Name]])","v":""},{"$f":"IF(Table1[[#This Row],[Pupil Name]]=\"\",\"\",Table1[[#This Row],[Pupil Name]])","v":""},{"$f":"IF(Table1[[#This Row],[Gender (M/F)]]=\"\",\"\",Table1[[#This Row],[Gender (M/F)]])","v":""},{"$f":"IF(Table1[[#This Row],[DisAdv (Y/N)]]=\"\",\"\",Table1[[#This Row],[DisAdv (Y/N)]])","v":""},{"$f":"IF(Table1[[#This Row],[SEND (E,K,N)]]=\"\",\"\",Table1[[#This Row],[SEND (E,K,N)]])","v":""},"",{"$f":"IF(LEN(Table4[[#This Row],[Pupil Name]])>0,1,0)","v":0}]
[{"$f":"IF(Table1[[#This Row],[School/Group Name]]=\"\",\"\",Table1[[#This Row],[School/Group Name]])","v":""},{"$f":"IF(Table1[[#This Row],[Pupil Name]]=\"\",\"\",Table1[[#This Row],[Pupil Name]])","v":""},{"$f":"IF(Table1[[#This Row],[Gender (M/F)]]=\"\",\"\",Table1[[#This Row],[Gender (M/F)]])","v":""},{"$f":"IF(Table1[[#This Row],[DisAdv (Y/N)]]=\"\",\"\",Table1[[#This Row],[DisAdv (Y/N)]])","v":""},{"$f":"IF(Table1[[#This Row],[SEND (E,K,N)]]=\"\",\"\",Table1[[#This Row],[SEND (E,K,N)]])","v":""},"",{"$f":"IF(LEN(Table4[[#This Row],[Pupil Name]])>0,1,0)","v":0}]
[{"$f":"IF(Table1[[#This Row],[School/Group Name]]=\"\",\"\",Table1[[#This Row],[School/Group Name]])","v":""},{"$f":"IF(Table1[[#This Row],[Pupil Name]]=\"\",\"\",Table1[[#This Row],[Pupil Name]])","v":""},{"$f":"IF(Table1[[#This Row],[Gender (M/F)]]=\"\",\"\",Table1[[#This Row],[Gender (M/F)]])","v":""},{"$f":"IF(Table1[[#This Row],[DisAdv (Y/N)]]=\"\",\"\",Table1[[#This Row],[DisAdv (Y/N)]])","v":""},{"$f":"IF(Table1[[#This Row],[SEND (E,K,N)]]=\"\",\"\",Table1[[#This Row],[SEND (E,K,N)]])","v":""},"",{"$f":"IF(LEN(Table4[[#This Row],[Pupil Name]])>0,1,0)","v":0}]
[{"$f":"IF(Table1[[#This Row],[School/Group Name]]=\"\",\"\",Table1[[#This Row],[School/Group Name]])","v":""},{"$f":"IF(Table1[[#This Row],[Pupil Name]]=\"\",\"\",Table1[[#This Row],[Pupil Name]])","v":""},{"$f":"IF(Table1[[#This Row],[Gender (M/F)]]=\"\",\"\",Table1[[#This Row],[Gender (M/F)]])","v":""},{"$f":"IF(Table1[[#This Row],[DisAdv (Y/N)]]=\"\",\"\",Table1[[#This Row],[DisAdv (Y/N)]])","v":""},{"$f":"IF(Table1[[#This Row],[SEND (E,K,N)]]=\"\",\"\",Table1[[#This Row],[SEND (E,K,N)]])","v":""},"",{"$f":"IF(LEN(Table4[[#This Row],[Pupil Name]])>0,1,0)","v":0}]
[{"$f":"IF(Table1[[#This Row],[School/Group Name]]=\"\",\"\",Table1[[#This Row],[School/Group Name]])","v":""},{"$f":"IF(Table1[[#This Row],[Pupil Name]]=\"\",\"\",Table1[[#This Row],[Pupil Name]])","v":""},{"$f":"IF(Table1[[#This Row],[Gender (M/F)]]=\"\",\"\",Table1[[#This Row],[Gender (M/F)]])","v":""},{"$f":"IF(Table1[[#This Row],[DisAdv (Y/N)]]=\"\",\"\",Table1[[#This Row],[DisAdv (Y/N)]])","v":""},{"$f":"IF(Table1[[#This Row],[SEND (E,K,N)]]=\"\",\"\",Table1[[#This Row],[SEND (E,K,N)]])","v":""},"",{"$f":"IF(LEN(Table4[[#This Row],[Pupil Name]])>0,1,0)","v":0}]
[{"$f":"IF(Table1[[#This Row],[School/Group Name]]=\"\",\"\",Table1[[#This Row],[School/Group Name]])","v":""},{"$f":"IF(Table1[[#This Row],[Pupil Name]]=\"\",\"\",Table1[[#This Row],[Pupil Name]])","v":""},{"$f":"IF(Table1[[#This Row],[Gender (M/F)]]=\"\",\"\",Table1[[#This Row],[Gender (M/F)]])","v":""},{"$f":"IF(Table1[[#This Row],[DisAdv (Y/N)]]=\"\",\"\",Table1[[#This Row],[DisAdv (Y/N)]])","v":""},{"$f":"IF(Table1[[#This Row],[SEND (E,K,N)]]=\"\",\"\",Table1[[#This Row],[SEND (E,K,N)]])","v":""},"",{"$f":"IF(LEN(Table4[[#This Row],[Pupil Name]])>0,1,0)","v":0}]
[{"$f":"IF(Table1[[#This Row],[School/Group Name]]=\"\",\"\",Table1[[#This Row],[School/Group Name]])","v":""},{"$f":"IF(Table1[[#This Row],[Pupil Name]]=\"\",\"\",Table1[[#This Row],[Pupil Name]])","v":""},{"$f":"IF(Table1[[#This Row],[Gender (M/F)]]=\"\",\"\",Table1[[#This Row],[Gender (M/F)]])","v":""},{"$f":"IF(Table1[[#This Row],[DisAdv (Y/N)]]=\"\",\"\",Table1[[#This Row],[DisAdv (Y/N)]])","v":""},{"$f":"IF(Table1[[#This Row],[SEND (E,K,N)]]=\"\",\"\",Table1[[#This Row],[SEND (E,K,N)]])","v":""},"",{"$f":"IF(LEN(Table4[[#This Row],[Pupil Name]])>0,1,0)","v":0}]
[{"$f":"IF(Table1[[#This Row],[School/Group Name]]=\"\",\"\",Table1[[#This Row],[School/Group Name]])","v":""},{"$f":"IF(Table1[[#This Row],[Pupil Name]]=\"\",\"\",Table1[[#This Row],[Pupil Name]])","v":""},{"$f":"IF(Table1[[#This Row],[Gender (M/F)]]=\"\",\"\",Table1[[#This Row],[Gender (M/F)]])","v":""},{"$f":"IF(Table1[[#This Row],[DisAdv (Y/N)]]=\"\",\"\",Table1[[#This Row],[DisAdv (Y/N)]])","v":""},{"$f":"IF(Table1[[#This Row],[SEND (E,K,N)]]=\"\",\"\",Table1[[#This Row],[SEND (E,K,N)]])","v":""},"",{"$f":"IF(LEN(Table4[[#This Row],[Pupil Name]])>0,1,0)","v":0}]
[{"$f":"IF(Table1[[#This Row],[School/Group Name]]=\"\",\"\",Table1[[#This Row],[School/Group Name]])","v":""},{"$f":"IF(Table1[[#This Row],[Pupil Name]]=\"\",\"\",Table1[[#This Row],[Pupil Name]])","v":""},{"$f":"IF(Table1[[#This Row],[Gender (M/F)]]=\"\",\"\",Table1[[#This Row],[Gender (M/F)]])","v":""},{"$f":"IF(Table1[[#This Row],[DisAdv (Y/N)]]=\"\",\"\",Table1[[#This Row],[DisAdv (Y/N)]])","v":""},{"$f":"IF(Table1[[#This Row],[SEND (E,K,N)]]=\"\",\"\",Table1[[#This Row],[SEND (E,K,N)]])","v":""},"",{"$f":"IF(LEN(Table4[[#This Row],[Pupil Name]])>0,1,0)","v":0}]
[{"$f":"IF(Table1[[#This Row],[School/Group Name]]=\"\",\"\",Table1[[#This Row],[School/Group Name]])","v":""},{"$f":"IF(Table1[[#This Row],[Pupil Name]]=\"\",\"\",Table1[[#This Row],[Pupil Name]])","v":""},{"$f":"IF(Table1[[#This Row],[Gender (M/F)]]=\"\",\"\",Table1[[#This Row],[Gender (M/F)]])","v":""},{"$f":"IF(Table1[[#This Row],[DisAdv (Y/N)]]=\"\",\"\",Table1[[#This Row],[DisAdv (Y/N)]])","v":""},{"$f":"IF(Table1[[#This Row],[SEND (E,K,N)]]=\"\",\"\",Table1[[#This Row],[SEND (E,K,N)]])","v":""},"",{"$f":"IF(LEN(Table4[[#This Row],[Pupil Name]])>0,1,0)","v":0}]
[{"$f":"IF(Table1[[#This Row],[School/Group Name]]=\"\",\"\",Table1[[#This Row],[School/Group Name]])","v":""},{"$f":"IF(Table1[[#This Row],[Pupil Name]]=\"\",\"\",Table1[[#This Row],[Pupil Name]])","v":""},{"$f":"IF(Table1[[#This Row],[Gender (M/F)]]=\"\",\"\",Table1[[#This Row],[Gender (M/F)]])","v":""},{"$f":"IF(Table1[[#This Row],[DisAdv (Y/N)]]=\"\",\"\",Table1[[#This Row],[DisAdv (Y/N)]])","v":""},{"$f":"IF(Table1[[#This Row],[SEND (E,K,N)]]=\"\",\"\",Table1[[#This Row],[SEND (E,K,N)]])","v":""},"",{"$f":"IF(LEN(Table4[[#This Row],[Pupil Name]])>0,1,0)","v":0}]
[{"$f":"IF(Table1[[#This Row],[School/Group Name]]=\"\",\"\",Table1[[#This Row],[School/Group Name]])","v":""},{"$f":"IF(Table1[[#This Row],[Pupil Name]]=\"\",\"\",Table1[[#This Row],[Pupil Name]])","v":""},{"$f":"IF(Table1[[#This Row],[Gender (M/F)]]=\"\",\"\",Table1[[#This Row],[Gender (M/F)]])","v":""},{"$f":"IF(Table1[[#This Row],[DisAdv (Y/N)]]=\"\",\"\",Table1[[#This Row],[DisAdv (Y/N)]])","v":""},{"$f":"IF(Table1[[#This Row],[SEND (E,K,N)]]=\"\",\"\",Table1[[#This Row],[SEND (E,K,N)]])","v":""},"",{"$f":"IF(LEN(Table4[[#This Row],[Pupil Name]])>0,1,0)","v":0}]
[{"$f":"IF(Table1[[#This Row],[School/Group Name]]=\"\",\"\",Table1[[#This Row],[School/Group Name]])","v":""},{"$f":"IF(Table1[[#This Row],[Pupil Name]]=\"\",\"\",Table1[[#This Row],[Pupil Name]])","v":""},{"$f":"IF(Table1[[#This Row],[Gender (M/F)]]=\"\",\"\",Table1[[#This Row],[Gender (M/F)]])","v":""},{"$f":"IF(Table1[[#This Row],[DisAdv (Y/N)]]=\"\",\"\",Table1[[#This Row],[DisAdv (Y/N)]])","v":""},{"$f":"IF(Table1[[#This Row],[SEND (E,K,N)]]=\"\",\"\",Table1[[#This Row],[SEND (E,K,N)]])","v":""},"",{"$f":"IF(LEN(Table4[[#This Row],[Pupil Name]])>0,1,0)","v":0}]
[{"$f":"IF(Table1[[#This Row],[School/Group Name]]=\"\",\"\",Table1[[#This Row],[School/Group Name]])","v":""},{"$f":"IF(Table1[[#This Row],[Pupil Name]]=\"\",\"\",Table1[[#This Row],[Pupil Name]])","v":""},{"$f":"IF(Table1[[#This Row],[Gender (M/F)]]=\"\",\"\",Table1[[#This Row],[Gender (M/F)]])","v":""},{"$f":"IF(Table1[[#This Row],[DisAdv (Y/N)]]=\"\",\"\",Table1[[#This Row],[DisAdv (Y/N)]])","v":""},{"$f":"IF(Table1[[#This Row],[SEND (E,K,N)]]=\"\",\"\",Table1[[#This Row],[SEND (E,K,N)]])","v":""},"",{"$f":"IF(LEN(Table4[[#This Row],[Pupil Name]])>0,1,0)","v":0}]
[{"$f":"IF(Table1[[#This Row],[School/Group Name]]=\"\",\"\",Table1[[#This Row],[School/Group Name]])","v":""},{"$f":"IF(Table1[[#This Row],[Pupil Name]]=\"\",\"\",Table1[[#This Row],[Pupil Name]])","v":""},{"$f":"IF(Table1[[#This Row],[Gender (M/F)]]=\"\",\"\",Table1[[#This Row],[Gender (M/F)]])","v":""},{"$f":"IF(Table1[[#This Row],[DisAdv (Y/N)]]=\"\",\"\",Table1[[#This Row],[DisAdv (Y/N)]])","v":""},{"$f":"IF(Table1[[#This Row],[SEND (E,K,N)]]=\"\",\"\",Table1[[#This Row],[SEND (E,K,N)]])","v":""},"",{"$f":"IF(LEN(Table4[[#This Row],[Pupil Name]])>0,1,0)","v":0}]
[{"$f":"IF(Table1[[#This Row],[School/Group Name]]=\"\",\"\",Table1[[#This Row],[School/Group Name]])","v":""},{"$f":"IF(Table1[[#This Row],[Pupil Name]]=\"\",\"\",Table1[[#This Row],[Pupil Name]])","v":""},{"$f":"IF(Table1[[#This Row],[Gender (M/F)]]=\"\",\"\",Table1[[#This Row],[Gender (M/F)]])","v":""},{"$f":"IF(Table1[[#This Row],[DisAdv (Y/N)]]=\"\",\"\",Table1[[#This Row],[DisAdv (Y/N)]])","v":""},{"$f":"IF(Table1[[#This Row],[SEND (E,K,N)]]=\"\",\"\",Table1[[#This Row],[SEND (E,K,N)]])","v":""},"",{"$f":"IF(LEN(Table4[[#This Row],[Pupil Name]])>0,1,0)","v":0}]
[{"$f":"IF(Table1[[#This Row],[School/Group Name]]=\"\",\"\",Table1[[#This Row],[School/Group Name]])","v":""},{"$f":"IF(Table1[[#This Row],[Pupil Name]]=\"\",\"\",Table1[[#This Row],[Pupil Name]])","v":""},{"$f":"IF(Table1[[#This Row],[Gender (M/F)]]=\"\",\"\",Table1[[#This Row],[Gender (M/F)]])","v":""},{"$f":"IF(Table1[[#This Row],[DisAdv (Y/N)]]=\"\",\"\",Table1[[#This Row],[DisAdv (Y/N)]])","v":""},{"$f":"IF(Table1[[#This Row],[SEND (E,K,N)]]=\"\",\"\",Table1[[#This Row],[SEND (E,K,N)]])","v":""},{"$f":"IF(H70=\"\",\"\",(SUM(H70:AU70)))","v":""},{"$f":"IF(LEN(Table4[[#This Row],[Pupil Name]])>0,1,0)","v":0}]
[{"$f":"IF(Table1[[#This Row],[School/Group Name]]=\"\",\"\",Table1[[#This Row],[School/Group Name]])","v":""},{"$f":"IF(Table1[[#This Row],[Pupil Name]]=\"\",\"\",Table1[[#This Row],[Pupil Name]])","v":""},{"$f":"IF(Table1[[#This Row],[Gender (M/F)]]=\"\",\"\",Table1[[#This Row],[Gender (M/F)]])","v":""},{"$f":"IF(Table1[[#This Row],[DisAdv (Y/N)]]=\"\",\"\",Table1[[#This Row],[DisAdv (Y/N)]])","v":""},{"$f":"IF(Table1[[#This Row],[SEND (E,K,N)]]=\"\",\"\",Table1[[#This Row],[SEND (E,K,N)]])","v":""},"",{"$f":"IF(LEN(Table4[[#This Row],[Pupil Name]])>0,1,0)","v":0}]
[{"$f":"IF(Table1[[#This Row],[School/Group Name]]=\"\",\"\",Table1[[#This Row],[School/Group Name]])","v":""},{"$f":"IF(Table1[[#This Row],[Pupil Name]]=\"\",\"\",Table1[[#This Row],[Pupil Name]])","v":""},{"$f":"IF(Table1[[#This Row],[Gender (M/F)]]=\"\",\"\",Table1[[#This Row],[Gender (M/F)]])","v":""},{"$f":"IF(Table1[[#This Row],[DisAdv (Y/N)]]=\"\",\"\",Table1[[#This Row],[DisAdv (Y/N)]])","v":""},{"$f":"IF(Table1[[#This Row],[SEND (E,K,N)]]=\"\",\"\",Table1[[#This Row],[SEND (E,K,N)]])","v":""},"",{"$f":"IF(LEN(Table4[[#This Row],[Pupil Name]])>0,1,0)","v":0}]
[{"$f":"IF(Table1[[#This Row],[School/Group Name]]=\"\",\"\",Table1[[#This Row],[School/Group Name]])","v":""},{"$f":"IF(Table1[[#This Row],[Pupil Name]]=\"\",\"\",Table1[[#This Row],[Pupil Name]])","v":""},{"$f":"IF(Table1[[#This Row],[Gender (M/F)]]=\"\",\"\",Table1[[#This Row],[Gender (M/F)]])","v":""},{"$f":"IF(Table1[[#This Row],[DisAdv (Y/N)]]=\"\",\"\",Table1[[#This Row],[DisAdv (Y/N)]])","v":""},{"$f":"IF(Table1[[#This Row],[SEND (E,K,N)]]=\"\",\"\",Table1[[#This Row],[SEND (E,K,N)]])","v":""},"",{"$f":"IF(LEN(Table4[[#This Row],[Pupil Name]])>0,1,0)","v":0}]
[{"$f":"IF(Table1[[#This Row],[School/Group Name]]=\"\",\"\",Table1[[#This Row],[School/Group Name]])","v":""},{"$f":"IF(Table1[[#This Row],[Pupil Name]]=\"\",\"\",Table1[[#This Row],[Pupil Name]])","v":""},{"$f":"IF(Table1[[#This Row],[Gender (M/F)]]=\"\",\"\",Table1[[#This Row],[Gender (M/F)]])","v":""},{"$f":"IF(Table1[[#This Row],[DisAdv (Y/N)]]=\"\",\"\",Table1[[#This Row],[DisAdv (Y/N)]])","v":""},{"$f":"IF(Table1[[#This Row],[SEND (E,K,N)]]=\"\",\"\",Table1[[#This Row],[SEND (E,K,N)]])","v":""},"",{"$f":"IF(LEN(Table4[[#This Row],[Pupil Name]])>0,1,0)","v":0}]
[{"$f":"IF(Table1[[#This Row],[School/Group Name]]=\"\",\"\",Table1[[#This Row],[School/Group Name]])","v":""},{"$f":"IF(Table1[[#This Row],[Pupil Name]]=\"\",\"\",Table1[[#This Row],[Pupil Name]])","v":""},{"$f":"IF(Table1[[#This Row],[Gender (M/F)]]=\"\",\"\",Table1[[#This Row],[Gender (M/F)]])","v":""},{"$f":"IF(Table1[[#This Row],[DisAdv (Y/N)]]=\"\",\"\",Table1[[#This Row],[DisAdv (Y/N)]])","v":""},{"$f":"IF(Table1[[#This Row],[SEND (E,K,N)]]=\"\",\"\",Table1[[#This Row],[SEND (E,K,N)]])","v":""},"",{"$f":"IF(LEN(Table4[[#This Row],[Pupil Name]])>0,1,0)","v":0}]
[{"$f":"IF(Table1[[#This Row],[School/Group Name]]=\"\",\"\",Table1[[#This Row],[School/Group Name]])","v":""},{"$f":"IF(Table1[[#This Row],[Pupil Name]]=\"\",\"\",Table1[[#This Row],[Pupil Name]])","v":""},{"$f":"IF(Table1[[#This Row],[Gender (M/F)]]=\"\",\"\",Table1[[#This Row],[Gender (M/F)]])","v":""},{"$f":"IF(Table1[[#This Row],[DisAdv (Y/N)]]=\"\",\"\",Table1[[#This Row],[DisAdv (Y/N)]])","v":""},{"$f":"IF(Table1[[#This Row],[SEND (E,K,N)]]=\"\",\"\",Table1[[#This Row],[SEND (E,K,N)]])","v":""},"",{"$f":"IF(LEN(Table4[[#This Row],[Pupil Name]])>0,1,0)","v":0}]
[{"$f":"IF(Table1[[#This Row],[School/Group Name]]=\"\",\"\",Table1[[#This Row],[School/Group Name]])","v":""},{"$f":"IF(Table1[[#This Row],[Pupil Name]]=\"\",\"\",Table1[[#This Row],[Pupil Name]])","v":""},{"$f":"IF(Table1[[#This Row],[Gender (M/F)]]=\"\",\"\",Table1[[#This Row],[Gender (M/F)]])","v":""},{"$f":"IF(Table1[[#This Row],[DisAdv (Y/N)]]=\"\",\"\",Table1[[#This Row],[DisAdv (Y/N)]])","v":""},{"$f":"IF(Table1[[#This Row],[SEND (E,K,N)]]=\"\",\"\",Table1[[#This Row],[SEND (E,K,N)]])","v":""},"",{"$f":"IF(LEN(Table4[[#This Row],[Pupil Name]])>0,1,0)","v":0}]
[{"$f":"IF(Table1[[#This Row],[School/Group Name]]=\"\",\"\",Table1[[#This Row],[School/Group Name]])","v":""},{"$f":"IF(Table1[[#This Row],[Pupil Name]]=\"\",\"\",Table1[[#This Row],[Pupil Name]])","v":""},{"$f":"IF(Table1[[#This Row],[Gender (M/F)]]=\"\",\"\",Table1[[#This Row],[Gender (M/F)]])","v":""},{"$f":"IF(Table1[[#This Row],[DisAdv (Y/N)]]=\"\",\"\",Table1[[#This Row],[DisAdv (Y/N)]])","v":""},{"$f":"IF(Table1[[#This Row],[SEND (E,K,N)]]=\"\",\"\",Table1[[#This Row],[SEND (E,K,N)]])","v":""},"",{"$f":"IF(LEN(Table4[[#This Row],[Pupil Name]])>0,1,0)","v":0}]
[{"$f":"IF(Table1[[#This Row],[School/Group Name]]=\"\",\"\",Table1[[#This Row],[School/Group Name]])","v":""},{"$f":"IF(Table1[[#This Row],[Pupil Name]]=\"\",\"\",Table1[[#This Row],[Pupil Name]])","v":""},{"$f":"IF(Table1[[#This Row],[Gender (M/F)]]=\"\",\"\",Table1[[#This Row],[Gender (M/F)]])","v":""},{"$f":"IF(Table1[[#This Row],[DisAdv (Y/N)]]=\"\",\"\",Table1[[#This Row],[DisAdv (Y/N)]])","v":""},{"$f":"IF(Table1[[#This Row],[SEND (E,K,N)]]=\"\",\"\",Table1[[#This Row],[SEND (E,K,N)]])","v":""},"",{"$f":"IF(LEN(Table4[[#This Row],[Pupil Name]])>0,1,0)","v":0}]
[{"$f":"IF(Table1[[#This Row],[School/Group Name]]=\"\",\"\",Table1[[#This Row],[School/Group Name]])","v":""},{"$f":"IF(Table1[[#This Row],[Pupil Name]]=\"\",\"\",Table1[[#This Row],[Pupil Name]])","v":""},{"$f":"IF(Table1[[#This Row],[Gender (M/F)]]=\"\",\"\",Table1[[#This Row],[Gender (M/F)]])","v":""},{"$f":"IF(Table1[[#This Row],[DisAdv (Y/N)]]=\"\",\"\",Table1[[#This Row],[DisAdv (Y/N)]])","v":""},{"$f":"IF(Table1[[#This Row],[SEND (E,K,N)]]=\"\",\"\",Table1[[#This Row],[SEND (E,K,N)]])","v":""},"",{"$f":"IF(LEN(Table4[[#This Row],[Pupil Name]])>0,1,0)","v":0}]
[{"$f":"IF(Table1[[#This Row],[School/Group Name]]=\"\",\"\",Table1[[#This Row],[School/Group Name]])","v":""},{"$f":"IF(Table1[[#This Row],[Pupil Name]]=\"\",\"\",Table1[[#This Row],[Pupil Name]])","v":""},{"$f":"IF(Table1[[#This Row],[Gender (M/F)]]=\"\",\"\",Table1[[#This Row],[Gender (M/F)]])","v":""},{"$f":"IF(Table1[[#This Row],[DisAdv (Y/N)]]=\"\",\"\",Table1[[#This Row],[DisAdv (Y/N)]])","v":""},{"$f":"IF(Table1[[#This Row],[SEND (E,K,N)]]=\"\",\"\",Table1[[#This Row],[SEND (E,K,N)]])","v":""},"",{"$f":"IF(LEN(Table4[[#This Row],[Pupil Name]])>0,1,0)","v":0}]
[{"$f":"IF(Table1[[#This Row],[School/Group Name]]=\"\",\"\",Table1[[#This Row],[School/Group Name]])","v":""},{"$f":"IF(Table1[[#This Row],[Pupil Name]]=\"\",\"\",Table1[[#This Row],[Pupil Name]])","v":""},{"$f":"IF(Table1[[#This Row],[Gender (M/F)]]=\"\",\"\",Table1[[#This Row],[Gender (M/F)]])","v":""},{"$f":"IF(Table1[[#This Row],[DisAdv (Y/N)]]=\"\",\"\",Table1[[#This Row],[DisAdv (Y/N)]])","v":""},{"$f":"IF(Table1[[#This Row],[SEND (E,K,N)]]=\"\",\"\",Table1[[#This Row],[SEND (E,K,N)]])","v":""},"",{"$f":"IF(LEN(Table4[[#This Row],[Pupil Name]])>0,1,0)","v":0}]
[{"$f":"IF(Table1[[#This Row],[School/Group Name]]=\"\",\"\",Table1[[#This Row],[School/Group Name]])","v":""},{"$f":"IF(Table1[[#This Row],[Pupil Name]]=\"\",\"\",Table1[[#This Row],[Pupil Name]])","v":""},{"$f":"IF(Table1[[#This Row],[Gender (M/F)]]=\"\",\"\",Table1[[#This Row],[Gender (M/F)]])","v":""},{"$f":"IF(Table1[[#This Row],[DisAdv (Y/N)]]=\"\",\"\",Table1[[#This Row],[DisAdv (Y/N)]])","v":""},{"$f":"IF(Table1[[#This Row],[SEND (E,K,N)]]=\"\",\"\",Table1[[#This Row],[SEND (E,K,N)]])","v":""},"",{"$f":"IF(LEN(Table4[[#This Row],[Pupil Name]])>0,1,0)","v":0}]
[{"$f":"IF(Table1[[#This Row],[School/Group Name]]=\"\",\"\",Table1[[#This Row],[School/Group Name]])","v":""},{"$f":"IF(Table1[[#This Row],[Pupil Name]]=\"\",\"\",Table1[[#This Row],[Pupil Name]])","v":""},{"$f":"IF(Table1[[#This Row],[Gender (M/F)]]=\"\",\"\",Table1[[#This Row],[Gender (M/F)]])","v":""},{"$f":"IF(Table1[[#This Row],[DisAdv (Y/N)]]=\"\",\"\",Table1[[#This Row],[DisAdv (Y/N)]])","v":""},{"$f":"IF(Table1[[#This Row],[SEND (E,K,N)]]=\"\",\"\",Table1[[#This Row],[SEND (E,K,N)]])","v":""},"",{"$f":"IF(LEN(Table4[[#This Row],[Pupil Name]])>0,1,0)","v":0}]
[{"$f":"IF(Table1[[#This Row],[School/Group Name]]=\"\",\"\",Table1[[#This Row],[School/Group Name]])","v":""},{"$f":"IF(Table1[[#This Row],[Pupil Name]]=\"\",\"\",Table1[[#This Row],[Pupil Name]])","v":""},{"$f":"IF(Table1[[#This Row],[Gender (M/F)]]=\"\",\"\",Table1[[#This Row],[Gender (M/F)]])","v":""},{"$f":"IF(Table1[[#This Row],[DisAdv (Y/N)]]=\"\",\"\",Table1[[#This Row],[DisAdv (Y/N)]])","v":""},{"$f":"IF(Table1[[#This Row],[SEND (E,K,N)]]=\"\",\"\",Table1[[#This Row],[SEND (E,K,N)]])","v":""},"",{"$f":"IF(LEN(Table4[[#This Row],[Pupil Name]])>0,1,0)","v":0}]
[{"$f":"IF(Table1[[#This Row],[School/Group Name]]=\"\",\"\",Table1[[#This Row],[School/Group Name]])","v":""},{"$f":"IF(Table1[[#This Row],[Pupil Name]]=\"\",\"\",Table1[[#This Row],[Pupil Name]])","v":""},{"$f":"IF(Table1[[#This Row],[Gender (M/F)]]=\"\",\"\",Table1[[#This Row],[Gender (M/F)]])","v":""},{"$f":"IF(Table1[[#This Row],[DisAdv (Y/N)]]=\"\",\"\",Table1[[#This Row],[DisAdv (Y/N)]])","v":""},{"$f":"IF(Table1[[#This Row],[SEND (E,K,N)]]=\"\",\"\",Table1[[#This Row],[SEND (E,K,N)]])","v":""},"",{"$f":"IF(LEN(Table4[[#This Row],[Pupil Name]])>0,1,0)","v":0}]
[{"$f":"IF(Table1[[#This Row],[School/Group Name]]=\"\",\"\",Table1[[#This Row],[School/Group Name]])","v":""},{"$f":"IF(Table1[[#This Row],[Pupil Name]]=\"\",\"\",Table1[[#This Row],[Pupil Name]])","v":""},{"$f":"IF(Table1[[#This Row],[Gender (M/F)]]=\"\",\"\",Table1[[#This Row],[Gender (M/F)]])","v":""},{"$f":"IF(Table1[[#This Row],[DisAdv (Y/N)]]=\"\",\"\",Table1[[#This Row],[DisAdv (Y/N)]])","v":""},{"$f":"IF(Table1[[#This Row],[SEND (E,K,N)]]=\"\",\"\",Table1[[#This Row],[SEND (E,K,N)]])","v":""},"",{"$f":"IF(LEN(Table4[[#This Row],[Pupil Name]])>0,1,0)","v":0}]
[{"$f":"IF(Table1[[#This Row],[School/Group Name]]=\"\",\"\",Table1[[#This Row],[School/Group Name]])","v":""},{"$f":"IF(Table1[[#This Row],[Pupil Name]]=\"\",\"\",Table1[[#This Row],[Pupil Name]])","v":""},{"$f":"IF(Table1[[#This Row],[Gender (M/F)]]=\"\",\"\",Table1[[#This Row],[Gender (M/F)]])","v":""},{"$f":"IF(Table1[[#This Row],[DisAdv (Y/N)]]=\"\",\"\",Table1[[#This Row],[DisAdv (Y/N)]])","v":""},{"$f":"IF(Table1[[#This Row],[SEND (E,K,N)]]=\"\",\"\",Table1[[#This Row],[SEND (E,K,N)]])","v":""},"",{"$f":"IF(LEN(Table4[[#This Row],[Pupil Name]])>0,1,0)","v":0}]
[{"$f":"IF(Table1[[#This Row],[School/Group Name]]=\"\",\"\",Table1[[#This Row],[School/Group Name]])","v":""},{"$f":"IF(Table1[[#This Row],[Pupil Name]]=\"\",\"\",Table1[[#This Row],[Pupil Name]])","v":""},{"$f":"IF(Table1[[#This Row],[Gender (M/F)]]=\"\",\"\",Table1[[#This Row],[Gender (M/F)]])","v":""},{"$f":"IF(Table1[[#This Row],[DisAdv (Y/N)]]=\"\",\"\",Table1[[#This Row],[DisAdv (Y/N)]])","v":""},{"$f":"IF(Table1[[#This Row],[SEND (E,K,N)]]=\"\",\"\",Table1[[#This Row],[SEND (E,K,N)]])","v":""},"",{"$f":"IF(LEN(Table4[[#This Row],[Pupil Name]])>0,1,0)","v":0}]
[{"$f":"IF(Table1[[#This Row],[School/Group Name]]=\"\",\"\",Table1[[#This Row],[School/Group Name]])","v":""},{"$f":"IF(Table1[[#This Row],[Pupil Name]]=\"\",\"\",Table1[[#This Row],[Pupil Name]])","v":""},{"$f":"IF(Table1[[#This Row],[Gender (M/F)]]=\"\",\"\",Table1[[#This Row],[Gender (M/F)]])","v":""},{"$f":"IF(Table1[[#This Row],[DisAdv (Y/N)]]=\"\",\"\",Table1[[#This Row],[DisAdv (Y/N)]])","v":""},{"$f":"IF(Table1[[#This Row],[SEND (E,K,N)]]=\"\",\"\",Table1[[#This Row],[SEND (E,K,N)]])","v":""},"",{"$f":"IF(LEN(Table4[[#This Row],[Pupil Name]])>0,1,0)","v":0}]
[{"$f":"IF(Table1[[#This Row],[School/Group Name]]=\"\",\"\",Table1[[#This Row],[School/Group Name]])","v":""},{"$f":"IF(Table1[[#This Row],[Pupil Name]]=\"\",\"\",Table1[[#This Row],[Pupil Name]])","v":""},{"$f":"IF(Table1[[#This Row],[Gender (M/F)]]=\"\",\"\",Table1[[#This Row],[Gender (M/F)]])","v":""},{"$f":"IF(Table1[[#This Row],[DisAdv (Y/N)]]=\"\",\"\",Table1[[#This Row],[DisAdv (Y/N)]])","v":""},{"$f":"IF(Table1[[#This Row],[SEND (E,K,N)]]=\"\",\"\",Table1[[#This Row],[SEND (E,K,N)]])","v":""},"",{"$f":"IF(LEN(Table4[[#This Row],[Pupil Name]])>0,1,0)","v":0}]
[{"$f":"IF(Table1[[#This Row],[School/Group Name]]=\"\",\"\",Table1[[#This Row],[School/Group Name]])","v":""},{"$f":"IF(Table1[[#This Row],[Pupil Name]]=\"\",\"\",Table1[[#This Row],[Pupil Name]])","v":""},{"$f":"IF(Table1[[#This Row],[Gender (M/F)]]=\"\",\"\",Table1[[#This Row],[Gender (M/F)]])","v":""},{"$f":"IF(Table1[[#This Row],[DisAdv (Y/N)]]=\"\",\"\",Table1[[#This Row],[DisAdv (Y/N)]])","v":""},{"$f":"IF(Table1[[#This Row],[SEND (E,K,N)]]=\"\",\"\",Table1[[#This Row],[SEND (E,K,N)]])","v":""},"",{"$f":"IF(LEN(Table4[[#This Row],[Pupil Name]])>0,1,0)","v":0}]
[{"$f":"IF(Table1[[#This Row],[School/Group Name]]=\"\",\"\",Table1[[#This Row],[School/Group Name]])","v":""},{"$f":"IF(Table1[[#This Row],[Pupil Name]]=\"\",\"\",Table1[[#This Row],[Pupil Name]])","v":""},{"$f":"IF(Table1[[#This Row],[Gender (M/F)]]=\"\",\"\",Table1[[#This Row],[Gender (M/F)]])","v":""},{"$f":"IF(Table1[[#This Row],[DisAdv (Y/N)]]=\"\",\"\",Table1[[#This Row],[DisAdv (Y/N)]])","v":""},{"$f":"IF(Table1[[#This Row],[SEND (E,K,N)]]=\"\",\"\",Table1[[#This Row],[SEND (E,K,N)]])","v":""},"",{"$f":"IF(LEN(Table4[[#This Row],[Pupil Name]])>0,1,0)","v":0}]
[{"$f":"IF(Table1[[#This Row],[School/Group Name]]=\"\",\"\",Table1[[#This Row],[School/Group Name]])","v":""},{"$f":"IF(Table1[[#This Row],[Pupil Name]]=\"\",\"\",Table1[[#This Row],[Pupil Name]])","v":""},{"$f":"IF(Table1[[#This Row],[Gender (M/F)]]=\"\",\"\",Table1[[#This Row],[Gender (M/F)]])","v":""},{"$f":"IF(Table1[[#This Row],[DisAdv (Y/N)]]=\"\",\"\",Table1[[#This Row],[DisAdv (Y/N)]])","v":""},{"$f":"IF(Table1[[#This Row],[SEND (E,K,N)]]=\"\",\"\",Table1[[#This Row],[SEND (E,K,N)]])","v":""},"",{"$f":"IF(LEN(Table4[[#This Row],[Pupil Name]])>0,1,0)","v":0}]
[{"$f":"IF(Table1[[#This Row],[School/Group Name]]=\"\",\"\",Table1[[#This Row],[School/Group Name]])","v":""},{"$f":"IF(Table1[[#This Row],[Pupil Name]]=\"\",\"\",Table1[[#This Row],[Pupil Name]])","v":""},{"$f":"IF(Table1[[#This Row],[Gender (M/F)]]=\"\",\"\",Table1[[#This Row],[Gender (M/F)]])","v":""},{"$f":"IF(Table1[[#This Row],[DisAdv (Y/N)]]=\"\",\"\",Table1[[#This Row],[DisAdv (Y/N)]])","v":""},{"$f":"IF(Table1[[#This Row],[SEND (E,K,N)]]=\"\",\"\",Table1[[#This Row],[SEND (E,K,N)]])","v":""},"",{"$f":"IF(LEN(Table4[[#This Row],[Pupil Name]])>0,1,0)","v":0}]
[{"$f":"IF(Table1[[#This Row],[School/Group Name]]=\"\",\"\",Table1[[#This Row],[School/Group Name]])","v":""},{"$f":"IF(Table1[[#This Row],[Pupil Name]]=\"\",\"\",Table1[[#This Row],[Pupil Name]])","v":""},{"$f":"IF(Table1[[#This Row],[Gender (M/F)]]=\"\",\"\",Table1[[#This Row],[Gender (M/F)]])","v":""},{"$f":"IF(Table1[[#This Row],[DisAdv (Y/N)]]=\"\",\"\",Table1[[#This Row],[DisAdv (Y/N)]])","v":""},{"$f":"IF(Table1[[#This Row],[SEND (E,K,N)]]=\"\",\"\",Table1[[#This Row],[SEND (E,K,N)]])","v":""},"",{"$f":"IF(LEN(Table4[[#This Row],[Pupil Name]])>0,1,0)","v":0}]
[{"$f":"IF(Table1[[#This Row],[School/Group Name]]=\"\",\"\",Table1[[#This Row],[School/Group Name]])","v":""},{"$f":"IF(Table1[[#This Row],[Pupil Name]]=\"\",\"\",Table1[[#This Row],[Pupil Name]])","v":""},{"$f":"IF(Table1[[#This Row],[Gender (M/F)]]=\"\",\"\",Table1[[#This Row],[Gender (M/F)]])","v":""},{"$f":"IF(Table1[[#This Row],[DisAdv (Y/N)]]=\"\",\"\",Table1[[#This Row],[DisAdv (Y/N)]])","v":""},{"$f":"IF(Table1[[#This Row],[SEND (E,K,N)]]=\"\",\"\",Table1[[#This Row],[SEND (E,K,N)]])","v":""},"",{"$f":"IF(LEN(Table4[[#This Row],[Pupil Name]])>0,1,0)","v":0}]
[{"$f":"IF(Table1[[#This Row],[School/Group Name]]=\"\",\"\",Table1[[#This Row],[School/Group Name]])","v":""},{"$f":"IF(Table1[[#This Row],[Pupil Name]]=\"\",\"\",Table1[[#This Row],[Pupil Name]])","v":""},{"$f":"IF(Table1[[#This Row],[Gender (M/F)]]=\"\",\"\",Table1[[#This Row],[Gender (M/F)]])","v":""},{"$f":"IF(Table1[[#This Row],[DisAdv (Y/N)]]=\"\",\"\",Table1[[#This Row],[DisAdv (Y/N)]])","v":""},{"$f":"IF(Table1[[#This Row],[SEND (E,K,N)]]=\"\",\"\",Table1[[#This Row],[SEND (E,K,N)]])","v":""},"",{"$f":"IF(LEN(Table4[[#This Row],[Pupil Name]])>0,1,0)","v":0}]
[{"$f":"IF(Table1[[#This Row],[School/Group Name]]=\"\",\"\",Table1[[#This Row],[School/Group Name]])","v":""},{"$f":"IF(Table1[[#This Row],[Pupil Name]]=\"\",\"\",Table1[[#This Row],[Pupil Name]])","v":""},{"$f":"IF(Table1[[#This Row],[Gender (M/F)]]=\"\",\"\",Table1[[#This Row],[Gender (M/F)]])","v":""},{"$f":"IF(Table1[[#This Row],[DisAdv (Y/N)]]=\"\",\"\",Table1[[#This Row],[DisAdv (Y/N)]])","v":""},{"$f":"IF(Table1[[#This Row],[SEND (E,K,N)]]=\"\",\"\",Table1[[#This Row],[SEND (E,K,N)]])","v":""},"",{"$f":"IF(LEN(Table4[[#This Row],[Pupil Name]])>0,1,0)","v":0}]
[{"$f":"IF(Table1[[#This Row],[School/Group Name]]=\"\",\"\",Table1[[#This Row],[School/Group Name]])","v":""},{"$f":"IF(Table1[[#This Row],[Pupil Name]]=\"\",\"\",Table1[[#This Row],[Pupil Name]])","v":""},{"$f":"IF(Table1[[#This Row],[Gender (M/F)]]=\"\",\"\",Table1[[#This Row],[Gender (M/F)]])","v":""},{"$f":"IF(Table1[[#This Row],[DisAdv (Y/N)]]=\"\",\"\",Table1[[#This Row],[DisAdv (Y/N)]])","v":""},{"$f":"IF(Table1[[#This Row],[SEND (E,K,N)]]=\"\",\"\",Table1[[#This Row],[SEND (E,K,N)]])","v":""},"",{"$f":"IF(LEN(Table4[[#This Row],[Pupil Name]])>0,1,0)","v":0}]
[{"$f":"IF(Table1[[#This Row],[School/Group Name]]=\"\",\"\",Table1[[#This Row],[School/Group Name]])","v":""},{"$f":"IF(Table1[[#This Row],[Pupil Name]]=\"\",\"\",Table1[[#This Row],[Pupil Name]])","v":""},{"$f":"IF(Table1[[#This Row],[Gender (M/F)]]=\"\",\"\",Table1[[#This Row],[Gender (M/F)]])","v":""},{"$f":"IF(Table1[[#This Row],[DisAdv (Y/N)]]=\"\",\"\",Table1[[#This Row],[DisAdv (Y/N)]])","v":""},{"$f":"IF(Table1[[#This Row],[SEND (E,K,N)]]=\"\",\"\",Table1[[#This Row],[SEND (E,K,N)]])","v":""},"",{"$f":"IF(LEN(Table4[[#This Row],[Pupil Name]])>0,1,0)","v":0}]
[{"$f":"IF(Table1[[#This Row],[School/Group Name]]=\"\",\"\",Table1[[#This Row],[School/Group Name]])","v":""},{"$f":"IF(Table1[[#This Row],[Pupil Name]]=\"\",\"\",Table1[[#This Row],[Pupil Name]])","v":""},{"$f":"IF(Table1[[#This Row],[Gender (M/F)]]=\"\",\"\",Table1[[#This Row],[Gender (M/F)]])","v":""},{"$f":"IF(Table1[[#This Row],[DisAdv (Y/N)]]=\"\",\"\",Table1[[#This Row],[DisAdv (Y/N)]])","v":""},{"$f":"IF(Table1[[#This Row],[SEND (E,K,N)]]=\"\",\"\",Table1[[#This Row],[SEND (E,K,N)]])","v":""},"",{"$f":"IF(LEN(Table4[[#This Row],[Pupil Name]])>0,1,0)","v":0}]
[{"$f":"IF(Table1[[#This Row],[School/Group Name]]=\"\",\"\",Table1[[#This Row],[School/Group Name]])","v":""},{"$f":"IF(Table1[[#This Row],[Pupil Name]]=\"\",\"\",Table1[[#This Row],[Pupil Name]])","v":""},{"$f":"IF(Table1[[#This Row],[Gender (M/F)]]=\"\",\"\",Table1[[#This Row],[Gender (M/F)]])","v":""},{"$f":"IF(Table1[[#This Row],[DisAdv (Y/N)]]=\"\",\"\",Table1[[#This Row],[DisAdv (Y/N)]])","v":""},{"$f":"IF(Table1[[#This Row],[SEND (E,K,N)]]=\"\",\"\",Table1[[#This Row],[SEND (E,K,N)]])","v":""},"",{"$f":"IF(LEN(Table4[[#This Row],[Pupil Name]])>0,1,0)","v":0}]
[{"$f":"IF(Table1[[#This Row],[School/Group Name]]=\"\",\"\",Table1[[#This Row],[School/Group Name]])","v":""},{"$f":"IF(Table1[[#This Row],[Pupil Name]]=\"\",\"\",Table1[[#This Row],[Pupil Name]])","v":""},{"$f":"IF(Table1[[#This Row],[Gender (M/F)]]=\"\",\"\",Table1[[#This Row],[Gender (M/F)]])","v":""},{"$f":"IF(Table1[[#This Row],[DisAdv (Y/N)]]=\"\",\"\",Table1[[#This Row],[DisAdv (Y/N)]])","v":""},{"$f":"IF(Table1[[#This Row],[SEND (E,K,N)]]=\"\",\"\",Table1[[#This Row],[SEND (E,K,N)]])","v":""},"",{"$f":"IF(LEN(Table4[[#This Row],[Pupil Name]])>0,1,0)","v":0}]
[{"$f":"IF(Table1[[#This Row],[School/Group Name]]=\"\",\"\",Table1[[#This Row],[School/Group Name]])","v":""},{"$f":"IF(Table1[[#This Row],[Pupil Name]]=\"\",\"\",Table1[[#This Row],[Pupil Name]])","v":""},{"$f":"IF(Table1[[#This Row],[Gender (M/F)]]=\"\",\"\",Table1[[#This Row],[Gender (M/F)]])","v":""},{"$f":"IF(Table1[[#This Row],[DisAdv (Y/N)]]=\"\",\"\",Table1[[#This Row],[DisAdv (Y/N)]])","v":""},{"$f":"IF(Table1[[#This Row],[SEND (E,K,N)]]=\"\",\"\",Table1[[#This Row],[SEND (E,K,N)]])","v":""},"",{"$f":"IF(LEN(Table4[[#This Row],[Pupil Name]])>0,1,0)","v":0}]
[{"$f":"IF(Table1[[#This Row],[School/Group Name]]=\"\",\"\",Table1[[#This Row],[School/Group Name]])","v":""},{"$f":"IF(Table1[[#This Row],[Pupil Name]]=\"\",\"\",Table1[[#This Row],[Pupil Name]])","v":""},{"$f":"IF(Table1[[#This Row],[Gender (M/F)]]=\"\",\"\",Table1[[#This Row],[Gender (M/F)]])","v":""},{"$f":"IF(Table1[[#This Row],[DisAdv (Y/N)]]=\"\",\"\",Table1[[#This Row],[DisAdv (Y/N)]])","v":""},{"$f":"IF(Table1[[#This Row],[SEND (E,K,N)]]=\"\",\"\",Table1[[#This Row],[SEND (E,K,N)]])","v":""},"",{"$f":"IF(LEN(Table4[[#This Row],[Pupil Name]])>0,1,0)","v":0}]
[{"$f":"IF(Table1[[#This Row],[School/Group Name]]=\"\",\"\",Table1[[#This Row],[School/Group Name]])","v":""},{"$f":"IF(Table1[[#This Row],[Pupil Name]]=\"\",\"\",Table1[[#This Row],[Pupil Name]])","v":""},{"$f":"IF(Table1[[#This Row],[Gender (M/F)]]=\"\",\"\",Table1[[#This Row],[Gender (M/F)]])","v":""},{"$f":"IF(Table1[[#This Row],[DisAdv (Y/N)]]=\"\",\"\",Table1[[#This Row],[DisAdv (Y/N)]])","v":""},{"$f":"IF(Table1[[#This Row],[SEND (E,K,N)]]=\"\",\"\",Table1[[#This Row],[SEND (E,K,N)]])","v":""},"",{"$f":"IF(LEN(Table4[[#This Row],[Pupil Name]])>0,1,0)","v":0}]
[{"$f":"IF(Table1[[#This Row],[School/Group Name]]=\"\",\"\",Table1[[#This Row],[School/Group Name]])","v":""},{"$f":"IF(Table1[[#This Row],[Pupil Name]]=\"\",\"\",Table1[[#This Row],[Pupil Name]])","v":""},{"$f":"IF(Table1[[#This Row],[Gender (M/F)]]=\"\",\"\",Table1[[#This Row],[Gender (M/F)]])","v":""},{"$f":"IF(Table1[[#This Row],[DisAdv (Y/N)]]=\"\",\"\",Table1[[#This Row],[DisAdv (Y/N)]])","v":""},{"$f":"IF(Table1[[#This Row],[SEND (E,K,N)]]=\"\",\"\",Table1[[#This Row],[SEND (E,K,N)]])","v":""},"",{"$f":"IF(LEN(Table4[[#This Row],[Pupil Name]])>0,1,0)","v":0}]
[{"$f":"IF(Table1[[#This Row],[School/Group Name]]=\"\",\"\",Table1[[#This Row],[School/Group Name]])","v":""},{"$f":"IF(Table1[[#This Row],[Pupil Name]]=\"\",\"\",Table1[[#This Row],[Pupil Name]])","v":""},{"$f":"IF(Table1[[#This Row],[Gender (M/F)]]=\"\",\"\",Table1[[#This Row],[Gender (M/F)]])","v":""},{"$f":"IF(Table1[[#This Row],[DisAdv (Y/N)]]=\"\",\"\",Table1[[#This Row],[DisAdv (Y/N)]])","v":""},{"$f":"IF(Table1[[#This Row],[SEND (E,K,N)]]=\"\",\"\",Table1[[#This Row],[SEND (E,K,N)]])","v":""},"",{"$f":"IF(LEN(Table4[[#This Row],[Pupil Name]])>0,1,0)","v":0}]
[{"$f":"IF(Table1[[#This Row],[School/Group Name]]=\"\",\"\",Table1[[#This Row],[School/Group Name]])","v":""},{"$f":"IF(Table1[[#This Row],[Pupil Name]]=\"\",\"\",Table1[[#This Row],[Pupil Name]])","v":""},{"$f":"IF(Table1[[#This Row],[Gender (M/F)]]=\"\",\"\",Table1[[#This Row],[Gender (M/F)]])","v":""},{"$f":"IF(Table1[[#This Row],[DisAdv (Y/N)]]=\"\",\"\",Table1[[#This Row],[DisAdv (Y/N)]])","v":""},{"$f":"IF(Table1[[#This Row],[SEND (E,K,N)]]=\"\",\"\",Table1[[#This Row],[SEND (E,K,N)]])","v":""},"",{"$f":"IF(LEN(Table4[[#This Row],[Pupil Name]])>0,1,0)","v":0}]
[{"$f":"IF(Table1[[#This Row],[School/Group Name]]=\"\",\"\",Table1[[#This Row],[School/Group Name]])","v":""},{"$f":"IF(Table1[[#This Row],[Pupil Name]]=\"\",\"\",Table1[[#This Row],[Pupil Name]])","v":""},{"$f":"IF(Table1[[#This Row],[Gender (M/F)]]=\"\",\"\",Table1[[#This Row],[Gender (M/F)]])","v":""},{"$f":"IF(Table1[[#This Row],[DisAdv (Y/N)]]=\"\",\"\",Table1[[#This Row],[DisAdv (Y/N)]])","v":""},{"$f":"IF(Table1[[#This Row],[SEND (E,K,N)]]=\"\",\"\",Table1[[#This Row],[SEND (E,K,N)]])","v":""},"",{"$f":"IF(LEN(Table4[[#This Row],[Pupil Name]])>0,1,0)","v":0}]
[{"$f":"IF(Table1[[#This Row],[School/Group Name]]=\"\",\"\",Table1[[#This Row],[School/Group Name]])","v":""},{"$f":"IF(Table1[[#This Row],[Pupil Name]]=\"\",\"\",Table1[[#This Row],[Pupil Name]])","v":""},{"$f":"IF(Table1[[#This Row],[Gender (M/F)]]=\"\",\"\",Table1[[#This Row],[Gender (M/F)]])","v":""},{"$f":"IF(Table1[[#This Row],[DisAdv (Y/N)]]=\"\",\"\",Table1[[#This Row],[DisAdv (Y/N)]])","v":""},{"$f":"IF(Table1[[#This Row],[SEND (E,K,N)]]=\"\",\"\",Table1[[#This Row],[SEND (E,K,N)]])","v":""},"",{"$f":"IF(LEN(Table4[[#This Row],[Pupil Name]])>0,1,0)","v":0}]
[{"$f":"IF(Table1[[#This Row],[School/Group Name]]=\"\",\"\",Table1[[#This Row],[School/Group Name]])","v":""},{"$f":"IF(Table1[[#This Row],[Pupil Name]]=\"\",\"\",Table1[[#This Row],[Pupil Name]])","v":""},{"$f":"IF(Table1[[#This Row],[Gender (M/F)]]=\"\",\"\",Table1[[#This Row],[Gender (M/F)]])","v":""},{"$f":"IF(Table1[[#This Row],[DisAdv (Y/N)]]=\"\",\"\",Table1[[#This Row],[DisAdv (Y/N)]])","v":""},{"$f":"IF(Table1[[#This Row],[SEND (E,K,N)]]=\"\",\"\",Table1[[#This Row],[SEND (E,K,N)]])","v":""},"",{"$f":"IF(LEN(Table4[[#This Row],[Pupil Name]])>0,1,0)","v":0}]
[{"$f":"IF(Table1[[#This Row],[School/Group Name]]=\"\",\"\",Table1[[#This Row],[School/Group Name]])","v":""},{"$f":"IF(Table1[[#This Row],[Pupil Name]]=\"\",\"\",Table1[[#This Row],[Pupil Name]])","v":""},{"$f":"IF(Table1[[#This Row],[Gender (M/F)]]=\"\",\"\",Table1[[#This Row],[Gender (M/F)]])","v":""},{"$f":"IF(Table1[[#This Row],[DisAdv (Y/N)]]=\"\",\"\",Table1[[#This Row],[DisAdv (Y/N)]])","v":""},{"$f":"IF(Table1[[#This Row],[SEND (E,K,N)]]=\"\",\"\",Table1[[#This Row],[SEND (E,K,N)]])","v":""},"",{"$f":"IF(LEN(Table4[[#This Row],[Pupil Name]])>0,1,0)","v":0}]
[{"$f":"IF(Table1[[#This Row],[School/Group Name]]=\"\",\"\",Table1[[#This Row],[School/Group Name]])","v":""},{"$f":"IF(Table1[[#This Row],[Pupil Name]]=\"\",\"\",Table1[[#This Row],[Pupil Name]])","v":""},{"$f":"IF(Table1[[#This Row],[Gender (M/F)]]=\"\",\"\",Table1[[#This Row],[Gender (M/F)]])","v":""},{"$f":"IF(Table1[[#This Row],[DisAdv (Y/N)]]=\"\",\"\",Table1[[#This Row],[DisAdv (Y/N)]])","v":""},{"$f":"IF(Table1[[#This Row],[SEND (E,K,N)]]=\"\",\"\",Table1[[#This Row],[SEND (E,K,N)]])","v":""},"",{"$f":"IF(LEN(Table4[[#This Row],[Pupil Name]])>0,1,0)","v":0}]
[{"$f":"IF(Table1[[#This Row],[School/Group Name]]=\"\",\"\",Table1[[#This Row],[School/Group Name]])","v":""},{"$f":"IF(Table1[[#This Row],[Pupil Name]]=\"\",\"\",Table1[[#This Row],[Pupil Name]])","v":""},{"$f":"IF(Table1[[#This Row],[Gender (M/F)]]=\"\",\"\",Table1[[#This Row],[Gender (M/F)]])","v":""},{"$f":"IF(Table1[[#This Row],[DisAdv (Y/N)]]=\"\",\"\",Table1[[#This Row],[DisAdv (Y/N)]])","v":""},{"$f":"IF(Table1[[#This Row],[SEND (E,K,N)]]=\"\",\"\",Table1[[#This Row],[SEND (E,K,N)]])","v":""},"",{"$f":"IF(LEN(Table4[[#This Row],[Pupil Name]])>0,1,0)","v":0}]
[{"$f":"IF(Table1[[#This Row],[School/Group Name]]=\"\",\"\",Table1[[#This Row],[School/Group Name]])","v":""},{"$f":"IF(Table1[[#This Row],[Pupil Name]]=\"\",\"\",Table1[[#This Row],[Pupil Name]])","v":""},{"$f":"IF(Table1[[#This Row],[Gender (M/F)]]=\"\",\"\",Table1[[#This Row],[Gender (M/F)]])","v":""},{"$f":"IF(Table1[[#This Row],[DisAdv (Y/N)]]=\"\",\"\",Table1[[#This Row],[DisAdv (Y/N)]])","v":""},{"$f":"IF(Table1[[#This Row],[SEND (E,K,N)]]=\"\",\"\",Table1[[#This Row],[SEND (E,K,N)]])","v":""},"",{"$f":"IF(LEN(Table4[[#This Row],[Pupil Name]])>0,1,0)","v":0}]
[{"$f":"IF(Table1[[#This Row],[School/Group Name]]=\"\",\"\",Table1[[#This Row],[School/Group Name]])","v":""},{"$f":"IF(Table1[[#This Row],[Pupil Name]]=\"\",\"\",Table1[[#This Row],[Pupil Name]])","v":""},{"$f":"IF(Table1[[#This Row],[Gender (M/F)]]=\"\",\"\",Table1[[#This Row],[Gender (M/F)]])","v":""},{"$f":"IF(Table1[[#This Row],[DisAdv (Y/N)]]=\"\",\"\",Table1[[#This Row],[DisAdv (Y/N)]])","v":""},{"$f":"IF(Table1[[#This Row],[SEND (E,K,N)]]=\"\",\"\",Table1[[#This Row],[SEND (E,K,N)]])","v":""},"",{"$f":"IF(LEN(Table4[[#This Row],[Pupil Name]])>0,1,0)","v":0}]
[{"$f":"IF(Table1[[#This Row],[School/Group Name]]=\"\",\"\",Table1[[#This Row],[School/Group Name]])","v":""},{"$f":"IF(Table1[[#This Row],[Pupil Name]]=\"\",\"\",Table1[[#This Row],[Pupil Name]])","v":""},{"$f":"IF(Table1[[#This Row],[Gender (M/F)]]=\"\",\"\",Table1[[#This Row],[Gender (M/F)]])","v":""},{"$f":"IF(Table1[[#This Row],[DisAdv (Y/N)]]=\"\",\"\",Table1[[#This Row],[DisAdv (Y/N)]])","v":""},{"$f":"IF(Table1[[#This Row],[SEND (E,K,N)]]=\"\",\"\",Table1[[#This Row],[SEND (E,K,N)]])","v":""},"",{"$f":"IF(LEN(Table4[[#This Row],[Pupil Name]])>0,1,0)","v":0}]
[{"$f":"IF(Table1[[#This Row],[School/Group Name]]=\"\",\"\",Table1[[#This Row],[School/Group Name]])","v":""},{"$f":"IF(Table1[[#This Row],[Pupil Name]]=\"\",\"\",Table1[[#This Row],[Pupil Name]])","v":""},{"$f":"IF(Table1[[#This Row],[Gender (M/F)]]=\"\",\"\",Table1[[#This Row],[Gender (M/F)]])","v":""},{"$f":"IF(Table1[[#This Row],[DisAdv (Y/N)]]=\"\",\"\",Table1[[#This Row],[DisAdv (Y/N)]])","v":""},{"$f":"IF(Table1[[#This Row],[SEND (E,K,N)]]=\"\",\"\",Table1[[#This Row],[SEND (E,K,N)]])","v":""},"",{"$f":"IF(LEN(Table4[[#This Row],[Pupil Name]])>0,1,0)","v":0}]
[{"$f":"IF(Table1[[#This Row],[School/Group Name]]=\"\",\"\",Table1[[#This Row],[School/Group Name]])","v":""},{"$f":"IF(Table1[[#This Row],[Pupil Name]]=\"\",\"\",Table1[[#This Row],[Pupil Name]])","v":""},{"$f":"IF(Table1[[#This Row],[Gender (M/F)]]=\"\",\"\",Table1[[#This Row],[Gender (M/F)]])","v":""},{"$f":"IF(Table1[[#This Row],[DisAdv (Y/N)]]=\"\",\"\",Table1[[#This Row],[DisAdv (Y/N)]])","v":""},{"$f":"IF(Table1[[#This Row],[SEND (E,K,N)]]=\"\",\"\",Table1[[#This Row],[SEND (E,K,N)]])","v":""},"",{"$f":"IF(LEN(Table4[[#This Row],[Pupil Name]])>0,1,0)","v":0}]
[{"$f":"IF(Table1[[#This Row],[School/Group Name]]=\"\",\"\",Table1[[#This Row],[School/Group Name]])","v":""},{"$f":"IF(Table1[[#This Row],[Pupil Name]]=\"\",\"\",Table1[[#This Row],[Pupil Name]])","v":""},{"$f":"IF(Table1[[#This Row],[Gender (M/F)]]=\"\",\"\",Table1[[#This Row],[Gender (M/F)]])","v":""},{"$f":"IF(Table1[[#This Row],[DisAdv (Y/N)]]=\"\",\"\",Table1[[#This Row],[DisAdv (Y/N)]])","v":""},{"$f":"IF(Table1[[#This Row],[SEND (E,K,N)]]=\"\",\"\",Table1[[#This Row],[SEND (E,K,N)]])","v":""},"",{"$f":"IF(LEN(Table4[[#This Row],[Pupil Name]])>0,1,0)","v":0}]
[{"$f":"IF(Table1[[#This Row],[School/Group Name]]=\"\",\"\",Table1[[#This Row],[School/Group Name]])","v":""},{"$f":"IF(Table1[[#This Row],[Pupil Name]]=\"\",\"\",Table1[[#This Row],[Pupil Name]])","v":""},{"$f":"IF(Table1[[#This Row],[Gender (M/F)]]=\"\",\"\",Table1[[#This Row],[Gender (M/F)]])","v":""},{"$f":"IF(Table1[[#This Row],[DisAdv (Y/N)]]=\"\",\"\",Table1[[#This Row],[DisAdv (Y/N)]])","v":""},{"$f":"IF(Table1[[#This Row],[SEND (E,K,N)]]=\"\",\"\",Table1[[#This Row],[SEND (E,K,N)]])","v":""},"",{"$f":"IF(LEN(Table4[[#This Row],[Pupil Name]])>0,1,0)","v":0}]
[{"$f":"IF(Table1[[#This Row],[School/Group Name]]=\"\",\"\",Table1[[#This Row],[School/Group Name]])","v":""},{"$f":"IF(Table1[[#This Row],[Pupil Name]]=\"\",\"\",Table1[[#This Row],[Pupil Name]])","v":""},{"$f":"IF(Table1[[#This Row],[Gender (M/F)]]=\"\",\"\",Table1[[#This Row],[Gender (M/F)]])","v":""},{"$f":"IF(Table1[[#This Row],[DisAdv (Y/N)]]=\"\",\"\",Table1[[#This Row],[DisAdv (Y/N)]])","v":""},{"$f":"IF(Table1[[#This Row],[SEND (E,K,N)]]=\"\",\"\",Table1[[#This Row],[SEND (E,K,N)]])","v":""},"",{"$f":"IF(LEN(Table4[[#This Row],[Pupil Name]])>0,1,0)","v":0}]
[{"$f":"IF(Table1[[#This Row],[School/Group Name]]=\"\",\"\",Table1[[#This Row],[School/Group Name]])","v":""},{"$f":"IF(Table1[[#This Row],[Pupil Name]]=\"\",\"\",Table1[[#This Row],[Pupil Name]])","v":""},{"$f":"IF(Table1[[#This Row],[Gender (M/F)]]=\"\",\"\",Table1[[#This Row],[Gender (M/F)]])","v":""},{"$f":"IF(Table1[[#This Row],[DisAdv (Y/N)]]=\"\",\"\",Table1[[#This Row],[DisAdv (Y/N)]])","v":""},{"$f":"IF(Table1[[#This Row],[SEND (E,K,N)]]=\"\",\"\",Table1[[#This Row],[SEND (E,K,N)]])","v":""},"",{"$f":"IF(LEN(Table4[[#This Row],[Pupil Name]])>0,1,0)","v":0}]
[{"$f":"IF(Table1[[#This Row],[School/Group Name]]=\"\",\"\",Table1[[#This Row],[School/Group Name]])","v":""},{"$f":"IF(Table1[[#This Row],[Pupil Name]]=\"\",\"\",Table1[[#This Row],[Pupil Name]])","v":""},{"$f":"IF(Table1[[#This Row],[Gender (M/F)]]=\"\",\"\",Table1[[#This Row],[Gender (M/F)]])","v":""},{"$f":"IF(Table1[[#This Row],[DisAdv (Y/N)]]=\"\",\"\",Table1[[#This Row],[DisAdv (Y/N)]])","v":""},{"$f":"IF(Table1[[#This Row],[SEND (E,K,N)]]=\"\",\"\",Table1[[#This Row],[SEND (E,K,N)]])","v":""},"",{"$f":"IF(LEN(Table4[[#This Row],[Pupil Name]])>0,1,0)","v":0}]
[{"$f":"IF(Table1[[#This Row],[School/Group Name]]=\"\",\"\",Table1[[#This Row],[School/Group Name]])","v":""},{"$f":"IF(Table1[[#This Row],[Pupil Name]]=\"\",\"\",Table1[[#This Row],[Pupil Name]])","v":""},{"$f":"IF(Table1[[#This Row],[Gender (M/F)]]=\"\",\"\",Table1[[#This Row],[Gender (M/F)]])","v":""},{"$f":"IF(Table1[[#This Row],[DisAdv (Y/N)]]=\"\",\"\",Table1[[#This Row],[DisAdv (Y/N)]])","v":""},{"$f":"IF(Table1[[#This Row],[SEND (E,K,N)]]=\"\",\"\",Table1[[#This Row],[SEND (E,K,N)]])","v":""},"",{"$f":"IF(LEN(Table4[[#This Row],[Pupil Name]])>0,1,0)","v":0}]
[{"$f":"IF(Table1[[#This Row],[School/Group Name]]=\"\",\"\",Table1[[#This Row],[School/Group Name]])","v":""},{"$f":"IF(Table1[[#This Row],[Pupil Name]]=\"\",\"\",Table1[[#This Row],[Pupil Name]])","v":""},{"$f":"IF(Table1[[#This Row],[Gender (M/F)]]=\"\",\"\",Table1[[#This Row],[Gender (M/F)]])","v":""},{"$f":"IF(Table1[[#This Row],[DisAdv (Y/N)]]=\"\",\"\",Table1[[#This Row],[DisAdv (Y/N)]])","v":""},{"$f":"IF(Table1[[#This Row],[SEND (E,K,N)]]=\"\",\"\",Table1[[#This Row],[SEND (E,K,N)]])","v":""},"",{"$f":"IF(LEN(Table4[[#This Row],[Pupil Name]])>0,1,0)","v":0}]
[{"$f":"IF(Table1[[#This Row],[School/Group Name]]=\"\",\"\",Table1[[#This Row],[School/Group Name]])","v":""},{"$f":"IF(Table1[[#This Row],[Pupil Name]]=\"\",\"\",Table1[[#This Row],[Pupil Name]])","v":""},{"$f":"IF(Table1[[#This Row],[Gender (M/F)]]=\"\",\"\",Table1[[#This Row],[Gender (M/F)]])","v":""},{"$f":"IF(Table1[[#This Row],[DisAdv (Y/N)]]=\"\",\"\",Table1[[#This Row],[DisAdv (Y/N)]])","v":""},{"$f":"IF(Table1[[#This Row],[SEND (E,K,N)]]=\"\",\"\",Table1[[#This Row],[SEND (E,K,N)]])","v":""},"",{"$f":"IF(LEN(Table4[[#This Row],[Pupil Name]])>0,1,0)","v":0}]
[{"$f":"IF(Table1[[#This Row],[School/Group Name]]=\"\",\"\",Table1[[#This Row],[School/Group Name]])","v":""},{"$f":"IF(Table1[[#This Row],[Pupil Name]]=\"\",\"\",Table1[[#This Row],[Pupil Name]])","v":""},{"$f":"IF(Table1[[#This Row],[Gender (M/F)]]=\"\",\"\",Table1[[#This Row],[Gender (M/F)]])","v":""},{"$f":"IF(Table1[[#This Row],[DisAdv (Y/N)]]=\"\",\"\",Table1[[#This Row],[DisAdv (Y/N)]])","v":""},{"$f":"IF(Table1[[#This Row],[SEND (E,K,N)]]=\"\",\"\",Table1[[#This Row],[SEND (E,K,N)]])","v":""},"",{"$f":"IF(LEN(Table4[[#This Row],[Pupil Name]])>0,1,0)","v":0}]
[{"$f":"IF(Table1[[#This Row],[School/Group Name]]=\"\",\"\",Table1[[#This Row],[School/Group Name]])","v":""},{"$f":"IF(Table1[[#This Row],[Pupil Name]]=\"\",\"\",Table1[[#This Row],[Pupil Name]])","v":""},{"$f":"IF(Table1[[#This Row],[Gender (M/F)]]=\"\",\"\",Table1[[#This Row],[Gender (M/F)]])","v":""},{"$f":"IF(Table1[[#This Row],[DisAdv (Y/N)]]=\"\",\"\",Table1[[#This Row],[DisAdv (Y/N)]])","v":""},{"$f":"IF(Table1[[#This Row],[SEND (E,K,N)]]=\"\",\"\",Table1[[#This Row],[SEND (E,K,N)]])","v":""},"",{"$f":"IF(LEN(Table4[[#This Row],[Pupil Name]])>0,1,0)","v":0}]
[{"$f":"IF(Table1[[#This Row],[School/Group Name]]=\"\",\"\",Table1[[#This Row],[School/Group Name]])","v":""},{"$f":"IF(Table1[[#This Row],[Pupil Name]]=\"\",\"\",Table1[[#This Row],[Pupil Name]])","v":""},{"$f":"IF(Table1[[#This Row],[Gender (M/F)]]=\"\",\"\",Table1[[#This Row],[Gender (M/F)]])","v":""},{"$f":"IF(Table1[[#This Row],[DisAdv (Y/N)]]=\"\",\"\",Table1[[#This Row],[DisAdv (Y/N)]])","v":""},{"$f":"IF(Table1[[#This Row],[SEND (E,K,N)]]=\"\",\"\",Table1[[#This Row],[SEND (E,K,N)]])","v":""},"",{"$f":"IF(LEN(Table4[[#This Row],[Pupil Name]])>0,1,0)","v":0}]
[{"$f":"IF(Table1[[#This Row],[School/Group Name]]=\"\",\"\",Table1[[#This Row],[School/Group Name]])","v":""},{"$f":"IF(Table1[[#This Row],[Pupil Name]]=\"\",\"\",Table1[[#This Row],[Pupil Name]])","v":""},{"$f":"IF(Table1[[#This Row],[Gender (M/F)]]=\"\",\"\",Table1[[#This Row],[Gender (M/F)]])","v":""},{"$f":"IF(Table1[[#This Row],[DisAdv (Y/N)]]=\"\",\"\",Table1[[#This Row],[DisAdv (Y/N)]])","v":""},{"$f":"IF(Table1[[#This Row],[SEND (E,K,N)]]=\"\",\"\",Table1[[#This Row],[SEND (E,K,N)]])","v":""},"",{"$f":"IF(LEN(Table4[[#This Row],[Pupil Name]])>0,1,0)","v":0}]
[{"$f":"IF(Table1[[#This Row],[School/Group Name]]=\"\",\"\",Table1[[#This Row],[School/Group Name]])","v":""},{"$f":"IF(Table1[[#This Row],[Pupil Name]]=\"\",\"\",Table1[[#This Row],[Pupil Name]])","v":""},{"$f":"IF(Table1[[#This Row],[Gender (M/F)]]=\"\",\"\",Table1[[#This Row],[Gender (M/F)]])","v":""},{"$f":"IF(Table1[[#This Row],[DisAdv (Y/N)]]=\"\",\"\",Table1[[#This Row],[DisAdv (Y/N)]])","v":""},{"$f":"IF(Table1[[#This Row],[SEND (E,K,N)]]=\"\",\"\",Table1[[#This Row],[SEND (E,K,N)]])","v":""},{"$f":"IF(H134=\"\",\"\",(SUM(H134:AU134)))","v":""},{"$f":"IF(LEN(Table4[[#This Row],[Pupil Name]])>0,1,0)","v":0}]
[{"$f":"IF(Table1[[#This Row],[School/Group Name]]=\"\",\"\",Table1[[#This Row],[School/Group Name]])","v":""},{"$f":"IF(Table1[[#This Row],[Pupil Name]]=\"\",\"\",Table1[[#This Row],[Pupil Name]])","v":""},{"$f":"IF(Table1[[#This Row],[Gender (M/F)]]=\"\",\"\",Table1[[#This Row],[Gender (M/F)]])","v":""},{"$f":"IF(Table1[[#This Row],[DisAdv (Y/N)]]=\"\",\"\",Table1[[#This Row],[DisAdv (Y/N)]])","v":""},{"$f":"IF(Table1[[#This Row],[SEND (E,K,N)]]=\"\",\"\",Table1[[#This Row],[SEND (E,K,N)]])","v":""},"",{"$f":"IF(LEN(Table4[[#This Row],[Pupil Name]])>0,1,0)","v":0}]
[{"$f":"IF(Table1[[#This Row],[School/Group Name]]=\"\",\"\",Table1[[#This Row],[School/Group Name]])","v":""},{"$f":"IF(Table1[[#This Row],[Pupil Name]]=\"\",\"\",Table1[[#This Row],[Pupil Name]])","v":""},{"$f":"IF(Table1[[#This Row],[Gender (M/F)]]=\"\",\"\",Table1[[#This Row],[Gender (M/F)]])","v":""},{"$f":"IF(Table1[[#This Row],[DisAdv (Y/N)]]=\"\",\"\",Table1[[#This Row],[DisAdv (Y/N)]])","v":""},{"$f":"IF(Table1[[#This Row],[SEND (E,K,N)]]=\"\",\"\",Table1[[#This Row],[SEND (E,K,N)]])","v":""},"",{"$f":"IF(LEN(Table4[[#This Row],[Pupil Name]])>0,1,0)","v":0}]
[{"$f":"IF(Table1[[#This Row],[School/Group Name]]=\"\",\"\",Table1[[#This Row],[School/Group Name]])","v":""},{"$f":"IF(Table1[[#This Row],[Pupil Name]]=\"\",\"\",Table1[[#This Row],[Pupil Name]])","v":""},{"$f":"IF(Table1[[#This Row],[Gender (M/F)]]=\"\",\"\",Table1[[#This Row],[Gender (M/F)]])","v":""},{"$f":"IF(Table1[[#This Row],[DisAdv (Y/N)]]=\"\",\"\",Table1[[#This Row],[DisAdv (Y/N)]])","v":""},{"$f":"IF(Table1[[#This Row],[SEND (E,K,N)]]=\"\",\"\",Table1[[#This Row],[SEND (E,K,N)]])","v":""},"",{"$f":"IF(LEN(Table4[[#This Row],[Pupil Name]])>0,1,0)","v":0}]
[{"$f":"IF(Table1[[#This Row],[School/Group Name]]=\"\",\"\",Table1[[#This Row],[School/Group Name]])","v":""},{"$f":"IF(Table1[[#This Row],[Pupil Name]]=\"\",\"\",Table1[[#This Row],[Pupil Name]])","v":""},{"$f":"IF(Table1[[#This Row],[Gender (M/F)]]=\"\",\"\",Table1[[#This Row],[Gender (M/F)]])","v":""},{"$f":"IF(Table1[[#This Row],[DisAdv (Y/N)]]=\"\",\"\",Table1[[#This Row],[DisAdv (Y/N)]])","v":""},{"$f":"IF(Table1[[#This Row],[SEND (E,K,N)]]=\"\",\"\",Table1[[#This Row],[SEND (E,K,N)]])","v":""},"",{"$f":"IF(LEN(Table4[[#This Row],[Pupil Name]])>0,1,0)","v":0}]
[{"$f":"IF(Table1[[#This Row],[School/Group Name]]=\"\",\"\",Table1[[#This Row],[School/Group Name]])","v":""},{"$f":"IF(Table1[[#This Row],[Pupil Name]]=\"\",\"\",Table1[[#This Row],[Pupil Name]])","v":""},{"$f":"IF(Table1[[#This Row],[Gender (M/F)]]=\"\",\"\",Table1[[#This Row],[Gender (M/F)]])","v":""},{"$f":"IF(Table1[[#This Row],[DisAdv (Y/N)]]=\"\",\"\",Table1[[#This Row],[DisAdv (Y/N)]])","v":""},{"$f":"IF(Table1[[#This Row],[SEND (E,K,N)]]=\"\",\"\",Table1[[#This Row],[SEND (E,K,N)]])","v":""},"",{"$f":"IF(LEN(Table4[[#This Row],[Pupil Name]])>0,1,0)","v":0}]
[{"$f":"IF(Table1[[#This Row],[School/Group Name]]=\"\",\"\",Table1[[#This Row],[School/Group Name]])","v":""},{"$f":"IF(Table1[[#This Row],[Pupil Name]]=\"\",\"\",Table1[[#This Row],[Pupil Name]])","v":""},{"$f":"IF(Table1[[#This Row],[Gender (M/F)]]=\"\",\"\",Table1[[#This Row],[Gender (M/F)]])","v":""},{"$f":"IF(Table1[[#This Row],[DisAdv (Y/N)]]=\"\",\"\",Table1[[#This Row],[DisAdv (Y/N)]])","v":""},{"$f":"IF(Table1[[#This Row],[SEND (E,K,N)]]=\"\",\"\",Table1[[#This Row],[SEND (E,K,N)]])","v":""},"",{"$f":"IF(LEN(Table4[[#This Row],[Pupil Name]])>0,1,0)","v":0}]
[{"$f":"IF(Table1[[#This Row],[School/Group Name]]=\"\",\"\",Table1[[#This Row],[School/Group Name]])","v":""},{"$f":"IF(Table1[[#This Row],[Pupil Name]]=\"\",\"\",Table1[[#This Row],[Pupil Name]])","v":""},{"$f":"IF(Table1[[#This Row],[Gender (M/F)]]=\"\",\"\",Table1[[#This Row],[Gender (M/F)]])","v":""},{"$f":"IF(Table1[[#This Row],[DisAdv (Y/N)]]=\"\",\"\",Table1[[#This Row],[DisAdv (Y/N)]])","v":""},{"$f":"IF(Table1[[#This Row],[SEND (E,K,N)]]=\"\",\"\",Table1[[#This Row],[SEND (E,K,N)]])","v":""},"",{"$f":"IF(LEN(Table4[[#This Row],[Pupil Name]])>0,1,0)","v":0}]
[{"$f":"IF(Table1[[#This Row],[School/Group Name]]=\"\",\"\",Table1[[#This Row],[School/Group Name]])","v":""},{"$f":"IF(Table1[[#This Row],[Pupil Name]]=\"\",\"\",Table1[[#This Row],[Pupil Name]])","v":""},{"$f":"IF(Table1[[#This Row],[Gender (M/F)]]=\"\",\"\",Table1[[#This Row],[Gender (M/F)]])","v":""},{"$f":"IF(Table1[[#This Row],[DisAdv (Y/N)]]=\"\",\"\",Table1[[#This Row],[DisAdv (Y/N)]])","v":""},{"$f":"IF(Table1[[#This Row],[SEND (E,K,N)]]=\"\",\"\",Table1[[#This Row],[SEND (E,K,N)]])","v":""},"",{"$f":"IF(LEN(Table4[[#This Row],[Pupil Name]])>0,1,0)","v":0}]
[{"$f":"IF(Table1[[#This Row],[School/Group Name]]=\"\",\"\",Table1[[#This Row],[School/Group Name]])","v":""},{"$f":"IF(Table1[[#This Row],[Pupil Name]]=\"\",\"\",Table1[[#This Row],[Pupil Name]])","v":""},{"$f":"IF(Table1[[#This Row],[Gender (M/F)]]=\"\",\"\",Table1[[#This Row],[Gender (M/F)]])","v":""},{"$f":"IF(Table1[[#This Row],[DisAdv (Y/N)]]=\"\",\"\",Table1[[#This Row],[DisAdv (Y/N)]])","v":""},{"$f":"IF(Table1[[#This Row],[SEND (E,K,N)]]=\"\",\"\",Table1[[#This Row],[SEND (E,K,N)]])","v":""},"",{"$f":"IF(LEN(Table4[[#This Row],[Pupil Name]])>0,1,0)","v":0}]
[{"$f":"IF(Table1[[#This Row],[School/Group Name]]=\"\",\"\",Table1[[#This Row],[School/Group Name]])","v":""},{"$f":"IF(Table1[[#This Row],[Pupil Name]]=\"\",\"\",Table1[[#This Row],[Pupil Name]])","v":""},{"$f":"IF(Table1[[#This Row],[Gender (M/F)]]=\"\",\"\",Table1[[#This Row],[Gender (M/F)]])","v":""},{"$f":"IF(Table1[[#This Row],[DisAdv (Y/N)]]=\"\",\"\",Table1[[#This Row],[DisAdv (Y/N)]])","v":""},{"$f":"IF(Table1[[#This Row],[SEND (E,K,N)]]=\"\",\"\",Table1[[#This Row],[SEND (E,K,N)]])","v":""},"",{"$f":"IF(LEN(Table4[[#This Row],[Pupil Name]])>0,1,0)","v":0}]
[{"$f":"IF(Table1[[#This Row],[School/Group Name]]=\"\",\"\",Table1[[#This Row],[School/Group Name]])","v":""},{"$f":"IF(Table1[[#This Row],[Pupil Name]]=\"\",\"\",Table1[[#This Row],[Pupil Name]])","v":""},{"$f":"IF(Table1[[#This Row],[Gender (M/F)]]=\"\",\"\",Table1[[#This Row],[Gender (M/F)]])","v":""},{"$f":"IF(Table1[[#This Row],[DisAdv (Y/N)]]=\"\",\"\",Table1[[#This Row],[DisAdv (Y/N)]])","v":""},{"$f":"IF(Table1[[#This Row],[SEND (E,K,N)]]=\"\",\"\",Table1[[#This Row],[SEND (E,K,N)]])","v":""},"",{"$f":"IF(LEN(Table4[[#This Row],[Pupil Name]])>0,1,0)","v":0}]
[{"$f":"IF(Table1[[#This Row],[School/Group Name]]=\"\",\"\",Table1[[#This Row],[School/Group Name]])","v":""},{"$f":"IF(Table1[[#This Row],[Pupil Name]]=\"\",\"\",Table1[[#This Row],[Pupil Name]])","v":""},{"$f":"IF(Table1[[#This Row],[Gender (M/F)]]=\"\",\"\",Table1[[#This Row],[Gender (M/F)]])","v":""},{"$f":"IF(Table1[[#This Row],[DisAdv (Y/N)]]=\"\",\"\",Table1[[#This Row],[DisAdv (Y/N)]])","v":""},{"$f":"IF(Table1[[#This Row],[SEND (E,K,N)]]=\"\",\"\",Table1[[#This Row],[SEND (E,K,N)]])","v":""},"",{"$f":"IF(LEN(Table4[[#This Row],[Pupil Name]])>0,1,0)","v":0}]
[{"$f":"IF(Table1[[#This Row],[School/Group Name]]=\"\",\"\",Table1[[#This Row],[School/Group Name]])","v":""},{"$f":"IF(Table1[[#This Row],[Pupil Name]]=\"\",\"\",Table1[[#This Row],[Pupil Name]])","v":""},{"$f":"IF(Table1[[#This Row],[Gender (M/F)]]=\"\",\"\",Table1[[#This Row],[Gender (M/F)]])","v":""},{"$f":"IF(Table1[[#This Row],[DisAdv (Y/N)]]=\"\",\"\",Table1[[#This Row],[DisAdv (Y/N)]])","v":""},{"$f":"IF(Table1[[#This Row],[SEND (E,K,N)]]=\"\",\"\",Table1[[#This Row],[SEND (E,K,N)]])","v":""},"",{"$f":"IF(LEN(Table4[[#This Row],[Pupil Name]])>0,1,0)","v":0}]
[{"$f":"IF(Table1[[#This Row],[School/Group Name]]=\"\",\"\",Table1[[#This Row],[School/Group Name]])","v":""},{"$f":"IF(Table1[[#This Row],[Pupil Name]]=\"\",\"\",Table1[[#This Row],[Pupil Name]])","v":""},{"$f":"IF(Table1[[#This Row],[Gender (M/F)]]=\"\",\"\",Table1[[#This Row],[Gender (M/F)]])","v":""},{"$f":"IF(Table1[[#This Row],[DisAdv (Y/N)]]=\"\",\"\",Table1[[#This Row],[DisAdv (Y/N)]])","v":""},{"$f":"IF(Table1[[#This Row],[SEND (E,K,N)]]=\"\",\"\",Table1[[#This Row],[SEND (E,K,N)]])","v":""},"",{"$f":"IF(LEN(Table4[[#This Row],[Pupil Name]])>0,1,0)","v":0}]
[{"$f":"IF(Table1[[#This Row],[School/Group Name]]=\"\",\"\",Table1[[#This Row],[School/Group Name]])","v":""},{"$f":"IF(Table1[[#This Row],[Pupil Name]]=\"\",\"\",Table1[[#This Row],[Pupil Name]])","v":""},{"$f":"IF(Table1[[#This Row],[Gender (M/F)]]=\"\",\"\",Table1[[#This Row],[Gender (M/F)]])","v":""},{"$f":"IF(Table1[[#This Row],[DisAdv (Y/N)]]=\"\",\"\",Table1[[#This Row],[DisAdv (Y/N)]])","v":""},{"$f":"IF(Table1[[#This Row],[SEND (E,K,N)]]=\"\",\"\",Table1[[#This Row],[SEND (E,K,N)]])","v":""},"",{"$f":"IF(LEN(Table4[[#This Row],[Pupil Name]])>0,1,0)","v":0}]
[{"$f":"IF(Table1[[#This Row],[School/Group Name]]=\"\",\"\",Table1[[#This Row],[School/Group Name]])","v":""},{"$f":"IF(Table1[[#This Row],[Pupil Name]]=\"\",\"\",Table1[[#This Row],[Pupil Name]])","v":""},{"$f":"IF(Table1[[#This Row],[Gender (M/F)]]=\"\",\"\",Table1[[#This Row],[Gender (M/F)]])","v":""},{"$f":"IF(Table1[[#This Row],[DisAdv (Y/N)]]=\"\",\"\",Table1[[#This Row],[DisAdv (Y/N)]])","v":""},{"$f":"IF(Table1[[#This Row],[SEND (E,K,N)]]=\"\",\"\",Table1[[#This Row],[SEND (E,K,N)]])","v":""},"",{"$f":"IF(LEN(Table4[[#This Row],[Pupil Name]])>0,1,0)","v":0}]
[{"$f":"IF(Table1[[#This Row],[School/Group Name]]=\"\",\"\",Table1[[#This Row],[School/Group Name]])","v":""},{"$f":"IF(Table1[[#This Row],[Pupil Name]]=\"\",\"\",Table1[[#This Row],[Pupil Name]])","v":""},{"$f":"IF(Table1[[#This Row],[Gender (M/F)]]=\"\",\"\",Table1[[#This Row],[Gender (M/F)]])","v":""},{"$f":"IF(Table1[[#This Row],[DisAdv (Y/N)]]=\"\",\"\",Table1[[#This Row],[DisAdv (Y/N)]])","v":""},{"$f":"IF(Table1[[#This Row],[SEND (E,K,N)]]=\"\",\"\",Table1[[#This Row],[SEND (E,K,N)]])","v":""},"",{"$f":"IF(LEN(Table4[[#This Row],[Pupil Name]])>0,1,0)","v":0}]
[{"$f":"IF(Table1[[#This Row],[School/Group Name]]=\"\",\"\",Table1[[#This Row],[School/Group Name]])","v":""},{"$f":"IF(Table1[[#This Row],[Pupil Name]]=\"\",\"\",Table1[[#This Row],[Pupil Name]])","v":""},{"$f":"IF(Table1[[#This Row],[Gender (M/F)]]=\"\",\"\",Table1[[#This Row],[Gender (M/F)]])","v":""},{"$f":"IF(Table1[[#This Row],[DisAdv (Y/N)]]=\"\",\"\",Table1[[#This Row],[DisAdv (Y/N)]])","v":""},{"$f":"IF(Table1[[#This Row],[SEND (E,K,N)]]=\"\",\"\",Table1[[#This Row],[SEND (E,K,N)]])","v":""},"",{"$f":"IF(LEN(Table4[[#This Row],[Pupil Name]])>0,1,0)","v":0}]
[{"$f":"IF(Table1[[#This Row],[School/Group Name]]=\"\",\"\",Table1[[#This Row],[School/Group Name]])","v":""},{"$f":"IF(Table1[[#This Row],[Pupil Name]]=\"\",\"\",Table1[[#This Row],[Pupil Name]])","v":""},{"$f":"IF(Table1[[#This Row],[Gender (M/F)]]=\"\",\"\",Table1[[#This Row],[Gender (M/F)]])","v":""},{"$f":"IF(Table1[[#This Row],[DisAdv (Y/N)]]=\"\",\"\",Table1[[#This Row],[DisAdv (Y/N)]])","v":""},{"$f":"IF(Table1[[#This Row],[SEND (E,K,N)]]=\"\",\"\",Table1[[#This Row],[SEND (E,K,N)]])","v":""},"",{"$f":"IF(LEN(Table4[[#This Row],[Pupil Name]])>0,1,0)","v":0}]
[{"$f":"IF(Table1[[#This Row],[School/Group Name]]=\"\",\"\",Table1[[#This Row],[School/Group Name]])","v":""},{"$f":"IF(Table1[[#This Row],[Pupil Name]]=\"\",\"\",Table1[[#This Row],[Pupil Name]])","v":""},{"$f":"IF(Table1[[#This Row],[Gender (M/F)]]=\"\",\"\",Table1[[#This Row],[Gender (M/F)]])","v":""},{"$f":"IF(Table1[[#This Row],[DisAdv (Y/N)]]=\"\",\"\",Table1[[#This Row],[DisAdv (Y/N)]])","v":""},{"$f":"IF(Table1[[#This Row],[SEND (E,K,N)]]=\"\",\"\",Table1[[#This Row],[SEND (E,K,N)]])","v":""},"",{"$f":"IF(LEN(Table4[[#This Row],[Pupil Name]])>0,1,0)","v":0}]
[{"$f":"IF(Table1[[#This Row],[School/Group Name]]=\"\",\"\",Table1[[#This Row],[School/Group Name]])","v":""},{"$f":"IF(Table1[[#This Row],[Pupil Name]]=\"\",\"\",Table1[[#This Row],[Pupil Name]])","v":""},{"$f":"IF(Table1[[#This Row],[Gender (M/F)]]=\"\",\"\",Table1[[#This Row],[Gender (M/F)]])","v":""},{"$f":"IF(Table1[[#This Row],[DisAdv (Y/N)]]=\"\",\"\",Table1[[#This Row],[DisAdv (Y/N)]])","v":""},{"$f":"IF(Table1[[#This Row],[SEND (E,K,N)]]=\"\",\"\",Table1[[#This Row],[SEND (E,K,N)]])","v":""},"",{"$f":"IF(LEN(Table4[[#This Row],[Pupil Name]])>0,1,0)","v":0}]
[{"$f":"IF(Table1[[#This Row],[School/Group Name]]=\"\",\"\",Table1[[#This Row],[School/Group Name]])","v":""},{"$f":"IF(Table1[[#This Row],[Pupil Name]]=\"\",\"\",Table1[[#This Row],[Pupil Name]])","v":""},{"$f":"IF(Table1[[#This Row],[Gender (M/F)]]=\"\",\"\",Table1[[#This Row],[Gender (M/F)]])","v":""},{"$f":"IF(Table1[[#This Row],[DisAdv (Y/N)]]=\"\",\"\",Table1[[#This Row],[DisAdv (Y/N)]])","v":""},{"$f":"IF(Table1[[#This Row],[SEND (E,K,N)]]=\"\",\"\",Table1[[#This Row],[SEND (E,K,N)]])","v":""},"",{"$f":"IF(LEN(Table4[[#This Row],[Pupil Name]])>0,1,0)","v":0}]
[{"$f":"IF(Table1[[#This Row],[School/Group Name]]=\"\",\"\",Table1[[#This Row],[School/Group Name]])","v":""},{"$f":"IF(Table1[[#This Row],[Pupil Name]]=\"\",\"\",Table1[[#This Row],[Pupil Name]])","v":""},{"$f":"IF(Table1[[#This Row],[Gender (M/F)]]=\"\",\"\",Table1[[#This Row],[Gender (M/F)]])","v":""},{"$f":"IF(Table1[[#This Row],[DisAdv (Y/N)]]=\"\",\"\",Table1[[#This Row],[DisAdv (Y/N)]])","v":""},{"$f":"IF(Table1[[#This Row],[SEND (E,K,N)]]=\"\",\"\",Table1[[#This Row],[SEND (E,K,N)]])","v":""},"",{"$f":"IF(LEN(Table4[[#This Row],[Pupil Name]])>0,1,0)","v":0}]
[{"$f":"IF(Table1[[#This Row],[School/Group Name]]=\"\",\"\",Table1[[#This Row],[School/Group Name]])","v":""},{"$f":"IF(Table1[[#This Row],[Pupil Name]]=\"\",\"\",Table1[[#This Row],[Pupil Name]])","v":""},{"$f":"IF(Table1[[#This Row],[Gender (M/F)]]=\"\",\"\",Table1[[#This Row],[Gender (M/F)]])","v":""},{"$f":"IF(Table1[[#This Row],[DisAdv (Y/N)]]=\"\",\"\",Table1[[#This Row],[DisAdv (Y/N)]])","v":""},{"$f":"IF(Table1[[#This Row],[SEND (E,K,N)]]=\"\",\"\",Table1[[#This Row],[SEND (E,K,N)]])","v":""},"",{"$f":"IF(LEN(Table4[[#This Row],[Pupil Name]])>0,1,0)","v":0}]
[{"$f":"IF(Table1[[#This Row],[School/Group Name]]=\"\",\"\",Table1[[#This Row],[School/Group Name]])","v":""},{"$f":"IF(Table1[[#This Row],[Pupil Name]]=\"\",\"\",Table1[[#This Row],[Pupil Name]])","v":""},{"$f":"IF(Table1[[#This Row],[Gender (M/F)]]=\"\",\"\",Table1[[#This Row],[Gender (M/F)]])","v":""},{"$f":"IF(Table1[[#This Row],[DisAdv (Y/N)]]=\"\",\"\",Table1[[#This Row],[DisAdv (Y/N)]])","v":""},{"$f":"IF(Table1[[#This Row],[SEND (E,K,N)]]=\"\",\"\",Table1[[#This Row],[SEND (E,K,N)]])","v":""},"",{"$f":"IF(LEN(Table4[[#This Row],[Pupil Name]])>0,1,0)","v":0}]
[{"$f":"IF(Table1[[#This Row],[School/Group Name]]=\"\",\"\",Table1[[#This Row],[School/Group Name]])","v":""},{"$f":"IF(Table1[[#This Row],[Pupil Name]]=\"\",\"\",Table1[[#This Row],[Pupil Name]])","v":""},{"$f":"IF(Table1[[#This Row],[Gender (M/F)]]=\"\",\"\",Table1[[#This Row],[Gender (M/F)]])","v":""},{"$f":"IF(Table1[[#This Row],[DisAdv (Y/N)]]=\"\",\"\",Table1[[#This Row],[DisAdv (Y/N)]])","v":""},{"$f":"IF(Table1[[#This Row],[SEND (E,K,N)]]=\"\",\"\",Table1[[#This Row],[SEND (E,K,N)]])","v":""},"",{"$f":"IF(LEN(Table4[[#This Row],[Pupil Name]])>0,1,0)","v":0}]
[{"$f":"IF(Table1[[#This Row],[School/Group Name]]=\"\",\"\",Table1[[#This Row],[School/Group Name]])","v":""},{"$f":"IF(Table1[[#This Row],[Pupil Name]]=\"\",\"\",Table1[[#This Row],[Pupil Name]])","v":""},{"$f":"IF(Table1[[#This Row],[Gender (M/F)]]=\"\",\"\",Table1[[#This Row],[Gender (M/F)]])","v":""},{"$f":"IF(Table1[[#This Row],[DisAdv (Y/N)]]=\"\",\"\",Table1[[#This Row],[DisAdv (Y/N)]])","v":""},{"$f":"IF(Table1[[#This Row],[SEND (E,K,N)]]=\"\",\"\",Table1[[#This Row],[SEND (E,K,N)]])","v":""},"",{"$f":"IF(LEN(Table4[[#This Row],[Pupil Name]])>0,1,0)","v":0}]
[{"$f":"IF(Table1[[#This Row],[School/Group Name]]=\"\",\"\",Table1[[#This Row],[School/Group Name]])","v":""},{"$f":"IF(Table1[[#This Row],[Pupil Name]]=\"\",\"\",Table1[[#This Row],[Pupil Name]])","v":""},{"$f":"IF(Table1[[#This Row],[Gender (M/F)]]=\"\",\"\",Table1[[#This Row],[Gender (M/F)]])","v":""},{"$f":"IF(Table1[[#This Row],[DisAdv (Y/N)]]=\"\",\"\",Table1[[#This Row],[DisAdv (Y/N)]])","v":""},{"$f":"IF(Table1[[#This Row],[SEND (E,K,N)]]=\"\",\"\",Table1[[#This Row],[SEND (E,K,N)]])","v":""},"",{"$f":"IF(LEN(Table4[[#This Row],[Pupil Name]])>0,1,0)","v":0}]
[{"$f":"IF(Table1[[#This Row],[School/Group Name]]=\"\",\"\",Table1[[#This Row],[School/Group Name]])","v":""},{"$f":"IF(Table1[[#This Row],[Pupil Name]]=\"\",\"\",Table1[[#This Row],[Pupil Name]])","v":""},{"$f":"IF(Table1[[#This Row],[Gender (M/F)]]=\"\",\"\",Table1[[#This Row],[Gender (M/F)]])","v":""},{"$f":"IF(Table1[[#This Row],[DisAdv (Y/N)]]=\"\",\"\",Table1[[#This Row],[DisAdv (Y/N)]])","v":""},{"$f":"IF(Table1[[#This Row],[SEND (E,K,N)]]=\"\",\"\",Table1[[#This Row],[SEND (E,K,N)]])","v":""},"",{"$f":"IF(LEN(Table4[[#This Row],[Pupil Name]])>0,1,0)","v":0}]
[{"$f":"IF(Table1[[#This Row],[School/Group Name]]=\"\",\"\",Table1[[#This Row],[School/Group Name]])","v":""},{"$f":"IF(Table1[[#This Row],[Pupil Name]]=\"\",\"\",Table1[[#This Row],[Pupil Name]])","v":""},{"$f":"IF(Table1[[#This Row],[Gender (M/F)]]=\"\",\"\",Table1[[#This Row],[Gender (M/F)]])","v":""},{"$f":"IF(Table1[[#This Row],[DisAdv (Y/N)]]=\"\",\"\",Table1[[#This Row],[DisAdv (Y/N)]])","v":""},{"$f":"IF(Table1[[#This Row],[SEND (E,K,N)]]=\"\",\"\",Table1[[#This Row],[SEND (E,K,N)]])","v":""},"",{"$f":"IF(LEN(Table4[[#This Row],[Pupil Name]])>0,1,0)","v":0}]
[{"$f":"IF(Table1[[#This Row],[School/Group Name]]=\"\",\"\",Table1[[#This Row],[School/Group Name]])","v":""},{"$f":"IF(Table1[[#This Row],[Pupil Name]]=\"\",\"\",Table1[[#This Row],[Pupil Name]])","v":""},{"$f":"IF(Table1[[#This Row],[Gender (M/F)]]=\"\",\"\",Table1[[#This Row],[Gender (M/F)]])","v":""},{"$f":"IF(Table1[[#This Row],[DisAdv (Y/N)]]=\"\",\"\",Table1[[#This Row],[DisAdv (Y/N)]])","v":""},{"$f":"IF(Table1[[#This Row],[SEND (E,K,N)]]=\"\",\"\",Table1[[#This Row],[SEND (E,K,N)]])","v":""},"",{"$f":"IF(LEN(Table4[[#This Row],[Pupil Name]])>0,1,0)","v":0}]
[{"$f":"IF(Table1[[#This Row],[School/Group Name]]=\"\",\"\",Table1[[#This Row],[School/Group Name]])","v":""},{"$f":"IF(Table1[[#This Row],[Pupil Name]]=\"\",\"\",Table1[[#This Row],[Pupil Name]])","v":""},{"$f":"IF(Table1[[#This Row],[Gender (M/F)]]=\"\",\"\",Table1[[#This Row],[Gender (M/F)]])","v":""},{"$f":"IF(Table1[[#This Row],[DisAdv (Y/N)]]=\"\",\"\",Table1[[#This Row],[DisAdv (Y/N)]])","v":""},{"$f":"IF(Table1[[#This Row],[SEND (E,K,N)]]=\"\",\"\",Table1[[#This Row],[SEND (E,K,N)]])","v":""},"",{"$f":"IF(LEN(Table4[[#This Row],[Pupil Name]])>0,1,0)","v":0}]
[{"$f":"IF(Table1[[#This Row],[School/Group Name]]=\"\",\"\",Table1[[#This Row],[School/Group Name]])","v":""},{"$f":"IF(Table1[[#This Row],[Pupil Name]]=\"\",\"\",Table1[[#This Row],[Pupil Name]])","v":""},{"$f":"IF(Table1[[#This Row],[Gender (M/F)]]=\"\",\"\",Table1[[#This Row],[Gender (M/F)]])","v":""},{"$f":"IF(Table1[[#This Row],[DisAdv (Y/N)]]=\"\",\"\",Table1[[#This Row],[DisAdv (Y/N)]])","v":""},{"$f":"IF(Table1[[#This Row],[SEND (E,K,N)]]=\"\",\"\",Table1[[#This Row],[SEND (E,K,N)]])","v":""},"",{"$f":"IF(LEN(Table4[[#This Row],[Pupil Name]])>0,1,0)","v":0}]
[{"$f":"IF(Table1[[#This Row],[School/Group Name]]=\"\",\"\",Table1[[#This Row],[School/Group Name]])","v":""},{"$f":"IF(Table1[[#This Row],[Pupil Name]]=\"\",\"\",Table1[[#This Row],[Pupil Name]])","v":""},{"$f":"IF(Table1[[#This Row],[Gender (M/F)]]=\"\",\"\",Table1[[#This Row],[Gender (M/F)]])","v":""},{"$f":"IF(Table1[[#This Row],[DisAdv (Y/N)]]=\"\",\"\",Table1[[#This Row],[DisAdv (Y/N)]])","v":""},{"$f":"IF(Table1[[#This Row],[SEND (E,K,N)]]=\"\",\"\",Table1[[#This Row],[SEND (E,K,N)]])","v":""},"",{"$f":"IF(LEN(Table4[[#This Row],[Pupil Name]])>0,1,0)","v":0}]
[{"$f":"IF(Table1[[#This Row],[School/Group Name]]=\"\",\"\",Table1[[#This Row],[School/Group Name]])","v":""},{"$f":"IF(Table1[[#This Row],[Pupil Name]]=\"\",\"\",Table1[[#This Row],[Pupil Name]])","v":""},{"$f":"IF(Table1[[#This Row],[Gender (M/F)]]=\"\",\"\",Table1[[#This Row],[Gender (M/F)]])","v":""},{"$f":"IF(Table1[[#This Row],[DisAdv (Y/N)]]=\"\",\"\",Table1[[#This Row],[DisAdv (Y/N)]])","v":""},{"$f":"IF(Table1[[#This Row],[SEND (E,K,N)]]=\"\",\"\",Table1[[#This Row],[SEND (E,K,N)]])","v":""},"",{"$f":"IF(LEN(Table4[[#This Row],[Pupil Name]])>0,1,0)","v":0}]
[{"$f":"IF(Table1[[#This Row],[School/Group Name]]=\"\",\"\",Table1[[#This Row],[School/Group Name]])","v":""},{"$f":"IF(Table1[[#This Row],[Pupil Name]]=\"\",\"\",Table1[[#This Row],[Pupil Name]])","v":""},{"$f":"IF(Table1[[#This Row],[Gender (M/F)]]=\"\",\"\",Table1[[#This Row],[Gender (M/F)]])","v":""},{"$f":"IF(Table1[[#This Row],[DisAdv (Y/N)]]=\"\",\"\",Table1[[#This Row],[DisAdv (Y/N)]])","v":""},{"$f":"IF(Table1[[#This Row],[SEND (E,K,N)]]=\"\",\"\",Table1[[#This Row],[SEND (E,K,N)]])","v":""},"",{"$f":"IF(LEN(Table4[[#This Row],[Pupil Name]])>0,1,0)","v":0}]
[{"$f":"IF(Table1[[#This Row],[School/Group Name]]=\"\",\"\",Table1[[#This Row],[School/Group Name]])","v":""},{"$f":"IF(Table1[[#This Row],[Pupil Name]]=\"\",\"\",Table1[[#This Row],[Pupil Name]])","v":""},{"$f":"IF(Table1[[#This Row],[Gender (M/F)]]=\"\",\"\",Table1[[#This Row],[Gender (M/F)]])","v":""},{"$f":"IF(Table1[[#This Row],[DisAdv (Y/N)]]=\"\",\"\",Table1[[#This Row],[DisAdv (Y/N)]])","v":""},{"$f":"IF(Table1[[#This Row],[SEND (E,K,N)]]=\"\",\"\",Table1[[#This Row],[SEND (E,K,N)]])","v":""},"",{"$f":"IF(LEN(Table4[[#This Row],[Pupil Name]])>0,1,0)","v":0}]
[{"$f":"IF(Table1[[#This Row],[School/Group Name]]=\"\",\"\",Table1[[#This Row],[School/Group Name]])","v":""},{"$f":"IF(Table1[[#This Row],[Pupil Name]]=\"\",\"\",Table1[[#This Row],[Pupil Name]])","v":""},{"$f":"IF(Table1[[#This Row],[Gender (M/F)]]=\"\",\"\",Table1[[#This Row],[Gender (M/F)]])","v":""},{"$f":"IF(Table1[[#This Row],[DisAdv (Y/N)]]=\"\",\"\",Table1[[#This Row],[DisAdv (Y/N)]])","v":""},{"$f":"IF(Table1[[#This Row],[SEND (E,K,N)]]=\"\",\"\",Table1[[#This Row],[SEND (E,K,N)]])","v":""},"",{"$f":"IF(LEN(Table4[[#This Row],[Pupil Name]])>0,1,0)","v":0}]
[{"$f":"IF(Table1[[#This Row],[School/Group Name]]=\"\",\"\",Table1[[#This Row],[School/Group Name]])","v":""},{"$f":"IF(Table1[[#This Row],[Pupil Name]]=\"\",\"\",Table1[[#This Row],[Pupil Name]])","v":""},{"$f":"IF(Table1[[#This Row],[Gender (M/F)]]=\"\",\"\",Table1[[#This Row],[Gender (M/F)]])","v":""},{"$f":"IF(Table1[[#This Row],[DisAdv (Y/N)]]=\"\",\"\",Table1[[#This Row],[DisAdv (Y/N)]])","v":""},{"$f":"IF(Table1[[#This Row],[SEND (E,K,N)]]=\"\",\"\",Table1[[#This Row],[SEND (E,K,N)]])","v":""},"",{"$f":"IF(LEN(Table4[[#This Row],[Pupil Name]])>0,1,0)","v":0}]
[{"$f":"IF(Table1[[#This Row],[School/Group Name]]=\"\",\"\",Table1[[#This Row],[School/Group Name]])","v":""},{"$f":"IF(Table1[[#This Row],[Pupil Name]]=\"\",\"\",Table1[[#This Row],[Pupil Name]])","v":""},{"$f":"IF(Table1[[#This Row],[Gender (M/F)]]=\"\",\"\",Table1[[#This Row],[Gender (M/F)]])","v":""},{"$f":"IF(Table1[[#This Row],[DisAdv (Y/N)]]=\"\",\"\",Table1[[#This Row],[DisAdv (Y/N)]])","v":""},{"$f":"IF(Table1[[#This Row],[SEND (E,K,N)]]=\"\",\"\",Table1[[#This Row],[SEND (E,K,N)]])","v":""},"",{"$f":"IF(LEN(Table4[[#This Row],[Pupil Name]])>0,1,0)","v":0}]
[{"$f":"IF(Table1[[#This Row],[School/Group Name]]=\"\",\"\",Table1[[#This Row],[School/Group Name]])","v":""},{"$f":"IF(Table1[[#This Row],[Pupil Name]]=\"\",\"\",Table1[[#This Row],[Pupil Name]])","v":""},{"$f":"IF(Table1[[#This Row],[Gender (M/F)]]=\"\",\"\",Table1[[#This Row],[Gender (M/F)]])","v":""},{"$f":"IF(Table1[[#This Row],[DisAdv (Y/N)]]=\"\",\"\",Table1[[#This Row],[DisAdv (Y/N)]])","v":""},{"$f":"IF(Table1[[#This Row],[SEND (E,K,N)]]=\"\",\"\",Table1[[#This Row],[SEND (E,K,N)]])","v":""},"",{"$f":"IF(LEN(Table4[[#This Row],[Pupil Name]])>0,1,0)","v":0}]
[{"$f":"IF(Table1[[#This Row],[School/Group Name]]=\"\",\"\",Table1[[#This Row],[School/Group Name]])","v":""},{"$f":"IF(Table1[[#This Row],[Pupil Name]]=\"\",\"\",Table1[[#This Row],[Pupil Name]])","v":""},{"$f":"IF(Table1[[#This Row],[Gender (M/F)]]=\"\",\"\",Table1[[#This Row],[Gender (M/F)]])","v":""},{"$f":"IF(Table1[[#This Row],[DisAdv (Y/N)]]=\"\",\"\",Table1[[#This Row],[DisAdv (Y/N)]])","v":""},{"$f":"IF(Table1[[#This Row],[SEND (E,K,N)]]=\"\",\"\",Table1[[#This Row],[SEND (E,K,N)]])","v":""},"",{"$f":"IF(LEN(Table4[[#This Row],[Pupil Name]])>0,1,0)","v":0}]
[{"$f":"IF(Table1[[#This Row],[School/Group Name]]=\"\",\"\",Table1[[#This Row],[School/Group Name]])","v":""},{"$f":"IF(Table1[[#This Row],[Pupil Name]]=\"\",\"\",Table1[[#This Row],[Pupil Name]])","v":""},{"$f":"IF(Table1[[#This Row],[Gender (M/F)]]=\"\",\"\",Table1[[#This Row],[Gender (M/F)]])","v":""},{"$f":"IF(Table1[[#This Row],[DisAdv (Y/N)]]=\"\",\"\",Table1[[#This Row],[DisAdv (Y/N)]])","v":""},{"$f":"IF(Table1[[#This Row],[SEND (E,K,N)]]=\"\",\"\",Table1[[#This Row],[SEND (E,K,N)]])","v":""},"",{"$f":"IF(LEN(Table4[[#This Row],[Pupil Name]])>0,1,0)","v":0}]
[{"$f":"IF(Table1[[#This Row],[School/Group Name]]=\"\",\"\",Table1[[#This Row],[School/Group Name]])","v":""},{"$f":"IF(Table1[[#This Row],[Pupil Name]]=\"\",\"\",Table1[[#This Row],[Pupil Name]])","v":""},{"$f":"IF(Table1[[#This Row],[Gender (M/F)]]=\"\",\"\",Table1[[#This Row],[Gender (M/F)]])","v":""},{"$f":"IF(Table1[[#This Row],[DisAdv (Y/N)]]=\"\",\"\",Table1[[#This Row],[DisAdv (Y/N)]])","v":""},{"$f":"IF(Table1[[#This Row],[SEND (E,K,N)]]=\"\",\"\",Table1[[#This Row],[SEND (E,K,N)]])","v":""},"",{"$f":"IF(LEN(Table4[[#This Row],[Pupil Name]])>0,1,0)","v":0}]
[{"$f":"IF(Table1[[#This Row],[School/Group Name]]=\"\",\"\",Table1[[#This Row],[School/Group Name]])","v":""},{"$f":"IF(Table1[[#This Row],[Pupil Name]]=\"\",\"\",Table1[[#This Row],[Pupil Name]])","v":""},{"$f":"IF(Table1[[#This Row],[Gender (M/F)]]=\"\",\"\",Table1[[#This Row],[Gender (M/F)]])","v":""},{"$f":"IF(Table1[[#This Row],[DisAdv (Y/N)]]=\"\",\"\",Table1[[#This Row],[DisAdv (Y/N)]])","v":""},{"$f":"IF(Table1[[#This Row],[SEND (E,K,N)]]=\"\",\"\",Table1[[#This Row],[SEND (E,K,N)]])","v":""},"",{"$f":"IF(LEN(Table4[[#This Row],[Pupil Name]])>0,1,0)","v":0}]
[{"$f":"IF(Table1[[#This Row],[School/Group Name]]=\"\",\"\",Table1[[#This Row],[School/Group Name]])","v":""},{"$f":"IF(Table1[[#This Row],[Pupil Name]]=\"\",\"\",Table1[[#This Row],[Pupil Name]])","v":""},{"$f":"IF(Table1[[#This Row],[Gender (M/F)]]=\"\",\"\",Table1[[#This Row],[Gender (M/F)]])","v":""},{"$f":"IF(Table1[[#This Row],[DisAdv (Y/N)]]=\"\",\"\",Table1[[#This Row],[DisAdv (Y/N)]])","v":""},{"$f":"IF(Table1[[#This Row],[SEND (E,K,N)]]=\"\",\"\",Table1[[#This Row],[SEND (E,K,N)]])","v":""},"",{"$f":"IF(LEN(Table4[[#This Row],[Pupil Name]])>0,1,0)","v":0}]
[{"$f":"IF(Table1[[#This Row],[School/Group Name]]=\"\",\"\",Table1[[#This Row],[School/Group Name]])","v":""},{"$f":"IF(Table1[[#This Row],[Pupil Name]]=\"\",\"\",Table1[[#This Row],[Pupil Name]])","v":""},{"$f":"IF(Table1[[#This Row],[Gender (M/F)]]=\"\",\"\",Table1[[#This Row],[Gender (M/F)]])","v":""},{"$f":"IF(Table1[[#This Row],[DisAdv (Y/N)]]=\"\",\"\",Table1[[#This Row],[DisAdv (Y/N)]])","v":""},{"$f":"IF(Table1[[#This Row],[SEND (E,K,N)]]=\"\",\"\",Table1[[#This Row],[SEND (E,K,N)]])","v":""},"",{"$f":"IF(LEN(Table4[[#This Row],[Pupil Name]])>0,1,0)","v":0}]
[{"$f":"IF(Table1[[#This Row],[School/Group Name]]=\"\",\"\",Table1[[#This Row],[School/Group Name]])","v":""},{"$f":"IF(Table1[[#This Row],[Pupil Name]]=\"\",\"\",Table1[[#This Row],[Pupil Name]])","v":""},{"$f":"IF(Table1[[#This Row],[Gender (M/F)]]=\"\",\"\",Table1[[#This Row],[Gender (M/F)]])","v":""},{"$f":"IF(Table1[[#This Row],[DisAdv (Y/N)]]=\"\",\"\",Table1[[#This Row],[DisAdv (Y/N)]])","v":""},{"$f":"IF(Table1[[#This Row],[SEND (E,K,N)]]=\"\",\"\",Table1[[#This Row],[SEND (E,K,N)]])","v":""},"",{"$f":"IF(LEN(Table4[[#This Row],[Pupil Name]])>0,1,0)","v":0}]
[{"$f":"IF(Table1[[#This Row],[School/Group Name]]=\"\",\"\",Table1[[#This Row],[School/Group Name]])","v":""},{"$f":"IF(Table1[[#This Row],[Pupil Name]]=\"\",\"\",Table1[[#This Row],[Pupil Name]])","v":""},{"$f":"IF(Table1[[#This Row],[Gender (M/F)]]=\"\",\"\",Table1[[#This Row],[Gender (M/F)]])","v":""},{"$f":"IF(Table1[[#This Row],[DisAdv (Y/N)]]=\"\",\"\",Table1[[#This Row],[DisAdv (Y/N)]])","v":""},{"$f":"IF(Table1[[#This Row],[SEND (E,K,N)]]=\"\",\"\",Table1[[#This Row],[SEND (E,K,N)]])","v":""},"",{"$f":"IF(LEN(Table4[[#This Row],[Pupil Name]])>0,1,0)","v":0}]
[{"$f":"IF(Table1[[#This Row],[School/Group Name]]=\"\",\"\",Table1[[#This Row],[School/Group Name]])","v":""},{"$f":"IF(Table1[[#This Row],[Pupil Name]]=\"\",\"\",Table1[[#This Row],[Pupil Name]])","v":""},{"$f":"IF(Table1[[#This Row],[Gender (M/F)]]=\"\",\"\",Table1[[#This Row],[Gender (M/F)]])","v":""},{"$f":"IF(Table1[[#This Row],[DisAdv (Y/N)]]=\"\",\"\",Table1[[#This Row],[DisAdv (Y/N)]])","v":""},{"$f":"IF(Table1[[#This Row],[SEND (E,K,N)]]=\"\",\"\",Table1[[#This Row],[SEND (E,K,N)]])","v":""},"",{"$f":"IF(LEN(Table4[[#This Row],[Pupil Name]])>0,1,0)","v":0}]
[{"$f":"IF(Table1[[#This Row],[School/Group Name]]=\"\",\"\",Table1[[#This Row],[School/Group Name]])","v":""},{"$f":"IF(Table1[[#This Row],[Pupil Name]]=\"\",\"\",Table1[[#This Row],[Pupil Name]])","v":""},{"$f":"IF(Table1[[#This Row],[Gender (M/F)]]=\"\",\"\",Table1[[#This Row],[Gender (M/F)]])","v":""},{"$f":"IF(Table1[[#This Row],[DisAdv (Y/N)]]=\"\",\"\",Table1[[#This Row],[DisAdv (Y/N)]])","v":""},{"$f":"IF(Table1[[#This Row],[SEND (E,K,N)]]=\"\",\"\",Table1[[#This Row],[SEND (E,K,N)]])","v":""},"",{"$f":"IF(LEN(Table4[[#This Row],[Pupil Name]])>0,1,0)","v":0}]
[{"$f":"IF(Table1[[#This Row],[School/Group Name]]=\"\",\"\",Table1[[#This Row],[School/Group Name]])","v":""},{"$f":"IF(Table1[[#This Row],[Pupil Name]]=\"\",\"\",Table1[[#This Row],[Pupil Name]])","v":""},{"$f":"IF(Table1[[#This Row],[Gender (M/F)]]=\"\",\"\",Table1[[#This Row],[Gender (M/F)]])","v":""},{"$f":"IF(Table1[[#This Row],[DisAdv (Y/N)]]=\"\",\"\",Table1[[#This Row],[DisAdv (Y/N)]])","v":""},{"$f":"IF(Table1[[#This Row],[SEND (E,K,N)]]=\"\",\"\",Table1[[#This Row],[SEND (E,K,N)]])","v":""},"",{"$f":"IF(LEN(Table4[[#This Row],[Pupil Name]])>0,1,0)","v":0}]
[{"$f":"IF(Table1[[#This Row],[School/Group Name]]=\"\",\"\",Table1[[#This Row],[School/Group Name]])","v":""},{"$f":"IF(Table1[[#This Row],[Pupil Name]]=\"\",\"\",Table1[[#This Row],[Pupil Name]])","v":""},{"$f":"IF(Table1[[#This Row],[Gender (M/F)]]=\"\",\"\",Table1[[#This Row],[Gender (M/F)]])","v":""},{"$f":"IF(Table1[[#This Row],[DisAdv (Y/N)]]=\"\",\"\",Table1[[#This Row],[DisAdv (Y/N)]])","v":""},{"$f":"IF(Table1[[#This Row],[SEND (E,K,N)]]=\"\",\"\",Table1[[#This Row],[SEND (E,K,N)]])","v":""},"",{"$f":"IF(LEN(Table4[[#This Row],[Pupil Name]])>0,1,0)","v":0}]
[{"$f":"IF(Table1[[#This Row],[School/Group Name]]=\"\",\"\",Table1[[#This Row],[School/Group Name]])","v":""},{"$f":"IF(Table1[[#This Row],[Pupil Name]]=\"\",\"\",Table1[[#This Row],[Pupil Name]])","v":""},{"$f":"IF(Table1[[#This Row],[Gender (M/F)]]=\"\",\"\",Table1[[#This Row],[Gender (M/F)]])","v":""},{"$f":"IF(Table1[[#This Row],[DisAdv (Y/N)]]=\"\",\"\",Table1[[#This Row],[DisAdv (Y/N)]])","v":""},{"$f":"IF(Table1[[#This Row],[SEND (E,K,N)]]=\"\",\"\",Table1[[#This Row],[SEND (E,K,N)]])","v":""},"",{"$f":"IF(LEN(Table4[[#This Row],[Pupil Name]])>0,1,0)","v":0}]
[{"$f":"IF(Table1[[#This Row],[School/Group Name]]=\"\",\"\",Table1[[#This Row],[School/Group Name]])","v":""},{"$f":"IF(Table1[[#This Row],[Pupil Name]]=\"\",\"\",Table1[[#This Row],[Pupil Name]])","v":""},{"$f":"IF(Table1[[#This Row],[Gender (M/F)]]=\"\",\"\",Table1[[#This Row],[Gender (M/F)]])","v":""},{"$f":"IF(Table1[[#This Row],[DisAdv (Y/N)]]=\"\",\"\",Table1[[#This Row],[DisAdv (Y/N)]])","v":""},{"$f":"IF(Table1[[#This Row],[SEND (E,K,N)]]=\"\",\"\",Table1[[#This Row],[SEND (E,K,N)]])","v":""},"",{"$f":"IF(LEN(Table4[[#This Row],[Pupil Name]])>0,1,0)","v":0}]
[{"$f":"IF(Table1[[#This Row],[School/Group Name]]=\"\",\"\",Table1[[#This Row],[School/Group Name]])","v":""},{"$f":"IF(Table1[[#This Row],[Pupil Name]]=\"\",\"\",Table1[[#This Row],[Pupil Name]])","v":""},{"$f":"IF(Table1[[#This Row],[Gender (M/F)]]=\"\",\"\",Table1[[#This Row],[Gender (M/F)]])","v":""},{"$f":"IF(Table1[[#This Row],[DisAdv (Y/N)]]=\"\",\"\",Table1[[#This Row],[DisAdv (Y/N)]])","v":""},{"$f":"IF(Table1[[#This Row],[SEND (E,K,N)]]=\"\",\"\",Table1[[#This Row],[SEND (E,K,N)]])","v":""},"",{"$f":"IF(LEN(Table4[[#This Row],[Pupil Name]])>0,1,0)","v":0}]
[{"$f":"IF(Table1[[#This Row],[School/Group Name]]=\"\",\"\",Table1[[#This Row],[School/Group Name]])","v":""},{"$f":"IF(Table1[[#This Row],[Pupil Name]]=\"\",\"\",Table1[[#This Row],[Pupil Name]])","v":""},{"$f":"IF(Table1[[#This Row],[Gender (M/F)]]=\"\",\"\",Table1[[#This Row],[Gender (M/F)]])","v":""},{"$f":"IF(Table1[[#This Row],[DisAdv (Y/N)]]=\"\",\"\",Table1[[#This Row],[DisAdv (Y/N)]])","v":""},{"$f":"IF(Table1[[#This Row],[SEND (E,K,N)]]=\"\",\"\",Table1[[#This Row],[SEND (E,K,N)]])","v":""},"",{"$f":"IF(LEN(Table4[[#This Row],[Pupil Name]])>0,1,0)","v":0}]
[{"$f":"IF(Table1[[#This Row],[School/Group Name]]=\"\",\"\",Table1[[#This Row],[School/Group Name]])","v":""},{"$f":"IF(Table1[[#This Row],[Pupil Name]]=\"\",\"\",Table1[[#This Row],[Pupil Name]])","v":""},{"$f":"IF(Table1[[#This Row],[Gender (M/F)]]=\"\",\"\",Table1[[#This Row],[Gender (M/F)]])","v":""},{"$f":"IF(Table1[[#This Row],[DisAdv (Y/N)]]=\"\",\"\",Table1[[#This Row],[DisAdv (Y/N)]])","v":""},{"$f":"IF(Table1[[#This Row],[SEND (E,K,N)]]=\"\",\"\",Table1[[#This Row],[SEND (E,K,N)]])","v":""},"",{"$f":"IF(LEN(Table4[[#This Row],[Pupil Name]])>0,1,0)","v":0}]
[{"$f":"IF(Table1[[#This Row],[School/Group Name]]=\"\",\"\",Table1[[#This Row],[School/Group Name]])","v":""},{"$f":"IF(Table1[[#This Row],[Pupil Name]]=\"\",\"\",Table1[[#This Row],[Pupil Name]])","v":""},{"$f":"IF(Table1[[#This Row],[Gender (M/F)]]=\"\",\"\",Table1[[#This Row],[Gender (M/F)]])","v":""},{"$f":"IF(Table1[[#This Row],[DisAdv (Y/N)]]=\"\",\"\",Table1[[#This Row],[DisAdv (Y/N)]])","v":""},{"$f":"IF(Table1[[#This Row],[SEND (E,K,N)]]=\"\",\"\",Table1[[#This Row],[SEND (E,K,N)]])","v":""},"",{"$f":"IF(LEN(Table4[[#This Row],[Pupil Name]])>0,1,0)","v":0}]
[{"$f":"IF(Table1[[#This Row],[School/Group Name]]=\"\",\"\",Table1[[#This Row],[School/Group Name]])","v":""},{"$f":"IF(Table1[[#This Row],[Pupil Name]]=\"\",\"\",Table1[[#This Row],[Pupil Name]])","v":""},{"$f":"IF(Table1[[#This Row],[Gender (M/F)]]=\"\",\"\",Table1[[#This Row],[Gender (M/F)]])","v":""},{"$f":"IF(Table1[[#This Row],[DisAdv (Y/N)]]=\"\",\"\",Table1[[#This Row],[DisAdv (Y/N)]])","v":""},{"$f":"IF(Table1[[#This Row],[SEND (E,K,N)]]=\"\",\"\",Table1[[#This Row],[SEND (E,K,N)]])","v":""},"",{"$f":"IF(LEN(Table4[[#This Row],[Pupil Name]])>0,1,0)","v":0}]
[{"$f":"IF(Table1[[#This Row],[School/Group Name]]=\"\",\"\",Table1[[#This Row],[School/Group Name]])","v":""},{"$f":"IF(Table1[[#This Row],[Pupil Name]]=\"\",\"\",Table1[[#This Row],[Pupil Name]])","v":""},{"$f":"IF(Table1[[#This Row],[Gender (M/F)]]=\"\",\"\",Table1[[#This Row],[Gender (M/F)]])","v":""},{"$f":"IF(Table1[[#This Row],[DisAdv (Y/N)]]=\"\",\"\",Table1[[#This Row],[DisAdv (Y/N)]])","v":""},{"$f":"IF(Table1[[#This Row],[SEND (E,K,N)]]=\"\",\"\",Table1[[#This Row],[SEND (E,K,N)]])","v":""},"",{"$f":"IF(LEN(Table4[[#This Row],[Pupil Name]])>0,1,0)","v":0}]
[{"$f":"IF(Table1[[#This Row],[School/Group Name]]=\"\",\"\",Table1[[#This Row],[School/Group Name]])","v":""},{"$f":"IF(Table1[[#This Row],[Pupil Name]]=\"\",\"\",Table1[[#This Row],[Pupil Name]])","v":""},{"$f":"IF(Table1[[#This Row],[Gender (M/F)]]=\"\",\"\",Table1[[#This Row],[Gender (M/F)]])","v":""},{"$f":"IF(Table1[[#This Row],[DisAdv (Y/N)]]=\"\",\"\",Table1[[#This Row],[DisAdv (Y/N)]])","v":""},{"$f":"IF(Table1[[#This Row],[SEND (E,K,N)]]=\"\",\"\",Table1[[#This Row],[SEND (E,K,N)]])","v":""},"",{"$f":"IF(LEN(Table4[[#This Row],[Pupil Name]])>0,1,0)","v":0}]
[{"$f":"IF(Table1[[#This Row],[School/Group Name]]=\"\",\"\",Table1[[#This Row],[School/Group Name]])","v":""},{"$f":"IF(Table1[[#This Row],[Pupil Name]]=\"\",\"\",Table1[[#This Row],[Pupil Name]])","v":""},{"$f":"IF(Table1[[#This Row],[Gender (M/F)]]=\"\",\"\",Table1[[#This Row],[Gender (M/F)]])","v":""},{"$f":"IF(Table1[[#This Row],[DisAdv (Y/N)]]=\"\",\"\",Table1[[#This Row],[DisAdv (Y/N)]])","v":""},{"$f":"IF(Table1[[#This Row],[SEND (E,K,N)]]=\"\",\"\",Table1[[#This Row],[SEND (E,K,N)]])","v":""},"",{"$f":"IF(LEN(Table4[[#This Row],[Pupil Name]])>0,1,0)","v":0}]
[{"$f":"IF(Table1[[#This Row],[School/Group Name]]=\"\",\"\",Table1[[#This Row],[School/Group Name]])","v":""},{"$f":"IF(Table1[[#This Row],[Pupil Name]]=\"\",\"\",Table1[[#This Row],[Pupil Name]])","v":""},{"$f":"IF(Table1[[#This Row],[Gender (M/F)]]=\"\",\"\",Table1[[#This Row],[Gender (M/F)]])","v":""},{"$f":"IF(Table1[[#This Row],[DisAdv (Y/N)]]=\"\",\"\",Table1[[#This Row],[DisAdv (Y/N)]])","v":""},{"$f":"IF(Table1[[#This Row],[SEND (E,K,N)]]=\"\",\"\",Table1[[#This Row],[SEND (E,K,N)]])","v":""},{"$f":"IF(H198=\"\",\"\",(SUM(H198:AU198)))","v":""},{"$f":"IF(LEN(Table4[[#This Row],[Pupil Name]])>0,1,0)","v":0}]
[{"$f":"IF(Table1[[#This Row],[School/Group Name]]=\"\",\"\",Table1[[#This Row],[School/Group Name]])","v":""},{"$f":"IF(Table1[[#This Row],[Pupil Name]]=\"\",\"\",Table1[[#This Row],[Pupil Name]])","v":""},{"$f":"IF(Table1[[#This Row],[Gender (M/F)]]=\"\",\"\",Table1[[#This Row],[Gender (M/F)]])","v":""},{"$f":"IF(Table1[[#This Row],[DisAdv (Y/N)]]=\"\",\"\",Table1[[#This Row],[DisAdv (Y/N)]])","v":""},{"$f":"IF(Table1[[#This Row],[SEND (E,K,N)]]=\"\",\"\",Table1[[#This Row],[SEND (E,K,N)]])","v":""},"",{"$f":"IF(LEN(Table4[[#This Row],[Pupil Name]])>0,1,0)","v":0}]
[{"$f":"IF(Table1[[#This Row],[School/Group Name]]=\"\",\"\",Table1[[#This Row],[School/Group Name]])","v":""},{"$f":"IF(Table1[[#This Row],[Pupil Name]]=\"\",\"\",Table1[[#This Row],[Pupil Name]])","v":""},{"$f":"IF(Table1[[#This Row],[Gender (M/F)]]=\"\",\"\",Table1[[#This Row],[Gender (M/F)]])","v":""},{"$f":"IF(Table1[[#This Row],[DisAdv (Y/N)]]=\"\",\"\",Table1[[#This Row],[DisAdv (Y/N)]])","v":""},{"$f":"IF(Table1[[#This Row],[SEND (E,K,N)]]=\"\",\"\",Table1[[#This Row],[SEND (E,K,N)]])","v":""},"",{"$f":"IF(LEN(Table4[[#This Row],[Pupil Name]])>0,1,0)","v":0}]
[{"$f":"IF(Table1[[#This Row],[School/Group Name]]=\"\",\"\",Table1[[#This Row],[School/Group Name]])","v":""},{"$f":"IF(Table1[[#This Row],[Pupil Name]]=\"\",\"\",Table1[[#This Row],[Pupil Name]])","v":""},{"$f":"IF(Table1[[#This Row],[Gender (M/F)]]=\"\",\"\",Table1[[#This Row],[Gender (M/F)]])","v":""},{"$f":"IF(Table1[[#This Row],[DisAdv (Y/N)]]=\"\",\"\",Table1[[#This Row],[DisAdv (Y/N)]])","v":""},{"$f":"IF(Table1[[#This Row],[SEND (E,K,N)]]=\"\",\"\",Table1[[#This Row],[SEND (E,K,N)]])","v":""},"",{"$f":"IF(LEN(Table4[[#This Row],[Pupil Name]])>0,1,0)","v":0}]
[{"$f":"IF(Table1[[#This Row],[School/Group Name]]=\"\",\"\",Table1[[#This Row],[School/Group Name]])","v":""},{"$f":"IF(Table1[[#This Row],[Pupil Name]]=\"\",\"\",Table1[[#This Row],[Pupil Name]])","v":""},{"$f":"IF(Table1[[#This Row],[Gender (M/F)]]=\"\",\"\",Table1[[#This Row],[Gender (M/F)]])","v":""},{"$f":"IF(Table1[[#This Row],[DisAdv (Y/N)]]=\"\",\"\",Table1[[#This Row],[DisAdv (Y/N)]])","v":""},{"$f":"IF(Table1[[#This Row],[SEND (E,K,N)]]=\"\",\"\",Table1[[#This Row],[SEND (E,K,N)]])","v":""},"",{"$f":"IF(LEN(Table4[[#This Row],[Pupil Name]])>0,1,0)","v":0}]
[{"$f":"IF(Table1[[#This Row],[School/Group Name]]=\"\",\"\",Table1[[#This Row],[School/Group Name]])","v":""},{"$f":"IF(Table1[[#This Row],[Pupil Name]]=\"\",\"\",Table1[[#This Row],[Pupil Name]])","v":""},{"$f":"IF(Table1[[#This Row],[Gender (M/F)]]=\"\",\"\",Table1[[#This Row],[Gender (M/F)]])","v":""},{"$f":"IF(Table1[[#This Row],[DisAdv (Y/N)]]=\"\",\"\",Table1[[#This Row],[DisAdv (Y/N)]])","v":""},{"$f":"IF(Table1[[#This Row],[SEND (E,K,N)]]=\"\",\"\",Table1[[#This Row],[SEND (E,K,N)]])","v":""},"",{"$f":"IF(LEN(Table4[[#This Row],[Pupil Name]])>0,1,0)","v":0}]
[{"$f":"IF(Table1[[#This Row],[School/Group Name]]=\"\",\"\",Table1[[#This Row],[School/Group Name]])","v":""},{"$f":"IF(Table1[[#This Row],[Pupil Name]]=\"\",\"\",Table1[[#This Row],[Pupil Name]])","v":""},{"$f":"IF(Table1[[#This Row],[Gender (M/F)]]=\"\",\"\",Table1[[#This Row],[Gender (M/F)]])","v":""},{"$f":"IF(Table1[[#This Row],[DisAdv (Y/N)]]=\"\",\"\",Table1[[#This Row],[DisAdv (Y/N)]])","v":""},{"$f":"IF(Table1[[#This Row],[SEND (E,K,N)]]=\"\",\"\",Table1[[#This Row],[SEND (E,K,N)]])","v":""},"",{"$f":"IF(LEN(Table4[[#This Row],[Pupil Name]])>0,1,0)","v":0}]
[{"$f":"IF(Table1[[#This Row],[School/Group Name]]=\"\",\"\",Table1[[#This Row],[School/Group Name]])","v":""},{"$f":"IF(Table1[[#This Row],[Pupil Name]]=\"\",\"\",Table1[[#This Row],[Pupil Name]])","v":""},{"$f":"IF(Table1[[#This Row],[Gender (M/F)]]=\"\",\"\",Table1[[#This Row],[Gender (M/F)]])","v":""},{"$f":"IF(Table1[[#This Row],[DisAdv (Y/N)]]=\"\",\"\",Table1[[#This Row],[DisAdv (Y/N)]])","v":""},{"$f":"IF(Table1[[#This Row],[SEND (E,K,N)]]=\"\",\"\",Table1[[#This Row],[SEND (E,K,N)]])","v":""},"",{"$f":"IF(LEN(Table4[[#This Row],[Pupil Name]])>0,1,0)","v":0}]
[{"$f":"IF(Table1[[#This Row],[School/Group Name]]=\"\",\"\",Table1[[#This Row],[School/Group Name]])","v":""},{"$f":"IF(Table1[[#This Row],[Pupil Name]]=\"\",\"\",Table1[[#This Row],[Pupil Name]])","v":""},{"$f":"IF(Table1[[#This Row],[Gender (M/F)]]=\"\",\"\",Table1[[#This Row],[Gender (M/F)]])","v":""},{"$f":"IF(Table1[[#This Row],[DisAdv (Y/N)]]=\"\",\"\",Table1[[#This Row],[DisAdv (Y/N)]])","v":""},{"$f":"IF(Table1[[#This Row],[SEND (E,K,N)]]=\"\",\"\",Table1[[#This Row],[SEND (E,K,N)]])","v":""},"",{"$f":"IF(LEN(Table4[[#This Row],[Pupil Name]])>0,1,0)","v":0}]
[{"$f":"IF(Table1[[#This Row],[School/Group Name]]=\"\",\"\",Table1[[#This Row],[School/Group Name]])","v":""},{"$f":"IF(Table1[[#This Row],[Pupil Name]]=\"\",\"\",Table1[[#This Row],[Pupil Name]])","v":""},{"$f":"IF(Table1[[#This Row],[Gender (M/F)]]=\"\",\"\",Table1[[#This Row],[Gender (M/F)]])","v":""},{"$f":"IF(Table1[[#This Row],[DisAdv (Y/N)]]=\"\",\"\",Table1[[#This Row],[DisAdv (Y/N)]])","v":""},{"$f":"IF(Table1[[#This Row],[SEND (E,K,N)]]=\"\",\"\",Table1[[#This Row],[SEND (E,K,N)]])","v":""},"",{"$f":"IF(LEN(Table4[[#This Row],[Pupil Name]])>0,1,0)","v":0}]
[{"$f":"IF(Table1[[#This Row],[School/Group Name]]=\"\",\"\",Table1[[#This Row],[School/Group Name]])","v":""},{"$f":"IF(Table1[[#This Row],[Pupil Name]]=\"\",\"\",Table1[[#This Row],[Pupil Name]])","v":""},{"$f":"IF(Table1[[#This Row],[Gender (M/F)]]=\"\",\"\",Table1[[#This Row],[Gender (M/F)]])","v":""},{"$f":"IF(Table1[[#This Row],[DisAdv (Y/N)]]=\"\",\"\",Table1[[#This Row],[DisAdv (Y/N)]])","v":""},{"$f":"IF(Table1[[#This Row],[SEND (E,K,N)]]=\"\",\"\",Table1[[#This Row],[SEND (E,K,N)]])","v":""},"",{"$f":"IF(LEN(Table4[[#This Row],[Pupil Name]])>0,1,0)","v":0}]
[{"$f":"IF(Table1[[#This Row],[School/Group Name]]=\"\",\"\",Table1[[#This Row],[School/Group Name]])","v":""},{"$f":"IF(Table1[[#This Row],[Pupil Name]]=\"\",\"\",Table1[[#This Row],[Pupil Name]])","v":""},{"$f":"IF(Table1[[#This Row],[Gender (M/F)]]=\"\",\"\",Table1[[#This Row],[Gender (M/F)]])","v":""},{"$f":"IF(Table1[[#This Row],[DisAdv (Y/N)]]=\"\",\"\",Table1[[#This Row],[DisAdv (Y/N)]])","v":""},{"$f":"IF(Table1[[#This Row],[SEND (E,K,N)]]=\"\",\"\",Table1[[#This Row],[SEND (E,K,N)]])","v":""},"",{"$f":"IF(LEN(Table4[[#This Row],[Pupil Name]])>0,1,0)","v":0}]
[{"$f":"IF(Table1[[#This Row],[School/Group Name]]=\"\",\"\",Table1[[#This Row],[School/Group Name]])","v":""},{"$f":"IF(Table1[[#This Row],[Pupil Name]]=\"\",\"\",Table1[[#This Row],[Pupil Name]])","v":""},{"$f":"IF(Table1[[#This Row],[Gender (M/F)]]=\"\",\"\",Table1[[#This Row],[Gender (M/F)]])","v":""},{"$f":"IF(Table1[[#This Row],[DisAdv (Y/N)]]=\"\",\"\",Table1[[#This Row],[DisAdv (Y/N)]])","v":""},{"$f":"IF(Table1[[#This Row],[SEND (E,K,N)]]=\"\",\"\",Table1[[#This Row],[SEND (E,K,N)]])","v":""},"",{"$f":"IF(LEN(Table4[[#This Row],[Pupil Name]])>0,1,0)","v":0}]
[{"$f":"IF(Table1[[#This Row],[School/Group Name]]=\"\",\"\",Table1[[#This Row],[School/Group Name]])","v":""},{"$f":"IF(Table1[[#This Row],[Pupil Name]]=\"\",\"\",Table1[[#This Row],[Pupil Name]])","v":""},{"$f":"IF(Table1[[#This Row],[Gender (M/F)]]=\"\",\"\",Table1[[#This Row],[Gender (M/F)]])","v":""},{"$f":"IF(Table1[[#This Row],[DisAdv (Y/N)]]=\"\",\"\",Table1[[#This Row],[DisAdv (Y/N)]])","v":""},{"$f":"IF(Table1[[#This Row],[SEND (E,K,N)]]=\"\",\"\",Table1[[#This Row],[SEND (E,K,N)]])","v":""},"",{"$f":"IF(LEN(Table4[[#This Row],[Pupil Name]])>0,1,0)","v":0}]
[{"$f":"IF(Table1[[#This Row],[School/Group Name]]=\"\",\"\",Table1[[#This Row],[School/Group Name]])","v":""},{"$f":"IF(Table1[[#This Row],[Pupil Name]]=\"\",\"\",Table1[[#This Row],[Pupil Name]])","v":""},{"$f":"IF(Table1[[#This Row],[Gender (M/F)]]=\"\",\"\",Table1[[#This Row],[Gender (M/F)]])","v":""},{"$f":"IF(Table1[[#This Row],[DisAdv (Y/N)]]=\"\",\"\",Table1[[#This Row],[DisAdv (Y/N)]])","v":""},{"$f":"IF(Table1[[#This Row],[SEND (E,K,N)]]=\"\",\"\",Table1[[#This Row],[SEND (E,K,N)]])","v":""},"",{"$f":"IF(LEN(Table4[[#This Row],[Pupil Name]])>0,1,0)","v":0}]
[{"$f":"IF(Table1[[#This Row],[School/Group Name]]=\"\",\"\",Table1[[#This Row],[School/Group Name]])","v":""},{"$f":"IF(Table1[[#This Row],[Pupil Name]]=\"\",\"\",Table1[[#This Row],[Pupil Name]])","v":""},{"$f":"IF(Table1[[#This Row],[Gender (M/F)]]=\"\",\"\",Table1[[#This Row],[Gender (M/F)]])","v":""},{"$f":"IF(Table1[[#This Row],[DisAdv (Y/N)]]=\"\",\"\",Table1[[#This Row],[DisAdv (Y/N)]])","v":""},{"$f":"IF(Table1[[#This Row],[SEND (E,K,N)]]=\"\",\"\",Table1[[#This Row],[SEND (E,K,N)]])","v":""},"",{"$f":"IF(LEN(Table4[[#This Row],[Pupil Name]])>0,1,0)","v":0}]
[{"$f":"IF(Table1[[#This Row],[School/Group Name]]=\"\",\"\",Table1[[#This Row],[School/Group Name]])","v":""},{"$f":"IF(Table1[[#This Row],[Pupil Name]]=\"\",\"\",Table1[[#This Row],[Pupil Name]])","v":""},{"$f":"IF(Table1[[#This Row],[Gender (M/F)]]=\"\",\"\",Table1[[#This Row],[Gender (M/F)]])","v":""},{"$f":"IF(Table1[[#This Row],[DisAdv (Y/N)]]=\"\",\"\",Table1[[#This Row],[DisAdv (Y/N)]])","v":""},{"$f":"IF(Table1[[#This Row],[SEND (E,K,N)]]=\"\",\"\",Table1[[#This Row],[SEND (E,K,N)]])","v":""},"",{"$f":"IF(LEN(Table4[[#This Row],[Pupil Name]])>0,1,0)","v":0}]
[{"$f":"IF(Table1[[#This Row],[School/Group Name]]=\"\",\"\",Table1[[#This Row],[School/Group Name]])","v":""},{"$f":"IF(Table1[[#This Row],[Pupil Name]]=\"\",\"\",Table1[[#This Row],[Pupil Name]])","v":""},{"$f":"IF(Table1[[#This Row],[Gender (M/F)]]=\"\",\"\",Table1[[#This Row],[Gender (M/F)]])","v":""},{"$f":"IF(Table1[[#This Row],[DisAdv (Y/N)]]=\"\",\"\",Table1[[#This Row],[DisAdv (Y/N)]])","v":""},{"$f":"IF(Table1[[#This Row],[SEND (E,K,N)]]=\"\",\"\",Table1[[#This Row],[SEND (E,K,N)]])","v":""},"",{"$f":"IF(LEN(Table4[[#This Row],[Pupil Name]])>0,1,0)","v":0}]
[{"$f":"IF(Table1[[#This Row],[School/Group Name]]=\"\",\"\",Table1[[#This Row],[School/Group Name]])","v":""},{"$f":"IF(Table1[[#This Row],[Pupil Name]]=\"\",\"\",Table1[[#This Row],[Pupil Name]])","v":""},{"$f":"IF(Table1[[#This Row],[Gender (M/F)]]=\"\",\"\",Table1[[#This Row],[Gender (M/F)]])","v":""},{"$f":"IF(Table1[[#This Row],[DisAdv (Y/N)]]=\"\",\"\",Table1[[#This Row],[DisAdv (Y/N)]])","v":""},{"$f":"IF(Table1[[#This Row],[SEND (E,K,N)]]=\"\",\"\",Table1[[#This Row],[SEND (E,K,N)]])","v":""},"",{"$f":"IF(LEN(Table4[[#This Row],[Pupil Name]])>0,1,0)","v":0}]
[{"$f":"IF(Table1[[#This Row],[School/Group Name]]=\"\",\"\",Table1[[#This Row],[School/Group Name]])","v":""},{"$f":"IF(Table1[[#This Row],[Pupil Name]]=\"\",\"\",Table1[[#This Row],[Pupil Name]])","v":""},{"$f":"IF(Table1[[#This Row],[Gender (M/F)]]=\"\",\"\",Table1[[#This Row],[Gender (M/F)]])","v":""},{"$f":"IF(Table1[[#This Row],[DisAdv (Y/N)]]=\"\",\"\",Table1[[#This Row],[DisAdv (Y/N)]])","v":""},{"$f":"IF(Table1[[#This Row],[SEND (E,K,N)]]=\"\",\"\",Table1[[#This Row],[SEND (E,K,N)]])","v":""},"",{"$f":"IF(LEN(Table4[[#This Row],[Pupil Name]])>0,1,0)","v":0}]
[{"$f":"IF(Table1[[#This Row],[School/Group Name]]=\"\",\"\",Table1[[#This Row],[School/Group Name]])","v":""},{"$f":"IF(Table1[[#This Row],[Pupil Name]]=\"\",\"\",Table1[[#This Row],[Pupil Name]])","v":""},{"$f":"IF(Table1[[#This Row],[Gender (M/F)]]=\"\",\"\",Table1[[#This Row],[Gender (M/F)]])","v":""},{"$f":"IF(Table1[[#This Row],[DisAdv (Y/N)]]=\"\",\"\",Table1[[#This Row],[DisAdv (Y/N)]])","v":""},{"$f":"IF(Table1[[#This Row],[SEND (E,K,N)]]=\"\",\"\",Table1[[#This Row],[SEND (E,K,N)]])","v":""},"",{"$f":"IF(LEN(Table4[[#This Row],[Pupil Name]])>0,1,0)","v":0}]
[{"$f":"IF(Table1[[#This Row],[School/Group Name]]=\"\",\"\",Table1[[#This Row],[School/Group Name]])","v":""},{"$f":"IF(Table1[[#This Row],[Pupil Name]]=\"\",\"\",Table1[[#This Row],[Pupil Name]])","v":""},{"$f":"IF(Table1[[#This Row],[Gender (M/F)]]=\"\",\"\",Table1[[#This Row],[Gender (M/F)]])","v":""},{"$f":"IF(Table1[[#This Row],[DisAdv (Y/N)]]=\"\",\"\",Table1[[#This Row],[DisAdv (Y/N)]])","v":""},{"$f":"IF(Table1[[#This Row],[SEND (E,K,N)]]=\"\",\"\",Table1[[#This Row],[SEND (E,K,N)]])","v":""},"",{"$f":"IF(LEN(Table4[[#This Row],[Pupil Name]])>0,1,0)","v":0}]
[{"$f":"IF(Table1[[#This Row],[School/Group Name]]=\"\",\"\",Table1[[#This Row],[School/Group Name]])","v":""},{"$f":"IF(Table1[[#This Row],[Pupil Name]]=\"\",\"\",Table1[[#This Row],[Pupil Name]])","v":""},{"$f":"IF(Table1[[#This Row],[Gender (M/F)]]=\"\",\"\",Table1[[#This Row],[Gender (M/F)]])","v":""},{"$f":"IF(Table1[[#This Row],[DisAdv (Y/N)]]=\"\",\"\",Table1[[#This Row],[DisAdv (Y/N)]])","v":""},{"$f":"IF(Table1[[#This Row],[SEND (E,K,N)]]=\"\",\"\",Table1[[#This Row],[SEND (E,K,N)]])","v":""},"",{"$f":"IF(LEN(Table4[[#This Row],[Pupil Name]])>0,1,0)","v":0}]
[{"$f":"IF(Table1[[#This Row],[School/Group Name]]=\"\",\"\",Table1[[#This Row],[School/Group Name]])","v":""},{"$f":"IF(Table1[[#This Row],[Pupil Name]]=\"\",\"\",Table1[[#This Row],[Pupil Name]])","v":""},{"$f":"IF(Table1[[#This Row],[Gender (M/F)]]=\"\",\"\",Table1[[#This Row],[Gender (M/F)]])","v":""},{"$f":"IF(Table1[[#This Row],[DisAdv (Y/N)]]=\"\",\"\",Table1[[#This Row],[DisAdv (Y/N)]])","v":""},{"$f":"IF(Table1[[#This Row],[SEND (E,K,N)]]=\"\",\"\",Table1[[#This Row],[SEND (E,K,N)]])","v":""},"",{"$f":"IF(LEN(Table4[[#This Row],[Pupil Name]])>0,1,0)","v":0}]
[{"$f":"IF(Table1[[#This Row],[School/Group Name]]=\"\",\"\",Table1[[#This Row],[School/Group Name]])","v":""},{"$f":"IF(Table1[[#This Row],[Pupil Name]]=\"\",\"\",Table1[[#This Row],[Pupil Name]])","v":""},{"$f":"IF(Table1[[#This Row],[Gender (M/F)]]=\"\",\"\",Table1[[#This Row],[Gender (M/F)]])","v":""},{"$f":"IF(Table1[[#This Row],[DisAdv (Y/N)]]=\"\",\"\",Table1[[#This Row],[DisAdv (Y/N)]])","v":""},{"$f":"IF(Table1[[#This Row],[SEND (E,K,N)]]=\"\",\"\",Table1[[#This Row],[SEND (E,K,N)]])","v":""},"",{"$f":"IF(LEN(Table4[[#This Row],[Pupil Name]])>0,1,0)","v":0}]
[{"$f":"IF(Table1[[#This Row],[School/Group Name]]=\"\",\"\",Table1[[#This Row],[School/Group Name]])","v":""},{"$f":"IF(Table1[[#This Row],[Pupil Name]]=\"\",\"\",Table1[[#This Row],[Pupil Name]])","v":""},{"$f":"IF(Table1[[#This Row],[Gender (M/F)]]=\"\",\"\",Table1[[#This Row],[Gender (M/F)]])","v":""},{"$f":"IF(Table1[[#This Row],[DisAdv (Y/N)]]=\"\",\"\",Table1[[#This Row],[DisAdv (Y/N)]])","v":""},{"$f":"IF(Table1[[#This Row],[SEND (E,K,N)]]=\"\",\"\",Table1[[#This Row],[SEND (E,K,N)]])","v":""},"",{"$f":"IF(LEN(Table4[[#This Row],[Pupil Name]])>0,1,0)","v":0}]
[{"$f":"IF(Table1[[#This Row],[School/Group Name]]=\"\",\"\",Table1[[#This Row],[School/Group Name]])","v":""},{"$f":"IF(Table1[[#This Row],[Pupil Name]]=\"\",\"\",Table1[[#This Row],[Pupil Name]])","v":""},{"$f":"IF(Table1[[#This Row],[Gender (M/F)]]=\"\",\"\",Table1[[#This Row],[Gender (M/F)]])","v":""},{"$f":"IF(Table1[[#This Row],[DisAdv (Y/N)]]=\"\",\"\",Table1[[#This Row],[DisAdv (Y/N)]])","v":""},{"$f":"IF(Table1[[#This Row],[SEND (E,K,N)]]=\"\",\"\",Table1[[#This Row],[SEND (E,K,N)]])","v":""},"",{"$f":"IF(LEN(Table4[[#This Row],[Pupil Name]])>0,1,0)","v":0}]
[{"$f":"IF(Table1[[#This Row],[School/Group Name]]=\"\",\"\",Table1[[#This Row],[School/Group Name]])","v":""},{"$f":"IF(Table1[[#This Row],[Pupil Name]]=\"\",\"\",Table1[[#This Row],[Pupil Name]])","v":""},{"$f":"IF(Table1[[#This Row],[Gender (M/F)]]=\"\",\"\",Table1[[#This Row],[Gender (M/F)]])","v":""},{"$f":"IF(Table1[[#This Row],[DisAdv (Y/N)]]=\"\",\"\",Table1[[#This Row],[DisAdv (Y/N)]])","v":""},{"$f":"IF(Table1[[#This Row],[SEND (E,K,N)]]=\"\",\"\",Table1[[#This Row],[SEND (E,K,N)]])","v":""},"",{"$f":"IF(LEN(Table4[[#This Row],[Pupil Name]])>0,1,0)","v":0}]
[{"$f":"IF(Table1[[#This Row],[School/Group Name]]=\"\",\"\",Table1[[#This Row],[School/Group Name]])","v":""},{"$f":"IF(Table1[[#This Row],[Pupil Name]]=\"\",\"\",Table1[[#This Row],[Pupil Name]])","v":""},{"$f":"IF(Table1[[#This Row],[Gender (M/F)]]=\"\",\"\",Table1[[#This Row],[Gender (M/F)]])","v":""},{"$f":"IF(Table1[[#This Row],[DisAdv (Y/N)]]=\"\",\"\",Table1[[#This Row],[DisAdv (Y/N)]])","v":""},{"$f":"IF(Table1[[#This Row],[SEND (E,K,N)]]=\"\",\"\",Table1[[#This Row],[SEND (E,K,N)]])","v":""},"",{"$f":"IF(LEN(Table4[[#This Row],[Pupil Name]])>0,1,0)","v":0}]
[{"$f":"IF(Table1[[#This Row],[School/Group Name]]=\"\",\"\",Table1[[#This Row],[School/Group Name]])","v":""},{"$f":"IF(Table1[[#This Row],[Pupil Name]]=\"\",\"\",Table1[[#This Row],[Pupil Name]])","v":""},{"$f":"IF(Table1[[#This Row],[Gender (M/F)]]=\"\",\"\",Table1[[#This Row],[Gender (M/F)]])","v":""},{"$f":"IF(Table1[[#This Row],[DisAdv (Y/N)]]=\"\",\"\",Table1[[#This Row],[DisAdv (Y/N)]])","v":""},{"$f":"IF(Table1[[#This Row],[SEND (E,K,N)]]=\"\",\"\",Table1[[#This Row],[SEND (E,K,N)]])","v":""},"",{"$f":"IF(LEN(Table4[[#This Row],[Pupil Name]])>0,1,0)","v":0}]
[{"$f":"IF(Table1[[#This Row],[School/Group Name]]=\"\",\"\",Table1[[#This Row],[School/Group Name]])","v":""},{"$f":"IF(Table1[[#This Row],[Pupil Name]]=\"\",\"\",Table1[[#This Row],[Pupil Name]])","v":""},{"$f":"IF(Table1[[#This Row],[Gender (M/F)]]=\"\",\"\",Table1[[#This Row],[Gender (M/F)]])","v":""},{"$f":"IF(Table1[[#This Row],[DisAdv (Y/N)]]=\"\",\"\",Table1[[#This Row],[DisAdv (Y/N)]])","v":""},{"$f":"IF(Table1[[#This Row],[SEND (E,K,N)]]=\"\",\"\",Table1[[#This Row],[SEND (E,K,N)]])","v":""},"",{"$f":"IF(LEN(Table4[[#This Row],[Pupil Name]])>0,1,0)","v":0}]
[{"$f":"IF(Table1[[#This Row],[School/Group Name]]=\"\",\"\",Table1[[#This Row],[School/Group Name]])","v":""},{"$f":"IF(Table1[[#This Row],[Pupil Name]]=\"\",\"\",Table1[[#This Row],[Pupil Name]])","v":""},{"$f":"IF(Table1[[#This Row],[Gender (M/F)]]=\"\",\"\",Table1[[#This Row],[Gender (M/F)]])","v":""},{"$f":"IF(Table1[[#This Row],[DisAdv (Y/N)]]=\"\",\"\",Table1[[#This Row],[DisAdv (Y/N)]])","v":""},{"$f":"IF(Table1[[#This Row],[SEND (E,K,N)]]=\"\",\"\",Table1[[#This Row],[SEND (E,K,N)]])","v":""},"",{"$f":"IF(LEN(Table4[[#This Row],[Pupil Name]])>0,1,0)","v":0}]
[{"$f":"IF(Table1[[#This Row],[School/Group Name]]=\"\",\"\",Table1[[#This Row],[School/Group Name]])","v":""},{"$f":"IF(Table1[[#This Row],[Pupil Name]]=\"\",\"\",Table1[[#This Row],[Pupil Name]])","v":""},{"$f":"IF(Table1[[#This Row],[Gender (M/F)]]=\"\",\"\",Table1[[#This Row],[Gender (M/F)]])","v":""},{"$f":"IF(Table1[[#This Row],[DisAdv (Y/N)]]=\"\",\"\",Table1[[#This Row],[DisAdv (Y/N)]])","v":""},{"$f":"IF(Table1[[#This Row],[SEND (E,K,N)]]=\"\",\"\",Table1[[#This Row],[SEND (E,K,N)]])","v":""},"",{"$f":"IF(LEN(Table4[[#This Row],[Pupil Name]])>0,1,0)","v":0}]
[{"$f":"IF(Table1[[#This Row],[School/Group Name]]=\"\",\"\",Table1[[#This Row],[School/Group Name]])","v":""},{"$f":"IF(Table1[[#This Row],[Pupil Name]]=\"\",\"\",Table1[[#This Row],[Pupil Name]])","v":""},{"$f":"IF(Table1[[#This Row],[Gender (M/F)]]=\"\",\"\",Table1[[#This Row],[Gender (M/F)]])","v":""},{"$f":"IF(Table1[[#This Row],[DisAdv (Y/N)]]=\"\",\"\",Table1[[#This Row],[DisAdv (Y/N)]])","v":""},{"$f":"IF(Table1[[#This Row],[SEND (E,K,N)]]=\"\",\"\",Table1[[#This Row],[SEND (E,K,N)]])","v":""},"",{"$f":"IF(LEN(Table4[[#This Row],[Pupil Name]])>0,1,0)","v":0}]
[{"$f":"IF(Table1[[#This Row],[School/Group Name]]=\"\",\"\",Table1[[#This Row],[School/Group Name]])","v":""},{"$f":"IF(Table1[[#This Row],[Pupil Name]]=\"\",\"\",Table1[[#This Row],[Pupil Name]])","v":""},{"$f":"IF(Table1[[#This Row],[Gender (M/F)]]=\"\",\"\",Table1[[#This Row],[Gender (M/F)]])","v":""},{"$f":"IF(Table1[[#This Row],[DisAdv (Y/N)]]=\"\",\"\",Table1[[#This Row],[DisAdv (Y/N)]])","v":""},{"$f":"IF(Table1[[#This Row],[SEND (E,K,N)]]=\"\",\"\",Table1[[#This Row],[SEND (E,K,N)]])","v":""},"",{"$f":"IF(LEN(Table4[[#This Row],[Pupil Name]])>0,1,0)","v":0}]
[{"$f":"IF(Table1[[#This Row],[School/Group Name]]=\"\",\"\",Table1[[#This Row],[School/Group Name]])","v":""},{"$f":"IF(Table1[[#This Row],[Pupil Name]]=\"\",\"\",Table1[[#This Row],[Pupil Name]])","v":""},{"$f":"IF(Table1[[#This Row],[Gender (M/F)]]=\"\",\"\",Table1[[#This Row],[Gender (M/F)]])","v":""},{"$f":"IF(Table1[[#This Row],[DisAdv (Y/N)]]=\"\",\"\",Table1[[#This Row],[DisAdv (Y/N)]])","v":""},{"$f":"IF(Table1[[#This Row],[SEND (E,K,N)]]=\"\",\"\",Table1[[#This Row],[SEND (E,K,N)]])","v":""},"",{"$f":"IF(LEN(Table4[[#This Row],[Pupil Name]])>0,1,0)","v":0}]
[{"$f":"IF(Table1[[#This Row],[School/Group Name]]=\"\",\"\",Table1[[#This Row],[School/Group Name]])","v":""},{"$f":"IF(Table1[[#This Row],[Pupil Name]]=\"\",\"\",Table1[[#This Row],[Pupil Name]])","v":""},{"$f":"IF(Table1[[#This Row],[Gender (M/F)]]=\"\",\"\",Table1[[#This Row],[Gender (M/F)]])","v":""},{"$f":"IF(Table1[[#This Row],[DisAdv (Y/N)]]=\"\",\"\",Table1[[#This Row],[DisAdv (Y/N)]])","v":""},{"$f":"IF(Table1[[#This Row],[SEND (E,K,N)]]=\"\",\"\",Table1[[#This Row],[SEND (E,K,N)]])","v":""},"",{"$f":"IF(LEN(Table4[[#This Row],[Pupil Name]])>0,1,0)","v":0}]
[{"$f":"IF(Table1[[#This Row],[School/Group Name]]=\"\",\"\",Table1[[#This Row],[School/Group Name]])","v":""},{"$f":"IF(Table1[[#This Row],[Pupil Name]]=\"\",\"\",Table1[[#This Row],[Pupil Name]])","v":""},{"$f":"IF(Table1[[#This Row],[Gender (M/F)]]=\"\",\"\",Table1[[#This Row],[Gender (M/F)]])","v":""},{"$f":"IF(Table1[[#This Row],[DisAdv (Y/N)]]=\"\",\"\",Table1[[#This Row],[DisAdv (Y/N)]])","v":""},{"$f":"IF(Table1[[#This Row],[SEND (E,K,N)]]=\"\",\"\",Table1[[#This Row],[SEND (E,K,N)]])","v":""},"",{"$f":"IF(LEN(Table4[[#This Row],[Pupil Name]])>0,1,0)","v":0}]
[{"$f":"IF(Table1[[#This Row],[School/Group Name]]=\"\",\"\",Table1[[#This Row],[School/Group Name]])","v":""},{"$f":"IF(Table1[[#This Row],[Pupil Name]]=\"\",\"\",Table1[[#This Row],[Pupil Name]])","v":""},{"$f":"IF(Table1[[#This Row],[Gender (M/F)]]=\"\",\"\",Table1[[#This Row],[Gender (M/F)]])","v":""},{"$f":"IF(Table1[[#This Row],[DisAdv (Y/N)]]=\"\",\"\",Table1[[#This Row],[DisAdv (Y/N)]])","v":""},{"$f":"IF(Table1[[#This Row],[SEND (E,K,N)]]=\"\",\"\",Table1[[#This Row],[SEND (E,K,N)]])","v":""},"",{"$f":"IF(LEN(Table4[[#This Row],[Pupil Name]])>0,1,0)","v":0}]
[{"$f":"IF(Table1[[#This Row],[School/Group Name]]=\"\",\"\",Table1[[#This Row],[School/Group Name]])","v":""},{"$f":"IF(Table1[[#This Row],[Pupil Name]]=\"\",\"\",Table1[[#This Row],[Pupil Name]])","v":""},{"$f":"IF(Table1[[#This Row],[Gender (M/F)]]=\"\",\"\",Table1[[#This Row],[Gender (M/F)]])","v":""},{"$f":"IF(Table1[[#This Row],[DisAdv (Y/N)]]=\"\",\"\",Table1[[#This Row],[DisAdv (Y/N)]])","v":""},{"$f":"IF(Table1[[#This Row],[SEND (E,K,N)]]=\"\",\"\",Table1[[#This Row],[SEND (E,K,N)]])","v":""},"",{"$f":"IF(LEN(Table4[[#This Row],[Pupil Name]])>0,1,0)","v":0}]
[{"$f":"IF(Table1[[#This Row],[School/Group Name]]=\"\",\"\",Table1[[#This Row],[School/Group Name]])","v":""},{"$f":"IF(Table1[[#This Row],[Pupil Name]]=\"\",\"\",Table1[[#This Row],[Pupil Name]])","v":""},{"$f":"IF(Table1[[#This Row],[Gender (M/F)]]=\"\",\"\",Table1[[#This Row],[Gender (M/F)]])","v":""},{"$f":"IF(Table1[[#This Row],[DisAdv (Y/N)]]=\"\",\"\",Table1[[#This Row],[DisAdv (Y/N)]])","v":""},{"$f":"IF(Table1[[#This Row],[SEND (E,K,N)]]=\"\",\"\",Table1[[#This Row],[SEND (E,K,N)]])","v":""},"",{"$f":"IF(LEN(Table4[[#This Row],[Pupil Name]])>0,1,0)","v":0}]
[{"$f":"IF(Table1[[#This Row],[School/Group Name]]=\"\",\"\",Table1[[#This Row],[School/Group Name]])","v":""},{"$f":"IF(Table1[[#This Row],[Pupil Name]]=\"\",\"\",Table1[[#This Row],[Pupil Name]])","v":""},{"$f":"IF(Table1[[#This Row],[Gender (M/F)]]=\"\",\"\",Table1[[#This Row],[Gender (M/F)]])","v":""},{"$f":"IF(Table1[[#This Row],[DisAdv (Y/N)]]=\"\",\"\",Table1[[#This Row],[DisAdv (Y/N)]])","v":""},{"$f":"IF(Table1[[#This Row],[SEND (E,K,N)]]=\"\",\"\",Table1[[#This Row],[SEND (E,K,N)]])","v":""},"",{"$f":"IF(LEN(Table4[[#This Row],[Pupil Name]])>0,1,0)","v":0}]
[{"$f":"IF(Table1[[#This Row],[School/Group Name]]=\"\",\"\",Table1[[#This Row],[School/Group Name]])","v":""},{"$f":"IF(Table1[[#This Row],[Pupil Name]]=\"\",\"\",Table1[[#This Row],[Pupil Name]])","v":""},{"$f":"IF(Table1[[#This Row],[Gender (M/F)]]=\"\",\"\",Table1[[#This Row],[Gender (M/F)]])","v":""},{"$f":"IF(Table1[[#This Row],[DisAdv (Y/N)]]=\"\",\"\",Table1[[#This Row],[DisAdv (Y/N)]])","v":""},{"$f":"IF(Table1[[#This Row],[SEND (E,K,N)]]=\"\",\"\",Table1[[#This Row],[SEND (E,K,N)]])","v":""},"",{"$f":"IF(LEN(Table4[[#This Row],[Pupil Name]])>0,1,0)","v":0}]
[{"$f":"IF(Table1[[#This Row],[School/Group Name]]=\"\",\"\",Table1[[#This Row],[School/Group Name]])","v":""},{"$f":"IF(Table1[[#This Row],[Pupil Name]]=\"\",\"\",Table1[[#This Row],[Pupil Name]])","v":""},{"$f":"IF(Table1[[#This Row],[Gender (M/F)]]=\"\",\"\",Table1[[#This Row],[Gender (M/F)]])","v":""},{"$f":"IF(Table1[[#This Row],[DisAdv (Y/N)]]=\"\",\"\",Table1[[#This Row],[DisAdv (Y/N)]])","v":""},{"$f":"IF(Table1[[#This Row],[SEND (E,K,N)]]=\"\",\"\",Table1[[#This Row],[SEND (E,K,N)]])","v":""},"",{"$f":"IF(LEN(Table4[[#This Row],[Pupil Name]])>0,1,0)","v":0}]
[{"$f":"IF(Table1[[#This Row],[School/Group Name]]=\"\",\"\",Table1[[#This Row],[School/Group Name]])","v":""},{"$f":"IF(Table1[[#This Row],[Pupil Name]]=\"\",\"\",Table1[[#This Row],[Pupil Name]])","v":""},{"$f":"IF(Table1[[#This Row],[Gender (M/F)]]=\"\",\"\",Table1[[#This Row],[Gender (M/F)]])","v":""},{"$f":"IF(Table1[[#This Row],[DisAdv (Y/N)]]=\"\",\"\",Table1[[#This Row],[DisAdv (Y/N)]])","v":""},{"$f":"IF(Table1[[#This Row],[SEND (E,K,N)]]=\"\",\"\",Table1[[#This Row],[SEND (E,K,N)]])","v":""},"",{"$f":"IF(LEN(Table4[[#This Row],[Pupil Name]])>0,1,0)","v":0}]
[{"$f":"IF(Table1[[#This Row],[School/Group Name]]=\"\",\"\",Table1[[#This Row],[School/Group Name]])","v":""},{"$f":"IF(Table1[[#This Row],[Pupil Name]]=\"\",\"\",Table1[[#This Row],[Pupil Name]])","v":""},{"$f":"IF(Table1[[#This Row],[Gender (M/F)]]=\"\",\"\",Table1[[#This Row],[Gender (M/F)]])","v":""},{"$f":"IF(Table1[[#This Row],[DisAdv (Y/N)]]=\"\",\"\",Table1[[#This Row],[DisAdv (Y/N)]])","v":""},{"$f":"IF(Table1[[#This Row],[SEND (E,K,N)]]=\"\",\"\",Table1[[#This Row],[SEND (E,K,N)]])","v":""},"",{"$f":"IF(LEN(Table4[[#This Row],[Pupil Name]])>0,1,0)","v":0}]
[{"$f":"IF(Table1[[#This Row],[School/Group Name]]=\"\",\"\",Table1[[#This Row],[School/Group Name]])","v":""},{"$f":"IF(Table1[[#This Row],[Pupil Name]]=\"\",\"\",Table1[[#This Row],[Pupil Name]])","v":""},{"$f":"IF(Table1[[#This Row],[Gender (M/F)]]=\"\",\"\",Table1[[#This Row],[Gender (M/F)]])","v":""},{"$f":"IF(Table1[[#This Row],[DisAdv (Y/N)]]=\"\",\"\",Table1[[#This Row],[DisAdv (Y/N)]])","v":""},{"$f":"IF(Table1[[#This Row],[SEND (E,K,N)]]=\"\",\"\",Table1[[#This Row],[SEND (E,K,N)]])","v":""},"",{"$f":"IF(LEN(Table4[[#This Row],[Pupil Name]])>0,1,0)","v":0}]
[{"$f":"IF(Table1[[#This Row],[School/Group Name]]=\"\",\"\",Table1[[#This Row],[School/Group Name]])","v":""},{"$f":"IF(Table1[[#This Row],[Pupil Name]]=\"\",\"\",Table1[[#This Row],[Pupil Name]])","v":""},{"$f":"IF(Table1[[#This Row],[Gender (M/F)]]=\"\",\"\",Table1[[#This Row],[Gender (M/F)]])","v":""},{"$f":"IF(Table1[[#This Row],[DisAdv (Y/N)]]=\"\",\"\",Table1[[#This Row],[DisAdv (Y/N)]])","v":""},{"$f":"IF(Table1[[#This Row],[SEND (E,K,N)]]=\"\",\"\",Table1[[#This Row],[SEND (E,K,N)]])","v":""},"",{"$f":"IF(LEN(Table4[[#This Row],[Pupil Name]])>0,1,0)","v":0}]
[{"$f":"IF(Table1[[#This Row],[School/Group Name]]=\"\",\"\",Table1[[#This Row],[School/Group Name]])","v":""},{"$f":"IF(Table1[[#This Row],[Pupil Name]]=\"\",\"\",Table1[[#This Row],[Pupil Name]])","v":""},{"$f":"IF(Table1[[#This Row],[Gender (M/F)]]=\"\",\"\",Table1[[#This Row],[Gender (M/F)]])","v":""},{"$f":"IF(Table1[[#This Row],[DisAdv (Y/N)]]=\"\",\"\",Table1[[#This Row],[DisAdv (Y/N)]])","v":""},{"$f":"IF(Table1[[#This Row],[SEND (E,K,N)]]=\"\",\"\",Table1[[#This Row],[SEND (E,K,N)]])","v":""},"",{"$f":"IF(LEN(Table4[[#This Row],[Pupil Name]])>0,1,0)","v":0}]
[{"$f":"IF(Table1[[#This Row],[School/Group Name]]=\"\",\"\",Table1[[#This Row],[School/Group Name]])","v":""},{"$f":"IF(Table1[[#This Row],[Pupil Name]]=\"\",\"\",Table1[[#This Row],[Pupil Name]])","v":""},{"$f":"IF(Table1[[#This Row],[Gender (M/F)]]=\"\",\"\",Table1[[#This Row],[Gender (M/F)]])","v":""},{"$f":"IF(Table1[[#This Row],[DisAdv (Y/N)]]=\"\",\"\",Table1[[#This Row],[DisAdv (Y/N)]])","v":""},{"$f":"IF(Table1[[#This Row],[SEND (E,K,N)]]=\"\",\"\",Table1[[#This Row],[SEND (E,K,N)]])","v":""},"",{"$f":"IF(LEN(Table4[[#This Row],[Pupil Name]])>0,1,0)","v":0}]
[{"$f":"IF(Table1[[#This Row],[School/Group Name]]=\"\",\"\",Table1[[#This Row],[School/Group Name]])","v":""},{"$f":"IF(Table1[[#This Row],[Pupil Name]]=\"\",\"\",Table1[[#This Row],[Pupil Name]])","v":""},{"$f":"IF(Table1[[#This Row],[Gender (M/F)]]=\"\",\"\",Table1[[#This Row],[Gender (M/F)]])","v":""},{"$f":"IF(Table1[[#This Row],[DisAdv (Y/N)]]=\"\",\"\",Table1[[#This Row],[DisAdv (Y/N)]])","v":""},{"$f":"IF(Table1[[#This Row],[SEND (E,K,N)]]=\"\",\"\",Table1[[#This Row],[SEND (E,K,N)]])","v":""},"",{"$f":"IF(LEN(Table4[[#This Row],[Pupil Name]])>0,1,0)","v":0}]
[{"$f":"IF(Table1[[#This Row],[School/Group Name]]=\"\",\"\",Table1[[#This Row],[School/Group Name]])","v":""},{"$f":"IF(Table1[[#This Row],[Pupil Name]]=\"\",\"\",Table1[[#This Row],[Pupil Name]])","v":""},{"$f":"IF(Table1[[#This Row],[Gender (M/F)]]=\"\",\"\",Table1[[#This Row],[Gender (M/F)]])","v":""},{"$f":"IF(Table1[[#This Row],[DisAdv (Y/N)]]=\"\",\"\",Table1[[#This Row],[DisAdv (Y/N)]])","v":""},{"$f":"IF(Table1[[#This Row],[SEND (E,K,N)]]=\"\",\"\",Table1[[#This Row],[SEND (E,K,N)]])","v":""},"",{"$f":"IF(LEN(Table4[[#This Row],[Pupil Name]])>0,1,0)","v":0}]
[{"$f":"IF(Table1[[#This Row],[School/Group Name]]=\"\",\"\",Table1[[#This Row],[School/Group Name]])","v":""},{"$f":"IF(Table1[[#This Row],[Pupil Name]]=\"\",\"\",Table1[[#This Row],[Pupil Name]])","v":""},{"$f":"IF(Table1[[#This Row],[Gender (M/F)]]=\"\",\"\",Table1[[#This Row],[Gender (M/F)]])","v":""},{"$f":"IF(Table1[[#This Row],[DisAdv (Y/N)]]=\"\",\"\",Table1[[#This Row],[DisAdv (Y/N)]])","v":""},{"$f":"IF(Table1[[#This Row],[SEND (E,K,N)]]=\"\",\"\",Table1[[#This Row],[SEND (E,K,N)]])","v":""},"",{"$f":"IF(LEN(Table4[[#This Row],[Pupil Name]])>0,1,0)","v":0}]
[{"$f":"IF(Table1[[#This Row],[School/Group Name]]=\"\",\"\",Table1[[#This Row],[School/Group Name]])","v":""},{"$f":"IF(Table1[[#This Row],[Pupil Name]]=\"\",\"\",Table1[[#This Row],[Pupil Name]])","v":""},{"$f":"IF(Table1[[#This Row],[Gender (M/F)]]=\"\",\"\",Table1[[#This Row],[Gender (M/F)]])","v":""},{"$f":"IF(Table1[[#This Row],[DisAdv (Y/N)]]=\"\",\"\",Table1[[#This Row],[DisAdv (Y/N)]])","v":""},{"$f":"IF(Table1[[#This Row],[SEND (E,K,N)]]=\"\",\"\",Table1[[#This Row],[SEND (E,K,N)]])","v":""},"",{"$f":"IF(LEN(Table4[[#This Row],[Pupil Name]])>0,1,0)","v":0}]
[{"$f":"IF(Table1[[#This Row],[School/Group Name]]=\"\",\"\",Table1[[#This Row],[School/Group Name]])","v":""},{"$f":"IF(Table1[[#This Row],[Pupil Name]]=\"\",\"\",Table1[[#This Row],[Pupil Name]])","v":""},{"$f":"IF(Table1[[#This Row],[Gender (M/F)]]=\"\",\"\",Table1[[#This Row],[Gender (M/F)]])","v":""},{"$f":"IF(Table1[[#This Row],[DisAdv (Y/N)]]=\"\",\"\",Table1[[#This Row],[DisAdv (Y/N)]])","v":""},{"$f":"IF(Table1[[#This Row],[SEND (E,K,N)]]=\"\",\"\",Table1[[#This Row],[SEND (E,K,N)]])","v":""},"",{"$f":"IF(LEN(Table4[[#This Row],[Pupil Name]])>0,1,0)","v":0}]
[{"$f":"IF(Table1[[#This Row],[School/Group Name]]=\"\",\"\",Table1[[#This Row],[School/Group Name]])","v":""},{"$f":"IF(Table1[[#This Row],[Pupil Name]]=\"\",\"\",Table1[[#This Row],[Pupil Name]])","v":""},{"$f":"IF(Table1[[#This Row],[Gender (M/F)]]=\"\",\"\",Table1[[#This Row],[Gender (M/F)]])","v":""},{"$f":"IF(Table1[[#This Row],[DisAdv (Y/N)]]=\"\",\"\",Table1[[#This Row],[DisAdv (Y/N)]])","v":""},{"$f":"IF(Table1[[#This Row],[SEND (E,K,N)]]=\"\",\"\",Table1[[#This Row],[SEND (E,K,N)]])","v":""},"",{"$f":"IF(LEN(Table4[[#This Row],[Pupil Name]])>0,1,0)","v":0}]
[{"$f":"IF(Table1[[#This Row],[School/Group Name]]=\"\",\"\",Table1[[#This Row],[School/Group Name]])","v":""},{"$f":"IF(Table1[[#This Row],[Pupil Name]]=\"\",\"\",Table1[[#This Row],[Pupil Name]])","v":""},{"$f":"IF(Table1[[#This Row],[Gender (M/F)]]=\"\",\"\",Table1[[#This Row],[Gender (M/F)]])","v":""},{"$f":"IF(Table1[[#This Row],[DisAdv (Y/N)]]=\"\",\"\",Table1[[#This Row],[DisAdv (Y/N)]])","v":""},{"$f":"IF(Table1[[#This Row],[SEND (E,K,N)]]=\"\",\"\",Table1[[#This Row],[SEND (E,K,N)]])","v":""},"",{"$f":"IF(LEN(Table4[[#This Row],[Pupil Name]])>0,1,0)","v":0}]
[{"$f":"IF(Table1[[#This Row],[School/Group Name]]=\"\",\"\",Table1[[#This Row],[School/Group Name]])","v":""},{"$f":"IF(Table1[[#This Row],[Pupil Name]]=\"\",\"\",Table1[[#This Row],[Pupil Name]])","v":""},{"$f":"IF(Table1[[#This Row],[Gender (M/F)]]=\"\",\"\",Table1[[#This Row],[Gender (M/F)]])","v":""},{"$f":"IF(Table1[[#This Row],[DisAdv (Y/N)]]=\"\",\"\",Table1[[#This Row],[DisAdv (Y/N)]])","v":""},{"$f":"IF(Table1[[#This Row],[SEND (E,K,N)]]=\"\",\"\",Table1[[#This Row],[SEND (E,K,N)]])","v":""},"",{"$f":"IF(LEN(Table4[[#This Row],[Pupil Name]])>0,1,0)","v":0}]
[{"$f":"IF(Table1[[#This Row],[School/Group Name]]=\"\",\"\",Table1[[#This Row],[School/Group Name]])","v":""},{"$f":"IF(Table1[[#This Row],[Pupil Name]]=\"\",\"\",Table1[[#This Row],[Pupil Name]])","v":""},{"$f":"IF(Table1[[#This Row],[Gender (M/F)]]=\"\",\"\",Table1[[#This Row],[Gender (M/F)]])","v":""},{"$f":"IF(Table1[[#This Row],[DisAdv (Y/N)]]=\"\",\"\",Table1[[#This Row],[DisAdv (Y/N)]])","v":""},{"$f":"IF(Table1[[#This Row],[SEND (E,K,N)]]=\"\",\"\",Table1[[#This Row],[SEND (E,K,N)]])","v":""},"",{"$f":"IF(LEN(Table4[[#This Row],[Pupil Name]])>0,1,0)","v":0}]
[{"$f":"IF(Table1[[#This Row],[School/Group Name]]=\"\",\"\",Table1[[#This Row],[School/Group Name]])","v":""},{"$f":"IF(Table1[[#This Row],[Pupil Name]]=\"\",\"\",Table1[[#This Row],[Pupil Name]])","v":""},{"$f":"IF(Table1[[#This Row],[Gender (M/F)]]=\"\",\"\",Table1[[#This Row],[Gender (M/F)]])","v":""},{"$f":"IF(Table1[[#This Row],[DisAdv (Y/N)]]=\"\",\"\",Table1[[#This Row],[DisAdv (Y/N)]])","v":""},{"$f":"IF(Table1[[#This Row],[SEND (E,K,N)]]=\"\",\"\",Table1[[#This Row],[SEND (E,K,N)]])","v":""},"",{"$f":"IF(LEN(Table4[[#This Row],[Pupil Name]])>0,1,0)","v":0}]
[{"$f":"IF(Table1[[#This Row],[School/Group Name]]=\"\",\"\",Table1[[#This Row],[School/Group Name]])","v":""},{"$f":"IF(Table1[[#This Row],[Pupil Name]]=\"\",\"\",Table1[[#This Row],[Pupil Name]])","v":""},{"$f":"IF(Table1[[#This Row],[Gender (M/F)]]=\"\",\"\",Table1[[#This Row],[Gender (M/F)]])","v":""},{"$f":"IF(Table1[[#This Row],[DisAdv (Y/N)]]=\"\",\"\",Table1[[#This Row],[DisAdv (Y/N)]])","v":""},{"$f":"IF(Table1[[#This Row],[SEND (E,K,N)]]=\"\",\"\",Table1[[#This Row],[SEND (E,K,N)]])","v":""},"",{"$f":"IF(LEN(Table4[[#This Row],[Pupil Name]])>0,1,0)","v":0}]
[{"$f":"IF(Table1[[#This Row],[School/Group Name]]=\"\",\"\",Table1[[#This Row],[School/Group Name]])","v":""},{"$f":"IF(Table1[[#This Row],[Pupil Name]]=\"\",\"\",Table1[[#This Row],[Pupil Name]])","v":""},{"$f":"IF(Table1[[#This Row],[Gender (M/F)]]=\"\",\"\",Table1[[#This Row],[Gender (M/F)]])","v":""},{"$f":"IF(Table1[[#This Row],[DisAdv (Y/N)]]=\"\",\"\",Table1[[#This Row],[DisAdv (Y/N)]])","v":""},{"$f":"IF(Table1[[#This Row],[SEND (E,K,N)]]=\"\",\"\",Table1[[#This Row],[SEND (E,K,N)]])","v":""},"",{"$f":"IF(LEN(Table4[[#This Row],[Pupil Name]])>0,1,0)","v":0}]
[{"$f":"IF(Table1[[#This Row],[School/Group Name]]=\"\",\"\",Table1[[#This Row],[School/Group Name]])","v":""},{"$f":"IF(Table1[[#This Row],[Pupil Name]]=\"\",\"\",Table1[[#This Row],[Pupil Name]])","v":""},{"$f":"IF(Table1[[#This Row],[Gender (M/F)]]=\"\",\"\",Table1[[#This Row],[Gender (M/F)]])","v":""},{"$f":"IF(Table1[[#This Row],[DisAdv (Y/N)]]=\"\",\"\",Table1[[#This Row],[DisAdv (Y/N)]])","v":""},{"$f":"IF(Table1[[#This Row],[SEND (E,K,N)]]=\"\",\"\",Table1[[#This Row],[SEND (E,K,N)]])","v":""},"",{"$f":"IF(LEN(Table4[[#This Row],[Pupil Name]])>0,1,0)","v":0}]
[{"$f":"IF(Table1[[#This Row],[School/Group Name]]=\"\",\"\",Table1[[#This Row],[School/Group Name]])","v":""},{"$f":"IF(Table1[[#This Row],[Pupil Name]]=\"\",\"\",Table1[[#This Row],[Pupil Name]])","v":""},{"$f":"IF(Table1[[#This Row],[Gender (M/F)]]=\"\",\"\",Table1[[#This Row],[Gender (M/F)]])","v":""},{"$f":"IF(Table1[[#This Row],[DisAdv (Y/N)]]=\"\",\"\",Table1[[#This Row],[DisAdv (Y/N)]])","v":""},{"$f":"IF(Table1[[#This Row],[SEND (E,K,N)]]=\"\",\"\",Table1[[#This Row],[SEND (E,K,N)]])","v":""},"",{"$f":"IF(LEN(Table4[[#This Row],[Pupil Name]])>0,1,0)","v":0}]
[{"$f":"IF(Table1[[#This Row],[School/Group Name]]=\"\",\"\",Table1[[#This Row],[School/Group Name]])","v":""},{"$f":"IF(Table1[[#This Row],[Pupil Name]]=\"\",\"\",Table1[[#This Row],[Pupil Name]])","v":""},{"$f":"IF(Table1[[#This Row],[Gender (M/F)]]=\"\",\"\",Table1[[#This Row],[Gender (M/F)]])","v":""},{"$f":"IF(Table1[[#This Row],[DisAdv (Y/N)]]=\"\",\"\",Table1[[#This Row],[DisAdv (Y/N)]])","v":""},{"$f":"IF(Table1[[#This Row],[SEND (E,K,N)]]=\"\",\"\",Table1[[#This Row],[SEND (E,K,N)]])","v":""},{"$f":"IF(H262=\"\",\"\",(SUM(H262:AU262)))","v":""},{"$f":"IF(LEN(Table4[[#This Row],[Pupil Name]])>0,1,0)","v":0}]
[{"$f":"IF(Table1[[#This Row],[School/Group Name]]=\"\",\"\",Table1[[#This Row],[School/Group Name]])","v":""},{"$f":"IF(Table1[[#This Row],[Pupil Name]]=\"\",\"\",Table1[[#This Row],[Pupil Name]])","v":""},{"$f":"IF(Table1[[#This Row],[Gender (M/F)]]=\"\",\"\",Table1[[#This Row],[Gender (M/F)]])","v":""},{"$f":"IF(Table1[[#This Row],[DisAdv (Y/N)]]=\"\",\"\",Table1[[#This Row],[DisAdv (Y/N)]])","v":""},{"$f":"IF(Table1[[#This Row],[SEND (E,K,N)]]=\"\",\"\",Table1[[#This Row],[SEND (E,K,N)]])","v":""},"",{"$f":"IF(LEN(Table4[[#This Row],[Pupil Name]])>0,1,0)","v":0}]
[{"$f":"IF(Table1[[#This Row],[School/Group Name]]=\"\",\"\",Table1[[#This Row],[School/Group Name]])","v":""},{"$f":"IF(Table1[[#This Row],[Pupil Name]]=\"\",\"\",Table1[[#This Row],[Pupil Name]])","v":""},{"$f":"IF(Table1[[#This Row],[Gender (M/F)]]=\"\",\"\",Table1[[#This Row],[Gender (M/F)]])","v":""},{"$f":"IF(Table1[[#This Row],[DisAdv (Y/N)]]=\"\",\"\",Table1[[#This Row],[DisAdv (Y/N)]])","v":""},{"$f":"IF(Table1[[#This Row],[SEND (E,K,N)]]=\"\",\"\",Table1[[#This Row],[SEND (E,K,N)]])","v":""},"",{"$f":"IF(LEN(Table4[[#This Row],[Pupil Name]])>0,1,0)","v":0}]
[{"$f":"IF(Table1[[#This Row],[School/Group Name]]=\"\",\"\",Table1[[#This Row],[School/Group Name]])","v":""},{"$f":"IF(Table1[[#This Row],[Pupil Name]]=\"\",\"\",Table1[[#This Row],[Pupil Name]])","v":""},{"$f":"IF(Table1[[#This Row],[Gender (M/F)]]=\"\",\"\",Table1[[#This Row],[Gender (M/F)]])","v":""},{"$f":"IF(Table1[[#This Row],[DisAdv (Y/N)]]=\"\",\"\",Table1[[#This Row],[DisAdv (Y/N)]])","v":""},{"$f":"IF(Table1[[#This Row],[SEND (E,K,N)]]=\"\",\"\",Table1[[#This Row],[SEND (E,K,N)]])","v":""},"",{"$f":"IF(LEN(Table4[[#This Row],[Pupil Name]])>0,1,0)","v":0}]
[{"$f":"IF(Table1[[#This Row],[School/Group Name]]=\"\",\"\",Table1[[#This Row],[School/Group Name]])","v":""},{"$f":"IF(Table1[[#This Row],[Pupil Name]]=\"\",\"\",Table1[[#This Row],[Pupil Name]])","v":""},{"$f":"IF(Table1[[#This Row],[Gender (M/F)]]=\"\",\"\",Table1[[#This Row],[Gender (M/F)]])","v":""},{"$f":"IF(Table1[[#This Row],[DisAdv (Y/N)]]=\"\",\"\",Table1[[#This Row],[DisAdv (Y/N)]])","v":""},{"$f":"IF(Table1[[#This Row],[SEND (E,K,N)]]=\"\",\"\",Table1[[#This Row],[SEND (E,K,N)]])","v":""},"",{"$f":"IF(LEN(Table4[[#This Row],[Pupil Name]])>0,1,0)","v":0}]
[{"$f":"IF(Table1[[#This Row],[School/Group Name]]=\"\",\"\",Table1[[#This Row],[School/Group Name]])","v":""},{"$f":"IF(Table1[[#This Row],[Pupil Name]]=\"\",\"\",Table1[[#This Row],[Pupil Name]])","v":""},{"$f":"IF(Table1[[#This Row],[Gender (M/F)]]=\"\",\"\",Table1[[#This Row],[Gender (M/F)]])","v":""},{"$f":"IF(Table1[[#This Row],[DisAdv (Y/N)]]=\"\",\"\",Table1[[#This Row],[DisAdv (Y/N)]])","v":""},{"$f":"IF(Table1[[#This Row],[SEND (E,K,N)]]=\"\",\"\",Table1[[#This Row],[SEND (E,K,N)]])","v":""},"",{"$f":"IF(LEN(Table4[[#This Row],[Pupil Name]])>0,1,0)","v":0}]
[{"$f":"IF(Table1[[#This Row],[School/Group Name]]=\"\",\"\",Table1[[#This Row],[School/Group Name]])","v":""},{"$f":"IF(Table1[[#This Row],[Pupil Name]]=\"\",\"\",Table1[[#This Row],[Pupil Name]])","v":""},{"$f":"IF(Table1[[#This Row],[Gender (M/F)]]=\"\",\"\",Table1[[#This Row],[Gender (M/F)]])","v":""},{"$f":"IF(Table1[[#This Row],[DisAdv (Y/N)]]=\"\",\"\",Table1[[#This Row],[DisAdv (Y/N)]])","v":""},{"$f":"IF(Table1[[#This Row],[SEND (E,K,N)]]=\"\",\"\",Table1[[#This Row],[SEND (E,K,N)]])","v":""},"",{"$f":"IF(LEN(Table4[[#This Row],[Pupil Name]])>0,1,0)","v":0}]
[{"$f":"IF(Table1[[#This Row],[School/Group Name]]=\"\",\"\",Table1[[#This Row],[School/Group Name]])","v":""},{"$f":"IF(Table1[[#This Row],[Pupil Name]]=\"\",\"\",Table1[[#This Row],[Pupil Name]])","v":""},{"$f":"IF(Table1[[#This Row],[Gender (M/F)]]=\"\",\"\",Table1[[#This Row],[Gender (M/F)]])","v":""},{"$f":"IF(Table1[[#This Row],[DisAdv (Y/N)]]=\"\",\"\",Table1[[#This Row],[DisAdv (Y/N)]])","v":""},{"$f":"IF(Table1[[#This Row],[SEND (E,K,N)]]=\"\",\"\",Table1[[#This Row],[SEND (E,K,N)]])","v":""},"",{"$f":"IF(LEN(Table4[[#This Row],[Pupil Name]])>0,1,0)","v":0}]
[{"$f":"IF(Table1[[#This Row],[School/Group Name]]=\"\",\"\",Table1[[#This Row],[School/Group Name]])","v":""},{"$f":"IF(Table1[[#This Row],[Pupil Name]]=\"\",\"\",Table1[[#This Row],[Pupil Name]])","v":""},{"$f":"IF(Table1[[#This Row],[Gender (M/F)]]=\"\",\"\",Table1[[#This Row],[Gender (M/F)]])","v":""},{"$f":"IF(Table1[[#This Row],[DisAdv (Y/N)]]=\"\",\"\",Table1[[#This Row],[DisAdv (Y/N)]])","v":""},{"$f":"IF(Table1[[#This Row],[SEND (E,K,N)]]=\"\",\"\",Table1[[#This Row],[SEND (E,K,N)]])","v":""},"",{"$f":"IF(LEN(Table4[[#This Row],[Pupil Name]])>0,1,0)","v":0}]
[{"$f":"IF(Table1[[#This Row],[School/Group Name]]=\"\",\"\",Table1[[#This Row],[School/Group Name]])","v":""},{"$f":"IF(Table1[[#This Row],[Pupil Name]]=\"\",\"\",Table1[[#This Row],[Pupil Name]])","v":""},{"$f":"IF(Table1[[#This Row],[Gender (M/F)]]=\"\",\"\",Table1[[#This Row],[Gender (M/F)]])","v":""},{"$f":"IF(Table1[[#This Row],[DisAdv (Y/N)]]=\"\",\"\",Table1[[#This Row],[DisAdv (Y/N)]])","v":""},{"$f":"IF(Table1[[#This Row],[SEND (E,K,N)]]=\"\",\"\",Table1[[#This Row],[SEND (E,K,N)]])","v":""},"",{"$f":"IF(LEN(Table4[[#This Row],[Pupil Name]])>0,1,0)","v":0}]
[{"$f":"IF(Table1[[#This Row],[School/Group Name]]=\"\",\"\",Table1[[#This Row],[School/Group Name]])","v":""},{"$f":"IF(Table1[[#This Row],[Pupil Name]]=\"\",\"\",Table1[[#This Row],[Pupil Name]])","v":""},{"$f":"IF(Table1[[#This Row],[Gender (M/F)]]=\"\",\"\",Table1[[#This Row],[Gender (M/F)]])","v":""},{"$f":"IF(Table1[[#This Row],[DisAdv (Y/N)]]=\"\",\"\",Table1[[#This Row],[DisAdv (Y/N)]])","v":""},{"$f":"IF(Table1[[#This Row],[SEND (E,K,N)]]=\"\",\"\",Table1[[#This Row],[SEND (E,K,N)]])","v":""},"",{"$f":"IF(LEN(Table4[[#This Row],[Pupil Name]])>0,1,0)","v":0}]
[{"$f":"IF(Table1[[#This Row],[School/Group Name]]=\"\",\"\",Table1[[#This Row],[School/Group Name]])","v":""},{"$f":"IF(Table1[[#This Row],[Pupil Name]]=\"\",\"\",Table1[[#This Row],[Pupil Name]])","v":""},{"$f":"IF(Table1[[#This Row],[Gender (M/F)]]=\"\",\"\",Table1[[#This Row],[Gender (M/F)]])","v":""},{"$f":"IF(Table1[[#This Row],[DisAdv (Y/N)]]=\"\",\"\",Table1[[#This Row],[DisAdv (Y/N)]])","v":""},{"$f":"IF(Table1[[#This Row],[SEND (E,K,N)]]=\"\",\"\",Table1[[#This Row],[SEND (E,K,N)]])","v":""},"",{"$f":"IF(LEN(Table4[[#This Row],[Pupil Name]])>0,1,0)","v":0}]
[{"$f":"IF(Table1[[#This Row],[School/Group Name]]=\"\",\"\",Table1[[#This Row],[School/Group Name]])","v":""},{"$f":"IF(Table1[[#This Row],[Pupil Name]]=\"\",\"\",Table1[[#This Row],[Pupil Name]])","v":""},{"$f":"IF(Table1[[#This Row],[Gender (M/F)]]=\"\",\"\",Table1[[#This Row],[Gender (M/F)]])","v":""},{"$f":"IF(Table1[[#This Row],[DisAdv (Y/N)]]=\"\",\"\",Table1[[#This Row],[DisAdv (Y/N)]])","v":""},{"$f":"IF(Table1[[#This Row],[SEND (E,K,N)]]=\"\",\"\",Table1[[#This Row],[SEND (E,K,N)]])","v":""},"",{"$f":"IF(LEN(Table4[[#This Row],[Pupil Name]])>0,1,0)","v":0}]
[{"$f":"IF(Table1[[#This Row],[School/Group Name]]=\"\",\"\",Table1[[#This Row],[School/Group Name]])","v":""},{"$f":"IF(Table1[[#This Row],[Pupil Name]]=\"\",\"\",Table1[[#This Row],[Pupil Name]])","v":""},{"$f":"IF(Table1[[#This Row],[Gender (M/F)]]=\"\",\"\",Table1[[#This Row],[Gender (M/F)]])","v":""},{"$f":"IF(Table1[[#This Row],[DisAdv (Y/N)]]=\"\",\"\",Table1[[#This Row],[DisAdv (Y/N)]])","v":""},{"$f":"IF(Table1[[#This Row],[SEND (E,K,N)]]=\"\",\"\",Table1[[#This Row],[SEND (E,K,N)]])","v":""},"",{"$f":"IF(LEN(Table4[[#This Row],[Pupil Name]])>0,1,0)","v":0}]
[{"$f":"IF(Table1[[#This Row],[School/Group Name]]=\"\",\"\",Table1[[#This Row],[School/Group Name]])","v":""},{"$f":"IF(Table1[[#This Row],[Pupil Name]]=\"\",\"\",Table1[[#This Row],[Pupil Name]])","v":""},{"$f":"IF(Table1[[#This Row],[Gender (M/F)]]=\"\",\"\",Table1[[#This Row],[Gender (M/F)]])","v":""},{"$f":"IF(Table1[[#This Row],[DisAdv (Y/N)]]=\"\",\"\",Table1[[#This Row],[DisAdv (Y/N)]])","v":""},{"$f":"IF(Table1[[#This Row],[SEND (E,K,N)]]=\"\",\"\",Table1[[#This Row],[SEND (E,K,N)]])","v":""},"",{"$f":"IF(LEN(Table4[[#This Row],[Pupil Name]])>0,1,0)","v":0}]
[{"$f":"IF(Table1[[#This Row],[School/Group Name]]=\"\",\"\",Table1[[#This Row],[School/Group Name]])","v":""},{"$f":"IF(Table1[[#This Row],[Pupil Name]]=\"\",\"\",Table1[[#This Row],[Pupil Name]])","v":""},{"$f":"IF(Table1[[#This Row],[Gender (M/F)]]=\"\",\"\",Table1[[#This Row],[Gender (M/F)]])","v":""},{"$f":"IF(Table1[[#This Row],[DisAdv (Y/N)]]=\"\",\"\",Table1[[#This Row],[DisAdv (Y/N)]])","v":""},{"$f":"IF(Table1[[#This Row],[SEND (E,K,N)]]=\"\",\"\",Table1[[#This Row],[SEND (E,K,N)]])","v":""},"",{"$f":"IF(LEN(Table4[[#This Row],[Pupil Name]])>0,1,0)","v":0}]
[{"$f":"IF(Table1[[#This Row],[School/Group Name]]=\"\",\"\",Table1[[#This Row],[School/Group Name]])","v":""},{"$f":"IF(Table1[[#This Row],[Pupil Name]]=\"\",\"\",Table1[[#This Row],[Pupil Name]])","v":""},{"$f":"IF(Table1[[#This Row],[Gender (M/F)]]=\"\",\"\",Table1[[#This Row],[Gender (M/F)]])","v":""},{"$f":"IF(Table1[[#This Row],[DisAdv (Y/N)]]=\"\",\"\",Table1[[#This Row],[DisAdv (Y/N)]])","v":""},{"$f":"IF(Table1[[#This Row],[SEND (E,K,N)]]=\"\",\"\",Table1[[#This Row],[SEND (E,K,N)]])","v":""},"",{"$f":"IF(LEN(Table4[[#This Row],[Pupil Name]])>0,1,0)","v":0}]
[{"$f":"IF(Table1[[#This Row],[School/Group Name]]=\"\",\"\",Table1[[#This Row],[School/Group Name]])","v":""},{"$f":"IF(Table1[[#This Row],[Pupil Name]]=\"\",\"\",Table1[[#This Row],[Pupil Name]])","v":""},{"$f":"IF(Table1[[#This Row],[Gender (M/F)]]=\"\",\"\",Table1[[#This Row],[Gender (M/F)]])","v":""},{"$f":"IF(Table1[[#This Row],[DisAdv (Y/N)]]=\"\",\"\",Table1[[#This Row],[DisAdv (Y/N)]])","v":""},{"$f":"IF(Table1[[#This Row],[SEND (E,K,N)]]=\"\",\"\",Table1[[#This Row],[SEND (E,K,N)]])","v":""},"",{"$f":"IF(LEN(Table4[[#This Row],[Pupil Name]])>0,1,0)","v":0}]
[{"$f":"IF(Table1[[#This Row],[School/Group Name]]=\"\",\"\",Table1[[#This Row],[School/Group Name]])","v":""},{"$f":"IF(Table1[[#This Row],[Pupil Name]]=\"\",\"\",Table1[[#This Row],[Pupil Name]])","v":""},{"$f":"IF(Table1[[#This Row],[Gender (M/F)]]=\"\",\"\",Table1[[#This Row],[Gender (M/F)]])","v":""},{"$f":"IF(Table1[[#This Row],[DisAdv (Y/N)]]=\"\",\"\",Table1[[#This Row],[DisAdv (Y/N)]])","v":""},{"$f":"IF(Table1[[#This Row],[SEND (E,K,N)]]=\"\",\"\",Table1[[#This Row],[SEND (E,K,N)]])","v":""},"",{"$f":"IF(LEN(Table4[[#This Row],[Pupil Name]])>0,1,0)","v":0}]
[{"$f":"IF(Table1[[#This Row],[School/Group Name]]=\"\",\"\",Table1[[#This Row],[School/Group Name]])","v":""},{"$f":"IF(Table1[[#This Row],[Pupil Name]]=\"\",\"\",Table1[[#This Row],[Pupil Name]])","v":""},{"$f":"IF(Table1[[#This Row],[Gender (M/F)]]=\"\",\"\",Table1[[#This Row],[Gender (M/F)]])","v":""},{"$f":"IF(Table1[[#This Row],[DisAdv (Y/N)]]=\"\",\"\",Table1[[#This Row],[DisAdv (Y/N)]])","v":""},{"$f":"IF(Table1[[#This Row],[SEND (E,K,N)]]=\"\",\"\",Table1[[#This Row],[SEND (E,K,N)]])","v":""},"",{"$f":"IF(LEN(Table4[[#This Row],[Pupil Name]])>0,1,0)","v":0}]
[{"$f":"IF(Table1[[#This Row],[School/Group Name]]=\"\",\"\",Table1[[#This Row],[School/Group Name]])","v":""},{"$f":"IF(Table1[[#This Row],[Pupil Name]]=\"\",\"\",Table1[[#This Row],[Pupil Name]])","v":""},{"$f":"IF(Table1[[#This Row],[Gender (M/F)]]=\"\",\"\",Table1[[#This Row],[Gender (M/F)]])","v":""},{"$f":"IF(Table1[[#This Row],[DisAdv (Y/N)]]=\"\",\"\",Table1[[#This Row],[DisAdv (Y/N)]])","v":""},{"$f":"IF(Table1[[#This Row],[SEND (E,K,N)]]=\"\",\"\",Table1[[#This Row],[SEND (E,K,N)]])","v":""},"",{"$f":"IF(LEN(Table4[[#This Row],[Pupil Name]])>0,1,0)","v":0}]
[{"$f":"IF(Table1[[#This Row],[School/Group Name]]=\"\",\"\",Table1[[#This Row],[School/Group Name]])","v":""},{"$f":"IF(Table1[[#This Row],[Pupil Name]]=\"\",\"\",Table1[[#This Row],[Pupil Name]])","v":""},{"$f":"IF(Table1[[#This Row],[Gender (M/F)]]=\"\",\"\",Table1[[#This Row],[Gender (M/F)]])","v":""},{"$f":"IF(Table1[[#This Row],[DisAdv (Y/N)]]=\"\",\"\",Table1[[#This Row],[DisAdv (Y/N)]])","v":""},{"$f":"IF(Table1[[#This Row],[SEND (E,K,N)]]=\"\",\"\",Table1[[#This Row],[SEND (E,K,N)]])","v":""},"",{"$f":"IF(LEN(Table4[[#This Row],[Pupil Name]])>0,1,0)","v":0}]
[{"$f":"IF(Table1[[#This Row],[School/Group Name]]=\"\",\"\",Table1[[#This Row],[School/Group Name]])","v":""},{"$f":"IF(Table1[[#This Row],[Pupil Name]]=\"\",\"\",Table1[[#This Row],[Pupil Name]])","v":""},{"$f":"IF(Table1[[#This Row],[Gender (M/F)]]=\"\",\"\",Table1[[#This Row],[Gender (M/F)]])","v":""},{"$f":"IF(Table1[[#This Row],[DisAdv (Y/N)]]=\"\",\"\",Table1[[#This Row],[DisAdv (Y/N)]])","v":""},{"$f":"IF(Table1[[#This Row],[SEND (E,K,N)]]=\"\",\"\",Table1[[#This Row],[SEND (E,K,N)]])","v":""},"",{"$f":"IF(LEN(Table4[[#This Row],[Pupil Name]])>0,1,0)","v":0}]
[{"$f":"IF(Table1[[#This Row],[School/Group Name]]=\"\",\"\",Table1[[#This Row],[School/Group Name]])","v":""},{"$f":"IF(Table1[[#This Row],[Pupil Name]]=\"\",\"\",Table1[[#This Row],[Pupil Name]])","v":""},{"$f":"IF(Table1[[#This Row],[Gender (M/F)]]=\"\",\"\",Table1[[#This Row],[Gender (M/F)]])","v":""},{"$f":"IF(Table1[[#This Row],[DisAdv (Y/N)]]=\"\",\"\",Table1[[#This Row],[DisAdv (Y/N)]])","v":""},{"$f":"IF(Table1[[#This Row],[SEND (E,K,N)]]=\"\",\"\",Table1[[#This Row],[SEND (E,K,N)]])","v":""},"",{"$f":"IF(LEN(Table4[[#This Row],[Pupil Name]])>0,1,0)","v":0}]
[{"$f":"IF(Table1[[#This Row],[School/Group Name]]=\"\",\"\",Table1[[#This Row],[School/Group Name]])","v":""},{"$f":"IF(Table1[[#This Row],[Pupil Name]]=\"\",\"\",Table1[[#This Row],[Pupil Name]])","v":""},{"$f":"IF(Table1[[#This Row],[Gender (M/F)]]=\"\",\"\",Table1[[#This Row],[Gender (M/F)]])","v":""},{"$f":"IF(Table1[[#This Row],[DisAdv (Y/N)]]=\"\",\"\",Table1[[#This Row],[DisAdv (Y/N)]])","v":""},{"$f":"IF(Table1[[#This Row],[SEND (E,K,N)]]=\"\",\"\",Table1[[#This Row],[SEND (E,K,N)]])","v":""},"",{"$f":"IF(LEN(Table4[[#This Row],[Pupil Name]])>0,1,0)","v":0}]
[{"$f":"IF(Table1[[#This Row],[School/Group Name]]=\"\",\"\",Table1[[#This Row],[School/Group Name]])","v":""},{"$f":"IF(Table1[[#This Row],[Pupil Name]]=\"\",\"\",Table1[[#This Row],[Pupil Name]])","v":""},{"$f":"IF(Table1[[#This Row],[Gender (M/F)]]=\"\",\"\",Table1[[#This Row],[Gender (M/F)]])","v":""},{"$f":"IF(Table1[[#This Row],[DisAdv (Y/N)]]=\"\",\"\",Table1[[#This Row],[DisAdv (Y/N)]])","v":""},{"$f":"IF(Table1[[#This Row],[SEND (E,K,N)]]=\"\",\"\",Table1[[#This Row],[SEND (E,K,N)]])","v":""},"",{"$f":"IF(LEN(Table4[[#This Row],[Pupil Name]])>0,1,0)","v":0}]
[{"$f":"IF(Table1[[#This Row],[School/Group Name]]=\"\",\"\",Table1[[#This Row],[School/Group Name]])","v":""},{"$f":"IF(Table1[[#This Row],[Pupil Name]]=\"\",\"\",Table1[[#This Row],[Pupil Name]])","v":""},{"$f":"IF(Table1[[#This Row],[Gender (M/F)]]=\"\",\"\",Table1[[#This Row],[Gender (M/F)]])","v":""},{"$f":"IF(Table1[[#This Row],[DisAdv (Y/N)]]=\"\",\"\",Table1[[#This Row],[DisAdv (Y/N)]])","v":""},{"$f":"IF(Table1[[#This Row],[SEND (E,K,N)]]=\"\",\"\",Table1[[#This Row],[SEND (E,K,N)]])","v":""},"",{"$f":"IF(LEN(Table4[[#This Row],[Pupil Name]])>0,1,0)","v":0}]
[{"$f":"IF(Table1[[#This Row],[School/Group Name]]=\"\",\"\",Table1[[#This Row],[School/Group Name]])","v":""},{"$f":"IF(Table1[[#This Row],[Pupil Name]]=\"\",\"\",Table1[[#This Row],[Pupil Name]])","v":""},{"$f":"IF(Table1[[#This Row],[Gender (M/F)]]=\"\",\"\",Table1[[#This Row],[Gender (M/F)]])","v":""},{"$f":"IF(Table1[[#This Row],[DisAdv (Y/N)]]=\"\",\"\",Table1[[#This Row],[DisAdv (Y/N)]])","v":""},{"$f":"IF(Table1[[#This Row],[SEND (E,K,N)]]=\"\",\"\",Table1[[#This Row],[SEND (E,K,N)]])","v":""},"",{"$f":"IF(LEN(Table4[[#This Row],[Pupil Name]])>0,1,0)","v":0}]
[{"$f":"IF(Table1[[#This Row],[School/Group Name]]=\"\",\"\",Table1[[#This Row],[School/Group Name]])","v":""},{"$f":"IF(Table1[[#This Row],[Pupil Name]]=\"\",\"\",Table1[[#This Row],[Pupil Name]])","v":""},{"$f":"IF(Table1[[#This Row],[Gender (M/F)]]=\"\",\"\",Table1[[#This Row],[Gender (M/F)]])","v":""},{"$f":"IF(Table1[[#This Row],[DisAdv (Y/N)]]=\"\",\"\",Table1[[#This Row],[DisAdv (Y/N)]])","v":""},{"$f":"IF(Table1[[#This Row],[SEND (E,K,N)]]=\"\",\"\",Table1[[#This Row],[SEND (E,K,N)]])","v":""},"",{"$f":"IF(LEN(Table4[[#This Row],[Pupil Name]])>0,1,0)","v":0}]
[{"$f":"IF(Table1[[#This Row],[School/Group Name]]=\"\",\"\",Table1[[#This Row],[School/Group Name]])","v":""},{"$f":"IF(Table1[[#This Row],[Pupil Name]]=\"\",\"\",Table1[[#This Row],[Pupil Name]])","v":""},{"$f":"IF(Table1[[#This Row],[Gender (M/F)]]=\"\",\"\",Table1[[#This Row],[Gender (M/F)]])","v":""},{"$f":"IF(Table1[[#This Row],[DisAdv (Y/N)]]=\"\",\"\",Table1[[#This Row],[DisAdv (Y/N)]])","v":""},{"$f":"IF(Table1[[#This Row],[SEND (E,K,N)]]=\"\",\"\",Table1[[#This Row],[SEND (E,K,N)]])","v":""},"",{"$f":"IF(LEN(Table4[[#This Row],[Pupil Name]])>0,1,0)","v":0}]
[{"$f":"IF(Table1[[#This Row],[School/Group Name]]=\"\",\"\",Table1[[#This Row],[School/Group Name]])","v":""},{"$f":"IF(Table1[[#This Row],[Pupil Name]]=\"\",\"\",Table1[[#This Row],[Pupil Name]])","v":""},{"$f":"IF(Table1[[#This Row],[Gender (M/F)]]=\"\",\"\",Table1[[#This Row],[Gender (M/F)]])","v":""},{"$f":"IF(Table1[[#This Row],[DisAdv (Y/N)]]=\"\",\"\",Table1[[#This Row],[DisAdv (Y/N)]])","v":""},{"$f":"IF(Table1[[#This Row],[SEND (E,K,N)]]=\"\",\"\",Table1[[#This Row],[SEND (E,K,N)]])","v":""},"",{"$f":"IF(LEN(Table4[[#This Row],[Pupil Name]])>0,1,0)","v":0}]
[{"$f":"IF(Table1[[#This Row],[School/Group Name]]=\"\",\"\",Table1[[#This Row],[School/Group Name]])","v":""},{"$f":"IF(Table1[[#This Row],[Pupil Name]]=\"\",\"\",Table1[[#This Row],[Pupil Name]])","v":""},{"$f":"IF(Table1[[#This Row],[Gender (M/F)]]=\"\",\"\",Table1[[#This Row],[Gender (M/F)]])","v":""},{"$f":"IF(Table1[[#This Row],[DisAdv (Y/N)]]=\"\",\"\",Table1[[#This Row],[DisAdv (Y/N)]])","v":""},{"$f":"IF(Table1[[#This Row],[SEND (E,K,N)]]=\"\",\"\",Table1[[#This Row],[SEND (E,K,N)]])","v":""},"",{"$f":"IF(LEN(Table4[[#This Row],[Pupil Name]])>0,1,0)","v":0}]
[{"$f":"IF(Table1[[#This Row],[School/Group Name]]=\"\",\"\",Table1[[#This Row],[School/Group Name]])","v":""},{"$f":"IF(Table1[[#This Row],[Pupil Name]]=\"\",\"\",Table1[[#This Row],[Pupil Name]])","v":""},{"$f":"IF(Table1[[#This Row],[Gender (M/F)]]=\"\",\"\",Table1[[#This Row],[Gender (M/F)]])","v":""},{"$f":"IF(Table1[[#This Row],[DisAdv (Y/N)]]=\"\",\"\",Table1[[#This Row],[DisAdv (Y/N)]])","v":""},{"$f":"IF(Table1[[#This Row],[SEND (E,K,N)]]=\"\",\"\",Table1[[#This Row],[SEND (E,K,N)]])","v":""},"",{"$f":"IF(LEN(Table4[[#This Row],[Pupil Name]])>0,1,0)","v":0}]
[{"$f":"IF(Table1[[#This Row],[School/Group Name]]=\"\",\"\",Table1[[#This Row],[School/Group Name]])","v":""},{"$f":"IF(Table1[[#This Row],[Pupil Name]]=\"\",\"\",Table1[[#This Row],[Pupil Name]])","v":""},{"$f":"IF(Table1[[#This Row],[Gender (M/F)]]=\"\",\"\",Table1[[#This Row],[Gender (M/F)]])","v":""},{"$f":"IF(Table1[[#This Row],[DisAdv (Y/N)]]=\"\",\"\",Table1[[#This Row],[DisAdv (Y/N)]])","v":""},{"$f":"IF(Table1[[#This Row],[SEND (E,K,N)]]=\"\",\"\",Table1[[#This Row],[SEND (E,K,N)]])","v":""},"",{"$f":"IF(LEN(Table4[[#This Row],[Pupil Name]])>0,1,0)","v":0}]
[{"$f":"IF(Table1[[#This Row],[School/Group Name]]=\"\",\"\",Table1[[#This Row],[School/Group Name]])","v":""},{"$f":"IF(Table1[[#This Row],[Pupil Name]]=\"\",\"\",Table1[[#This Row],[Pupil Name]])","v":""},{"$f":"IF(Table1[[#This Row],[Gender (M/F)]]=\"\",\"\",Table1[[#This Row],[Gender (M/F)]])","v":""},{"$f":"IF(Table1[[#This Row],[DisAdv (Y/N)]]=\"\",\"\",Table1[[#This Row],[DisAdv (Y/N)]])","v":""},{"$f":"IF(Table1[[#This Row],[SEND (E,K,N)]]=\"\",\"\",Table1[[#This Row],[SEND (E,K,N)]])","v":""},"",{"$f":"IF(LEN(Table4[[#This Row],[Pupil Name]])>0,1,0)","v":0}]
[{"$f":"IF(Table1[[#This Row],[School/Group Name]]=\"\",\"\",Table1[[#This Row],[School/Group Name]])","v":""},{"$f":"IF(Table1[[#This Row],[Pupil Name]]=\"\",\"\",Table1[[#This Row],[Pupil Name]])","v":""},{"$f":"IF(Table1[[#This Row],[Gender (M/F)]]=\"\",\"\",Table1[[#This Row],[Gender (M/F)]])","v":""},{"$f":"IF(Table1[[#This Row],[DisAdv (Y/N)]]=\"\",\"\",Table1[[#This Row],[DisAdv (Y/N)]])","v":""},{"$f":"IF(Table1[[#This Row],[SEND (E,K,N)]]=\"\",\"\",Table1[[#This Row],[SEND (E,K,N)]])","v":""},"",{"$f":"IF(LEN(Table4[[#This Row],[Pupil Name]])>0,1,0)","v":0}]
[{"$f":"IF(Table1[[#This Row],[School/Group Name]]=\"\",\"\",Table1[[#This Row],[School/Group Name]])","v":""},{"$f":"IF(Table1[[#This Row],[Pupil Name]]=\"\",\"\",Table1[[#This Row],[Pupil Name]])","v":""},{"$f":"IF(Table1[[#This Row],[Gender (M/F)]]=\"\",\"\",Table1[[#This Row],[Gender (M/F)]])","v":""},{"$f":"IF(Table1[[#This Row],[DisAdv (Y/N)]]=\"\",\"\",Table1[[#This Row],[DisAdv (Y/N)]])","v":""},{"$f":"IF(Table1[[#This Row],[SEND (E,K,N)]]=\"\",\"\",Table1[[#This Row],[SEND (E,K,N)]])","v":""},"",{"$f":"IF(LEN(Table4[[#This Row],[Pupil Name]])>0,1,0)","v":0}]
[{"$f":"IF(Table1[[#This Row],[School/Group Name]]=\"\",\"\",Table1[[#This Row],[School/Group Name]])","v":""},{"$f":"IF(Table1[[#This Row],[Pupil Name]]=\"\",\"\",Table1[[#This Row],[Pupil Name]])","v":""},{"$f":"IF(Table1[[#This Row],[Gender (M/F)]]=\"\",\"\",Table1[[#This Row],[Gender (M/F)]])","v":""},{"$f":"IF(Table1[[#This Row],[DisAdv (Y/N)]]=\"\",\"\",Table1[[#This Row],[DisAdv (Y/N)]])","v":""},{"$f":"IF(Table1[[#This Row],[SEND (E,K,N)]]=\"\",\"\",Table1[[#This Row],[SEND (E,K,N)]])","v":""},"",{"$f":"IF(LEN(Table4[[#This Row],[Pupil Name]])>0,1,0)","v":0}]
[{"$f":"IF(Table1[[#This Row],[School/Group Name]]=\"\",\"\",Table1[[#This Row],[School/Group Name]])","v":""},{"$f":"IF(Table1[[#This Row],[Pupil Name]]=\"\",\"\",Table1[[#This Row],[Pupil Name]])","v":""},{"$f":"IF(Table1[[#This Row],[Gender (M/F)]]=\"\",\"\",Table1[[#This Row],[Gender (M/F)]])","v":""},{"$f":"IF(Table1[[#This Row],[DisAdv (Y/N)]]=\"\",\"\",Table1[[#This Row],[DisAdv (Y/N)]])","v":""},{"$f":"IF(Table1[[#This Row],[SEND (E,K,N)]]=\"\",\"\",Table1[[#This Row],[SEND (E,K,N)]])","v":""},"",{"$f":"IF(LEN(Table4[[#This Row],[Pupil Name]])>0,1,0)","v":0}]
[{"$f":"IF(Table1[[#This Row],[School/Group Name]]=\"\",\"\",Table1[[#This Row],[School/Group Name]])","v":""},{"$f":"IF(Table1[[#This Row],[Pupil Name]]=\"\",\"\",Table1[[#This Row],[Pupil Name]])","v":""},{"$f":"IF(Table1[[#This Row],[Gender (M/F)]]=\"\",\"\",Table1[[#This Row],[Gender (M/F)]])","v":""},{"$f":"IF(Table1[[#This Row],[DisAdv (Y/N)]]=\"\",\"\",Table1[[#This Row],[DisAdv (Y/N)]])","v":""},{"$f":"IF(Table1[[#This Row],[SEND (E,K,N)]]=\"\",\"\",Table1[[#This Row],[SEND (E,K,N)]])","v":""},"",{"$f":"IF(LEN(Table4[[#This Row],[Pupil Name]])>0,1,0)","v":0}]
[{"$f":"IF(Table1[[#This Row],[School/Group Name]]=\"\",\"\",Table1[[#This Row],[School/Group Name]])","v":""},{"$f":"IF(Table1[[#This Row],[Pupil Name]]=\"\",\"\",Table1[[#This Row],[Pupil Name]])","v":""},{"$f":"IF(Table1[[#This Row],[Gender (M/F)]]=\"\",\"\",Table1[[#This Row],[Gender (M/F)]])","v":""},{"$f":"IF(Table1[[#This Row],[DisAdv (Y/N)]]=\"\",\"\",Table1[[#This Row],[DisAdv (Y/N)]])","v":""},{"$f":"IF(Table1[[#This Row],[SEND (E,K,N)]]=\"\",\"\",Table1[[#This Row],[SEND (E,K,N)]])","v":""},"",{"$f":"IF(LEN(Table4[[#This Row],[Pupil Name]])>0,1,0)","v":0}]
[{"$f":"IF(Table1[[#This Row],[School/Group Name]]=\"\",\"\",Table1[[#This Row],[School/Group Name]])","v":""},{"$f":"IF(Table1[[#This Row],[Pupil Name]]=\"\",\"\",Table1[[#This Row],[Pupil Name]])","v":""},{"$f":"IF(Table1[[#This Row],[Gender (M/F)]]=\"\",\"\",Table1[[#This Row],[Gender (M/F)]])","v":""},{"$f":"IF(Table1[[#This Row],[DisAdv (Y/N)]]=\"\",\"\",Table1[[#This Row],[DisAdv (Y/N)]])","v":""},{"$f":"IF(Table1[[#This Row],[SEND (E,K,N)]]=\"\",\"\",Table1[[#This Row],[SEND (E,K,N)]])","v":""},"",{"$f":"IF(LEN(Table4[[#This Row],[Pupil Name]])>0,1,0)","v":0}]
[{"$f":"IF(Table1[[#This Row],[School/Group Name]]=\"\",\"\",Table1[[#This Row],[School/Group Name]])","v":""},{"$f":"IF(Table1[[#This Row],[Pupil Name]]=\"\",\"\",Table1[[#This Row],[Pupil Name]])","v":""},{"$f":"IF(Table1[[#This Row],[Gender (M/F)]]=\"\",\"\",Table1[[#This Row],[Gender (M/F)]])","v":""},{"$f":"IF(Table1[[#This Row],[DisAdv (Y/N)]]=\"\",\"\",Table1[[#This Row],[DisAdv (Y/N)]])","v":""},{"$f":"IF(Table1[[#This Row],[SEND (E,K,N)]]=\"\",\"\",Table1[[#This Row],[SEND (E,K,N)]])","v":""},"",{"$f":"IF(LEN(Table4[[#This Row],[Pupil Name]])>0,1,0)","v":0}]
[{"$f":"IF(Table1[[#This Row],[School/Group Name]]=\"\",\"\",Table1[[#This Row],[School/Group Name]])","v":""},{"$f":"IF(Table1[[#This Row],[Pupil Name]]=\"\",\"\",Table1[[#This Row],[Pupil Name]])","v":""},{"$f":"IF(Table1[[#This Row],[Gender (M/F)]]=\"\",\"\",Table1[[#This Row],[Gender (M/F)]])","v":""},{"$f":"IF(Table1[[#This Row],[DisAdv (Y/N)]]=\"\",\"\",Table1[[#This Row],[DisAdv (Y/N)]])","v":""},{"$f":"IF(Table1[[#This Row],[SEND (E,K,N)]]=\"\",\"\",Table1[[#This Row],[SEND (E,K,N)]])","v":""},"",{"$f":"IF(LEN(Table4[[#This Row],[Pupil Name]])>0,1,0)","v":0}]
[{"$f":"IF(Table1[[#This Row],[School/Group Name]]=\"\",\"\",Table1[[#This Row],[School/Group Name]])","v":""},{"$f":"IF(Table1[[#This Row],[Pupil Name]]=\"\",\"\",Table1[[#This Row],[Pupil Name]])","v":""},{"$f":"IF(Table1[[#This Row],[Gender (M/F)]]=\"\",\"\",Table1[[#This Row],[Gender (M/F)]])","v":""},{"$f":"IF(Table1[[#This Row],[DisAdv (Y/N)]]=\"\",\"\",Table1[[#This Row],[DisAdv (Y/N)]])","v":""},{"$f":"IF(Table1[[#This Row],[SEND (E,K,N)]]=\"\",\"\",Table1[[#This Row],[SEND (E,K,N)]])","v":""},"",{"$f":"IF(LEN(Table4[[#This Row],[Pupil Name]])>0,1,0)","v":0}]
[{"$f":"IF(Table1[[#This Row],[School/Group Name]]=\"\",\"\",Table1[[#This Row],[School/Group Name]])","v":""},{"$f":"IF(Table1[[#This Row],[Pupil Name]]=\"\",\"\",Table1[[#This Row],[Pupil Name]])","v":""},{"$f":"IF(Table1[[#This Row],[Gender (M/F)]]=\"\",\"\",Table1[[#This Row],[Gender (M/F)]])","v":""},{"$f":"IF(Table1[[#This Row],[DisAdv (Y/N)]]=\"\",\"\",Table1[[#This Row],[DisAdv (Y/N)]])","v":""},{"$f":"IF(Table1[[#This Row],[SEND (E,K,N)]]=\"\",\"\",Table1[[#This Row],[SEND (E,K,N)]])","v":""},"",{"$f":"IF(LEN(Table4[[#This Row],[Pupil Name]])>0,1,0)","v":0}]
[{"$f":"IF(Table1[[#This Row],[School/Group Name]]=\"\",\"\",Table1[[#This Row],[School/Group Name]])","v":""},{"$f":"IF(Table1[[#This Row],[Pupil Name]]=\"\",\"\",Table1[[#This Row],[Pupil Name]])","v":""},{"$f":"IF(Table1[[#This Row],[Gender (M/F)]]=\"\",\"\",Table1[[#This Row],[Gender (M/F)]])","v":""},{"$f":"IF(Table1[[#This Row],[DisAdv (Y/N)]]=\"\",\"\",Table1[[#This Row],[DisAdv (Y/N)]])","v":""},{"$f":"IF(Table1[[#This Row],[SEND (E,K,N)]]=\"\",\"\",Table1[[#This Row],[SEND (E,K,N)]])","v":""},"",{"$f":"IF(LEN(Table4[[#This Row],[Pupil Name]])>0,1,0)","v":0}]
[{"$f":"IF(Table1[[#This Row],[School/Group Name]]=\"\",\"\",Table1[[#This Row],[School/Group Name]])","v":""},{"$f":"IF(Table1[[#This Row],[Pupil Name]]=\"\",\"\",Table1[[#This Row],[Pupil Name]])","v":""},{"$f":"IF(Table1[[#This Row],[Gender (M/F)]]=\"\",\"\",Table1[[#This Row],[Gender (M/F)]])","v":""},{"$f":"IF(Table1[[#This Row],[DisAdv (Y/N)]]=\"\",\"\",Table1[[#This Row],[DisAdv (Y/N)]])","v":""},{"$f":"IF(Table1[[#This Row],[SEND (E,K,N)]]=\"\",\"\",Table1[[#This Row],[SEND (E,K,N)]])","v":""},"",{"$f":"IF(LEN(Table4[[#This Row],[Pupil Name]])>0,1,0)","v":0}]
[{"$f":"IF(Table1[[#This Row],[School/Group Name]]=\"\",\"\",Table1[[#This Row],[School/Group Name]])","v":""},{"$f":"IF(Table1[[#This Row],[Pupil Name]]=\"\",\"\",Table1[[#This Row],[Pupil Name]])","v":""},{"$f":"IF(Table1[[#This Row],[Gender (M/F)]]=\"\",\"\",Table1[[#This Row],[Gender (M/F)]])","v":""},{"$f":"IF(Table1[[#This Row],[DisAdv (Y/N)]]=\"\",\"\",Table1[[#This Row],[DisAdv (Y/N)]])","v":""},{"$f":"IF(Table1[[#This Row],[SEND (E,K,N)]]=\"\",\"\",Table1[[#This Row],[SEND (E,K,N)]])","v":""},"",{"$f":"IF(LEN(Table4[[#This Row],[Pupil Name]])>0,1,0)","v":0}]
[{"$f":"IF(Table1[[#This Row],[School/Group Name]]=\"\",\"\",Table1[[#This Row],[School/Group Name]])","v":""},{"$f":"IF(Table1[[#This Row],[Pupil Name]]=\"\",\"\",Table1[[#This Row],[Pupil Name]])","v":""},{"$f":"IF(Table1[[#This Row],[Gender (M/F)]]=\"\",\"\",Table1[[#This Row],[Gender (M/F)]])","v":""},{"$f":"IF(Table1[[#This Row],[DisAdv (Y/N)]]=\"\",\"\",Table1[[#This Row],[DisAdv (Y/N)]])","v":""},{"$f":"IF(Table1[[#This Row],[SEND (E,K,N)]]=\"\",\"\",Table1[[#This Row],[SEND (E,K,N)]])","v":""},"",{"$f":"IF(LEN(Table4[[#This Row],[Pupil Name]])>0,1,0)","v":0}]
[{"$f":"IF(Table1[[#This Row],[School/Group Name]]=\"\",\"\",Table1[[#This Row],[School/Group Name]])","v":""},{"$f":"IF(Table1[[#This Row],[Pupil Name]]=\"\",\"\",Table1[[#This Row],[Pupil Name]])","v":""},{"$f":"IF(Table1[[#This Row],[Gender (M/F)]]=\"\",\"\",Table1[[#This Row],[Gender (M/F)]])","v":""},{"$f":"IF(Table1[[#This Row],[DisAdv (Y/N)]]=\"\",\"\",Table1[[#This Row],[DisAdv (Y/N)]])","v":""},{"$f":"IF(Table1[[#This Row],[SEND (E,K,N)]]=\"\",\"\",Table1[[#This Row],[SEND (E,K,N)]])","v":""},"",{"$f":"IF(LEN(Table4[[#This Row],[Pupil Name]])>0,1,0)","v":0}]
[{"$f":"IF(Table1[[#This Row],[School/Group Name]]=\"\",\"\",Table1[[#This Row],[School/Group Name]])","v":""},{"$f":"IF(Table1[[#This Row],[Pupil Name]]=\"\",\"\",Table1[[#This Row],[Pupil Name]])","v":""},{"$f":"IF(Table1[[#This Row],[Gender (M/F)]]=\"\",\"\",Table1[[#This Row],[Gender (M/F)]])","v":""},{"$f":"IF(Table1[[#This Row],[DisAdv (Y/N)]]=\"\",\"\",Table1[[#This Row],[DisAdv (Y/N)]])","v":""},{"$f":"IF(Table1[[#This Row],[SEND (E,K,N)]]=\"\",\"\",Table1[[#This Row],[SEND (E,K,N)]])","v":""},"",{"$f":"IF(LEN(Table4[[#This Row],[Pupil Name]])>0,1,0)","v":0}]
[{"$f":"IF(Table1[[#This Row],[School/Group Name]]=\"\",\"\",Table1[[#This Row],[School/Group Name]])","v":""},{"$f":"IF(Table1[[#This Row],[Pupil Name]]=\"\",\"\",Table1[[#This Row],[Pupil Name]])","v":""},{"$f":"IF(Table1[[#This Row],[Gender (M/F)]]=\"\",\"\",Table1[[#This Row],[Gender (M/F)]])","v":""},{"$f":"IF(Table1[[#This Row],[DisAdv (Y/N)]]=\"\",\"\",Table1[[#This Row],[DisAdv (Y/N)]])","v":""},{"$f":"IF(Table1[[#This Row],[SEND (E,K,N)]]=\"\",\"\",Table1[[#This Row],[SEND (E,K,N)]])","v":""},"",{"$f":"IF(LEN(Table4[[#This Row],[Pupil Name]])>0,1,0)","v":0}]
[{"$f":"IF(Table1[[#This Row],[School/Group Name]]=\"\",\"\",Table1[[#This Row],[School/Group Name]])","v":""},{"$f":"IF(Table1[[#This Row],[Pupil Name]]=\"\",\"\",Table1[[#This Row],[Pupil Name]])","v":""},{"$f":"IF(Table1[[#This Row],[Gender (M/F)]]=\"\",\"\",Table1[[#This Row],[Gender (M/F)]])","v":""},{"$f":"IF(Table1[[#This Row],[DisAdv (Y/N)]]=\"\",\"\",Table1[[#This Row],[DisAdv (Y/N)]])","v":""},{"$f":"IF(Table1[[#This Row],[SEND (E,K,N)]]=\"\",\"\",Table1[[#This Row],[SEND (E,K,N)]])","v":""},"",{"$f":"IF(LEN(Table4[[#This Row],[Pupil Name]])>0,1,0)","v":0}]
[{"$f":"IF(Table1[[#This Row],[School/Group Name]]=\"\",\"\",Table1[[#This Row],[School/Group Name]])","v":""},{"$f":"IF(Table1[[#This Row],[Pupil Name]]=\"\",\"\",Table1[[#This Row],[Pupil Name]])","v":""},{"$f":"IF(Table1[[#This Row],[Gender (M/F)]]=\"\",\"\",Table1[[#This Row],[Gender (M/F)]])","v":""},{"$f":"IF(Table1[[#This Row],[DisAdv (Y/N)]]=\"\",\"\",Table1[[#This Row],[DisAdv (Y/N)]])","v":""},{"$f":"IF(Table1[[#This Row],[SEND (E,K,N)]]=\"\",\"\",Table1[[#This Row],[SEND (E,K,N)]])","v":""},"",{"$f":"IF(LEN(Table4[[#This Row],[Pupil Name]])>0,1,0)","v":0}]
[{"$f":"IF(Table1[[#This Row],[School/Group Name]]=\"\",\"\",Table1[[#This Row],[School/Group Name]])","v":""},{"$f":"IF(Table1[[#This Row],[Pupil Name]]=\"\",\"\",Table1[[#This Row],[Pupil Name]])","v":""},{"$f":"IF(Table1[[#This Row],[Gender (M/F)]]=\"\",\"\",Table1[[#This Row],[Gender (M/F)]])","v":""},{"$f":"IF(Table1[[#This Row],[DisAdv (Y/N)]]=\"\",\"\",Table1[[#This Row],[DisAdv (Y/N)]])","v":""},{"$f":"IF(Table1[[#This Row],[SEND (E,K,N)]]=\"\",\"\",Table1[[#This Row],[SEND (E,K,N)]])","v":""},"",{"$f":"IF(LEN(Table4[[#This Row],[Pupil Name]])>0,1,0)","v":0}]
[{"$f":"IF(Table1[[#This Row],[School/Group Name]]=\"\",\"\",Table1[[#This Row],[School/Group Name]])","v":""},{"$f":"IF(Table1[[#This Row],[Pupil Name]]=\"\",\"\",Table1[[#This Row],[Pupil Name]])","v":""},{"$f":"IF(Table1[[#This Row],[Gender (M/F)]]=\"\",\"\",Table1[[#This Row],[Gender (M/F)]])","v":""},{"$f":"IF(Table1[[#This Row],[DisAdv (Y/N)]]=\"\",\"\",Table1[[#This Row],[DisAdv (Y/N)]])","v":""},{"$f":"IF(Table1[[#This Row],[SEND (E,K,N)]]=\"\",\"\",Table1[[#This Row],[SEND (E,K,N)]])","v":""},"",{"$f":"IF(LEN(Table4[[#This Row],[Pupil Name]])>0,1,0)","v":0}]
[{"$f":"IF(Table1[[#This Row],[School/Group Name]]=\"\",\"\",Table1[[#This Row],[School/Group Name]])","v":""},{"$f":"IF(Table1[[#This Row],[Pupil Name]]=\"\",\"\",Table1[[#This Row],[Pupil Name]])","v":""},{"$f":"IF(Table1[[#This Row],[Gender (M/F)]]=\"\",\"\",Table1[[#This Row],[Gender (M/F)]])","v":""},{"$f":"IF(Table1[[#This Row],[DisAdv (Y/N)]]=\"\",\"\",Table1[[#This Row],[DisAdv (Y/N)]])","v":""},{"$f":"IF(Table1[[#This Row],[SEND (E,K,N)]]=\"\",\"\",Table1[[#This Row],[SEND (E,K,N)]])","v":""},"",{"$f":"IF(LEN(Table4[[#This Row],[Pupil Name]])>0,1,0)","v":0}]
[{"$f":"IF(Table1[[#This Row],[School/Group Name]]=\"\",\"\",Table1[[#This Row],[School/Group Name]])","v":""},{"$f":"IF(Table1[[#This Row],[Pupil Name]]=\"\",\"\",Table1[[#This Row],[Pupil Name]])","v":""},{"$f":"IF(Table1[[#This Row],[Gender (M/F)]]=\"\",\"\",Table1[[#This Row],[Gender (M/F)]])","v":""},{"$f":"IF(Table1[[#This Row],[DisAdv (Y/N)]]=\"\",\"\",Table1[[#This Row],[DisAdv (Y/N)]])","v":""},{"$f":"IF(Table1[[#This Row],[SEND (E,K,N)]]=\"\",\"\",Table1[[#This Row],[SEND (E,K,N)]])","v":""},"",{"$f":"IF(LEN(Table4[[#This Row],[Pupil Name]])>0,1,0)","v":0}]
[{"$f":"IF(Table1[[#This Row],[School/Group Name]]=\"\",\"\",Table1[[#This Row],[School/Group Name]])","v":""},{"$f":"IF(Table1[[#This Row],[Pupil Name]]=\"\",\"\",Table1[[#This Row],[Pupil Name]])","v":""},{"$f":"IF(Table1[[#This Row],[Gender (M/F)]]=\"\",\"\",Table1[[#This Row],[Gender (M/F)]])","v":""},{"$f":"IF(Table1[[#This Row],[DisAdv (Y/N)]]=\"\",\"\",Table1[[#This Row],[DisAdv (Y/N)]])","v":""},{"$f":"IF(Table1[[#This Row],[SEND (E,K,N)]]=\"\",\"\",Table1[[#This Row],[SEND (E,K,N)]])","v":""},"",{"$f":"IF(LEN(Table4[[#This Row],[Pupil Name]])>0,1,0)","v":0}]
[{"$f":"IF(Table1[[#This Row],[School/Group Name]]=\"\",\"\",Table1[[#This Row],[School/Group Name]])","v":""},{"$f":"IF(Table1[[#This Row],[Pupil Name]]=\"\",\"\",Table1[[#This Row],[Pupil Name]])","v":""},{"$f":"IF(Table1[[#This Row],[Gender (M/F)]]=\"\",\"\",Table1[[#This Row],[Gender (M/F)]])","v":""},{"$f":"IF(Table1[[#This Row],[DisAdv (Y/N)]]=\"\",\"\",Table1[[#This Row],[DisAdv (Y/N)]])","v":""},{"$f":"IF(Table1[[#This Row],[SEND (E,K,N)]]=\"\",\"\",Table1[[#This Row],[SEND (E,K,N)]])","v":""},"",{"$f":"IF(LEN(Table4[[#This Row],[Pupil Name]])>0,1,0)","v":0}]
[{"$f":"IF(Table1[[#This Row],[School/Group Name]]=\"\",\"\",Table1[[#This Row],[School/Group Name]])","v":""},{"$f":"IF(Table1[[#This Row],[Pupil Name]]=\"\",\"\",Table1[[#This Row],[Pupil Name]])","v":""},{"$f":"IF(Table1[[#This Row],[Gender (M/F)]]=\"\",\"\",Table1[[#This Row],[Gender (M/F)]])","v":""},{"$f":"IF(Table1[[#This Row],[DisAdv (Y/N)]]=\"\",\"\",Table1[[#This Row],[DisAdv (Y/N)]])","v":""},{"$f":"IF(Table1[[#This Row],[SEND (E,K,N)]]=\"\",\"\",Table1[[#This Row],[SEND (E,K,N)]])","v":""},"",{"$f":"IF(LEN(Table4[[#This Row],[Pupil Name]])>0,1,0)","v":0}]
[{"$f":"IF(Table1[[#This Row],[School/Group Name]]=\"\",\"\",Table1[[#This Row],[School/Group Name]])","v":""},{"$f":"IF(Table1[[#This Row],[Pupil Name]]=\"\",\"\",Table1[[#This Row],[Pupil Name]])","v":""},{"$f":"IF(Table1[[#This Row],[Gender (M/F)]]=\"\",\"\",Table1[[#This Row],[Gender (M/F)]])","v":""},{"$f":"IF(Table1[[#This Row],[DisAdv (Y/N)]]=\"\",\"\",Table1[[#This Row],[DisAdv (Y/N)]])","v":""},{"$f":"IF(Table1[[#This Row],[SEND (E,K,N)]]=\"\",\"\",Table1[[#This Row],[SEND (E,K,N)]])","v":""},"",{"$f":"IF(LEN(Table4[[#This Row],[Pupil Name]])>0,1,0)","v":0}]
[{"$f":"IF(Table1[[#This Row],[School/Group Name]]=\"\",\"\",Table1[[#This Row],[School/Group Name]])","v":""},{"$f":"IF(Table1[[#This Row],[Pupil Name]]=\"\",\"\",Table1[[#This Row],[Pupil Name]])","v":""},{"$f":"IF(Table1[[#This Row],[Gender (M/F)]]=\"\",\"\",Table1[[#This Row],[Gender (M/F)]])","v":""},{"$f":"IF(Table1[[#This Row],[DisAdv (Y/N)]]=\"\",\"\",Table1[[#This Row],[DisAdv (Y/N)]])","v":""},{"$f":"IF(Table1[[#This Row],[SEND (E,K,N)]]=\"\",\"\",Table1[[#This Row],[SEND (E,K,N)]])","v":""},"",{"$f":"IF(LEN(Table4[[#This Row],[Pupil Name]])>0,1,0)","v":0}]
[{"$f":"IF(Table1[[#This Row],[School/Group Name]]=\"\",\"\",Table1[[#This Row],[School/Group Name]])","v":""},{"$f":"IF(Table1[[#This Row],[Pupil Name]]=\"\",\"\",Table1[[#This Row],[Pupil Name]])","v":""},{"$f":"IF(Table1[[#This Row],[Gender (M/F)]]=\"\",\"\",Table1[[#This Row],[Gender (M/F)]])","v":""},{"$f":"IF(Table1[[#This Row],[DisAdv (Y/N)]]=\"\",\"\",Table1[[#This Row],[DisAdv (Y/N)]])","v":""},{"$f":"IF(Table1[[#This Row],[SEND (E,K,N)]]=\"\",\"\",Table1[[#This Row],[SEND (E,K,N)]])","v":""},{"$f":"IF(H326=\"\",\"\",(SUM(H326:AU326)))","v":""},{"$f":"IF(LEN(Table4[[#This Row],[Pupil Name]])>0,1,0)","v":0}]
[{"$f":"IF(Table1[[#This Row],[School/Group Name]]=\"\",\"\",Table1[[#This Row],[School/Group Name]])","v":""},{"$f":"IF(Table1[[#This Row],[Pupil Name]]=\"\",\"\",Table1[[#This Row],[Pupil Name]])","v":""},{"$f":"IF(Table1[[#This Row],[Gender (M/F)]]=\"\",\"\",Table1[[#This Row],[Gender (M/F)]])","v":""},{"$f":"IF(Table1[[#This Row],[DisAdv (Y/N)]]=\"\",\"\",Table1[[#This Row],[DisAdv (Y/N)]])","v":""},{"$f":"IF(Table1[[#This Row],[SEND (E,K,N)]]=\"\",\"\",Table1[[#This Row],[SEND (E,K,N)]])","v":""},"",{"$f":"IF(LEN(Table4[[#This Row],[Pupil Name]])>0,1,0)","v":0}]
[{"$f":"IF(Table1[[#This Row],[School/Group Name]]=\"\",\"\",Table1[[#This Row],[School/Group Name]])","v":""},{"$f":"IF(Table1[[#This Row],[Pupil Name]]=\"\",\"\",Table1[[#This Row],[Pupil Name]])","v":""},{"$f":"IF(Table1[[#This Row],[Gender (M/F)]]=\"\",\"\",Table1[[#This Row],[Gender (M/F)]])","v":""},{"$f":"IF(Table1[[#This Row],[DisAdv (Y/N)]]=\"\",\"\",Table1[[#This Row],[DisAdv (Y/N)]])","v":""},{"$f":"IF(Table1[[#This Row],[SEND (E,K,N)]]=\"\",\"\",Table1[[#This Row],[SEND (E,K,N)]])","v":""},"",{"$f":"IF(LEN(Table4[[#This Row],[Pupil Name]])>0,1,0)","v":0}]
[{"$f":"IF(Table1[[#This Row],[School/Group Name]]=\"\",\"\",Table1[[#This Row],[School/Group Name]])","v":""},{"$f":"IF(Table1[[#This Row],[Pupil Name]]=\"\",\"\",Table1[[#This Row],[Pupil Name]])","v":""},{"$f":"IF(Table1[[#This Row],[Gender (M/F)]]=\"\",\"\",Table1[[#This Row],[Gender (M/F)]])","v":""},{"$f":"IF(Table1[[#This Row],[DisAdv (Y/N)]]=\"\",\"\",Table1[[#This Row],[DisAdv (Y/N)]])","v":""},{"$f":"IF(Table1[[#This Row],[SEND (E,K,N)]]=\"\",\"\",Table1[[#This Row],[SEND (E,K,N)]])","v":""},"",{"$f":"IF(LEN(Table4[[#This Row],[Pupil Name]])>0,1,0)","v":0}]
[{"$f":"IF(Table1[[#This Row],[School/Group Name]]=\"\",\"\",Table1[[#This Row],[School/Group Name]])","v":""},{"$f":"IF(Table1[[#This Row],[Pupil Name]]=\"\",\"\",Table1[[#This Row],[Pupil Name]])","v":""},{"$f":"IF(Table1[[#This Row],[Gender (M/F)]]=\"\",\"\",Table1[[#This Row],[Gender (M/F)]])","v":""},{"$f":"IF(Table1[[#This Row],[DisAdv (Y/N)]]=\"\",\"\",Table1[[#This Row],[DisAdv (Y/N)]])","v":""},{"$f":"IF(Table1[[#This Row],[SEND (E,K,N)]]=\"\",\"\",Table1[[#This Row],[SEND (E,K,N)]])","v":""},"",{"$f":"IF(LEN(Table4[[#This Row],[Pupil Name]])>0,1,0)","v":0}]
[{"$f":"IF(Table1[[#This Row],[School/Group Name]]=\"\",\"\",Table1[[#This Row],[School/Group Name]])","v":""},{"$f":"IF(Table1[[#This Row],[Pupil Name]]=\"\",\"\",Table1[[#This Row],[Pupil Name]])","v":""},{"$f":"IF(Table1[[#This Row],[Gender (M/F)]]=\"\",\"\",Table1[[#This Row],[Gender (M/F)]])","v":""},{"$f":"IF(Table1[[#This Row],[DisAdv (Y/N)]]=\"\",\"\",Table1[[#This Row],[DisAdv (Y/N)]])","v":""},{"$f":"IF(Table1[[#This Row],[SEND (E,K,N)]]=\"\",\"\",Table1[[#This Row],[SEND (E,K,N)]])","v":""},"",{"$f":"IF(LEN(Table4[[#This Row],[Pupil Name]])>0,1,0)","v":0}]
[{"$f":"IF(Table1[[#This Row],[School/Group Name]]=\"\",\"\",Table1[[#This Row],[School/Group Name]])","v":""},{"$f":"IF(Table1[[#This Row],[Pupil Name]]=\"\",\"\",Table1[[#This Row],[Pupil Name]])","v":""},{"$f":"IF(Table1[[#This Row],[Gender (M/F)]]=\"\",\"\",Table1[[#This Row],[Gender (M/F)]])","v":""},{"$f":"IF(Table1[[#This Row],[DisAdv (Y/N)]]=\"\",\"\",Table1[[#This Row],[DisAdv (Y/N)]])","v":""},{"$f":"IF(Table1[[#This Row],[SEND (E,K,N)]]=\"\",\"\",Table1[[#This Row],[SEND (E,K,N)]])","v":""},"",{"$f":"IF(LEN(Table4[[#This Row],[Pupil Name]])>0,1,0)","v":0}]
[{"$f":"IF(Table1[[#This Row],[School/Group Name]]=\"\",\"\",Table1[[#This Row],[School/Group Name]])","v":""},{"$f":"IF(Table1[[#This Row],[Pupil Name]]=\"\",\"\",Table1[[#This Row],[Pupil Name]])","v":""},{"$f":"IF(Table1[[#This Row],[Gender (M/F)]]=\"\",\"\",Table1[[#This Row],[Gender (M/F)]])","v":""},{"$f":"IF(Table1[[#This Row],[DisAdv (Y/N)]]=\"\",\"\",Table1[[#This Row],[DisAdv (Y/N)]])","v":""},{"$f":"IF(Table1[[#This Row],[SEND (E,K,N)]]=\"\",\"\",Table1[[#This Row],[SEND (E,K,N)]])","v":""},"",{"$f":"IF(LEN(Table4[[#This Row],[Pupil Name]])>0,1,0)","v":0}]
[{"$f":"IF(Table1[[#This Row],[School/Group Name]]=\"\",\"\",Table1[[#This Row],[School/Group Name]])","v":""},{"$f":"IF(Table1[[#This Row],[Pupil Name]]=\"\",\"\",Table1[[#This Row],[Pupil Name]])","v":""},{"$f":"IF(Table1[[#This Row],[Gender (M/F)]]=\"\",\"\",Table1[[#This Row],[Gender (M/F)]])","v":""},{"$f":"IF(Table1[[#This Row],[DisAdv (Y/N)]]=\"\",\"\",Table1[[#This Row],[DisAdv (Y/N)]])","v":""},{"$f":"IF(Table1[[#This Row],[SEND (E,K,N)]]=\"\",\"\",Table1[[#This Row],[SEND (E,K,N)]])","v":""},"",{"$f":"IF(LEN(Table4[[#This Row],[Pupil Name]])>0,1,0)","v":0}]
[{"$f":"IF(Table1[[#This Row],[School/Group Name]]=\"\",\"\",Table1[[#This Row],[School/Group Name]])","v":""},{"$f":"IF(Table1[[#This Row],[Pupil Name]]=\"\",\"\",Table1[[#This Row],[Pupil Name]])","v":""},{"$f":"IF(Table1[[#This Row],[Gender (M/F)]]=\"\",\"\",Table1[[#This Row],[Gender (M/F)]])","v":""},{"$f":"IF(Table1[[#This Row],[DisAdv (Y/N)]]=\"\",\"\",Table1[[#This Row],[DisAdv (Y/N)]])","v":""},{"$f":"IF(Table1[[#This Row],[SEND (E,K,N)]]=\"\",\"\",Table1[[#This Row],[SEND (E,K,N)]])","v":""},"",{"$f":"IF(LEN(Table4[[#This Row],[Pupil Name]])>0,1,0)","v":0}]
[{"$f":"IF(Table1[[#This Row],[School/Group Name]]=\"\",\"\",Table1[[#This Row],[School/Group Name]])","v":""},{"$f":"IF(Table1[[#This Row],[Pupil Name]]=\"\",\"\",Table1[[#This Row],[Pupil Name]])","v":""},{"$f":"IF(Table1[[#This Row],[Gender (M/F)]]=\"\",\"\",Table1[[#This Row],[Gender (M/F)]])","v":""},{"$f":"IF(Table1[[#This Row],[DisAdv (Y/N)]]=\"\",\"\",Table1[[#This Row],[DisAdv (Y/N)]])","v":""},{"$f":"IF(Table1[[#This Row],[SEND (E,K,N)]]=\"\",\"\",Table1[[#This Row],[SEND (E,K,N)]])","v":""},"",{"$f":"IF(LEN(Table4[[#This Row],[Pupil Name]])>0,1,0)","v":0}]
[{"$f":"IF(Table1[[#This Row],[School/Group Name]]=\"\",\"\",Table1[[#This Row],[School/Group Name]])","v":""},{"$f":"IF(Table1[[#This Row],[Pupil Name]]=\"\",\"\",Table1[[#This Row],[Pupil Name]])","v":""},{"$f":"IF(Table1[[#This Row],[Gender (M/F)]]=\"\",\"\",Table1[[#This Row],[Gender (M/F)]])","v":""},{"$f":"IF(Table1[[#This Row],[DisAdv (Y/N)]]=\"\",\"\",Table1[[#This Row],[DisAdv (Y/N)]])","v":""},{"$f":"IF(Table1[[#This Row],[SEND (E,K,N)]]=\"\",\"\",Table1[[#This Row],[SEND (E,K,N)]])","v":""},"",{"$f":"IF(LEN(Table4[[#This Row],[Pupil Name]])>0,1,0)","v":0}]
[{"$f":"IF(Table1[[#This Row],[School/Group Name]]=\"\",\"\",Table1[[#This Row],[School/Group Name]])","v":""},{"$f":"IF(Table1[[#This Row],[Pupil Name]]=\"\",\"\",Table1[[#This Row],[Pupil Name]])","v":""},{"$f":"IF(Table1[[#This Row],[Gender (M/F)]]=\"\",\"\",Table1[[#This Row],[Gender (M/F)]])","v":""},{"$f":"IF(Table1[[#This Row],[DisAdv (Y/N)]]=\"\",\"\",Table1[[#This Row],[DisAdv (Y/N)]])","v":""},{"$f":"IF(Table1[[#This Row],[SEND (E,K,N)]]=\"\",\"\",Table1[[#This Row],[SEND (E,K,N)]])","v":""},"",{"$f":"IF(LEN(Table4[[#This Row],[Pupil Name]])>0,1,0)","v":0}]
[{"$f":"IF(Table1[[#This Row],[School/Group Name]]=\"\",\"\",Table1[[#This Row],[School/Group Name]])","v":""},{"$f":"IF(Table1[[#This Row],[Pupil Name]]=\"\",\"\",Table1[[#This Row],[Pupil Name]])","v":""},{"$f":"IF(Table1[[#This Row],[Gender (M/F)]]=\"\",\"\",Table1[[#This Row],[Gender (M/F)]])","v":""},{"$f":"IF(Table1[[#This Row],[DisAdv (Y/N)]]=\"\",\"\",Table1[[#This Row],[DisAdv (Y/N)]])","v":""},{"$f":"IF(Table1[[#This Row],[SEND (E,K,N)]]=\"\",\"\",Table1[[#This Row],[SEND (E,K,N)]])","v":""},"",{"$f":"IF(LEN(Table4[[#This Row],[Pupil Name]])>0,1,0)","v":0}]
[{"$f":"IF(Table1[[#This Row],[School/Group Name]]=\"\",\"\",Table1[[#This Row],[School/Group Name]])","v":""},{"$f":"IF(Table1[[#This Row],[Pupil Name]]=\"\",\"\",Table1[[#This Row],[Pupil Name]])","v":""},{"$f":"IF(Table1[[#This Row],[Gender (M/F)]]=\"\",\"\",Table1[[#This Row],[Gender (M/F)]])","v":""},{"$f":"IF(Table1[[#This Row],[DisAdv (Y/N)]]=\"\",\"\",Table1[[#This Row],[DisAdv (Y/N)]])","v":""},{"$f":"IF(Table1[[#This Row],[SEND (E,K,N)]]=\"\",\"\",Table1[[#This Row],[SEND (E,K,N)]])","v":""},"",{"$f":"IF(LEN(Table4[[#This Row],[Pupil Name]])>0,1,0)","v":0}]
[{"$f":"IF(Table1[[#This Row],[School/Group Name]]=\"\",\"\",Table1[[#This Row],[School/Group Name]])","v":""},{"$f":"IF(Table1[[#This Row],[Pupil Name]]=\"\",\"\",Table1[[#This Row],[Pupil Name]])","v":""},{"$f":"IF(Table1[[#This Row],[Gender (M/F)]]=\"\",\"\",Table1[[#This Row],[Gender (M/F)]])","v":""},{"$f":"IF(Table1[[#This Row],[DisAdv (Y/N)]]=\"\",\"\",Table1[[#This Row],[DisAdv (Y/N)]])","v":""},{"$f":"IF(Table1[[#This Row],[SEND (E,K,N)]]=\"\",\"\",Table1[[#This Row],[SEND (E,K,N)]])","v":""},"",{"$f":"IF(LEN(Table4[[#This Row],[Pupil Name]])>0,1,0)","v":0}]
[{"$f":"IF(Table1[[#This Row],[School/Group Name]]=\"\",\"\",Table1[[#This Row],[School/Group Name]])","v":""},{"$f":"IF(Table1[[#This Row],[Pupil Name]]=\"\",\"\",Table1[[#This Row],[Pupil Name]])","v":""},{"$f":"IF(Table1[[#This Row],[Gender (M/F)]]=\"\",\"\",Table1[[#This Row],[Gender (M/F)]])","v":""},{"$f":"IF(Table1[[#This Row],[DisAdv (Y/N)]]=\"\",\"\",Table1[[#This Row],[DisAdv (Y/N)]])","v":""},{"$f":"IF(Table1[[#This Row],[SEND (E,K,N)]]=\"\",\"\",Table1[[#This Row],[SEND (E,K,N)]])","v":""},"",{"$f":"IF(LEN(Table4[[#This Row],[Pupil Name]])>0,1,0)","v":0}]
[{"$f":"IF(Table1[[#This Row],[School/Group Name]]=\"\",\"\",Table1[[#This Row],[School/Group Name]])","v":""},{"$f":"IF(Table1[[#This Row],[Pupil Name]]=\"\",\"\",Table1[[#This Row],[Pupil Name]])","v":""},{"$f":"IF(Table1[[#This Row],[Gender (M/F)]]=\"\",\"\",Table1[[#This Row],[Gender (M/F)]])","v":""},{"$f":"IF(Table1[[#This Row],[DisAdv (Y/N)]]=\"\",\"\",Table1[[#This Row],[DisAdv (Y/N)]])","v":""},{"$f":"IF(Table1[[#This Row],[SEND (E,K,N)]]=\"\",\"\",Table1[[#This Row],[SEND (E,K,N)]])","v":""},"",{"$f":"IF(LEN(Table4[[#This Row],[Pupil Name]])>0,1,0)","v":0}]
[{"$f":"IF(Table1[[#This Row],[School/Group Name]]=\"\",\"\",Table1[[#This Row],[School/Group Name]])","v":""},{"$f":"IF(Table1[[#This Row],[Pupil Name]]=\"\",\"\",Table1[[#This Row],[Pupil Name]])","v":""},{"$f":"IF(Table1[[#This Row],[Gender (M/F)]]=\"\",\"\",Table1[[#This Row],[Gender (M/F)]])","v":""},{"$f":"IF(Table1[[#This Row],[DisAdv (Y/N)]]=\"\",\"\",Table1[[#This Row],[DisAdv (Y/N)]])","v":""},{"$f":"IF(Table1[[#This Row],[SEND (E,K,N)]]=\"\",\"\",Table1[[#This Row],[SEND (E,K,N)]])","v":""},"",{"$f":"IF(LEN(Table4[[#This Row],[Pupil Name]])>0,1,0)","v":0}]
[{"$f":"IF(Table1[[#This Row],[School/Group Name]]=\"\",\"\",Table1[[#This Row],[School/Group Name]])","v":""},{"$f":"IF(Table1[[#This Row],[Pupil Name]]=\"\",\"\",Table1[[#This Row],[Pupil Name]])","v":""},{"$f":"IF(Table1[[#This Row],[Gender (M/F)]]=\"\",\"\",Table1[[#This Row],[Gender (M/F)]])","v":""},{"$f":"IF(Table1[[#This Row],[DisAdv (Y/N)]]=\"\",\"\",Table1[[#This Row],[DisAdv (Y/N)]])","v":""},{"$f":"IF(Table1[[#This Row],[SEND (E,K,N)]]=\"\",\"\",Table1[[#This Row],[SEND (E,K,N)]])","v":""},"",{"$f":"IF(LEN(Table4[[#This Row],[Pupil Name]])>0,1,0)","v":0}]
[{"$f":"IF(Table1[[#This Row],[School/Group Name]]=\"\",\"\",Table1[[#This Row],[School/Group Name]])","v":""},{"$f":"IF(Table1[[#This Row],[Pupil Name]]=\"\",\"\",Table1[[#This Row],[Pupil Name]])","v":""},{"$f":"IF(Table1[[#This Row],[Gender (M/F)]]=\"\",\"\",Table1[[#This Row],[Gender (M/F)]])","v":""},{"$f":"IF(Table1[[#This Row],[DisAdv (Y/N)]]=\"\",\"\",Table1[[#This Row],[DisAdv (Y/N)]])","v":""},{"$f":"IF(Table1[[#This Row],[SEND (E,K,N)]]=\"\",\"\",Table1[[#This Row],[SEND (E,K,N)]])","v":""},"",{"$f":"IF(LEN(Table4[[#This Row],[Pupil Name]])>0,1,0)","v":0}]
[{"$f":"IF(Table1[[#This Row],[School/Group Name]]=\"\",\"\",Table1[[#This Row],[School/Group Name]])","v":""},{"$f":"IF(Table1[[#This Row],[Pupil Name]]=\"\",\"\",Table1[[#This Row],[Pupil Name]])","v":""},{"$f":"IF(Table1[[#This Row],[Gender (M/F)]]=\"\",\"\",Table1[[#This Row],[Gender (M/F)]])","v":""},{"$f":"IF(Table1[[#This Row],[DisAdv (Y/N)]]=\"\",\"\",Table1[[#This Row],[DisAdv (Y/N)]])","v":""},{"$f":"IF(Table1[[#This Row],[SEND (E,K,N)]]=\"\",\"\",Table1[[#This Row],[SEND (E,K,N)]])","v":""},"",{"$f":"IF(LEN(Table4[[#This Row],[Pupil Name]])>0,1,0)","v":0}]
[{"$f":"IF(Table1[[#This Row],[School/Group Name]]=\"\",\"\",Table1[[#This Row],[School/Group Name]])","v":""},{"$f":"IF(Table1[[#This Row],[Pupil Name]]=\"\",\"\",Table1[[#This Row],[Pupil Name]])","v":""},{"$f":"IF(Table1[[#This Row],[Gender (M/F)]]=\"\",\"\",Table1[[#This Row],[Gender (M/F)]])","v":""},{"$f":"IF(Table1[[#This Row],[DisAdv (Y/N)]]=\"\",\"\",Table1[[#This Row],[DisAdv (Y/N)]])","v":""},{"$f":"IF(Table1[[#This Row],[SEND (E,K,N)]]=\"\",\"\",Table1[[#This Row],[SEND (E,K,N)]])","v":""},"",{"$f":"IF(LEN(Table4[[#This Row],[Pupil Name]])>0,1,0)","v":0}]
[{"$f":"IF(Table1[[#This Row],[School/Group Name]]=\"\",\"\",Table1[[#This Row],[School/Group Name]])","v":""},{"$f":"IF(Table1[[#This Row],[Pupil Name]]=\"\",\"\",Table1[[#This Row],[Pupil Name]])","v":""},{"$f":"IF(Table1[[#This Row],[Gender (M/F)]]=\"\",\"\",Table1[[#This Row],[Gender (M/F)]])","v":""},{"$f":"IF(Table1[[#This Row],[DisAdv (Y/N)]]=\"\",\"\",Table1[[#This Row],[DisAdv (Y/N)]])","v":""},{"$f":"IF(Table1[[#This Row],[SEND (E,K,N)]]=\"\",\"\",Table1[[#This Row],[SEND (E,K,N)]])","v":""},"",{"$f":"IF(LEN(Table4[[#This Row],[Pupil Name]])>0,1,0)","v":0}]
[{"$f":"IF(Table1[[#This Row],[School/Group Name]]=\"\",\"\",Table1[[#This Row],[School/Group Name]])","v":""},{"$f":"IF(Table1[[#This Row],[Pupil Name]]=\"\",\"\",Table1[[#This Row],[Pupil Name]])","v":""},{"$f":"IF(Table1[[#This Row],[Gender (M/F)]]=\"\",\"\",Table1[[#This Row],[Gender (M/F)]])","v":""},{"$f":"IF(Table1[[#This Row],[DisAdv (Y/N)]]=\"\",\"\",Table1[[#This Row],[DisAdv (Y/N)]])","v":""},{"$f":"IF(Table1[[#This Row],[SEND (E,K,N)]]=\"\",\"\",Table1[[#This Row],[SEND (E,K,N)]])","v":""},"",{"$f":"IF(LEN(Table4[[#This Row],[Pupil Name]])>0,1,0)","v":0}]
[{"$f":"IF(Table1[[#This Row],[School/Group Name]]=\"\",\"\",Table1[[#This Row],[School/Group Name]])","v":""},{"$f":"IF(Table1[[#This Row],[Pupil Name]]=\"\",\"\",Table1[[#This Row],[Pupil Name]])","v":""},{"$f":"IF(Table1[[#This Row],[Gender (M/F)]]=\"\",\"\",Table1[[#This Row],[Gender (M/F)]])","v":""},{"$f":"IF(Table1[[#This Row],[DisAdv (Y/N)]]=\"\",\"\",Table1[[#This Row],[DisAdv (Y/N)]])","v":""},{"$f":"IF(Table1[[#This Row],[SEND (E,K,N)]]=\"\",\"\",Table1[[#This Row],[SEND (E,K,N)]])","v":""},"",{"$f":"IF(LEN(Table4[[#This Row],[Pupil Name]])>0,1,0)","v":0}]
[{"$f":"IF(Table1[[#This Row],[School/Group Name]]=\"\",\"\",Table1[[#This Row],[School/Group Name]])","v":""},{"$f":"IF(Table1[[#This Row],[Pupil Name]]=\"\",\"\",Table1[[#This Row],[Pupil Name]])","v":""},{"$f":"IF(Table1[[#This Row],[Gender (M/F)]]=\"\",\"\",Table1[[#This Row],[Gender (M/F)]])","v":""},{"$f":"IF(Table1[[#This Row],[DisAdv (Y/N)]]=\"\",\"\",Table1[[#This Row],[DisAdv (Y/N)]])","v":""},{"$f":"IF(Table1[[#This Row],[SEND (E,K,N)]]=\"\",\"\",Table1[[#This Row],[SEND (E,K,N)]])","v":""},"",{"$f":"IF(LEN(Table4[[#This Row],[Pupil Name]])>0,1,0)","v":0}]
[{"$f":"IF(Table1[[#This Row],[School/Group Name]]=\"\",\"\",Table1[[#This Row],[School/Group Name]])","v":""},{"$f":"IF(Table1[[#This Row],[Pupil Name]]=\"\",\"\",Table1[[#This Row],[Pupil Name]])","v":""},{"$f":"IF(Table1[[#This Row],[Gender (M/F)]]=\"\",\"\",Table1[[#This Row],[Gender (M/F)]])","v":""},{"$f":"IF(Table1[[#This Row],[DisAdv (Y/N)]]=\"\",\"\",Table1[[#This Row],[DisAdv (Y/N)]])","v":""},{"$f":"IF(Table1[[#This Row],[SEND (E,K,N)]]=\"\",\"\",Table1[[#This Row],[SEND (E,K,N)]])","v":""},"",{"$f":"IF(LEN(Table4[[#This Row],[Pupil Name]])>0,1,0)","v":0}]
[{"$f":"IF(Table1[[#This Row],[School/Group Name]]=\"\",\"\",Table1[[#This Row],[School/Group Name]])","v":""},{"$f":"IF(Table1[[#This Row],[Pupil Name]]=\"\",\"\",Table1[[#This Row],[Pupil Name]])","v":""},{"$f":"IF(Table1[[#This Row],[Gender (M/F)]]=\"\",\"\",Table1[[#This Row],[Gender (M/F)]])","v":""},{"$f":"IF(Table1[[#This Row],[DisAdv (Y/N)]]=\"\",\"\",Table1[[#This Row],[DisAdv (Y/N)]])","v":""},{"$f":"IF(Table1[[#This Row],[SEND (E,K,N)]]=\"\",\"\",Table1[[#This Row],[SEND (E,K,N)]])","v":""},"",{"$f":"IF(LEN(Table4[[#This Row],[Pupil Name]])>0,1,0)","v":0}]
[{"$f":"IF(Table1[[#This Row],[School/Group Name]]=\"\",\"\",Table1[[#This Row],[School/Group Name]])","v":""},{"$f":"IF(Table1[[#This Row],[Pupil Name]]=\"\",\"\",Table1[[#This Row],[Pupil Name]])","v":""},{"$f":"IF(Table1[[#This Row],[Gender (M/F)]]=\"\",\"\",Table1[[#This Row],[Gender (M/F)]])","v":""},{"$f":"IF(Table1[[#This Row],[DisAdv (Y/N)]]=\"\",\"\",Table1[[#This Row],[DisAdv (Y/N)]])","v":""},{"$f":"IF(Table1[[#This Row],[SEND (E,K,N)]]=\"\",\"\",Table1[[#This Row],[SEND (E,K,N)]])","v":""},"",{"$f":"IF(LEN(Table4[[#This Row],[Pupil Name]])>0,1,0)","v":0}]
[{"$f":"IF(Table1[[#This Row],[School/Group Name]]=\"\",\"\",Table1[[#This Row],[School/Group Name]])","v":""},{"$f":"IF(Table1[[#This Row],[Pupil Name]]=\"\",\"\",Table1[[#This Row],[Pupil Name]])","v":""},{"$f":"IF(Table1[[#This Row],[Gender (M/F)]]=\"\",\"\",Table1[[#This Row],[Gender (M/F)]])","v":""},{"$f":"IF(Table1[[#This Row],[DisAdv (Y/N)]]=\"\",\"\",Table1[[#This Row],[DisAdv (Y/N)]])","v":""},{"$f":"IF(Table1[[#This Row],[SEND (E,K,N)]]=\"\",\"\",Table1[[#This Row],[SEND (E,K,N)]])","v":""},"",{"$f":"IF(LEN(Table4[[#This Row],[Pupil Name]])>0,1,0)","v":0}]
[{"$f":"IF(Table1[[#This Row],[School/Group Name]]=\"\",\"\",Table1[[#This Row],[School/Group Name]])","v":""},{"$f":"IF(Table1[[#This Row],[Pupil Name]]=\"\",\"\",Table1[[#This Row],[Pupil Name]])","v":""},{"$f":"IF(Table1[[#This Row],[Gender (M/F)]]=\"\",\"\",Table1[[#This Row],[Gender (M/F)]])","v":""},{"$f":"IF(Table1[[#This Row],[DisAdv (Y/N)]]=\"\",\"\",Table1[[#This Row],[DisAdv (Y/N)]])","v":""},{"$f":"IF(Table1[[#This Row],[SEND (E,K,N)]]=\"\",\"\",Table1[[#This Row],[SEND (E,K,N)]])","v":""},"",{"$f":"IF(LEN(Table4[[#This Row],[Pupil Name]])>0,1,0)","v":0}]
[{"$f":"IF(Table1[[#This Row],[School/Group Name]]=\"\",\"\",Table1[[#This Row],[School/Group Name]])","v":""},{"$f":"IF(Table1[[#This Row],[Pupil Name]]=\"\",\"\",Table1[[#This Row],[Pupil Name]])","v":""},{"$f":"IF(Table1[[#This Row],[Gender (M/F)]]=\"\",\"\",Table1[[#This Row],[Gender (M/F)]])","v":""},{"$f":"IF(Table1[[#This Row],[DisAdv (Y/N)]]=\"\",\"\",Table1[[#This Row],[DisAdv (Y/N)]])","v":""},{"$f":"IF(Table1[[#This Row],[SEND (E,K,N)]]=\"\",\"\",Table1[[#This Row],[SEND (E,K,N)]])","v":""},"",{"$f":"IF(LEN(Table4[[#This Row],[Pupil Name]])>0,1,0)","v":0}]
[{"$f":"IF(Table1[[#This Row],[School/Group Name]]=\"\",\"\",Table1[[#This Row],[School/Group Name]])","v":""},{"$f":"IF(Table1[[#This Row],[Pupil Name]]=\"\",\"\",Table1[[#This Row],[Pupil Name]])","v":""},{"$f":"IF(Table1[[#This Row],[Gender (M/F)]]=\"\",\"\",Table1[[#This Row],[Gender (M/F)]])","v":""},{"$f":"IF(Table1[[#This Row],[DisAdv (Y/N)]]=\"\",\"\",Table1[[#This Row],[DisAdv (Y/N)]])","v":""},{"$f":"IF(Table1[[#This Row],[SEND (E,K,N)]]=\"\",\"\",Table1[[#This Row],[SEND (E,K,N)]])","v":""},"",{"$f":"IF(LEN(Table4[[#This Row],[Pupil Name]])>0,1,0)","v":0}]
[{"$f":"IF(Table1[[#This Row],[School/Group Name]]=\"\",\"\",Table1[[#This Row],[School/Group Name]])","v":""},{"$f":"IF(Table1[[#This Row],[Pupil Name]]=\"\",\"\",Table1[[#This Row],[Pupil Name]])","v":""},{"$f":"IF(Table1[[#This Row],[Gender (M/F)]]=\"\",\"\",Table1[[#This Row],[Gender (M/F)]])","v":""},{"$f":"IF(Table1[[#This Row],[DisAdv (Y/N)]]=\"\",\"\",Table1[[#This Row],[DisAdv (Y/N)]])","v":""},{"$f":"IF(Table1[[#This Row],[SEND (E,K,N)]]=\"\",\"\",Table1[[#This Row],[SEND (E,K,N)]])","v":""},"",{"$f":"IF(LEN(Table4[[#This Row],[Pupil Name]])>0,1,0)","v":0}]
[{"$f":"IF(Table1[[#This Row],[School/Group Name]]=\"\",\"\",Table1[[#This Row],[School/Group Name]])","v":""},{"$f":"IF(Table1[[#This Row],[Pupil Name]]=\"\",\"\",Table1[[#This Row],[Pupil Name]])","v":""},{"$f":"IF(Table1[[#This Row],[Gender (M/F)]]=\"\",\"\",Table1[[#This Row],[Gender (M/F)]])","v":""},{"$f":"IF(Table1[[#This Row],[DisAdv (Y/N)]]=\"\",\"\",Table1[[#This Row],[DisAdv (Y/N)]])","v":""},{"$f":"IF(Table1[[#This Row],[SEND (E,K,N)]]=\"\",\"\",Table1[[#This Row],[SEND (E,K,N)]])","v":""},"",{"$f":"IF(LEN(Table4[[#This Row],[Pupil Name]])>0,1,0)","v":0}]
[{"$f":"IF(Table1[[#This Row],[School/Group Name]]=\"\",\"\",Table1[[#This Row],[School/Group Name]])","v":""},{"$f":"IF(Table1[[#This Row],[Pupil Name]]=\"\",\"\",Table1[[#This Row],[Pupil Name]])","v":""},{"$f":"IF(Table1[[#This Row],[Gender (M/F)]]=\"\",\"\",Table1[[#This Row],[Gender (M/F)]])","v":""},{"$f":"IF(Table1[[#This Row],[DisAdv (Y/N)]]=\"\",\"\",Table1[[#This Row],[DisAdv (Y/N)]])","v":""},{"$f":"IF(Table1[[#This Row],[SEND (E,K,N)]]=\"\",\"\",Table1[[#This Row],[SEND (E,K,N)]])","v":""},"",{"$f":"IF(LEN(Table4[[#This Row],[Pupil Name]])>0,1,0)","v":0}]
[{"$f":"IF(Table1[[#This Row],[School/Group Name]]=\"\",\"\",Table1[[#This Row],[School/Group Name]])","v":""},{"$f":"IF(Table1[[#This Row],[Pupil Name]]=\"\",\"\",Table1[[#This Row],[Pupil Name]])","v":""},{"$f":"IF(Table1[[#This Row],[Gender (M/F)]]=\"\",\"\",Table1[[#This Row],[Gender (M/F)]])","v":""},{"$f":"IF(Table1[[#This Row],[DisAdv (Y/N)]]=\"\",\"\",Table1[[#This Row],[DisAdv (Y/N)]])","v":""},{"$f":"IF(Table1[[#This Row],[SEND (E,K,N)]]=\"\",\"\",Table1[[#This Row],[SEND (E,K,N)]])","v":""},"",{"$f":"IF(LEN(Table4[[#This Row],[Pupil Name]])>0,1,0)","v":0}]
[{"$f":"IF(Table1[[#This Row],[School/Group Name]]=\"\",\"\",Table1[[#This Row],[School/Group Name]])","v":""},{"$f":"IF(Table1[[#This Row],[Pupil Name]]=\"\",\"\",Table1[[#This Row],[Pupil Name]])","v":""},{"$f":"IF(Table1[[#This Row],[Gender (M/F)]]=\"\",\"\",Table1[[#This Row],[Gender (M/F)]])","v":""},{"$f":"IF(Table1[[#This Row],[DisAdv (Y/N)]]=\"\",\"\",Table1[[#This Row],[DisAdv (Y/N)]])","v":""},{"$f":"IF(Table1[[#This Row],[SEND (E,K,N)]]=\"\",\"\",Table1[[#This Row],[SEND (E,K,N)]])","v":""},"",{"$f":"IF(LEN(Table4[[#This Row],[Pupil Name]])>0,1,0)","v":0}]
[{"$f":"IF(Table1[[#This Row],[School/Group Name]]=\"\",\"\",Table1[[#This Row],[School/Group Name]])","v":""},{"$f":"IF(Table1[[#This Row],[Pupil Name]]=\"\",\"\",Table1[[#This Row],[Pupil Name]])","v":""},{"$f":"IF(Table1[[#This Row],[Gender (M/F)]]=\"\",\"\",Table1[[#This Row],[Gender (M/F)]])","v":""},{"$f":"IF(Table1[[#This Row],[DisAdv (Y/N)]]=\"\",\"\",Table1[[#This Row],[DisAdv (Y/N)]])","v":""},{"$f":"IF(Table1[[#This Row],[SEND (E,K,N)]]=\"\",\"\",Table1[[#This Row],[SEND (E,K,N)]])","v":""},"",{"$f":"IF(LEN(Table4[[#This Row],[Pupil Name]])>0,1,0)","v":0}]
[{"$f":"IF(Table1[[#This Row],[School/Group Name]]=\"\",\"\",Table1[[#This Row],[School/Group Name]])","v":""},{"$f":"IF(Table1[[#This Row],[Pupil Name]]=\"\",\"\",Table1[[#This Row],[Pupil Name]])","v":""},{"$f":"IF(Table1[[#This Row],[Gender (M/F)]]=\"\",\"\",Table1[[#This Row],[Gender (M/F)]])","v":""},{"$f":"IF(Table1[[#This Row],[DisAdv (Y/N)]]=\"\",\"\",Table1[[#This Row],[DisAdv (Y/N)]])","v":""},{"$f":"IF(Table1[[#This Row],[SEND (E,K,N)]]=\"\",\"\",Table1[[#This Row],[SEND (E,K,N)]])","v":""},"",{"$f":"IF(LEN(Table4[[#This Row],[Pupil Name]])>0,1,0)","v":0}]
[{"$f":"IF(Table1[[#This Row],[School/Group Name]]=\"\",\"\",Table1[[#This Row],[School/Group Name]])","v":""},{"$f":"IF(Table1[[#This Row],[Pupil Name]]=\"\",\"\",Table1[[#This Row],[Pupil Name]])","v":""},{"$f":"IF(Table1[[#This Row],[Gender (M/F)]]=\"\",\"\",Table1[[#This Row],[Gender (M/F)]])","v":""},{"$f":"IF(Table1[[#This Row],[DisAdv (Y/N)]]=\"\",\"\",Table1[[#This Row],[DisAdv (Y/N)]])","v":""},{"$f":"IF(Table1[[#This Row],[SEND (E,K,N)]]=\"\",\"\",Table1[[#This Row],[SEND (E,K,N)]])","v":""},"",{"$f":"IF(LEN(Table4[[#This Row],[Pupil Name]])>0,1,0)","v":0}]
[{"$f":"IF(Table1[[#This Row],[School/Group Name]]=\"\",\"\",Table1[[#This Row],[School/Group Name]])","v":""},{"$f":"IF(Table1[[#This Row],[Pupil Name]]=\"\",\"\",Table1[[#This Row],[Pupil Name]])","v":""},{"$f":"IF(Table1[[#This Row],[Gender (M/F)]]=\"\",\"\",Table1[[#This Row],[Gender (M/F)]])","v":""},{"$f":"IF(Table1[[#This Row],[DisAdv (Y/N)]]=\"\",\"\",Table1[[#This Row],[DisAdv (Y/N)]])","v":""},{"$f":"IF(Table1[[#This Row],[SEND (E,K,N)]]=\"\",\"\",Table1[[#This Row],[SEND (E,K,N)]])","v":""},"",{"$f":"IF(LEN(Table4[[#This Row],[Pupil Name]])>0,1,0)","v":0}]
[{"$f":"IF(Table1[[#This Row],[School/Group Name]]=\"\",\"\",Table1[[#This Row],[School/Group Name]])","v":""},{"$f":"IF(Table1[[#This Row],[Pupil Name]]=\"\",\"\",Table1[[#This Row],[Pupil Name]])","v":""},{"$f":"IF(Table1[[#This Row],[Gender (M/F)]]=\"\",\"\",Table1[[#This Row],[Gender (M/F)]])","v":""},{"$f":"IF(Table1[[#This Row],[DisAdv (Y/N)]]=\"\",\"\",Table1[[#This Row],[DisAdv (Y/N)]])","v":""},{"$f":"IF(Table1[[#This Row],[SEND (E,K,N)]]=\"\",\"\",Table1[[#This Row],[SEND (E,K,N)]])","v":""},"",{"$f":"IF(LEN(Table4[[#This Row],[Pupil Name]])>0,1,0)","v":0}]
[{"$f":"IF(Table1[[#This Row],[School/Group Name]]=\"\",\"\",Table1[[#This Row],[School/Group Name]])","v":""},{"$f":"IF(Table1[[#This Row],[Pupil Name]]=\"\",\"\",Table1[[#This Row],[Pupil Name]])","v":""},{"$f":"IF(Table1[[#This Row],[Gender (M/F)]]=\"\",\"\",Table1[[#This Row],[Gender (M/F)]])","v":""},{"$f":"IF(Table1[[#This Row],[DisAdv (Y/N)]]=\"\",\"\",Table1[[#This Row],[DisAdv (Y/N)]])","v":""},{"$f":"IF(Table1[[#This Row],[SEND (E,K,N)]]=\"\",\"\",Table1[[#This Row],[SEND (E,K,N)]])","v":""},"",{"$f":"IF(LEN(Table4[[#This Row],[Pupil Name]])>0,1,0)","v":0}]
[{"$f":"IF(Table1[[#This Row],[School/Group Name]]=\"\",\"\",Table1[[#This Row],[School/Group Name]])","v":""},{"$f":"IF(Table1[[#This Row],[Pupil Name]]=\"\",\"\",Table1[[#This Row],[Pupil Name]])","v":""},{"$f":"IF(Table1[[#This Row],[Gender (M/F)]]=\"\",\"\",Table1[[#This Row],[Gender (M/F)]])","v":""},{"$f":"IF(Table1[[#This Row],[DisAdv (Y/N)]]=\"\",\"\",Table1[[#This Row],[DisAdv (Y/N)]])","v":""},{"$f":"IF(Table1[[#This Row],[SEND (E,K,N)]]=\"\",\"\",Table1[[#This Row],[SEND (E,K,N)]])","v":""},"",{"$f":"IF(LEN(Table4[[#This Row],[Pupil Name]])>0,1,0)","v":0}]
[{"$f":"IF(Table1[[#This Row],[School/Group Name]]=\"\",\"\",Table1[[#This Row],[School/Group Name]])","v":""},{"$f":"IF(Table1[[#This Row],[Pupil Name]]=\"\",\"\",Table1[[#This Row],[Pupil Name]])","v":""},{"$f":"IF(Table1[[#This Row],[Gender (M/F)]]=\"\",\"\",Table1[[#This Row],[Gender (M/F)]])","v":""},{"$f":"IF(Table1[[#This Row],[DisAdv (Y/N)]]=\"\",\"\",Table1[[#This Row],[DisAdv (Y/N)]])","v":""},{"$f":"IF(Table1[[#This Row],[SEND (E,K,N)]]=\"\",\"\",Table1[[#This Row],[SEND (E,K,N)]])","v":""},"",{"$f":"IF(LEN(Table4[[#This Row],[Pupil Name]])>0,1,0)","v":0}]
[{"$f":"IF(Table1[[#This Row],[School/Group Name]]=\"\",\"\",Table1[[#This Row],[School/Group Name]])","v":""},{"$f":"IF(Table1[[#This Row],[Pupil Name]]=\"\",\"\",Table1[[#This Row],[Pupil Name]])","v":""},{"$f":"IF(Table1[[#This Row],[Gender (M/F)]]=\"\",\"\",Table1[[#This Row],[Gender (M/F)]])","v":""},{"$f":"IF(Table1[[#This Row],[DisAdv (Y/N)]]=\"\",\"\",Table1[[#This Row],[DisAdv (Y/N)]])","v":""},{"$f":"IF(Table1[[#This Row],[SEND (E,K,N)]]=\"\",\"\",Table1[[#This Row],[SEND (E,K,N)]])","v":""},"",{"$f":"IF(LEN(Table4[[#This Row],[Pupil Name]])>0,1,0)","v":0}]
[{"$f":"IF(Table1[[#This Row],[School/Group Name]]=\"\",\"\",Table1[[#This Row],[School/Group Name]])","v":""},{"$f":"IF(Table1[[#This Row],[Pupil Name]]=\"\",\"\",Table1[[#This Row],[Pupil Name]])","v":""},{"$f":"IF(Table1[[#This Row],[Gender (M/F)]]=\"\",\"\",Table1[[#This Row],[Gender (M/F)]])","v":""},{"$f":"IF(Table1[[#This Row],[DisAdv (Y/N)]]=\"\",\"\",Table1[[#This Row],[DisAdv (Y/N)]])","v":""},{"$f":"IF(Table1[[#This Row],[SEND (E,K,N)]]=\"\",\"\",Table1[[#This Row],[SEND (E,K,N)]])","v":""},"",{"$f":"IF(LEN(Table4[[#This Row],[Pupil Name]])>0,1,0)","v":0}]
[{"$f":"IF(Table1[[#This Row],[School/Group Name]]=\"\",\"\",Table1[[#This Row],[School/Group Name]])","v":""},{"$f":"IF(Table1[[#This Row],[Pupil Name]]=\"\",\"\",Table1[[#This Row],[Pupil Name]])","v":""},{"$f":"IF(Table1[[#This Row],[Gender (M/F)]]=\"\",\"\",Table1[[#This Row],[Gender (M/F)]])","v":""},{"$f":"IF(Table1[[#This Row],[DisAdv (Y/N)]]=\"\",\"\",Table1[[#This Row],[DisAdv (Y/N)]])","v":""},{"$f":"IF(Table1[[#This Row],[SEND (E,K,N)]]=\"\",\"\",Table1[[#This Row],[SEND (E,K,N)]])","v":""},"",{"$f":"IF(LEN(Table4[[#This Row],[Pupil Name]])>0,1,0)","v":0}]
[{"$f":"IF(Table1[[#This Row],[School/Group Name]]=\"\",\"\",Table1[[#This Row],[School/Group Name]])","v":""},{"$f":"IF(Table1[[#This Row],[Pupil Name]]=\"\",\"\",Table1[[#This Row],[Pupil Name]])","v":""},{"$f":"IF(Table1[[#This Row],[Gender (M/F)]]=\"\",\"\",Table1[[#This Row],[Gender (M/F)]])","v":""},{"$f":"IF(Table1[[#This Row],[DisAdv (Y/N)]]=\"\",\"\",Table1[[#This Row],[DisAdv (Y/N)]])","v":""},{"$f":"IF(Table1[[#This Row],[SEND (E,K,N)]]=\"\",\"\",Table1[[#This Row],[SEND (E,K,N)]])","v":""},"",{"$f":"IF(LEN(Table4[[#This Row],[Pupil Name]])>0,1,0)","v":0}]
[{"$f":"IF(Table1[[#This Row],[School/Group Name]]=\"\",\"\",Table1[[#This Row],[School/Group Name]])","v":""},{"$f":"IF(Table1[[#This Row],[Pupil Name]]=\"\",\"\",Table1[[#This Row],[Pupil Name]])","v":""},{"$f":"IF(Table1[[#This Row],[Gender (M/F)]]=\"\",\"\",Table1[[#This Row],[Gender (M/F)]])","v":""},{"$f":"IF(Table1[[#This Row],[DisAdv (Y/N)]]=\"\",\"\",Table1[[#This Row],[DisAdv (Y/N)]])","v":""},{"$f":"IF(Table1[[#This Row],[SEND (E,K,N)]]=\"\",\"\",Table1[[#This Row],[SEND (E,K,N)]])","v":""},"",{"$f":"IF(LEN(Table4[[#This Row],[Pupil Name]])>0,1,0)","v":0}]
[{"$f":"IF(Table1[[#This Row],[School/Group Name]]=\"\",\"\",Table1[[#This Row],[School/Group Name]])","v":""},{"$f":"IF(Table1[[#This Row],[Pupil Name]]=\"\",\"\",Table1[[#This Row],[Pupil Name]])","v":""},{"$f":"IF(Table1[[#This Row],[Gender (M/F)]]=\"\",\"\",Table1[[#This Row],[Gender (M/F)]])","v":""},{"$f":"IF(Table1[[#This Row],[DisAdv (Y/N)]]=\"\",\"\",Table1[[#This Row],[DisAdv (Y/N)]])","v":""},{"$f":"IF(Table1[[#This Row],[SEND (E,K,N)]]=\"\",\"\",Table1[[#This Row],[SEND (E,K,N)]])","v":""},"",{"$f":"IF(LEN(Table4[[#This Row],[Pupil Name]])>0,1,0)","v":0}]
[{"$f":"IF(Table1[[#This Row],[School/Group Name]]=\"\",\"\",Table1[[#This Row],[School/Group Name]])","v":""},{"$f":"IF(Table1[[#This Row],[Pupil Name]]=\"\",\"\",Table1[[#This Row],[Pupil Name]])","v":""},{"$f":"IF(Table1[[#This Row],[Gender (M/F)]]=\"\",\"\",Table1[[#This Row],[Gender (M/F)]])","v":""},{"$f":"IF(Table1[[#This Row],[DisAdv (Y/N)]]=\"\",\"\",Table1[[#This Row],[DisAdv (Y/N)]])","v":""},{"$f":"IF(Table1[[#This Row],[SEND (E,K,N)]]=\"\",\"\",Table1[[#This Row],[SEND (E,K,N)]])","v":""},"",{"$f":"IF(LEN(Table4[[#This Row],[Pupil Name]])>0,1,0)","v":0}]
[{"$f":"IF(Table1[[#This Row],[School/Group Name]]=\"\",\"\",Table1[[#This Row],[School/Group Name]])","v":""},{"$f":"IF(Table1[[#This Row],[Pupil Name]]=\"\",\"\",Table1[[#This Row],[Pupil Name]])","v":""},{"$f":"IF(Table1[[#This Row],[Gender (M/F)]]=\"\",\"\",Table1[[#This Row],[Gender (M/F)]])","v":""},{"$f":"IF(Table1[[#This Row],[DisAdv (Y/N)]]=\"\",\"\",Table1[[#This Row],[DisAdv (Y/N)]])","v":""},{"$f":"IF(Table1[[#This Row],[SEND (E,K,N)]]=\"\",\"\",Table1[[#This Row],[SEND (E,K,N)]])","v":""},"",{"$f":"IF(LEN(Table4[[#This Row],[Pupil Name]])>0,1,0)","v":0}]
[{"$f":"IF(Table1[[#This Row],[School/Group Name]]=\"\",\"\",Table1[[#This Row],[School/Group Name]])","v":""},{"$f":"IF(Table1[[#This Row],[Pupil Name]]=\"\",\"\",Table1[[#This Row],[Pupil Name]])","v":""},{"$f":"IF(Table1[[#This Row],[Gender (M/F)]]=\"\",\"\",Table1[[#This Row],[Gender (M/F)]])","v":""},{"$f":"IF(Table1[[#This Row],[DisAdv (Y/N)]]=\"\",\"\",Table1[[#This Row],[DisAdv (Y/N)]])","v":""},{"$f":"IF(Table1[[#This Row],[SEND (E,K,N)]]=\"\",\"\",Table1[[#This Row],[SEND (E,K,N)]])","v":""},"",{"$f":"IF(LEN(Table4[[#This Row],[Pupil Name]])>0,1,0)","v":0}]
[{"$f":"IF(Table1[[#This Row],[School/Group Name]]=\"\",\"\",Table1[[#This Row],[School/Group Name]])","v":""},{"$f":"IF(Table1[[#This Row],[Pupil Name]]=\"\",\"\",Table1[[#This Row],[Pupil Name]])","v":""},{"$f":"IF(Table1[[#This Row],[Gender (M/F)]]=\"\",\"\",Table1[[#This Row],[Gender (M/F)]])","v":""},{"$f":"IF(Table1[[#This Row],[DisAdv (Y/N)]]=\"\",\"\",Table1[[#This Row],[DisAdv (Y/N)]])","v":""},{"$f":"IF(Table1[[#This Row],[SEND (E,K,N)]]=\"\",\"\",Table1[[#This Row],[SEND (E,K,N)]])","v":""},"",{"$f":"IF(LEN(Table4[[#This Row],[Pupil Name]])>0,1,0)","v":0}]
[{"$f":"IF(Table1[[#This Row],[School/Group Name]]=\"\",\"\",Table1[[#This Row],[School/Group Name]])","v":""},{"$f":"IF(Table1[[#This Row],[Pupil Name]]=\"\",\"\",Table1[[#This Row],[Pupil Name]])","v":""},{"$f":"IF(Table1[[#This Row],[Gender (M/F)]]=\"\",\"\",Table1[[#This Row],[Gender (M/F)]])","v":""},{"$f":"IF(Table1[[#This Row],[DisAdv (Y/N)]]=\"\",\"\",Table1[[#This Row],[DisAdv (Y/N)]])","v":""},{"$f":"IF(Table1[[#This Row],[SEND (E,K,N)]]=\"\",\"\",Table1[[#This Row],[SEND (E,K,N)]])","v":""},"",{"$f":"IF(LEN(Table4[[#This Row],[Pupil Name]])>0,1,0)","v":0}]
[{"$f":"IF(Table1[[#This Row],[School/Group Name]]=\"\",\"\",Table1[[#This Row],[School/Group Name]])","v":""},{"$f":"IF(Table1[[#This Row],[Pupil Name]]=\"\",\"\",Table1[[#This Row],[Pupil Name]])","v":""},{"$f":"IF(Table1[[#This Row],[Gender (M/F)]]=\"\",\"\",Table1[[#This Row],[Gender (M/F)]])","v":""},{"$f":"IF(Table1[[#This Row],[DisAdv (Y/N)]]=\"\",\"\",Table1[[#This Row],[DisAdv (Y/N)]])","v":""},{"$f":"IF(Table1[[#This Row],[SEND (E,K,N)]]=\"\",\"\",Table1[[#This Row],[SEND (E,K,N)]])","v":""},"",{"$f":"IF(LEN(Table4[[#This Row],[Pupil Name]])>0,1,0)","v":0}]
[{"$f":"IF(Table1[[#This Row],[School/Group Name]]=\"\",\"\",Table1[[#This Row],[School/Group Name]])","v":""},{"$f":"IF(Table1[[#This Row],[Pupil Name]]=\"\",\"\",Table1[[#This Row],[Pupil Name]])","v":""},{"$f":"IF(Table1[[#This Row],[Gender (M/F)]]=\"\",\"\",Table1[[#This Row],[Gender (M/F)]])","v":""},{"$f":"IF(Table1[[#This Row],[DisAdv (Y/N)]]=\"\",\"\",Table1[[#This Row],[DisAdv (Y/N)]])","v":""},{"$f":"IF(Table1[[#This Row],[SEND (E,K,N)]]=\"\",\"\",Table1[[#This Row],[SEND (E,K,N)]])","v":""},"",{"$f":"IF(LEN(Table4[[#This Row],[Pupil Name]])>0,1,0)","v":0}]
[{"$f":"IF(Table1[[#This Row],[School/Group Name]]=\"\",\"\",Table1[[#This Row],[School/Group Name]])","v":""},{"$f":"IF(Table1[[#This Row],[Pupil Name]]=\"\",\"\",Table1[[#This Row],[Pupil Name]])","v":""},{"$f":"IF(Table1[[#This Row],[Gender (M/F)]]=\"\",\"\",Table1[[#This Row],[Gender (M/F)]])","v":""},{"$f":"IF(Table1[[#This Row],[DisAdv (Y/N)]]=\"\",\"\",Table1[[#This Row],[DisAdv (Y/N)]])","v":""},{"$f":"IF(Table1[[#This Row],[SEND (E,K,N)]]=\"\",\"\",Table1[[#This Row],[SEND (E,K,N)]])","v":""},"",{"$f":"IF(LEN(Table4[[#This Row],[Pupil Name]])>0,1,0)","v":0}]
[{"$f":"IF(Table1[[#This Row],[School/Group Name]]=\"\",\"\",Table1[[#This Row],[School/Group Name]])","v":""},{"$f":"IF(Table1[[#This Row],[Pupil Name]]=\"\",\"\",Table1[[#This Row],[Pupil Name]])","v":""},{"$f":"IF(Table1[[#This Row],[Gender (M/F)]]=\"\",\"\",Table1[[#This Row],[Gender (M/F)]])","v":""},{"$f":"IF(Table1[[#This Row],[DisAdv (Y/N)]]=\"\",\"\",Table1[[#This Row],[DisAdv (Y/N)]])","v":""},{"$f":"IF(Table1[[#This Row],[SEND (E,K,N)]]=\"\",\"\",Table1[[#This Row],[SEND (E,K,N)]])","v":""},"",{"$f":"IF(LEN(Table4[[#This Row],[Pupil Name]])>0,1,0)","v":0}]
[{"$f":"IF(Table1[[#This Row],[School/Group Name]]=\"\",\"\",Table1[[#This Row],[School/Group Name]])","v":""},{"$f":"IF(Table1[[#This Row],[Pupil Name]]=\"\",\"\",Table1[[#This Row],[Pupil Name]])","v":""},{"$f":"IF(Table1[[#This Row],[Gender (M/F)]]=\"\",\"\",Table1[[#This Row],[Gender (M/F)]])","v":""},{"$f":"IF(Table1[[#This Row],[DisAdv (Y/N)]]=\"\",\"\",Table1[[#This Row],[DisAdv (Y/N)]])","v":""},{"$f":"IF(Table1[[#This Row],[SEND (E,K,N)]]=\"\",\"\",Table1[[#This Row],[SEND (E,K,N)]])","v":""},"",{"$f":"IF(LEN(Table4[[#This Row],[Pupil Name]])>0,1,0)","v":0}]
[{"$f":"IF(Table1[[#This Row],[School/Group Name]]=\"\",\"\",Table1[[#This Row],[School/Group Name]])","v":""},{"$f":"IF(Table1[[#This Row],[Pupil Name]]=\"\",\"\",Table1[[#This Row],[Pupil Name]])","v":""},{"$f":"IF(Table1[[#This Row],[Gender (M/F)]]=\"\",\"\",Table1[[#This Row],[Gender (M/F)]])","v":""},{"$f":"IF(Table1[[#This Row],[DisAdv (Y/N)]]=\"\",\"\",Table1[[#This Row],[DisAdv (Y/N)]])","v":""},{"$f":"IF(Table1[[#This Row],[SEND (E,K,N)]]=\"\",\"\",Table1[[#This Row],[SEND (E,K,N)]])","v":""},"",{"$f":"IF(LEN(Table4[[#This Row],[Pupil Name]])>0,1,0)","v":0}]
[{"$f":"IF(Table1[[#This Row],[School/Group Name]]=\"\",\"\",Table1[[#This Row],[School/Group Name]])","v":""},{"$f":"IF(Table1[[#This Row],[Pupil Name]]=\"\",\"\",Table1[[#This Row],[Pupil Name]])","v":""},{"$f":"IF(Table1[[#This Row],[Gender (M/F)]]=\"\",\"\",Table1[[#This Row],[Gender (M/F)]])","v":""},{"$f":"IF(Table1[[#This Row],[DisAdv (Y/N)]]=\"\",\"\",Table1[[#This Row],[DisAdv (Y/N)]])","v":""},{"$f":"IF(Table1[[#This Row],[SEND (E,K,N)]]=\"\",\"\",Table1[[#This Row],[SEND (E,K,N)]])","v":""},{"$f":"IF(H390=\"\",\"\",(SUM(H390:AU390)))","v":""},{"$f":"IF(LEN(Table4[[#This Row],[Pupil Name]])>0,1,0)","v":0}]
[{"$f":"IF(Table1[[#This Row],[School/Group Name]]=\"\",\"\",Table1[[#This Row],[School/Group Name]])","v":""},{"$f":"IF(Table1[[#This Row],[Pupil Name]]=\"\",\"\",Table1[[#This Row],[Pupil Name]])","v":""},{"$f":"IF(Table1[[#This Row],[Gender (M/F)]]=\"\",\"\",Table1[[#This Row],[Gender (M/F)]])","v":""},{"$f":"IF(Table1[[#This Row],[DisAdv (Y/N)]]=\"\",\"\",Table1[[#This Row],[DisAdv (Y/N)]])","v":""},{"$f":"IF(Table1[[#This Row],[SEND (E,K,N)]]=\"\",\"\",Table1[[#This Row],[SEND (E,K,N)]])","v":""},"",{"$f":"IF(LEN(Table4[[#This Row],[Pupil Name]])>0,1,0)","v":0}]
[{"$f":"IF(Table1[[#This Row],[School/Group Name]]=\"\",\"\",Table1[[#This Row],[School/Group Name]])","v":""},{"$f":"IF(Table1[[#This Row],[Pupil Name]]=\"\",\"\",Table1[[#This Row],[Pupil Name]])","v":""},{"$f":"IF(Table1[[#This Row],[Gender (M/F)]]=\"\",\"\",Table1[[#This Row],[Gender (M/F)]])","v":""},{"$f":"IF(Table1[[#This Row],[DisAdv (Y/N)]]=\"\",\"\",Table1[[#This Row],[DisAdv (Y/N)]])","v":""},{"$f":"IF(Table1[[#This Row],[SEND (E,K,N)]]=\"\",\"\",Table1[[#This Row],[SEND (E,K,N)]])","v":""},"",{"$f":"IF(LEN(Table4[[#This Row],[Pupil Name]])>0,1,0)","v":0}]
[{"$f":"IF(Table1[[#This Row],[School/Group Name]]=\"\",\"\",Table1[[#This Row],[School/Group Name]])","v":""},{"$f":"IF(Table1[[#This Row],[Pupil Name]]=\"\",\"\",Table1[[#This Row],[Pupil Name]])","v":""},{"$f":"IF(Table1[[#This Row],[Gender (M/F)]]=\"\",\"\",Table1[[#This Row],[Gender (M/F)]])","v":""},{"$f":"IF(Table1[[#This Row],[DisAdv (Y/N)]]=\"\",\"\",Table1[[#This Row],[DisAdv (Y/N)]])","v":""},{"$f":"IF(Table1[[#This Row],[SEND (E,K,N)]]=\"\",\"\",Table1[[#This Row],[SEND (E,K,N)]])","v":""},"",{"$f":"IF(LEN(Table4[[#This Row],[Pupil Name]])>0,1,0)","v":0}]
[{"$f":"IF(Table1[[#This Row],[School/Group Name]]=\"\",\"\",Table1[[#This Row],[School/Group Name]])","v":""},{"$f":"IF(Table1[[#This Row],[Pupil Name]]=\"\",\"\",Table1[[#This Row],[Pupil Name]])","v":""},{"$f":"IF(Table1[[#This Row],[Gender (M/F)]]=\"\",\"\",Table1[[#This Row],[Gender (M/F)]])","v":""},{"$f":"IF(Table1[[#This Row],[DisAdv (Y/N)]]=\"\",\"\",Table1[[#This Row],[DisAdv (Y/N)]])","v":""},{"$f":"IF(Table1[[#This Row],[SEND (E,K,N)]]=\"\",\"\",Table1[[#This Row],[SEND (E,K,N)]])","v":""},"",{"$f":"IF(LEN(Table4[[#This Row],[Pupil Name]])>0,1,0)","v":0}]
[{"$f":"IF(Table1[[#This Row],[School/Group Name]]=\"\",\"\",Table1[[#This Row],[School/Group Name]])","v":""},{"$f":"IF(Table1[[#This Row],[Pupil Name]]=\"\",\"\",Table1[[#This Row],[Pupil Name]])","v":""},{"$f":"IF(Table1[[#This Row],[Gender (M/F)]]=\"\",\"\",Table1[[#This Row],[Gender (M/F)]])","v":""},{"$f":"IF(Table1[[#This Row],[DisAdv (Y/N)]]=\"\",\"\",Table1[[#This Row],[DisAdv (Y/N)]])","v":""},{"$f":"IF(Table1[[#This Row],[SEND (E,K,N)]]=\"\",\"\",Table1[[#This Row],[SEND (E,K,N)]])","v":""},"",{"$f":"IF(LEN(Table4[[#This Row],[Pupil Name]])>0,1,0)","v":0}]
[{"$f":"IF(Table1[[#This Row],[School/Group Name]]=\"\",\"\",Table1[[#This Row],[School/Group Name]])","v":""},{"$f":"IF(Table1[[#This Row],[Pupil Name]]=\"\",\"\",Table1[[#This Row],[Pupil Name]])","v":""},{"$f":"IF(Table1[[#This Row],[Gender (M/F)]]=\"\",\"\",Table1[[#This Row],[Gender (M/F)]])","v":""},{"$f":"IF(Table1[[#This Row],[DisAdv (Y/N)]]=\"\",\"\",Table1[[#This Row],[DisAdv (Y/N)]])","v":""},{"$f":"IF(Table1[[#This Row],[SEND (E,K,N)]]=\"\",\"\",Table1[[#This Row],[SEND (E,K,N)]])","v":""},"",{"$f":"IF(LEN(Table4[[#This Row],[Pupil Name]])>0,1,0)","v":0}]
[{"$f":"IF(Table1[[#This Row],[School/Group Name]]=\"\",\"\",Table1[[#This Row],[School/Group Name]])","v":""},{"$f":"IF(Table1[[#This Row],[Pupil Name]]=\"\",\"\",Table1[[#This Row],[Pupil Name]])","v":""},{"$f":"IF(Table1[[#This Row],[Gender (M/F)]]=\"\",\"\",Table1[[#This Row],[Gender (M/F)]])","v":""},{"$f":"IF(Table1[[#This Row],[DisAdv (Y/N)]]=\"\",\"\",Table1[[#This Row],[DisAdv (Y/N)]])","v":""},{"$f":"IF(Table1[[#This Row],[SEND (E,K,N)]]=\"\",\"\",Table1[[#This Row],[SEND (E,K,N)]])","v":""},"",{"$f":"IF(LEN(Table4[[#This Row],[Pupil Name]])>0,1,0)","v":0}]
[{"$f":"IF(Table1[[#This Row],[School/Group Name]]=\"\",\"\",Table1[[#This Row],[School/Group Name]])","v":""},{"$f":"IF(Table1[[#This Row],[Pupil Name]]=\"\",\"\",Table1[[#This Row],[Pupil Name]])","v":""},{"$f":"IF(Table1[[#This Row],[Gender (M/F)]]=\"\",\"\",Table1[[#This Row],[Gender (M/F)]])","v":""},{"$f":"IF(Table1[[#This Row],[DisAdv (Y/N)]]=\"\",\"\",Table1[[#This Row],[DisAdv (Y/N)]])","v":""},{"$f":"IF(Table1[[#This Row],[SEND (E,K,N)]]=\"\",\"\",Table1[[#This Row],[SEND (E,K,N)]])","v":""},"",{"$f":"IF(LEN(Table4[[#This Row],[Pupil Name]])>0,1,0)","v":0}]
[{"$f":"IF(Table1[[#This Row],[School/Group Name]]=\"\",\"\",Table1[[#This Row],[School/Group Name]])","v":""},{"$f":"IF(Table1[[#This Row],[Pupil Name]]=\"\",\"\",Table1[[#This Row],[Pupil Name]])","v":""},{"$f":"IF(Table1[[#This Row],[Gender (M/F)]]=\"\",\"\",Table1[[#This Row],[Gender (M/F)]])","v":""},{"$f":"IF(Table1[[#This Row],[DisAdv (Y/N)]]=\"\",\"\",Table1[[#This Row],[DisAdv (Y/N)]])","v":""},{"$f":"IF(Table1[[#This Row],[SEND (E,K,N)]]=\"\",\"\",Table1[[#This Row],[SEND (E,K,N)]])","v":""},"",{"$f":"IF(LEN(Table4[[#This Row],[Pupil Name]])>0,1,0)","v":0}]
[{"$f":"IF(Table1[[#This Row],[School/Group Name]]=\"\",\"\",Table1[[#This Row],[School/Group Name]])","v":""},{"$f":"IF(Table1[[#This Row],[Pupil Name]]=\"\",\"\",Table1[[#This Row],[Pupil Name]])","v":""},{"$f":"IF(Table1[[#This Row],[Gender (M/F)]]=\"\",\"\",Table1[[#This Row],[Gender (M/F)]])","v":""},{"$f":"IF(Table1[[#This Row],[DisAdv (Y/N)]]=\"\",\"\",Table1[[#This Row],[DisAdv (Y/N)]])","v":""},{"$f":"IF(Table1[[#This Row],[SEND (E,K,N)]]=\"\",\"\",Table1[[#This Row],[SEND (E,K,N)]])","v":""},"",{"$f":"IF(LEN(Table4[[#This Row],[Pupil Name]])>0,1,0)","v":0}]
[{"$f":"IF(Table1[[#This Row],[School/Group Name]]=\"\",\"\",Table1[[#This Row],[School/Group Name]])","v":""},{"$f":"IF(Table1[[#This Row],[Pupil Name]]=\"\",\"\",Table1[[#This Row],[Pupil Name]])","v":""},{"$f":"IF(Table1[[#This Row],[Gender (M/F)]]=\"\",\"\",Table1[[#This Row],[Gender (M/F)]])","v":""},{"$f":"IF(Table1[[#This Row],[DisAdv (Y/N)]]=\"\",\"\",Table1[[#This Row],[DisAdv (Y/N)]])","v":""},{"$f":"IF(Table1[[#This Row],[SEND (E,K,N)]]=\"\",\"\",Table1[[#This Row],[SEND (E,K,N)]])","v":""},"",{"$f":"IF(LEN(Table4[[#This Row],[Pupil Name]])>0,1,0)","v":0}]
[{"$f":"IF(Table1[[#This Row],[School/Group Name]]=\"\",\"\",Table1[[#This Row],[School/Group Name]])","v":""},{"$f":"IF(Table1[[#This Row],[Pupil Name]]=\"\",\"\",Table1[[#This Row],[Pupil Name]])","v":""},{"$f":"IF(Table1[[#This Row],[Gender (M/F)]]=\"\",\"\",Table1[[#This Row],[Gender (M/F)]])","v":""},{"$f":"IF(Table1[[#This Row],[DisAdv (Y/N)]]=\"\",\"\",Table1[[#This Row],[DisAdv (Y/N)]])","v":""},{"$f":"IF(Table1[[#This Row],[SEND (E,K,N)]]=\"\",\"\",Table1[[#This Row],[SEND (E,K,N)]])","v":""},"",{"$f":"IF(LEN(Table4[[#This Row],[Pupil Name]])>0,1,0)","v":0}]
[{"$f":"IF(Table1[[#This Row],[School/Group Name]]=\"\",\"\",Table1[[#This Row],[School/Group Name]])","v":""},{"$f":"IF(Table1[[#This Row],[Pupil Name]]=\"\",\"\",Table1[[#This Row],[Pupil Name]])","v":""},{"$f":"IF(Table1[[#This Row],[Gender (M/F)]]=\"\",\"\",Table1[[#This Row],[Gender (M/F)]])","v":""},{"$f":"IF(Table1[[#This Row],[DisAdv (Y/N)]]=\"\",\"\",Table1[[#This Row],[DisAdv (Y/N)]])","v":""},{"$f":"IF(Table1[[#This Row],[SEND (E,K,N)]]=\"\",\"\",Table1[[#This Row],[SEND (E,K,N)]])","v":""},"",{"$f":"IF(LEN(Table4[[#This Row],[Pupil Name]])>0,1,0)","v":0}]
[{"$f":"IF(Table1[[#This Row],[School/Group Name]]=\"\",\"\",Table1[[#This Row],[School/Group Name]])","v":""},{"$f":"IF(Table1[[#This Row],[Pupil Name]]=\"\",\"\",Table1[[#This Row],[Pupil Name]])","v":""},{"$f":"IF(Table1[[#This Row],[Gender (M/F)]]=\"\",\"\",Table1[[#This Row],[Gender (M/F)]])","v":""},{"$f":"IF(Table1[[#This Row],[DisAdv (Y/N)]]=\"\",\"\",Table1[[#This Row],[DisAdv (Y/N)]])","v":""},{"$f":"IF(Table1[[#This Row],[SEND (E,K,N)]]=\"\",\"\",Table1[[#This Row],[SEND (E,K,N)]])","v":""},"",{"$f":"IF(LEN(Table4[[#This Row],[Pupil Name]])>0,1,0)","v":0}]
[{"$f":"IF(Table1[[#This Row],[School/Group Name]]=\"\",\"\",Table1[[#This Row],[School/Group Name]])","v":""},{"$f":"IF(Table1[[#This Row],[Pupil Name]]=\"\",\"\",Table1[[#This Row],[Pupil Name]])","v":""},{"$f":"IF(Table1[[#This Row],[Gender (M/F)]]=\"\",\"\",Table1[[#This Row],[Gender (M/F)]])","v":""},{"$f":"IF(Table1[[#This Row],[DisAdv (Y/N)]]=\"\",\"\",Table1[[#This Row],[DisAdv (Y/N)]])","v":""},{"$f":"IF(Table1[[#This Row],[SEND (E,K,N)]]=\"\",\"\",Table1[[#This Row],[SEND (E,K,N)]])","v":""},"",{"$f":"IF(LEN(Table4[[#This Row],[Pupil Name]])>0,1,0)","v":0}]
[{"$f":"IF(Table1[[#This Row],[School/Group Name]]=\"\",\"\",Table1[[#This Row],[School/Group Name]])","v":""},{"$f":"IF(Table1[[#This Row],[Pupil Name]]=\"\",\"\",Table1[[#This Row],[Pupil Name]])","v":""},{"$f":"IF(Table1[[#This Row],[Gender (M/F)]]=\"\",\"\",Table1[[#This Row],[Gender (M/F)]])","v":""},{"$f":"IF(Table1[[#This Row],[DisAdv (Y/N)]]=\"\",\"\",Table1[[#This Row],[DisAdv (Y/N)]])","v":""},{"$f":"IF(Table1[[#This Row],[SEND (E,K,N)]]=\"\",\"\",Table1[[#This Row],[SEND (E,K,N)]])","v":""},"",{"$f":"IF(LEN(Table4[[#This Row],[Pupil Name]])>0,1,0)","v":0}]
[{"$f":"IF(Table1[[#This Row],[School/Group Name]]=\"\",\"\",Table1[[#This Row],[School/Group Name]])","v":""},{"$f":"IF(Table1[[#This Row],[Pupil Name]]=\"\",\"\",Table1[[#This Row],[Pupil Name]])","v":""},{"$f":"IF(Table1[[#This Row],[Gender (M/F)]]=\"\",\"\",Table1[[#This Row],[Gender (M/F)]])","v":""},{"$f":"IF(Table1[[#This Row],[DisAdv (Y/N)]]=\"\",\"\",Table1[[#This Row],[DisAdv (Y/N)]])","v":""},{"$f":"IF(Table1[[#This Row],[SEND (E,K,N)]]=\"\",\"\",Table1[[#This Row],[SEND (E,K,N)]])","v":""},"",{"$f":"IF(LEN(Table4[[#This Row],[Pupil Name]])>0,1,0)","v":0}]
[{"$f":"IF(Table1[[#This Row],[School/Group Name]]=\"\",\"\",Table1[[#This Row],[School/Group Name]])","v":""},{"$f":"IF(Table1[[#This Row],[Pupil Name]]=\"\",\"\",Table1[[#This Row],[Pupil Name]])","v":""},{"$f":"IF(Table1[[#This Row],[Gender (M/F)]]=\"\",\"\",Table1[[#This Row],[Gender (M/F)]])","v":""},{"$f":"IF(Table1[[#This Row],[DisAdv (Y/N)]]=\"\",\"\",Table1[[#This Row],[DisAdv (Y/N)]])","v":""},{"$f":"IF(Table1[[#This Row],[SEND (E,K,N)]]=\"\",\"\",Table1[[#This Row],[SEND (E,K,N)]])","v":""},"",{"$f":"IF(LEN(Table4[[#This Row],[Pupil Name]])>0,1,0)","v":0}]
[{"$f":"IF(Table1[[#This Row],[School/Group Name]]=\"\",\"\",Table1[[#This Row],[School/Group Name]])","v":""},{"$f":"IF(Table1[[#This Row],[Pupil Name]]=\"\",\"\",Table1[[#This Row],[Pupil Name]])","v":""},{"$f":"IF(Table1[[#This Row],[Gender (M/F)]]=\"\",\"\",Table1[[#This Row],[Gender (M/F)]])","v":""},{"$f":"IF(Table1[[#This Row],[DisAdv (Y/N)]]=\"\",\"\",Table1[[#This Row],[DisAdv (Y/N)]])","v":""},{"$f":"IF(Table1[[#This Row],[SEND (E,K,N)]]=\"\",\"\",Table1[[#This Row],[SEND (E,K,N)]])","v":""},"",{"$f":"IF(LEN(Table4[[#This Row],[Pupil Name]])>0,1,0)","v":0}]
[{"$f":"IF(Table1[[#This Row],[School/Group Name]]=\"\",\"\",Table1[[#This Row],[School/Group Name]])","v":""},{"$f":"IF(Table1[[#This Row],[Pupil Name]]=\"\",\"\",Table1[[#This Row],[Pupil Name]])","v":""},{"$f":"IF(Table1[[#This Row],[Gender (M/F)]]=\"\",\"\",Table1[[#This Row],[Gender (M/F)]])","v":""},{"$f":"IF(Table1[[#This Row],[DisAdv (Y/N)]]=\"\",\"\",Table1[[#This Row],[DisAdv (Y/N)]])","v":""},{"$f":"IF(Table1[[#This Row],[SEND (E,K,N)]]=\"\",\"\",Table1[[#This Row],[SEND (E,K,N)]])","v":""},"",{"$f":"IF(LEN(Table4[[#This Row],[Pupil Name]])>0,1,0)","v":0}]
[{"$f":"IF(Table1[[#This Row],[School/Group Name]]=\"\",\"\",Table1[[#This Row],[School/Group Name]])","v":""},{"$f":"IF(Table1[[#This Row],[Pupil Name]]=\"\",\"\",Table1[[#This Row],[Pupil Name]])","v":""},{"$f":"IF(Table1[[#This Row],[Gender (M/F)]]=\"\",\"\",Table1[[#This Row],[Gender (M/F)]])","v":""},{"$f":"IF(Table1[[#This Row],[DisAdv (Y/N)]]=\"\",\"\",Table1[[#This Row],[DisAdv (Y/N)]])","v":""},{"$f":"IF(Table1[[#This Row],[SEND (E,K,N)]]=\"\",\"\",Table1[[#This Row],[SEND (E,K,N)]])","v":""},"",{"$f":"IF(LEN(Table4[[#This Row],[Pupil Name]])>0,1,0)","v":0}]
[{"$f":"IF(Table1[[#This Row],[School/Group Name]]=\"\",\"\",Table1[[#This Row],[School/Group Name]])","v":""},{"$f":"IF(Table1[[#This Row],[Pupil Name]]=\"\",\"\",Table1[[#This Row],[Pupil Name]])","v":""},{"$f":"IF(Table1[[#This Row],[Gender (M/F)]]=\"\",\"\",Table1[[#This Row],[Gender (M/F)]])","v":""},{"$f":"IF(Table1[[#This Row],[DisAdv (Y/N)]]=\"\",\"\",Table1[[#This Row],[DisAdv (Y/N)]])","v":""},{"$f":"IF(Table1[[#This Row],[SEND (E,K,N)]]=\"\",\"\",Table1[[#This Row],[SEND (E,K,N)]])","v":""},"",{"$f":"IF(LEN(Table4[[#This Row],[Pupil Name]])>0,1,0)","v":0}]
[{"$f":"IF(Table1[[#This Row],[School/Group Name]]=\"\",\"\",Table1[[#This Row],[School/Group Name]])","v":""},{"$f":"IF(Table1[[#This Row],[Pupil Name]]=\"\",\"\",Table1[[#This Row],[Pupil Name]])","v":""},{"$f":"IF(Table1[[#This Row],[Gender (M/F)]]=\"\",\"\",Table1[[#This Row],[Gender (M/F)]])","v":""},{"$f":"IF(Table1[[#This Row],[DisAdv (Y/N)]]=\"\",\"\",Table1[[#This Row],[DisAdv (Y/N)]])","v":""},{"$f":"IF(Table1[[#This Row],[SEND (E,K,N)]]=\"\",\"\",Table1[[#This Row],[SEND (E,K,N)]])","v":""},"",{"$f":"IF(LEN(Table4[[#This Row],[Pupil Name]])>0,1,0)","v":0}]
[{"$f":"IF(Table1[[#This Row],[School/Group Name]]=\"\",\"\",Table1[[#This Row],[School/Group Name]])","v":""},{"$f":"IF(Table1[[#This Row],[Pupil Name]]=\"\",\"\",Table1[[#This Row],[Pupil Name]])","v":""},{"$f":"IF(Table1[[#This Row],[Gender (M/F)]]=\"\",\"\",Table1[[#This Row],[Gender (M/F)]])","v":""},{"$f":"IF(Table1[[#This Row],[DisAdv (Y/N)]]=\"\",\"\",Table1[[#This Row],[DisAdv (Y/N)]])","v":""},{"$f":"IF(Table1[[#This Row],[SEND (E,K,N)]]=\"\",\"\",Table1[[#This Row],[SEND (E,K,N)]])","v":""},"",{"$f":"IF(LEN(Table4[[#This Row],[Pupil Name]])>0,1,0)","v":0}]
[{"$f":"IF(Table1[[#This Row],[School/Group Name]]=\"\",\"\",Table1[[#This Row],[School/Group Name]])","v":""},{"$f":"IF(Table1[[#This Row],[Pupil Name]]=\"\",\"\",Table1[[#This Row],[Pupil Name]])","v":""},{"$f":"IF(Table1[[#This Row],[Gender (M/F)]]=\"\",\"\",Table1[[#This Row],[Gender (M/F)]])","v":""},{"$f":"IF(Table1[[#This Row],[DisAdv (Y/N)]]=\"\",\"\",Table1[[#This Row],[DisAdv (Y/N)]])","v":""},{"$f":"IF(Table1[[#This Row],[SEND (E,K,N)]]=\"\",\"\",Table1[[#This Row],[SEND (E,K,N)]])","v":""},"",{"$f":"IF(LEN(Table4[[#This Row],[Pupil Name]])>0,1,0)","v":0}]
[{"$f":"IF(Table1[[#This Row],[School/Group Name]]=\"\",\"\",Table1[[#This Row],[School/Group Name]])","v":""},{"$f":"IF(Table1[[#This Row],[Pupil Name]]=\"\",\"\",Table1[[#This Row],[Pupil Name]])","v":""},{"$f":"IF(Table1[[#This Row],[Gender (M/F)]]=\"\",\"\",Table1[[#This Row],[Gender (M/F)]])","v":""},{"$f":"IF(Table1[[#This Row],[DisAdv (Y/N)]]=\"\",\"\",Table1[[#This Row],[DisAdv (Y/N)]])","v":""},{"$f":"IF(Table1[[#This Row],[SEND (E,K,N)]]=\"\",\"\",Table1[[#This Row],[SEND (E,K,N)]])","v":""},"",{"$f":"IF(LEN(Table4[[#This Row],[Pupil Name]])>0,1,0)","v":0}]
[{"$f":"IF(Table1[[#This Row],[School/Group Name]]=\"\",\"\",Table1[[#This Row],[School/Group Name]])","v":""},{"$f":"IF(Table1[[#This Row],[Pupil Name]]=\"\",\"\",Table1[[#This Row],[Pupil Name]])","v":""},{"$f":"IF(Table1[[#This Row],[Gender (M/F)]]=\"\",\"\",Table1[[#This Row],[Gender (M/F)]])","v":""},{"$f":"IF(Table1[[#This Row],[DisAdv (Y/N)]]=\"\",\"\",Table1[[#This Row],[DisAdv (Y/N)]])","v":""},{"$f":"IF(Table1[[#This Row],[SEND (E,K,N)]]=\"\",\"\",Table1[[#This Row],[SEND (E,K,N)]])","v":""},"",{"$f":"IF(LEN(Table4[[#This Row],[Pupil Name]])>0,1,0)","v":0}]
[{"$f":"IF(Table1[[#This Row],[School/Group Name]]=\"\",\"\",Table1[[#This Row],[School/Group Name]])","v":""},{"$f":"IF(Table1[[#This Row],[Pupil Name]]=\"\",\"\",Table1[[#This Row],[Pupil Name]])","v":""},{"$f":"IF(Table1[[#This Row],[Gender (M/F)]]=\"\",\"\",Table1[[#This Row],[Gender (M/F)]])","v":""},{"$f":"IF(Table1[[#This Row],[DisAdv (Y/N)]]=\"\",\"\",Table1[[#This Row],[DisAdv (Y/N)]])","v":""},{"$f":"IF(Table1[[#This Row],[SEND (E,K,N)]]=\"\",\"\",Table1[[#This Row],[SEND (E,K,N)]])","v":""},"",{"$f":"IF(LEN(Table4[[#This Row],[Pupil Name]])>0,1,0)","v":0}]
[{"$f":"IF(Table1[[#This Row],[School/Group Name]]=\"\",\"\",Table1[[#This Row],[School/Group Name]])","v":""},{"$f":"IF(Table1[[#This Row],[Pupil Name]]=\"\",\"\",Table1[[#This Row],[Pupil Name]])","v":""},{"$f":"IF(Table1[[#This Row],[Gender (M/F)]]=\"\",\"\",Table1[[#This Row],[Gender (M/F)]])","v":""},{"$f":"IF(Table1[[#This Row],[DisAdv (Y/N)]]=\"\",\"\",Table1[[#This Row],[DisAdv (Y/N)]])","v":""},{"$f":"IF(Table1[[#This Row],[SEND (E,K,N)]]=\"\",\"\",Table1[[#This Row],[SEND (E,K,N)]])","v":""},"",{"$f":"IF(LEN(Table4[[#This Row],[Pupil Name]])>0,1,0)","v":0}]
[{"$f":"IF(Table1[[#This Row],[School/Group Name]]=\"\",\"\",Table1[[#This Row],[School/Group Name]])","v":""},{"$f":"IF(Table1[[#This Row],[Pupil Name]]=\"\",\"\",Table1[[#This Row],[Pupil Name]])","v":""},{"$f":"IF(Table1[[#This Row],[Gender (M/F)]]=\"\",\"\",Table1[[#This Row],[Gender (M/F)]])","v":""},{"$f":"IF(Table1[[#This Row],[DisAdv (Y/N)]]=\"\",\"\",Table1[[#This Row],[DisAdv (Y/N)]])","v":""},{"$f":"IF(Table1[[#This Row],[SEND (E,K,N)]]=\"\",\"\",Table1[[#This Row],[SEND (E,K,N)]])","v":""},"",{"$f":"IF(LEN(Table4[[#This Row],[Pupil Name]])>0,1,0)","v":0}]
[{"$f":"IF(Table1[[#This Row],[School/Group Name]]=\"\",\"\",Table1[[#This Row],[School/Group Name]])","v":""},{"$f":"IF(Table1[[#This Row],[Pupil Name]]=\"\",\"\",Table1[[#This Row],[Pupil Name]])","v":""},{"$f":"IF(Table1[[#This Row],[Gender (M/F)]]=\"\",\"\",Table1[[#This Row],[Gender (M/F)]])","v":""},{"$f":"IF(Table1[[#This Row],[DisAdv (Y/N)]]=\"\",\"\",Table1[[#This Row],[DisAdv (Y/N)]])","v":""},{"$f":"IF(Table1[[#This Row],[SEND (E,K,N)]]=\"\",\"\",Table1[[#This Row],[SEND (E,K,N)]])","v":""},"",{"$f":"IF(LEN(Table4[[#This Row],[Pupil Name]])>0,1,0)","v":0}]
[{"$f":"IF(Table1[[#This Row],[School/Group Name]]=\"\",\"\",Table1[[#This Row],[School/Group Name]])","v":""},{"$f":"IF(Table1[[#This Row],[Pupil Name]]=\"\",\"\",Table1[[#This Row],[Pupil Name]])","v":""},{"$f":"IF(Table1[[#This Row],[Gender (M/F)]]=\"\",\"\",Table1[[#This Row],[Gender (M/F)]])","v":""},{"$f":"IF(Table1[[#This Row],[DisAdv (Y/N)]]=\"\",\"\",Table1[[#This Row],[DisAdv (Y/N)]])","v":""},{"$f":"IF(Table1[[#This Row],[SEND (E,K,N)]]=\"\",\"\",Table1[[#This Row],[SEND (E,K,N)]])","v":""},"",{"$f":"IF(LEN(Table4[[#This Row],[Pupil Name]])>0,1,0)","v":0}]
[{"$f":"IF(Table1[[#This Row],[School/Group Name]]=\"\",\"\",Table1[[#This Row],[School/Group Name]])","v":""},{"$f":"IF(Table1[[#This Row],[Pupil Name]]=\"\",\"\",Table1[[#This Row],[Pupil Name]])","v":""},{"$f":"IF(Table1[[#This Row],[Gender (M/F)]]=\"\",\"\",Table1[[#This Row],[Gender (M/F)]])","v":""},{"$f":"IF(Table1[[#This Row],[DisAdv (Y/N)]]=\"\",\"\",Table1[[#This Row],[DisAdv (Y/N)]])","v":""},{"$f":"IF(Table1[[#This Row],[SEND (E,K,N)]]=\"\",\"\",Table1[[#This Row],[SEND (E,K,N)]])","v":""},"",{"$f":"IF(LEN(Table4[[#This Row],[Pupil Name]])>0,1,0)","v":0}]
[{"$f":"IF(Table1[[#This Row],[School/Group Name]]=\"\",\"\",Table1[[#This Row],[School/Group Name]])","v":""},{"$f":"IF(Table1[[#This Row],[Pupil Name]]=\"\",\"\",Table1[[#This Row],[Pupil Name]])","v":""},{"$f":"IF(Table1[[#This Row],[Gender (M/F)]]=\"\",\"\",Table1[[#This Row],[Gender (M/F)]])","v":""},{"$f":"IF(Table1[[#This Row],[DisAdv (Y/N)]]=\"\",\"\",Table1[[#This Row],[DisAdv (Y/N)]])","v":""},{"$f":"IF(Table1[[#This Row],[SEND (E,K,N)]]=\"\",\"\",Table1[[#This Row],[SEND (E,K,N)]])","v":""},"",{"$f":"IF(LEN(Table4[[#This Row],[Pupil Name]])>0,1,0)","v":0}]
[{"$f":"IF(Table1[[#This Row],[School/Group Name]]=\"\",\"\",Table1[[#This Row],[School/Group Name]])","v":""},{"$f":"IF(Table1[[#This Row],[Pupil Name]]=\"\",\"\",Table1[[#This Row],[Pupil Name]])","v":""},{"$f":"IF(Table1[[#This Row],[Gender (M/F)]]=\"\",\"\",Table1[[#This Row],[Gender (M/F)]])","v":""},{"$f":"IF(Table1[[#This Row],[DisAdv (Y/N)]]=\"\",\"\",Table1[[#This Row],[DisAdv (Y/N)]])","v":""},{"$f":"IF(Table1[[#This Row],[SEND (E,K,N)]]=\"\",\"\",Table1[[#This Row],[SEND (E,K,N)]])","v":""},"",{"$f":"IF(LEN(Table4[[#This Row],[Pupil Name]])>0,1,0)","v":0}]
[{"$f":"IF(Table1[[#This Row],[School/Group Name]]=\"\",\"\",Table1[[#This Row],[School/Group Name]])","v":""},{"$f":"IF(Table1[[#This Row],[Pupil Name]]=\"\",\"\",Table1[[#This Row],[Pupil Name]])","v":""},{"$f":"IF(Table1[[#This Row],[Gender (M/F)]]=\"\",\"\",Table1[[#This Row],[Gender (M/F)]])","v":""},{"$f":"IF(Table1[[#This Row],[DisAdv (Y/N)]]=\"\",\"\",Table1[[#This Row],[DisAdv (Y/N)]])","v":""},{"$f":"IF(Table1[[#This Row],[SEND (E,K,N)]]=\"\",\"\",Table1[[#This Row],[SEND (E,K,N)]])","v":""},"",{"$f":"IF(LEN(Table4[[#This Row],[Pupil Name]])>0,1,0)","v":0}]
[{"$f":"IF(Table1[[#This Row],[School/Group Name]]=\"\",\"\",Table1[[#This Row],[School/Group Name]])","v":""},{"$f":"IF(Table1[[#This Row],[Pupil Name]]=\"\",\"\",Table1[[#This Row],[Pupil Name]])","v":""},{"$f":"IF(Table1[[#This Row],[Gender (M/F)]]=\"\",\"\",Table1[[#This Row],[Gender (M/F)]])","v":""},{"$f":"IF(Table1[[#This Row],[DisAdv (Y/N)]]=\"\",\"\",Table1[[#This Row],[DisAdv (Y/N)]])","v":""},{"$f":"IF(Table1[[#This Row],[SEND (E,K,N)]]=\"\",\"\",Table1[[#This Row],[SEND (E,K,N)]])","v":""},"",{"$f":"IF(LEN(Table4[[#This Row],[Pupil Name]])>0,1,0)","v":0}]
[{"$f":"IF(Table1[[#This Row],[School/Group Name]]=\"\",\"\",Table1[[#This Row],[School/Group Name]])","v":""},{"$f":"IF(Table1[[#This Row],[Pupil Name]]=\"\",\"\",Table1[[#This Row],[Pupil Name]])","v":""},{"$f":"IF(Table1[[#This Row],[Gender (M/F)]]=\"\",\"\",Table1[[#This Row],[Gender (M/F)]])","v":""},{"$f":"IF(Table1[[#This Row],[DisAdv (Y/N)]]=\"\",\"\",Table1[[#This Row],[DisAdv (Y/N)]])","v":""},{"$f":"IF(Table1[[#This Row],[SEND (E,K,N)]]=\"\",\"\",Table1[[#This Row],[SEND (E,K,N)]])","v":""},"",{"$f":"IF(LEN(Table4[[#This Row],[Pupil Name]])>0,1,0)","v":0}]
[{"$f":"IF(Table1[[#This Row],[School/Group Name]]=\"\",\"\",Table1[[#This Row],[School/Group Name]])","v":""},{"$f":"IF(Table1[[#This Row],[Pupil Name]]=\"\",\"\",Table1[[#This Row],[Pupil Name]])","v":""},{"$f":"IF(Table1[[#This Row],[Gender (M/F)]]=\"\",\"\",Table1[[#This Row],[Gender (M/F)]])","v":""},{"$f":"IF(Table1[[#This Row],[DisAdv (Y/N)]]=\"\",\"\",Table1[[#This Row],[DisAdv (Y/N)]])","v":""},{"$f":"IF(Table1[[#This Row],[SEND (E,K,N)]]=\"\",\"\",Table1[[#This Row],[SEND (E,K,N)]])","v":""},"",{"$f":"IF(LEN(Table4[[#This Row],[Pupil Name]])>0,1,0)","v":0}]
[{"$f":"IF(Table1[[#This Row],[School/Group Name]]=\"\",\"\",Table1[[#This Row],[School/Group Name]])","v":""},{"$f":"IF(Table1[[#This Row],[Pupil Name]]=\"\",\"\",Table1[[#This Row],[Pupil Name]])","v":""},{"$f":"IF(Table1[[#This Row],[Gender (M/F)]]=\"\",\"\",Table1[[#This Row],[Gender (M/F)]])","v":""},{"$f":"IF(Table1[[#This Row],[DisAdv (Y/N)]]=\"\",\"\",Table1[[#This Row],[DisAdv (Y/N)]])","v":""},{"$f":"IF(Table1[[#This Row],[SEND (E,K,N)]]=\"\",\"\",Table1[[#This Row],[SEND (E,K,N)]])","v":""},"",{"$f":"IF(LEN(Table4[[#This Row],[Pupil Name]])>0,1,0)","v":0}]
[{"$f":"IF(Table1[[#This Row],[School/Group Name]]=\"\",\"\",Table1[[#This Row],[School/Group Name]])","v":""},{"$f":"IF(Table1[[#This Row],[Pupil Name]]=\"\",\"\",Table1[[#This Row],[Pupil Name]])","v":""},{"$f":"IF(Table1[[#This Row],[Gender (M/F)]]=\"\",\"\",Table1[[#This Row],[Gender (M/F)]])","v":""},{"$f":"IF(Table1[[#This Row],[DisAdv (Y/N)]]=\"\",\"\",Table1[[#This Row],[DisAdv (Y/N)]])","v":""},{"$f":"IF(Table1[[#This Row],[SEND (E,K,N)]]=\"\",\"\",Table1[[#This Row],[SEND (E,K,N)]])","v":""},"",{"$f":"IF(LEN(Table4[[#This Row],[Pupil Name]])>0,1,0)","v":0}]
[{"$f":"IF(Table1[[#This Row],[School/Group Name]]=\"\",\"\",Table1[[#This Row],[School/Group Name]])","v":""},{"$f":"IF(Table1[[#This Row],[Pupil Name]]=\"\",\"\",Table1[[#This Row],[Pupil Name]])","v":""},{"$f":"IF(Table1[[#This Row],[Gender (M/F)]]=\"\",\"\",Table1[[#This Row],[Gender (M/F)]])","v":""},{"$f":"IF(Table1[[#This Row],[DisAdv (Y/N)]]=\"\",\"\",Table1[[#This Row],[DisAdv (Y/N)]])","v":""},{"$f":"IF(Table1[[#This Row],[SEND (E,K,N)]]=\"\",\"\",Table1[[#This Row],[SEND (E,K,N)]])","v":""},"",{"$f":"IF(LEN(Table4[[#This Row],[Pupil Name]])>0,1,0)","v":0}]
[{"$f":"IF(Table1[[#This Row],[School/Group Name]]=\"\",\"\",Table1[[#This Row],[School/Group Name]])","v":""},{"$f":"IF(Table1[[#This Row],[Pupil Name]]=\"\",\"\",Table1[[#This Row],[Pupil Name]])","v":""},{"$f":"IF(Table1[[#This Row],[Gender (M/F)]]=\"\",\"\",Table1[[#This Row],[Gender (M/F)]])","v":""},{"$f":"IF(Table1[[#This Row],[DisAdv (Y/N)]]=\"\",\"\",Table1[[#This Row],[DisAdv (Y/N)]])","v":""},{"$f":"IF(Table1[[#This Row],[SEND (E,K,N)]]=\"\",\"\",Table1[[#This Row],[SEND (E,K,N)]])","v":""},"",{"$f":"IF(LEN(Table4[[#This Row],[Pupil Name]])>0,1,0)","v":0}]
[{"$f":"IF(Table1[[#This Row],[School/Group Name]]=\"\",\"\",Table1[[#This Row],[School/Group Name]])","v":""},{"$f":"IF(Table1[[#This Row],[Pupil Name]]=\"\",\"\",Table1[[#This Row],[Pupil Name]])","v":""},{"$f":"IF(Table1[[#This Row],[Gender (M/F)]]=\"\",\"\",Table1[[#This Row],[Gender (M/F)]])","v":""},{"$f":"IF(Table1[[#This Row],[DisAdv (Y/N)]]=\"\",\"\",Table1[[#This Row],[DisAdv (Y/N)]])","v":""},{"$f":"IF(Table1[[#This Row],[SEND (E,K,N)]]=\"\",\"\",Table1[[#This Row],[SEND (E,K,N)]])","v":""},"",{"$f":"IF(LEN(Table4[[#This Row],[Pupil Name]])>0,1,0)","v":0}]
[{"$f":"IF(Table1[[#This Row],[School/Group Name]]=\"\",\"\",Table1[[#This Row],[School/Group Name]])","v":""},{"$f":"IF(Table1[[#This Row],[Pupil Name]]=\"\",\"\",Table1[[#This Row],[Pupil Name]])","v":""},{"$f":"IF(Table1[[#This Row],[Gender (M/F)]]=\"\",\"\",Table1[[#This Row],[Gender (M/F)]])","v":""},{"$f":"IF(Table1[[#This Row],[DisAdv (Y/N)]]=\"\",\"\",Table1[[#This Row],[DisAdv (Y/N)]])","v":""},{"$f":"IF(Table1[[#This Row],[SEND (E,K,N)]]=\"\",\"\",Table1[[#This Row],[SEND (E,K,N)]])","v":""},"",{"$f":"IF(LEN(Table4[[#This Row],[Pupil Name]])>0,1,0)","v":0}]
[{"$f":"IF(Table1[[#This Row],[School/Group Name]]=\"\",\"\",Table1[[#This Row],[School/Group Name]])","v":""},{"$f":"IF(Table1[[#This Row],[Pupil Name]]=\"\",\"\",Table1[[#This Row],[Pupil Name]])","v":""},{"$f":"IF(Table1[[#This Row],[Gender (M/F)]]=\"\",\"\",Table1[[#This Row],[Gender (M/F)]])","v":""},{"$f":"IF(Table1[[#This Row],[DisAdv (Y/N)]]=\"\",\"\",Table1[[#This Row],[DisAdv (Y/N)]])","v":""},{"$f":"IF(Table1[[#This Row],[SEND (E,K,N)]]=\"\",\"\",Table1[[#This Row],[SEND (E,K,N)]])","v":""},"",{"$f":"IF(LEN(Table4[[#This Row],[Pupil Name]])>0,1,0)","v":0}]
[{"$f":"IF(Table1[[#This Row],[School/Group Name]]=\"\",\"\",Table1[[#This Row],[School/Group Name]])","v":""},{"$f":"IF(Table1[[#This Row],[Pupil Name]]=\"\",\"\",Table1[[#This Row],[Pupil Name]])","v":""},{"$f":"IF(Table1[[#This Row],[Gender (M/F)]]=\"\",\"\",Table1[[#This Row],[Gender (M/F)]])","v":""},{"$f":"IF(Table1[[#This Row],[DisAdv (Y/N)]]=\"\",\"\",Table1[[#This Row],[DisAdv (Y/N)]])","v":""},{"$f":"IF(Table1[[#This Row],[SEND (E,K,N)]]=\"\",\"\",Table1[[#This Row],[SEND (E,K,N)]])","v":""},"",{"$f":"IF(LEN(Table4[[#This Row],[Pupil Name]])>0,1,0)","v":0}]
[{"$f":"IF(Table1[[#This Row],[School/Group Name]]=\"\",\"\",Table1[[#This Row],[School/Group Name]])","v":""},{"$f":"IF(Table1[[#This Row],[Pupil Name]]=\"\",\"\",Table1[[#This Row],[Pupil Name]])","v":""},{"$f":"IF(Table1[[#This Row],[Gender (M/F)]]=\"\",\"\",Table1[[#This Row],[Gender (M/F)]])","v":""},{"$f":"IF(Table1[[#This Row],[DisAdv (Y/N)]]=\"\",\"\",Table1[[#This Row],[DisAdv (Y/N)]])","v":""},{"$f":"IF(Table1[[#This Row],[SEND (E,K,N)]]=\"\",\"\",Table1[[#This Row],[SEND (E,K,N)]])","v":""},"",{"$f":"IF(LEN(Table4[[#This Row],[Pupil Name]])>0,1,0)","v":0}]
[{"$f":"IF(Table1[[#This Row],[School/Group Name]]=\"\",\"\",Table1[[#This Row],[School/Group Name]])","v":""},{"$f":"IF(Table1[[#This Row],[Pupil Name]]=\"\",\"\",Table1[[#This Row],[Pupil Name]])","v":""},{"$f":"IF(Table1[[#This Row],[Gender (M/F)]]=\"\",\"\",Table1[[#This Row],[Gender (M/F)]])","v":""},{"$f":"IF(Table1[[#This Row],[DisAdv (Y/N)]]=\"\",\"\",Table1[[#This Row],[DisAdv (Y/N)]])","v":""},{"$f":"IF(Table1[[#This Row],[SEND (E,K,N)]]=\"\",\"\",Table1[[#This Row],[SEND (E,K,N)]])","v":""},"",{"$f":"IF(LEN(Table4[[#This Row],[Pupil Name]])>0,1,0)","v":0}]
[{"$f":"IF(Table1[[#This Row],[School/Group Name]]=\"\",\"\",Table1[[#This Row],[School/Group Name]])","v":""},{"$f":"IF(Table1[[#This Row],[Pupil Name]]=\"\",\"\",Table1[[#This Row],[Pupil Name]])","v":""},{"$f":"IF(Table1[[#This Row],[Gender (M/F)]]=\"\",\"\",Table1[[#This Row],[Gender (M/F)]])","v":""},{"$f":"IF(Table1[[#This Row],[DisAdv (Y/N)]]=\"\",\"\",Table1[[#This Row],[DisAdv (Y/N)]])","v":""},{"$f":"IF(Table1[[#This Row],[SEND (E,K,N)]]=\"\",\"\",Table1[[#This Row],[SEND (E,K,N)]])","v":""},"",{"$f":"IF(LEN(Table4[[#This Row],[Pupil Name]])>0,1,0)","v":0}]
[{"$f":"IF(Table1[[#This Row],[School/Group Name]]=\"\",\"\",Table1[[#This Row],[School/Group Name]])","v":""},{"$f":"IF(Table1[[#This Row],[Pupil Name]]=\"\",\"\",Table1[[#This Row],[Pupil Name]])","v":""},{"$f":"IF(Table1[[#This Row],[Gender (M/F)]]=\"\",\"\",Table1[[#This Row],[Gender (M/F)]])","v":""},{"$f":"IF(Table1[[#This Row],[DisAdv (Y/N)]]=\"\",\"\",Table1[[#This Row],[DisAdv (Y/N)]])","v":""},{"$f":"IF(Table1[[#This Row],[SEND (E,K,N)]]=\"\",\"\",Table1[[#This Row],[SEND (E,K,N)]])","v":""},"",{"$f":"IF(LEN(Table4[[#This Row],[Pupil Name]])>0,1,0)","v":0}]
[{"$f":"IF(Table1[[#This Row],[School/Group Name]]=\"\",\"\",Table1[[#This Row],[School/Group Name]])","v":""},{"$f":"IF(Table1[[#This Row],[Pupil Name]]=\"\",\"\",Table1[[#This Row],[Pupil Name]])","v":""},{"$f":"IF(Table1[[#This Row],[Gender (M/F)]]=\"\",\"\",Table1[[#This Row],[Gender (M/F)]])","v":""},{"$f":"IF(Table1[[#This Row],[DisAdv (Y/N)]]=\"\",\"\",Table1[[#This Row],[DisAdv (Y/N)]])","v":""},{"$f":"IF(Table1[[#This Row],[SEND (E,K,N)]]=\"\",\"\",Table1[[#This Row],[SEND (E,K,N)]])","v":""},"",{"$f":"IF(LEN(Table4[[#This Row],[Pupil Name]])>0,1,0)","v":0}]
[{"$f":"IF(Table1[[#This Row],[School/Group Name]]=\"\",\"\",Table1[[#This Row],[School/Group Name]])","v":""},{"$f":"IF(Table1[[#This Row],[Pupil Name]]=\"\",\"\",Table1[[#This Row],[Pupil Name]])","v":""},{"$f":"IF(Table1[[#This Row],[Gender (M/F)]]=\"\",\"\",Table1[[#This Row],[Gender (M/F)]])","v":""},{"$f":"IF(Table1[[#This Row],[DisAdv (Y/N)]]=\"\",\"\",Table1[[#This Row],[DisAdv (Y/N)]])","v":""},{"$f":"IF(Table1[[#This Row],[SEND (E,K,N)]]=\"\",\"\",Table1[[#This Row],[SEND (E,K,N)]])","v":""},"",{"$f":"IF(LEN(Table4[[#This Row],[Pupil Name]])>0,1,0)","v":0}]
[{"$f":"IF(Table1[[#This Row],[School/Group Name]]=\"\",\"\",Table1[[#This Row],[School/Group Name]])","v":""},{"$f":"IF(Table1[[#This Row],[Pupil Name]]=\"\",\"\",Table1[[#This Row],[Pupil Name]])","v":""},{"$f":"IF(Table1[[#This Row],[Gender (M/F)]]=\"\",\"\",Table1[[#This Row],[Gender (M/F)]])","v":""},{"$f":"IF(Table1[[#This Row],[DisAdv (Y/N)]]=\"\",\"\",Table1[[#This Row],[DisAdv (Y/N)]])","v":""},{"$f":"IF(Table1[[#This Row],[SEND (E,K,N)]]=\"\",\"\",Table1[[#This Row],[SEND (E,K,N)]])","v":""},"",{"$f":"IF(LEN(Table4[[#This Row],[Pupil Name]])>0,1,0)","v":0}]
[{"$f":"IF(Table1[[#This Row],[School/Group Name]]=\"\",\"\",Table1[[#This Row],[School/Group Name]])","v":""},{"$f":"IF(Table1[[#This Row],[Pupil Name]]=\"\",\"\",Table1[[#This Row],[Pupil Name]])","v":""},{"$f":"IF(Table1[[#This Row],[Gender (M/F)]]=\"\",\"\",Table1[[#This Row],[Gender (M/F)]])","v":""},{"$f":"IF(Table1[[#This Row],[DisAdv (Y/N)]]=\"\",\"\",Table1[[#This Row],[DisAdv (Y/N)]])","v":""},{"$f":"IF(Table1[[#This Row],[SEND (E,K,N)]]=\"\",\"\",Table1[[#This Row],[SEND (E,K,N)]])","v":""},"",{"$f":"IF(LEN(Table4[[#This Row],[Pupil Name]])>0,1,0)","v":0}]
[{"$f":"IF(Table1[[#This Row],[School/Group Name]]=\"\",\"\",Table1[[#This Row],[School/Group Name]])","v":""},{"$f":"IF(Table1[[#This Row],[Pupil Name]]=\"\",\"\",Table1[[#This Row],[Pupil Name]])","v":""},{"$f":"IF(Table1[[#This Row],[Gender (M/F)]]=\"\",\"\",Table1[[#This Row],[Gender (M/F)]])","v":""},{"$f":"IF(Table1[[#This Row],[DisAdv (Y/N)]]=\"\",\"\",Table1[[#This Row],[DisAdv (Y/N)]])","v":""},{"$f":"IF(Table1[[#This Row],[SEND (E,K,N)]]=\"\",\"\",Table1[[#This Row],[SEND (E,K,N)]])","v":""},"",{"$f":"IF(LEN(Table4[[#This Row],[Pupil Name]])>0,1,0)","v":0}]
[{"$f":"IF(Table1[[#This Row],[School/Group Name]]=\"\",\"\",Table1[[#This Row],[School/Group Name]])","v":""},{"$f":"IF(Table1[[#This Row],[Pupil Name]]=\"\",\"\",Table1[[#This Row],[Pupil Name]])","v":""},{"$f":"IF(Table1[[#This Row],[Gender (M/F)]]=\"\",\"\",Table1[[#This Row],[Gender (M/F)]])","v":""},{"$f":"IF(Table1[[#This Row],[DisAdv (Y/N)]]=\"\",\"\",Table1[[#This Row],[DisAdv (Y/N)]])","v":""},{"$f":"IF(Table1[[#This Row],[SEND (E,K,N)]]=\"\",\"\",Table1[[#This Row],[SEND (E,K,N)]])","v":""},"",{"$f":"IF(LEN(Table4[[#This Row],[Pupil Name]])>0,1,0)","v":0}]
[{"$f":"IF(Table1[[#This Row],[School/Group Name]]=\"\",\"\",Table1[[#This Row],[School/Group Name]])","v":""},{"$f":"IF(Table1[[#This Row],[Pupil Name]]=\"\",\"\",Table1[[#This Row],[Pupil Name]])","v":""},{"$f":"IF(Table1[[#This Row],[Gender (M/F)]]=\"\",\"\",Table1[[#This Row],[Gender (M/F)]])","v":""},{"$f":"IF(Table1[[#This Row],[DisAdv (Y/N)]]=\"\",\"\",Table1[[#This Row],[DisAdv (Y/N)]])","v":""},{"$f":"IF(Table1[[#This Row],[SEND (E,K,N)]]=\"\",\"\",Table1[[#This Row],[SEND (E,K,N)]])","v":""},"",{"$f":"IF(LEN(Table4[[#This Row],[Pupil Name]])>0,1,0)","v":0}]
[{"$f":"IF(Table1[[#This Row],[School/Group Name]]=\"\",\"\",Table1[[#This Row],[School/Group Name]])","v":""},{"$f":"IF(Table1[[#This Row],[Pupil Name]]=\"\",\"\",Table1[[#This Row],[Pupil Name]])","v":""},{"$f":"IF(Table1[[#This Row],[Gender (M/F)]]=\"\",\"\",Table1[[#This Row],[Gender (M/F)]])","v":""},{"$f":"IF(Table1[[#This Row],[DisAdv (Y/N)]]=\"\",\"\",Table1[[#This Row],[DisAdv (Y/N)]])","v":""},{"$f":"IF(Table1[[#This Row],[SEND (E,K,N)]]=\"\",\"\",Table1[[#This Row],[SEND (E,K,N)]])","v":""},"",{"$f":"IF(LEN(Table4[[#This Row],[Pupil Name]])>0,1,0)","v":0}]
[{"$f":"IF(Table1[[#This Row],[School/Group Name]]=\"\",\"\",Table1[[#This Row],[School/Group Name]])","v":""},{"$f":"IF(Table1[[#This Row],[Pupil Name]]=\"\",\"\",Table1[[#This Row],[Pupil Name]])","v":""},{"$f":"IF(Table1[[#This Row],[Gender (M/F)]]=\"\",\"\",Table1[[#This Row],[Gender (M/F)]])","v":""},{"$f":"IF(Table1[[#This Row],[DisAdv (Y/N)]]=\"\",\"\",Table1[[#This Row],[DisAdv (Y/N)]])","v":""},{"$f":"IF(Table1[[#This Row],[SEND (E,K,N)]]=\"\",\"\",Table1[[#This Row],[SEND (E,K,N)]])","v":""},"",{"$f":"IF(LEN(Table4[[#This Row],[Pupil Name]])>0,1,0)","v":0}]
[{"$f":"IF(Table1[[#This Row],[School/Group Name]]=\"\",\"\",Table1[[#This Row],[School/Group Name]])","v":""},{"$f":"IF(Table1[[#This Row],[Pupil Name]]=\"\",\"\",Table1[[#This Row],[Pupil Name]])","v":""},{"$f":"IF(Table1[[#This Row],[Gender (M/F)]]=\"\",\"\",Table1[[#This Row],[Gender (M/F)]])","v":""},{"$f":"IF(Table1[[#This Row],[DisAdv (Y/N)]]=\"\",\"\",Table1[[#This Row],[DisAdv (Y/N)]])","v":""},{"$f":"IF(Table1[[#This Row],[SEND (E,K,N)]]=\"\",\"\",Table1[[#This Row],[SEND (E,K,N)]])","v":""},"",{"$f":"IF(LEN(Table4[[#This Row],[Pupil Name]])>0,1,0)","v":0}]
[{"$f":"IF(Table1[[#This Row],[School/Group Name]]=\"\",\"\",Table1[[#This Row],[School/Group Name]])","v":""},{"$f":"IF(Table1[[#This Row],[Pupil Name]]=\"\",\"\",Table1[[#This Row],[Pupil Name]])","v":""},{"$f":"IF(Table1[[#This Row],[Gender (M/F)]]=\"\",\"\",Table1[[#This Row],[Gender (M/F)]])","v":""},{"$f":"IF(Table1[[#This Row],[DisAdv (Y/N)]]=\"\",\"\",Table1[[#This Row],[DisAdv (Y/N)]])","v":""},{"$f":"IF(Table1[[#This Row],[SEND (E,K,N)]]=\"\",\"\",Table1[[#This Row],[SEND (E,K,N)]])","v":""},"",{"$f":"IF(LEN(Table4[[#This Row],[Pupil Name]])>0,1,0)","v":0}]
[{"$f":"IF(Table1[[#This Row],[School/Group Name]]=\"\",\"\",Table1[[#This Row],[School/Group Name]])","v":""},{"$f":"IF(Table1[[#This Row],[Pupil Name]]=\"\",\"\",Table1[[#This Row],[Pupil Name]])","v":""},{"$f":"IF(Table1[[#This Row],[Gender (M/F)]]=\"\",\"\",Table1[[#This Row],[Gender (M/F)]])","v":""},{"$f":"IF(Table1[[#This Row],[DisAdv (Y/N)]]=\"\",\"\",Table1[[#This Row],[DisAdv (Y/N)]])","v":""},{"$f":"IF(Table1[[#This Row],[SEND (E,K,N)]]=\"\",\"\",Table1[[#This Row],[SEND (E,K,N)]])","v":""},"",{"$f":"IF(LEN(Table4[[#This Row],[Pupil Name]])>0,1,0)","v":0}]
[{"$f":"IF(Table1[[#This Row],[School/Group Name]]=\"\",\"\",Table1[[#This Row],[School/Group Name]])","v":""},{"$f":"IF(Table1[[#This Row],[Pupil Name]]=\"\",\"\",Table1[[#This Row],[Pupil Name]])","v":""},{"$f":"IF(Table1[[#This Row],[Gender (M/F)]]=\"\",\"\",Table1[[#This Row],[Gender (M/F)]])","v":""},{"$f":"IF(Table1[[#This Row],[DisAdv (Y/N)]]=\"\",\"\",Table1[[#This Row],[DisAdv (Y/N)]])","v":""},{"$f":"IF(Table1[[#This Row],[SEND (E,K,N)]]=\"\",\"\",Table1[[#This Row],[SEND (E,K,N)]])","v":""},{"$f":"IF(H454=\"\",\"\",(SUM(H454:AU454)))","v":""},{"$f":"IF(LEN(Table4[[#This Row],[Pupil Name]])>0,1,0)","v":0}]
[{"$f":"IF(Table1[[#This Row],[School/Group Name]]=\"\",\"\",Table1[[#This Row],[School/Group Name]])","v":""},{"$f":"IF(Table1[[#This Row],[Pupil Name]]=\"\",\"\",Table1[[#This Row],[Pupil Name]])","v":""},{"$f":"IF(Table1[[#This Row],[Gender (M/F)]]=\"\",\"\",Table1[[#This Row],[Gender (M/F)]])","v":""},{"$f":"IF(Table1[[#This Row],[DisAdv (Y/N)]]=\"\",\"\",Table1[[#This Row],[DisAdv (Y/N)]])","v":""},{"$f":"IF(Table1[[#This Row],[SEND (E,K,N)]]=\"\",\"\",Table1[[#This Row],[SEND (E,K,N)]])","v":""},"",{"$f":"IF(LEN(Table4[[#This Row],[Pupil Name]])>0,1,0)","v":0}]
[{"$f":"IF(Table1[[#This Row],[School/Group Name]]=\"\",\"\",Table1[[#This Row],[School/Group Name]])","v":""},{"$f":"IF(Table1[[#This Row],[Pupil Name]]=\"\",\"\",Table1[[#This Row],[Pupil Name]])","v":""},{"$f":"IF(Table1[[#This Row],[Gender (M/F)]]=\"\",\"\",Table1[[#This Row],[Gender (M/F)]])","v":""},{"$f":"IF(Table1[[#This Row],[DisAdv (Y/N)]]=\"\",\"\",Table1[[#This Row],[DisAdv (Y/N)]])","v":""},{"$f":"IF(Table1[[#This Row],[SEND (E,K,N)]]=\"\",\"\",Table1[[#This Row],[SEND (E,K,N)]])","v":""},"",{"$f":"IF(LEN(Table4[[#This Row],[Pupil Name]])>0,1,0)","v":0}]
[{"$f":"IF(Table1[[#This Row],[School/Group Name]]=\"\",\"\",Table1[[#This Row],[School/Group Name]])","v":""},{"$f":"IF(Table1[[#This Row],[Pupil Name]]=\"\",\"\",Table1[[#This Row],[Pupil Name]])","v":""},{"$f":"IF(Table1[[#This Row],[Gender (M/F)]]=\"\",\"\",Table1[[#This Row],[Gender (M/F)]])","v":""},{"$f":"IF(Table1[[#This Row],[DisAdv (Y/N)]]=\"\",\"\",Table1[[#This Row],[DisAdv (Y/N)]])","v":""},{"$f":"IF(Table1[[#This Row],[SEND (E,K,N)]]=\"\",\"\",Table1[[#This Row],[SEND (E,K,N)]])","v":""},"",{"$f":"IF(LEN(Table4[[#This Row],[Pupil Name]])>0,1,0)","v":0}]
[{"$f":"IF(Table1[[#This Row],[School/Group Name]]=\"\",\"\",Table1[[#This Row],[School/Group Name]])","v":""},{"$f":"IF(Table1[[#This Row],[Pupil Name]]=\"\",\"\",Table1[[#This Row],[Pupil Name]])","v":""},{"$f":"IF(Table1[[#This Row],[Gender (M/F)]]=\"\",\"\",Table1[[#This Row],[Gender (M/F)]])","v":""},{"$f":"IF(Table1[[#This Row],[DisAdv (Y/N)]]=\"\",\"\",Table1[[#This Row],[DisAdv (Y/N)]])","v":""},{"$f":"IF(Table1[[#This Row],[SEND (E,K,N)]]=\"\",\"\",Table1[[#This Row],[SEND (E,K,N)]])","v":""},"",{"$f":"IF(LEN(Table4[[#This Row],[Pupil Name]])>0,1,0)","v":0}]
[{"$f":"IF(Table1[[#This Row],[School/Group Name]]=\"\",\"\",Table1[[#This Row],[School/Group Name]])","v":""},{"$f":"IF(Table1[[#This Row],[Pupil Name]]=\"\",\"\",Table1[[#This Row],[Pupil Name]])","v":""},{"$f":"IF(Table1[[#This Row],[Gender (M/F)]]=\"\",\"\",Table1[[#This Row],[Gender (M/F)]])","v":""},{"$f":"IF(Table1[[#This Row],[DisAdv (Y/N)]]=\"\",\"\",Table1[[#This Row],[DisAdv (Y/N)]])","v":""},{"$f":"IF(Table1[[#This Row],[SEND (E,K,N)]]=\"\",\"\",Table1[[#This Row],[SEND (E,K,N)]])","v":""},"",{"$f":"IF(LEN(Table4[[#This Row],[Pupil Name]])>0,1,0)","v":0}]
[{"$f":"IF(Table1[[#This Row],[School/Group Name]]=\"\",\"\",Table1[[#This Row],[School/Group Name]])","v":""},{"$f":"IF(Table1[[#This Row],[Pupil Name]]=\"\",\"\",Table1[[#This Row],[Pupil Name]])","v":""},{"$f":"IF(Table1[[#This Row],[Gender (M/F)]]=\"\",\"\",Table1[[#This Row],[Gender (M/F)]])","v":""},{"$f":"IF(Table1[[#This Row],[DisAdv (Y/N)]]=\"\",\"\",Table1[[#This Row],[DisAdv (Y/N)]])","v":""},{"$f":"IF(Table1[[#This Row],[SEND (E,K,N)]]=\"\",\"\",Table1[[#This Row],[SEND (E,K,N)]])","v":""},"",{"$f":"IF(LEN(Table4[[#This Row],[Pupil Name]])>0,1,0)","v":0}]
[{"$f":"IF(Table1[[#This Row],[School/Group Name]]=\"\",\"\",Table1[[#This Row],[School/Group Name]])","v":""},{"$f":"IF(Table1[[#This Row],[Pupil Name]]=\"\",\"\",Table1[[#This Row],[Pupil Name]])","v":""},{"$f":"IF(Table1[[#This Row],[Gender (M/F)]]=\"\",\"\",Table1[[#This Row],[Gender (M/F)]])","v":""},{"$f":"IF(Table1[[#This Row],[DisAdv (Y/N)]]=\"\",\"\",Table1[[#This Row],[DisAdv (Y/N)]])","v":""},{"$f":"IF(Table1[[#This Row],[SEND (E,K,N)]]=\"\",\"\",Table1[[#This Row],[SEND (E,K,N)]])","v":""},"",{"$f":"IF(LEN(Table4[[#This Row],[Pupil Name]])>0,1,0)","v":0}]
[{"$f":"IF(Table1[[#This Row],[School/Group Name]]=\"\",\"\",Table1[[#This Row],[School/Group Name]])","v":""},{"$f":"IF(Table1[[#This Row],[Pupil Name]]=\"\",\"\",Table1[[#This Row],[Pupil Name]])","v":""},{"$f":"IF(Table1[[#This Row],[Gender (M/F)]]=\"\",\"\",Table1[[#This Row],[Gender (M/F)]])","v":""},{"$f":"IF(Table1[[#This Row],[DisAdv (Y/N)]]=\"\",\"\",Table1[[#This Row],[DisAdv (Y/N)]])","v":""},{"$f":"IF(Table1[[#This Row],[SEND (E,K,N)]]=\"\",\"\",Table1[[#This Row],[SEND (E,K,N)]])","v":""},"",{"$f":"IF(LEN(Table4[[#This Row],[Pupil Name]])>0,1,0)","v":0}]
[{"$f":"IF(Table1[[#This Row],[School/Group Name]]=\"\",\"\",Table1[[#This Row],[School/Group Name]])","v":""},{"$f":"IF(Table1[[#This Row],[Pupil Name]]=\"\",\"\",Table1[[#This Row],[Pupil Name]])","v":""},{"$f":"IF(Table1[[#This Row],[Gender (M/F)]]=\"\",\"\",Table1[[#This Row],[Gender (M/F)]])","v":""},{"$f":"IF(Table1[[#This Row],[DisAdv (Y/N)]]=\"\",\"\",Table1[[#This Row],[DisAdv (Y/N)]])","v":""},{"$f":"IF(Table1[[#This Row],[SEND (E,K,N)]]=\"\",\"\",Table1[[#This Row],[SEND (E,K,N)]])","v":""},"",{"$f":"IF(LEN(Table4[[#This Row],[Pupil Name]])>0,1,0)","v":0}]
[{"$f":"IF(Table1[[#This Row],[School/Group Name]]=\"\",\"\",Table1[[#This Row],[School/Group Name]])","v":""},{"$f":"IF(Table1[[#This Row],[Pupil Name]]=\"\",\"\",Table1[[#This Row],[Pupil Name]])","v":""},{"$f":"IF(Table1[[#This Row],[Gender (M/F)]]=\"\",\"\",Table1[[#This Row],[Gender (M/F)]])","v":""},{"$f":"IF(Table1[[#This Row],[DisAdv (Y/N)]]=\"\",\"\",Table1[[#This Row],[DisAdv (Y/N)]])","v":""},{"$f":"IF(Table1[[#This Row],[SEND (E,K,N)]]=\"\",\"\",Table1[[#This Row],[SEND (E,K,N)]])","v":""},"",{"$f":"IF(LEN(Table4[[#This Row],[Pupil Name]])>0,1,0)","v":0}]
[{"$f":"IF(Table1[[#This Row],[School/Group Name]]=\"\",\"\",Table1[[#This Row],[School/Group Name]])","v":""},{"$f":"IF(Table1[[#This Row],[Pupil Name]]=\"\",\"\",Table1[[#This Row],[Pupil Name]])","v":""},{"$f":"IF(Table1[[#This Row],[Gender (M/F)]]=\"\",\"\",Table1[[#This Row],[Gender (M/F)]])","v":""},{"$f":"IF(Table1[[#This Row],[DisAdv (Y/N)]]=\"\",\"\",Table1[[#This Row],[DisAdv (Y/N)]])","v":""},{"$f":"IF(Table1[[#This Row],[SEND (E,K,N)]]=\"\",\"\",Table1[[#This Row],[SEND (E,K,N)]])","v":""},"",{"$f":"IF(LEN(Table4[[#This Row],[Pupil Name]])>0,1,0)","v":0}]
[{"$f":"IF(Table1[[#This Row],[School/Group Name]]=\"\",\"\",Table1[[#This Row],[School/Group Name]])","v":""},{"$f":"IF(Table1[[#This Row],[Pupil Name]]=\"\",\"\",Table1[[#This Row],[Pupil Name]])","v":""},{"$f":"IF(Table1[[#This Row],[Gender (M/F)]]=\"\",\"\",Table1[[#This Row],[Gender (M/F)]])","v":""},{"$f":"IF(Table1[[#This Row],[DisAdv (Y/N)]]=\"\",\"\",Table1[[#This Row],[DisAdv (Y/N)]])","v":""},{"$f":"IF(Table1[[#This Row],[SEND (E,K,N)]]=\"\",\"\",Table1[[#This Row],[SEND (E,K,N)]])","v":""},"",{"$f":"IF(LEN(Table4[[#This Row],[Pupil Name]])>0,1,0)","v":0}]
[{"$f":"IF(Table1[[#This Row],[School/Group Name]]=\"\",\"\",Table1[[#This Row],[School/Group Name]])","v":""},{"$f":"IF(Table1[[#This Row],[Pupil Name]]=\"\",\"\",Table1[[#This Row],[Pupil Name]])","v":""},{"$f":"IF(Table1[[#This Row],[Gender (M/F)]]=\"\",\"\",Table1[[#This Row],[Gender (M/F)]])","v":""},{"$f":"IF(Table1[[#This Row],[DisAdv (Y/N)]]=\"\",\"\",Table1[[#This Row],[DisAdv (Y/N)]])","v":""},{"$f":"IF(Table1[[#This Row],[SEND (E,K,N)]]=\"\",\"\",Table1[[#This Row],[SEND (E,K,N)]])","v":""},"",{"$f":"IF(LEN(Table4[[#This Row],[Pupil Name]])>0,1,0)","v":0}]
[{"$f":"IF(Table1[[#This Row],[School/Group Name]]=\"\",\"\",Table1[[#This Row],[School/Group Name]])","v":""},{"$f":"IF(Table1[[#This Row],[Pupil Name]]=\"\",\"\",Table1[[#This Row],[Pupil Name]])","v":""},{"$f":"IF(Table1[[#This Row],[Gender (M/F)]]=\"\",\"\",Table1[[#This Row],[Gender (M/F)]])","v":""},{"$f":"IF(Table1[[#This Row],[DisAdv (Y/N)]]=\"\",\"\",Table1[[#This Row],[DisAdv (Y/N)]])","v":""},{"$f":"IF(Table1[[#This Row],[SEND (E,K,N)]]=\"\",\"\",Table1[[#This Row],[SEND (E,K,N)]])","v":""},"",{"$f":"IF(LEN(Table4[[#This Row],[Pupil Name]])>0,1,0)","v":0}]
[{"$f":"IF(Table1[[#This Row],[School/Group Name]]=\"\",\"\",Table1[[#This Row],[School/Group Name]])","v":""},{"$f":"IF(Table1[[#This Row],[Pupil Name]]=\"\",\"\",Table1[[#This Row],[Pupil Name]])","v":""},{"$f":"IF(Table1[[#This Row],[Gender (M/F)]]=\"\",\"\",Table1[[#This Row],[Gender (M/F)]])","v":""},{"$f":"IF(Table1[[#This Row],[DisAdv (Y/N)]]=\"\",\"\",Table1[[#This Row],[DisAdv (Y/N)]])","v":""},{"$f":"IF(Table1[[#This Row],[SEND (E,K,N)]]=\"\",\"\",Table1[[#This Row],[SEND (E,K,N)]])","v":""},"",{"$f":"IF(LEN(Table4[[#This Row],[Pupil Name]])>0,1,0)","v":0}]
[{"$f":"IF(Table1[[#This Row],[School/Group Name]]=\"\",\"\",Table1[[#This Row],[School/Group Name]])","v":""},{"$f":"IF(Table1[[#This Row],[Pupil Name]]=\"\",\"\",Table1[[#This Row],[Pupil Name]])","v":""},{"$f":"IF(Table1[[#This Row],[Gender (M/F)]]=\"\",\"\",Table1[[#This Row],[Gender (M/F)]])","v":""},{"$f":"IF(Table1[[#This Row],[DisAdv (Y/N)]]=\"\",\"\",Table1[[#This Row],[DisAdv (Y/N)]])","v":""},{"$f":"IF(Table1[[#This Row],[SEND (E,K,N)]]=\"\",\"\",Table1[[#This Row],[SEND (E,K,N)]])","v":""},"",{"$f":"IF(LEN(Table4[[#This Row],[Pupil Name]])>0,1,0)","v":0}]
[{"$f":"IF(Table1[[#This Row],[School/Group Name]]=\"\",\"\",Table1[[#This Row],[School/Group Name]])","v":""},{"$f":"IF(Table1[[#This Row],[Pupil Name]]=\"\",\"\",Table1[[#This Row],[Pupil Name]])","v":""},{"$f":"IF(Table1[[#This Row],[Gender (M/F)]]=\"\",\"\",Table1[[#This Row],[Gender (M/F)]])","v":""},{"$f":"IF(Table1[[#This Row],[DisAdv (Y/N)]]=\"\",\"\",Table1[[#This Row],[DisAdv (Y/N)]])","v":""},{"$f":"IF(Table1[[#This Row],[SEND (E,K,N)]]=\"\",\"\",Table1[[#This Row],[SEND (E,K,N)]])","v":""},"",{"$f":"IF(LEN(Table4[[#This Row],[Pupil Name]])>0,1,0)","v":0}]
[{"$f":"IF(Table1[[#This Row],[School/Group Name]]=\"\",\"\",Table1[[#This Row],[School/Group Name]])","v":""},{"$f":"IF(Table1[[#This Row],[Pupil Name]]=\"\",\"\",Table1[[#This Row],[Pupil Name]])","v":""},{"$f":"IF(Table1[[#This Row],[Gender (M/F)]]=\"\",\"\",Table1[[#This Row],[Gender (M/F)]])","v":""},{"$f":"IF(Table1[[#This Row],[DisAdv (Y/N)]]=\"\",\"\",Table1[[#This Row],[DisAdv (Y/N)]])","v":""},{"$f":"IF(Table1[[#This Row],[SEND (E,K,N)]]=\"\",\"\",Table1[[#This Row],[SEND (E,K,N)]])","v":""},"",{"$f":"IF(LEN(Table4[[#This Row],[Pupil Name]])>0,1,0)","v":0}]
[{"$f":"IF(Table1[[#This Row],[School/Group Name]]=\"\",\"\",Table1[[#This Row],[School/Group Name]])","v":""},{"$f":"IF(Table1[[#This Row],[Pupil Name]]=\"\",\"\",Table1[[#This Row],[Pupil Name]])","v":""},{"$f":"IF(Table1[[#This Row],[Gender (M/F)]]=\"\",\"\",Table1[[#This Row],[Gender (M/F)]])","v":""},{"$f":"IF(Table1[[#This Row],[DisAdv (Y/N)]]=\"\",\"\",Table1[[#This Row],[DisAdv (Y/N)]])","v":""},{"$f":"IF(Table1[[#This Row],[SEND (E,K,N)]]=\"\",\"\",Table1[[#This Row],[SEND (E,K,N)]])","v":""},"",{"$f":"IF(LEN(Table4[[#This Row],[Pupil Name]])>0,1,0)","v":0}]
[{"$f":"IF(Table1[[#This Row],[School/Group Name]]=\"\",\"\",Table1[[#This Row],[School/Group Name]])","v":""},{"$f":"IF(Table1[[#This Row],[Pupil Name]]=\"\",\"\",Table1[[#This Row],[Pupil Name]])","v":""},{"$f":"IF(Table1[[#This Row],[Gender (M/F)]]=\"\",\"\",Table1[[#This Row],[Gender (M/F)]])","v":""},{"$f":"IF(Table1[[#This Row],[DisAdv (Y/N)]]=\"\",\"\",Table1[[#This Row],[DisAdv (Y/N)]])","v":""},{"$f":"IF(Table1[[#This Row],[SEND (E,K,N)]]=\"\",\"\",Table1[[#This Row],[SEND (E,K,N)]])","v":""},"",{"$f":"IF(LEN(Table4[[#This Row],[Pupil Name]])>0,1,0)","v":0}]
[{"$f":"IF(Table1[[#This Row],[School/Group Name]]=\"\",\"\",Table1[[#This Row],[School/Group Name]])","v":""},{"$f":"IF(Table1[[#This Row],[Pupil Name]]=\"\",\"\",Table1[[#This Row],[Pupil Name]])","v":""},{"$f":"IF(Table1[[#This Row],[Gender (M/F)]]=\"\",\"\",Table1[[#This Row],[Gender (M/F)]])","v":""},{"$f":"IF(Table1[[#This Row],[DisAdv (Y/N)]]=\"\",\"\",Table1[[#This Row],[DisAdv (Y/N)]])","v":""},{"$f":"IF(Table1[[#This Row],[SEND (E,K,N)]]=\"\",\"\",Table1[[#This Row],[SEND (E,K,N)]])","v":""},"",{"$f":"IF(LEN(Table4[[#This Row],[Pupil Name]])>0,1,0)","v":0}]
[{"$f":"IF(Table1[[#This Row],[School/Group Name]]=\"\",\"\",Table1[[#This Row],[School/Group Name]])","v":""},{"$f":"IF(Table1[[#This Row],[Pupil Name]]=\"\",\"\",Table1[[#This Row],[Pupil Name]])","v":""},{"$f":"IF(Table1[[#This Row],[Gender (M/F)]]=\"\",\"\",Table1[[#This Row],[Gender (M/F)]])","v":""},{"$f":"IF(Table1[[#This Row],[DisAdv (Y/N)]]=\"\",\"\",Table1[[#This Row],[DisAdv (Y/N)]])","v":""},{"$f":"IF(Table1[[#This Row],[SEND (E,K,N)]]=\"\",\"\",Table1[[#This Row],[SEND (E,K,N)]])","v":""},"",{"$f":"IF(LEN(Table4[[#This Row],[Pupil Name]])>0,1,0)","v":0}]
[{"$f":"IF(Table1[[#This Row],[School/Group Name]]=\"\",\"\",Table1[[#This Row],[School/Group Name]])","v":""},{"$f":"IF(Table1[[#This Row],[Pupil Name]]=\"\",\"\",Table1[[#This Row],[Pupil Name]])","v":""},{"$f":"IF(Table1[[#This Row],[Gender (M/F)]]=\"\",\"\",Table1[[#This Row],[Gender (M/F)]])","v":""},{"$f":"IF(Table1[[#This Row],[DisAdv (Y/N)]]=\"\",\"\",Table1[[#This Row],[DisAdv (Y/N)]])","v":""},{"$f":"IF(Table1[[#This Row],[SEND (E,K,N)]]=\"\",\"\",Table1[[#This Row],[SEND (E,K,N)]])","v":""},"",{"$f":"IF(LEN(Table4[[#This Row],[Pupil Name]])>0,1,0)","v":0}]
[{"$f":"IF(Table1[[#This Row],[School/Group Name]]=\"\",\"\",Table1[[#This Row],[School/Group Name]])","v":""},{"$f":"IF(Table1[[#This Row],[Pupil Name]]=\"\",\"\",Table1[[#This Row],[Pupil Name]])","v":""},{"$f":"IF(Table1[[#This Row],[Gender (M/F)]]=\"\",\"\",Table1[[#This Row],[Gender (M/F)]])","v":""},{"$f":"IF(Table1[[#This Row],[DisAdv (Y/N)]]=\"\",\"\",Table1[[#This Row],[DisAdv (Y/N)]])","v":""},{"$f":"IF(Table1[[#This Row],[SEND (E,K,N)]]=\"\",\"\",Table1[[#This Row],[SEND (E,K,N)]])","v":""},"",{"$f":"IF(LEN(Table4[[#This Row],[Pupil Name]])>0,1,0)","v":0}]
[{"$f":"IF(Table1[[#This Row],[School/Group Name]]=\"\",\"\",Table1[[#This Row],[School/Group Name]])","v":""},{"$f":"IF(Table1[[#This Row],[Pupil Name]]=\"\",\"\",Table1[[#This Row],[Pupil Name]])","v":""},{"$f":"IF(Table1[[#This Row],[Gender (M/F)]]=\"\",\"\",Table1[[#This Row],[Gender (M/F)]])","v":""},{"$f":"IF(Table1[[#This Row],[DisAdv (Y/N)]]=\"\",\"\",Table1[[#This Row],[DisAdv (Y/N)]])","v":""},{"$f":"IF(Table1[[#This Row],[SEND (E,K,N)]]=\"\",\"\",Table1[[#This Row],[SEND (E,K,N)]])","v":""},"",{"$f":"IF(LEN(Table4[[#This Row],[Pupil Name]])>0,1,0)","v":0}]
[{"$f":"IF(Table1[[#This Row],[School/Group Name]]=\"\",\"\",Table1[[#This Row],[School/Group Name]])","v":""},{"$f":"IF(Table1[[#This Row],[Pupil Name]]=\"\",\"\",Table1[[#This Row],[Pupil Name]])","v":""},{"$f":"IF(Table1[[#This Row],[Gender (M/F)]]=\"\",\"\",Table1[[#This Row],[Gender (M/F)]])","v":""},{"$f":"IF(Table1[[#This Row],[DisAdv (Y/N)]]=\"\",\"\",Table1[[#This Row],[DisAdv (Y/N)]])","v":""},{"$f":"IF(Table1[[#This Row],[SEND (E,K,N)]]=\"\",\"\",Table1[[#This Row],[SEND (E,K,N)]])","v":""},"",{"$f":"IF(LEN(Table4[[#This Row],[Pupil Name]])>0,1,0)","v":0}]
[{"$f":"IF(Table1[[#This Row],[School/Group Name]]=\"\",\"\",Table1[[#This Row],[School/Group Name]])","v":""},{"$f":"IF(Table1[[#This Row],[Pupil Name]]=\"\",\"\",Table1[[#This Row],[Pupil Name]])","v":""},{"$f":"IF(Table1[[#This Row],[Gender (M/F)]]=\"\",\"\",Table1[[#This Row],[Gender (M/F)]])","v":""},{"$f":"IF(Table1[[#This Row],[DisAdv (Y/N)]]=\"\",\"\",Table1[[#This Row],[DisAdv (Y/N)]])","v":""},{"$f":"IF(Table1[[#This Row],[SEND (E,K,N)]]=\"\",\"\",Table1[[#This Row],[SEND (E,K,N)]])","v":""},"",{"$f":"IF(LEN(Table4[[#This Row],[Pupil Name]])>0,1,0)","v":0}]
[{"$f":"IF(Table1[[#This Row],[School/Group Name]]=\"\",\"\",Table1[[#This Row],[School/Group Name]])","v":""},{"$f":"IF(Table1[[#This Row],[Pupil Name]]=\"\",\"\",Table1[[#This Row],[Pupil Name]])","v":""},{"$f":"IF(Table1[[#This Row],[Gender (M/F)]]=\"\",\"\",Table1[[#This Row],[Gender (M/F)]])","v":""},{"$f":"IF(Table1[[#This Row],[DisAdv (Y/N)]]=\"\",\"\",Table1[[#This Row],[DisAdv (Y/N)]])","v":""},{"$f":"IF(Table1[[#This Row],[SEND (E,K,N)]]=\"\",\"\",Table1[[#This Row],[SEND (E,K,N)]])","v":""},"",{"$f":"IF(LEN(Table4[[#This Row],[Pupil Name]])>0,1,0)","v":0}]
[{"$f":"IF(Table1[[#This Row],[School/Group Name]]=\"\",\"\",Table1[[#This Row],[School/Group Name]])","v":""},{"$f":"IF(Table1[[#This Row],[Pupil Name]]=\"\",\"\",Table1[[#This Row],[Pupil Name]])","v":""},{"$f":"IF(Table1[[#This Row],[Gender (M/F)]]=\"\",\"\",Table1[[#This Row],[Gender (M/F)]])","v":""},{"$f":"IF(Table1[[#This Row],[DisAdv (Y/N)]]=\"\",\"\",Table1[[#This Row],[DisAdv (Y/N)]])","v":""},{"$f":"IF(Table1[[#This Row],[SEND (E,K,N)]]=\"\",\"\",Table1[[#This Row],[SEND (E,K,N)]])","v":""},"",{"$f":"IF(LEN(Table4[[#This Row],[Pupil Name]])>0,1,0)","v":0}]
[{"$f":"IF(Table1[[#This Row],[School/Group Name]]=\"\",\"\",Table1[[#This Row],[School/Group Name]])","v":""},{"$f":"IF(Table1[[#This Row],[Pupil Name]]=\"\",\"\",Table1[[#This Row],[Pupil Name]])","v":""},{"$f":"IF(Table1[[#This Row],[Gender (M/F)]]=\"\",\"\",Table1[[#This Row],[Gender (M/F)]])","v":""},{"$f":"IF(Table1[[#This Row],[DisAdv (Y/N)]]=\"\",\"\",Table1[[#This Row],[DisAdv (Y/N)]])","v":""},{"$f":"IF(Table1[[#This Row],[SEND (E,K,N)]]=\"\",\"\",Table1[[#This Row],[SEND (E,K,N)]])","v":""},"",{"$f":"IF(LEN(Table4[[#This Row],[Pupil Name]])>0,1,0)","v":0}]
[{"$f":"IF(Table1[[#This Row],[School/Group Name]]=\"\",\"\",Table1[[#This Row],[School/Group Name]])","v":""},{"$f":"IF(Table1[[#This Row],[Pupil Name]]=\"\",\"\",Table1[[#This Row],[Pupil Name]])","v":""},{"$f":"IF(Table1[[#This Row],[Gender (M/F)]]=\"\",\"\",Table1[[#This Row],[Gender (M/F)]])","v":""},{"$f":"IF(Table1[[#This Row],[DisAdv (Y/N)]]=\"\",\"\",Table1[[#This Row],[DisAdv (Y/N)]])","v":""},{"$f":"IF(Table1[[#This Row],[SEND (E,K,N)]]=\"\",\"\",Table1[[#This Row],[SEND (E,K,N)]])","v":""},"",{"$f":"IF(LEN(Table4[[#This Row],[Pupil Name]])>0,1,0)","v":0}]
[{"$f":"IF(Table1[[#This Row],[School/Group Name]]=\"\",\"\",Table1[[#This Row],[School/Group Name]])","v":""},{"$f":"IF(Table1[[#This Row],[Pupil Name]]=\"\",\"\",Table1[[#This Row],[Pupil Name]])","v":""},{"$f":"IF(Table1[[#This Row],[Gender (M/F)]]=\"\",\"\",Table1[[#This Row],[Gender (M/F)]])","v":""},{"$f":"IF(Table1[[#This Row],[DisAdv (Y/N)]]=\"\",\"\",Table1[[#This Row],[DisAdv (Y/N)]])","v":""},{"$f":"IF(Table1[[#This Row],[SEND (E,K,N)]]=\"\",\"\",Table1[[#This Row],[SEND (E,K,N)]])","v":""},"",{"$f":"IF(LEN(Table4[[#This Row],[Pupil Name]])>0,1,0)","v":0}]
[{"$f":"IF(Table1[[#This Row],[School/Group Name]]=\"\",\"\",Table1[[#This Row],[School/Group Name]])","v":""},{"$f":"IF(Table1[[#This Row],[Pupil Name]]=\"\",\"\",Table1[[#This Row],[Pupil Name]])","v":""},{"$f":"IF(Table1[[#This Row],[Gender (M/F)]]=\"\",\"\",Table1[[#This Row],[Gender (M/F)]])","v":""},{"$f":"IF(Table1[[#This Row],[DisAdv (Y/N)]]=\"\",\"\",Table1[[#This Row],[DisAdv (Y/N)]])","v":""},{"$f":"IF(Table1[[#This Row],[SEND (E,K,N)]]=\"\",\"\",Table1[[#This Row],[SEND (E,K,N)]])","v":""},"",{"$f":"IF(LEN(Table4[[#This Row],[Pupil Name]])>0,1,0)","v":0}]
[{"$f":"IF(Table1[[#This Row],[School/Group Name]]=\"\",\"\",Table1[[#This Row],[School/Group Name]])","v":""},{"$f":"IF(Table1[[#This Row],[Pupil Name]]=\"\",\"\",Table1[[#This Row],[Pupil Name]])","v":""},{"$f":"IF(Table1[[#This Row],[Gender (M/F)]]=\"\",\"\",Table1[[#This Row],[Gender (M/F)]])","v":""},{"$f":"IF(Table1[[#This Row],[DisAdv (Y/N)]]=\"\",\"\",Table1[[#This Row],[DisAdv (Y/N)]])","v":""},{"$f":"IF(Table1[[#This Row],[SEND (E,K,N)]]=\"\",\"\",Table1[[#This Row],[SEND (E,K,N)]])","v":""},"",{"$f":"IF(LEN(Table4[[#This Row],[Pupil Name]])>0,1,0)","v":0}]
[{"$f":"IF(Table1[[#This Row],[School/Group Name]]=\"\",\"\",Table1[[#This Row],[School/Group Name]])","v":""},{"$f":"IF(Table1[[#This Row],[Pupil Name]]=\"\",\"\",Table1[[#This Row],[Pupil Name]])","v":""},{"$f":"IF(Table1[[#This Row],[Gender (M/F)]]=\"\",\"\",Table1[[#This Row],[Gender (M/F)]])","v":""},{"$f":"IF(Table1[[#This Row],[DisAdv (Y/N)]]=\"\",\"\",Table1[[#This Row],[DisAdv (Y/N)]])","v":""},{"$f":"IF(Table1[[#This Row],[SEND (E,K,N)]]=\"\",\"\",Table1[[#This Row],[SEND (E,K,N)]])","v":""},"",{"$f":"IF(LEN(Table4[[#This Row],[Pupil Name]])>0,1,0)","v":0}]
[{"$f":"IF(Table1[[#This Row],[School/Group Name]]=\"\",\"\",Table1[[#This Row],[School/Group Name]])","v":""},{"$f":"IF(Table1[[#This Row],[Pupil Name]]=\"\",\"\",Table1[[#This Row],[Pupil Name]])","v":""},{"$f":"IF(Table1[[#This Row],[Gender (M/F)]]=\"\",\"\",Table1[[#This Row],[Gender (M/F)]])","v":""},{"$f":"IF(Table1[[#This Row],[DisAdv (Y/N)]]=\"\",\"\",Table1[[#This Row],[DisAdv (Y/N)]])","v":""},{"$f":"IF(Table1[[#This Row],[SEND (E,K,N)]]=\"\",\"\",Table1[[#This Row],[SEND (E,K,N)]])","v":""},"",{"$f":"IF(LEN(Table4[[#This Row],[Pupil Name]])>0,1,0)","v":0}]
[{"$f":"IF(Table1[[#This Row],[School/Group Name]]=\"\",\"\",Table1[[#This Row],[School/Group Name]])","v":""},{"$f":"IF(Table1[[#This Row],[Pupil Name]]=\"\",\"\",Table1[[#This Row],[Pupil Name]])","v":""},{"$f":"IF(Table1[[#This Row],[Gender (M/F)]]=\"\",\"\",Table1[[#This Row],[Gender (M/F)]])","v":""},{"$f":"IF(Table1[[#This Row],[DisAdv (Y/N)]]=\"\",\"\",Table1[[#This Row],[DisAdv (Y/N)]])","v":""},{"$f":"IF(Table1[[#This Row],[SEND (E,K,N)]]=\"\",\"\",Table1[[#This Row],[SEND (E,K,N)]])","v":""},"",{"$f":"IF(LEN(Table4[[#This Row],[Pupil Name]])>0,1,0)","v":0}]
[{"$f":"IF(Table1[[#This Row],[School/Group Name]]=\"\",\"\",Table1[[#This Row],[School/Group Name]])","v":""},{"$f":"IF(Table1[[#This Row],[Pupil Name]]=\"\",\"\",Table1[[#This Row],[Pupil Name]])","v":""},{"$f":"IF(Table1[[#This Row],[Gender (M/F)]]=\"\",\"\",Table1[[#This Row],[Gender (M/F)]])","v":""},{"$f":"IF(Table1[[#This Row],[DisAdv (Y/N)]]=\"\",\"\",Table1[[#This Row],[DisAdv (Y/N)]])","v":""},{"$f":"IF(Table1[[#This Row],[SEND (E,K,N)]]=\"\",\"\",Table1[[#This Row],[SEND (E,K,N)]])","v":""},"",{"$f":"IF(LEN(Table4[[#This Row],[Pupil Name]])>0,1,0)","v":0}]
[{"$f":"IF(Table1[[#This Row],[School/Group Name]]=\"\",\"\",Table1[[#This Row],[School/Group Name]])","v":""},{"$f":"IF(Table1[[#This Row],[Pupil Name]]=\"\",\"\",Table1[[#This Row],[Pupil Name]])","v":""},{"$f":"IF(Table1[[#This Row],[Gender (M/F)]]=\"\",\"\",Table1[[#This Row],[Gender (M/F)]])","v":""},{"$f":"IF(Table1[[#This Row],[DisAdv (Y/N)]]=\"\",\"\",Table1[[#This Row],[DisAdv (Y/N)]])","v":""},{"$f":"IF(Table1[[#This Row],[SEND (E,K,N)]]=\"\",\"\",Table1[[#This Row],[SEND (E,K,N)]])","v":""},"",{"$f":"IF(LEN(Table4[[#This Row],[Pupil Name]])>0,1,0)","v":0}]
[{"$f":"IF(Table1[[#This Row],[School/Group Name]]=\"\",\"\",Table1[[#This Row],[School/Group Name]])","v":""},{"$f":"IF(Table1[[#This Row],[Pupil Name]]=\"\",\"\",Table1[[#This Row],[Pupil Name]])","v":""},{"$f":"IF(Table1[[#This Row],[Gender (M/F)]]=\"\",\"\",Table1[[#This Row],[Gender (M/F)]])","v":""},{"$f":"IF(Table1[[#This Row],[DisAdv (Y/N)]]=\"\",\"\",Table1[[#This Row],[DisAdv (Y/N)]])","v":""},{"$f":"IF(Table1[[#This Row],[SEND (E,K,N)]]=\"\",\"\",Table1[[#This Row],[SEND (E,K,N)]])","v":""},"",{"$f":"IF(LEN(Table4[[#This Row],[Pupil Name]])>0,1,0)","v":0}]
[{"$f":"IF(Table1[[#This Row],[School/Group Name]]=\"\",\"\",Table1[[#This Row],[School/Group Name]])","v":""},{"$f":"IF(Table1[[#This Row],[Pupil Name]]=\"\",\"\",Table1[[#This Row],[Pupil Name]])","v":""},{"$f":"IF(Table1[[#This Row],[Gender (M/F)]]=\"\",\"\",Table1[[#This Row],[Gender (M/F)]])","v":""},{"$f":"IF(Table1[[#This Row],[DisAdv (Y/N)]]=\"\",\"\",Table1[[#This Row],[DisAdv (Y/N)]])","v":""},{"$f":"IF(Table1[[#This Row],[SEND (E,K,N)]]=\"\",\"\",Table1[[#This Row],[SEND (E,K,N)]])","v":""},"",{"$f":"IF(LEN(Table4[[#This Row],[Pupil Name]])>0,1,0)","v":0}]
[{"$f":"IF(Table1[[#This Row],[School/Group Name]]=\"\",\"\",Table1[[#This Row],[School/Group Name]])","v":""},{"$f":"IF(Table1[[#This Row],[Pupil Name]]=\"\",\"\",Table1[[#This Row],[Pupil Name]])","v":""},{"$f":"IF(Table1[[#This Row],[Gender (M/F)]]=\"\",\"\",Table1[[#This Row],[Gender (M/F)]])","v":""},{"$f":"IF(Table1[[#This Row],[DisAdv (Y/N)]]=\"\",\"\",Table1[[#This Row],[DisAdv (Y/N)]])","v":""},{"$f":"IF(Table1[[#This Row],[SEND (E,K,N)]]=\"\",\"\",Table1[[#This Row],[SEND (E,K,N)]])","v":""},"",{"$f":"IF(LEN(Table4[[#This Row],[Pupil Name]])>0,1,0)","v":0}]
[{"$f":"IF(Table1[[#This Row],[School/Group Name]]=\"\",\"\",Table1[[#This Row],[School/Group Name]])","v":""},{"$f":"IF(Table1[[#This Row],[Pupil Name]]=\"\",\"\",Table1[[#This Row],[Pupil Name]])","v":""},{"$f":"IF(Table1[[#This Row],[Gender (M/F)]]=\"\",\"\",Table1[[#This Row],[Gender (M/F)]])","v":""},{"$f":"IF(Table1[[#This Row],[DisAdv (Y/N)]]=\"\",\"\",Table1[[#This Row],[DisAdv (Y/N)]])","v":""},{"$f":"IF(Table1[[#This Row],[SEND (E,K,N)]]=\"\",\"\",Table1[[#This Row],[SEND (E,K,N)]])","v":""},"",{"$f":"IF(LEN(Table4[[#This Row],[Pupil Name]])>0,1,0)","v":0}]
[{"$f":"IF(Table1[[#This Row],[School/Group Name]]=\"\",\"\",Table1[[#This Row],[School/Group Name]])","v":""},{"$f":"IF(Table1[[#This Row],[Pupil Name]]=\"\",\"\",Table1[[#This Row],[Pupil Name]])","v":""},{"$f":"IF(Table1[[#This Row],[Gender (M/F)]]=\"\",\"\",Table1[[#This Row],[Gender (M/F)]])","v":""},{"$f":"IF(Table1[[#This Row],[DisAdv (Y/N)]]=\"\",\"\",Table1[[#This Row],[DisAdv (Y/N)]])","v":""},{"$f":"IF(Table1[[#This Row],[SEND (E,K,N)]]=\"\",\"\",Table1[[#This Row],[SEND (E,K,N)]])","v":""},"",{"$f":"IF(LEN(Table4[[#This Row],[Pupil Name]])>0,1,0)","v":0}]
[{"$f":"IF(Table1[[#This Row],[School/Group Name]]=\"\",\"\",Table1[[#This Row],[School/Group Name]])","v":""},{"$f":"IF(Table1[[#This Row],[Pupil Name]]=\"\",\"\",Table1[[#This Row],[Pupil Name]])","v":""},{"$f":"IF(Table1[[#This Row],[Gender (M/F)]]=\"\",\"\",Table1[[#This Row],[Gender (M/F)]])","v":""},{"$f":"IF(Table1[[#This Row],[DisAdv (Y/N)]]=\"\",\"\",Table1[[#This Row],[DisAdv (Y/N)]])","v":""},{"$f":"IF(Table1[[#This Row],[SEND (E,K,N)]]=\"\",\"\",Table1[[#This Row],[SEND (E,K,N)]])","v":""},"",{"$f":"IF(LEN(Table4[[#This Row],[Pupil Name]])>0,1,0)","v":0}]
[{"$f":"IF(Table1[[#This Row],[School/Group Name]]=\"\",\"\",Table1[[#This Row],[School/Group Name]])","v":""},{"$f":"IF(Table1[[#This Row],[Pupil Name]]=\"\",\"\",Table1[[#This Row],[Pupil Name]])","v":""},{"$f":"IF(Table1[[#This Row],[Gender (M/F)]]=\"\",\"\",Table1[[#This Row],[Gender (M/F)]])","v":""},{"$f":"IF(Table1[[#This Row],[DisAdv (Y/N)]]=\"\",\"\",Table1[[#This Row],[DisAdv (Y/N)]])","v":""},{"$f":"IF(Table1[[#This Row],[SEND (E,K,N)]]=\"\",\"\",Table1[[#This Row],[SEND (E,K,N)]])","v":""},"",{"$f":"IF(LEN(Table4[[#This Row],[Pupil Name]])>0,1,0)","v":0}]

{"sheet":"GP Summary","index":9,"n_rows":51,"n_cols":16,"rows_kept":51,"cut":false,"hidden":false,"merged":[]}
["Correct Count","Possible","Ques","DfE Domain","Fine Domain","Year Group","Marks","Your Correct","Nat Domain","Nat Correct","Gap to Nat",null,"Grammar Punctuation 2019"]
[{"$f":"SUM(B2*H2%)","v":1},{"$f":"'GP Data'!$F$4*G2","v":1},1,"5.Punctuation","G5.3 Punctuation of question marks",2,1,{"$f":"'GP Data'!$H$4","v":100},69,92.3,{"$f":"H2-J2","v":7.7000000000000028},null,"Link to GP Paper"]
[{"$f":"SUM(B3*H3%)","v":0},{"$f":"'GP Data'!$F$4*G3","v":1},2,"6.Vocabulary",".3 Suffixes",2,1,{"$f":"'GP Data'!$I$4","v":0},77,93.7,-93.7]
[1,{"$f":"'GP Data'!$F$4*G4","v":1},3,"2.Functions of sentences",".2 Questions",2,1,{"$f":"'GP Data'!$J$4","v":100},81,93.5,6.5]
[1,{"$f":"'GP Data'!$F$4*G5","v":1},4,"5.Punctuation","G5.6 Commas after fronted adverbials",4,1,{"$f":"'GP Data'!$K$4","v":100},69,91.5,8.5]
[1,{"$f":"'GP Data'!$F$4*G6","v":1},5,"6.Vocabulary",".2 Prefixes",3,1,{"$f":"'GP Data'!$L$4","v":100},77,92.9,7.0999999999999943]
[0,{"$f":"'GP Data'!$F$4*G7","v":1},6,"5.Punctuation",".4 Exclamation marks (as well as other associated punctuation marks needed for different types of sentence)",2,1,{"$f":"'GP Data'!$M$4","v":0},69,82.8,-82.8,null,"DfE Domain","Marks Available","% Domain Correct","National Domain %"]
[1,{"$f":"'GP Data'!$F$4*G8","v":1},7,"7.Standard English and formality",".1 Standard English",4,1,{"$f":"'GP Data'!$N$4","v":100},82,80,20,null,"1.Grammatical terms / word classes",13,69.230769230769226,62]
[1,{"$f":"'GP Data'!$F$4*G9","v":1},8,"1.Grammatical terms / word classes",".1a Relative clauses/pronouns",5,1,{"$f":"'GP Data'!$O$4","v":100},62,83.4,16.599999999999994,null,"2.Functions of sentences",2,50,81]
[0,{"$f":"'GP Data'!$F$4*G10","v":1},9,"1.Grammatical terms / word classes",".2 identifying verbs",2,1,{"$f":"'GP Data'!$P$4","v":0},62,82.3,-82.3,null,"3.Combining words, phrases and clauses",4,50,55]
[1,{"$f":"'GP Data'!$F$4*G11","v":1},10,"5.Punctuation",".11 Semi-colon",6,1,{"$f":"'GP Data'!$Q$4","v":100},69,85.5,14.5,null,"4.Verb forms, tense and consistency",6,33.333333333333329,65]
[1,{"$f":"'GP Data'!$F$4*G12","v":1},11,"5.Punctuation",".9 punctuation for parenthesis (insert brackets)",5,1,{"$f":"'GP Data'!$R$4","v":100},69,86.5,13.5,null,"5.Punctuation",16,62.5,69]
[1,{"$f":"'GP Data'!$F$4*G13","v":1},12,"6.Vocabulary",".2 Prefixes",3,1,{"$f":"'GP Data'!$S$4","v":100},77,79.400000000000006,20.599999999999994,null,"6.Vocabulary",6,50,77]
[1,{"$f":"'GP Data'!$F$4*G14","v":1},13,"5.Punctuation",".9 punctuation for parenthesis (dashes)",5,1,{"$f":"'GP Data'!$T$4","v":100},69,83.7,16.299999999999997,null,"7.Standard English and formality",3,66.666666666666657,82]
[1,{"$f":"'GP Data'!$F$4*G15","v":1},14,"6.Vocabulary",".1 Synonyms and antonyms",6,1,{"$f":"'GP Data'!$U$4","v":100},77,79.5,20.5]
[1,{"$f":"'GP Data'!$F$4*G16","v":1},15,"7.Standard English and formality",".2 Formal and informal vocabulary",5,1,{"$f":"'GP Data'!$V$4","v":100},82,84.5,15.5]
[0,{"$f":"'GP Data'!$F$4*G17","v":1},16,"5.Punctuation",".13 Hyphens to avoid ambiguity",6,1,{"$f":"'GP Data'!$W$4","v":0},69,76.3,-76.3]
[1,{"$f":"'GP Data'!$F$4*G18","v":1},17,"1.Grammatical terms / word classes",".5 Pronoun (but also an understanding of what an adjective, preposition and noun are to select correctly)",4,1,{"$f":"'GP Data'!$X$4","v":100},62,77.900000000000006,22.099999999999994]
[0,{"$f":"'GP Data'!$F$4*G19","v":1},18,"6.Vocabulary",".1 Synonyms and antonyms",6,1,{"$f":"'GP Data'!$Y$4","v":0},77,75.3,-75.3,null,"Year Group","Marks Available","% Year Correct"]
[0,{"$f":"'GP Data'!$F$4*G20","v":1},19,"3.Combining words, phrases and clauses",".4 Subordinating clauses",3,1,{"$f":"'GP Data'!$Z$4","v":0},55,68.2,-68.2,null,1,1,0]
[0,{"$f":"'GP Data'!$F$4*G21","v":1},20,"5.Punctuation",".12 Single dashes",5,1,{"$f":"'GP Data'!$AA$4","v":0},69,76.099999999999994,-76.099999999999994,null,2,14,35.714285714285715]
[1,{"$f":"'GP Data'!$F$4*G22","v":1},21,"1.Grammatical terms / word classes",".5a possessive pronoun (but also requires an understanding of what co-ordinating and subordinating conjunctions are, and what is a relative pronoun to choose correctly)",4,1,{"$f":"'GP Data'!$AB$4","v":100},62,76.400000000000006,23.599999999999994,null,3,7,42.857142857142854]
[1,{"$f":"'GP Data'!$F$4*G23","v":1},22,"5.Punctuation",".10 Colons to separate independent clauses",6,1,{"$f":"'GP Data'!$AC$4","v":100},69,70.900000000000006,29.099999999999994,null,4,8,87.5]
[0,{"$f":"'GP Data'!$F$4*G24","v":1},23,"5.Punctuation",".5 Commas in lists",2,1,{"$f":"'GP Data'!$AD$4","v":0},69,71.7,-71.7,null,5,11,72.727272727272734]
[0,{"$f":"'GP Data'!$F$4*G25","v":1},24,"4.Verb forms, tense and consistency",".2 Tense consistency",3,1,{"$f":"'GP Data'!$AE$4","v":0},65,72.900000000000006,-72.900000000000006,null,6,9,66.666666666666657]
[0,{"$f":"'GP Data'!$F$4*G26","v":1},25,"7.Standard English and formality"," .3 Formal and informal structures",5,1,{"$f":"'GP Data'!$AF$4","v":0},82,80.900000000000006,-80.900000000000006]
[0,{"$f":"'GP Data'!$F$4*G27","v":1},26,"2.Functions of sentences",".3 Identifying the command in a sentence (understanding of imperatives)",2,1,{"$f":"'GP Data'!$AG$4","v":0},81,68.7,-68.7]
[1,{"$f":"'GP Data'!$F$4*G28","v":1},27,"1.Grammatical terms / word classes",".9 Subject and object",6,1,{"$f":"'GP Data'!$AH$4","v":100},62,72.900000000000006,27.099999999999994]
[0,{"$f":"'GP Data'!$F$4*G29","v":1},28,"4.Verb forms, tense and consistency",".1a Simple past",2,1,{"$f":"'GP Data'!$AI$4","v":0},65,70.8,-70.8]
[1,{"$f":"'GP Data'!$F$4*G30","v":1},29,"4.Verb forms, tense and consistency",".1b Verbs in the perfect form",3,1,{"$f":"'GP Data'!$AJ$4","v":100},65,65.7,34.299999999999997]
[0,{"$f":"'GP Data'!$F$4*G31","v":1},30,"1.Grammatical terms / word classes",".3 Adjectives",2,1,{"$f":"'GP Data'!$AK$4","v":0},62,68.7,-68.7]
[1,{"$f":"'GP Data'!$F$4*G32","v":1},31,"5.Punctuation",".7 Punctuating direct speech",4,1,{"$f":"'GP Data'!$AL$4","v":100},69,71.2,28.799999999999997]
[1,{"$f":"'GP Data'!$F$4*G33","v":1},32,"1.Grammatical terms / word classes",".6 Understanding adverbs",2,1,{"$f":"'GP Data'!$AM$4","v":100},62,60.1,39.9]
[0,{"$f":"'GP Data'!$F$4*G34","v":1},33,"1.Grammatical terms / word classes",".4 Conjunctions",3,1,{"$f":"'GP Data'!$AN$4","v":0},62,48.6,-48.6]
[1,{"$f":"'GP Data'!$F$4*G35","v":1},34,"5.Punctuation",".6a Commas to clarify meaning",5,1,{"$f":"'GP Data'!$AO$4","v":100},69,63.6,36.4]
[1,{"$f":"'GP Data'!$F$4*G36","v":1},35,"1.Grammatical terms / word classes",".6a Fronted adverbial",4,1,{"$f":"'GP Data'!$AP$4","v":100},62,55.7,44.3]
[1,{"$f":"'GP Data'!$F$4*G37","v":1},36,"3.Combining words, phrases and clauses",".1a Relative clauses",5,1,{"$f":"'GP Data'!$AQ$4","v":100},55,67.5,32.5]
[1,{"$f":"'GP Data'!$F$4*G38","v":1},37,"1.Grammatical terms / word classes","G1.4 Conjunctions",5,1,{"$f":"'GP Data'!$AR$4","v":100},62,64.5,35.5]
[0,{"$f":"'GP Data'!$F$4*G39","v":1},38,"4.Verb forms, tense and consistency",".1c Modal verbs",5,1,{"$f":"'GP Data'!$AS$4","v":0},65,63,-63]
[0,{"$f":"'GP Data'!$F$4*G40","v":1},39,"4.Verb forms, tense and consistency",".4 Passive and active",6,1,{"$f":"'GP Data'!$AT$4","v":0},65,61.2,-61.2]
[1,{"$f":"'GP Data'!$F$4*G41","v":1},40,"5.Punctuation",".6b Commas after fronted adverbials",6,1,{"$f":"'GP Data'!$AU$4","v":100},69,53.7,46.3]
[0,{"$f":"'GP Data'!$F$4*G42","v":1},41,"1.Grammatical terms / word classes",".1 Nouns",2,1,{"$f":"'GP Data'!$AV$4","v":0},62,58.8,-58.8]
[1,{"$f":"'GP Data'!$F$4*G43","v":1},42,"4.Verb forms, tense and consistency",".4 Passive and active",6,1,{"$f":"'GP Data'!$AW$4","v":100},65,56.4,43.6]
[1,{"$f":"'GP Data'!$F$4*G44","v":1},43,"5.Punctuation",".8 Contracted forms",5,1,{"$f":"'GP Data'!$AX$4","v":100},69,37.6,62.4]
[0,{"$f":"'GP Data'!$F$4*G45","v":1},44,"6.Vocabulary",".4 Word families",3,1,{"$f":"'GP Data'!$AY$4","v":0},77,38.799999999999997,-38.799999999999997]
[1,{"$f":"'GP Data'!$F$4*G46","v":1},45,"3.Combining words, phrases and clauses",".2 Noun phrases",2,1,{"$f":"'GP Data'!$AZ$4","v":100},55,44.6,55.4]
[0,{"$f":"'GP Data'!$F$4*G47","v":1},46,"5.Punctuation",".1 Capital letters",1,1,{"$f":"'GP Data'!$BA$4","v":0},69,37.1,-37.1]
[1,{"$f":"'GP Data'!$F$4*G48","v":1},47,"1.Grammatical terms / word classes",".8 Determiners",4,1,{"$f":"'GP Data'!$BB$4","v":100},62,29.5,70.5]
[0,{"$f":"'GP Data'!$F$4*G49","v":1},48,"5.Punctuation",".8 Apostrophes for plural possession",4,1,{"$f":"'GP Data'!$BC$4","v":0},69,28,-28]
[1,{"$f":"'GP Data'!$F$4*G50","v":1},49,"1.Grammatical terms / word classes",".7 Prepositions",2,1,{"$f":"'GP Data'!$BD$4","v":100},62,26.9,73.099999999999994]
[0,{"$f":"'GP Data'!$F$4*G51","v":1},50,"3.Combining words, phrases and clauses",".3 Co-ordinating conjunction",2,1,{"$f":"'GP Data'!$BE$4","v":0},55,40.6,-40.6]

{"sheet":"GP Data","index":10,"n_rows":500,"n_cols":57,"rows_kept":500,"cut":false,"hidden":false,"merged":[]}
["Grammar & Punctuation 2019",null,null,null,"Link to GPS Papers",null,"DfE Domain","5. Punctuation","6. Vocabulary","2. Functions of sentences","5. Punctuation","6. Vocabulary","5. Punctuation","7. Standard English and formality","1. Grammatical terms / word classes","1. Grammatical terms / word classes","5. Punctuation","5. Punctuation","6. Vocabulary","5. Punctuation","6. Vocabulary","7. Standard English and formality","5. Punctuation","1. Grammatical terms / word classes","6. Vocabulary","3. Combining words, phrases and clauses","5. Punctuation","1. Grammatical terms / word classes","5. Punctuation","5. Punctuation","4. Verb forms, tense and consistency","7. Standard English and formality","2. Functions of sentences","1. Grammatical terms / word classes","4. Verb forms, tense and consistency","4. Verb forms, tense and consistency","1. Grammatical terms / word classes","5. Punctuation","1. Grammatical terms / word classes","1. Grammatical terms / word classes","5. Punctuation","1. Grammatical terms / word classes","3. Combining words, phrases and clauses","1. Grammatical terms / word classes","4. Verb forms, tense and consistency","4. Verb forms, tense and consistency","5. Punctuation","1. Grammatical terms / word classes","4. Verb forms, tense and consistency","5. Punctuation","6. Vocabulary","3. Combining words, phrases and clauses","5. Punctuation","1. Grammatical terms / word classes","5. Punctuation","1. Grammatical terms / word classes","3. Combining words, phrases and clauses"]
[null,null,null,null,null,{"$f":"IF(H2=\"\",\"\",(SUM(H2:BE2)))","v":50},"Marks",1,1,1,1,1,1,1,1,1,1,1,1,1,1,1,1,1,1,1,1,1,1,1,1,1,1,1,1,1,1,1,1,1,1,1,1,1,1,1,1,1,1,1,1,1,1,1,1,1,1]
[null,null,null,null,null,null,"Nat Correct",92.3,93.7,93.5,91.5,92.9,82.8,80,83.4,82.3,85.5,86.5,79.400000000000006,83.7,79.5,84.5,76.3,77.900000000000006,75.3,68.2,76.099999999999994,76.400000000000006,70.900000000000006,71.7,72.900000000000006,80.900000000000006,68.7,72.900000000000006,70.8,65.7,68.7,71.2,60.1,48.6,63.6,55.7,67.5,64.5,63,61.2,53.7,58.8,56.4,37.6,38.799999999999997,44.6,37.1,29.5,28,26.9,40.6]
[null,null,null,null,"Pupil Count",{"$f":"SUBTOTAL(9,Table6[Question No])","v":1},"Filtered Correct",{"$f":"SUM(SUBTOTAL(9,H6:H500)/SUM(H2*$F$4))*100","v":100},{"$f":"SUM(SUBTOTAL(9,I6:I500)/SUM(I2*$F$4))*100","v":0},100,100,100,0,100,100,0,100,100,100,100,100,100,0,100,0,0,0,100,100,0,0,0,0,100,0,100,0,100,100,0,100,100,100,100,0,0,100,0,100,100,0,100,0,100,0,100,0]
["School Name","Pupil Name","Gender (M/F)","DisAdv (Y/N)","SEND (E,K,N)","Marks scored","Question No","1","2","3","4","5","6","7","8","9","10","11","12","13","14","15","16","17","18","19","20","21","22","23","24","25","26","27","28","29","30","31","32","33","34","35","36","37","38","39","40","41","42","43","44","45","46","47","48","49","50"]
[{"$f":"IF(Table1[[#This Row],[School/Group Name]]=\"\",\"\",Table1[[#This Row],[School/Group Name]])","v":"Hogwarts"},{"$f":"IF(Table1[[#This Row],[Pupil Name]]=\"\",\"\",Table1[[#This Row],[Pupil Name]])","v":"Harry"},{"$f":"IF(Table1[[#This Row],[Gender (M/F)]]=\"\",\"\",Table1[[#This Row],[Gender (M/F)]])","v":"M"},{"$f":"IF(Table1[[#This Row],[DisAdv (Y/N)]]=\"\",\"\",Table1[[#This Row],[DisAdv (Y/N)]])","v":"Y"},{"$f":"IF(Table1[[#This Row],[SEND (E,K,N)]]=\"\",\"\",Table1[[#This Row],[SEND (E,K,N)]])","v":"K"},{"$f":"IF(H6=\"\",\"\",(SUM(H6:BE6)))","v":29},{"$f":"IF(LEN(Table6[[#This Row],[Pupil Name]])>0,1,0)","v":1},1,0,1,1,1,0,1,1,"x",1,1,1,1,1,1,0,1,0,0,0,1,1,0,0,0,0,1,0,1,0,1,1,0,1,1,1,1,0,0,1,0,1,1,0,1,0,1,0,1,0]
[{"$f":"IF(Table1[[#This Row],[School/Group Name]]=\"\",\"\",Table1[[#This Row],[School/Group Name]])","v":""},null,{"$f":"IF(Table1[[#This Row],[Gender (M/F)]]=\"\",\"\",Table1[[#This Row],[Gender (M/F)]])","v":""},{"$f":"IF(Table1[[#This Row],[DisAdv (Y/N)]]=\"\",\"\",Table1[[#This Row],[DisAdv (Y/N)]])","v":""},{"$f":"IF(Table1[[#This Row],[SEND (E,K,N)]]=\"\",\"\",Table1[[#This Row],[SEND (E,K,N)]])","v":""},{"$f":"IF(H7=\"\",\"\",(SUM(H7:BE7)))","v":""},{"$f":"IF(LEN(Table6[[#This Row],[Pupil Name]])>0,1,0)","v":0}]
[{"$f":"IF(Table1[[#This Row],[School/Group Name]]=\"\",\"\",Table1[[#This Row],[School/Group Name]])","v":""},null,{"$f":"IF(Table1[[#This Row],[Gender (M/F)]]=\"\",\"\",Table1[[#This Row],[Gender (M/F)]])","v":""},{"$f":"IF(Table1[[#This Row],[DisAdv (Y/N)]]=\"\",\"\",Table1[[#This Row],[DisAdv (Y/N)]])","v":""},{"$f":"IF(Table1[[#This Row],[SEND (E,K,N)]]=\"\",\"\",Table1[[#This Row],[SEND (E,K,N)]])","v":""},"",{"$f":"IF(LEN(Table6[[#This Row],[Pupil Name]])>0,1,0)","v":0}]
[{"$f":"IF(Table1[[#This Row],[School/Group Name]]=\"\",\"\",Table1[[#This Row],[School/Group Name]])","v":""},null,{"$f":"IF(Table1[[#This Row],[Gender (M/F)]]=\"\",\"\",Table1[[#This Row],[Gender (M/F)]])","v":""},{"$f":"IF(Table1[[#This Row],[DisAdv (Y/N)]]=\"\",\"\",Table1[[#This Row],[DisAdv (Y/N)]])","v":""},{"$f":"IF(Table1[[#This Row],[SEND (E,K,N)]]=\"\",\"\",Table1[[#This Row],[SEND (E,K,N)]])","v":""},"",{"$f":"IF(LEN(Table6[[#This Row],[Pupil Name]])>0,1,0)","v":0}]
[{"$f":"IF(Table1[[#This Row],[School/Group Name]]=\"\",\"\",Table1[[#This Row],[School/Group Name]])","v":""},null,{"$f":"IF(Table1[[#This Row],[Gender (M/F)]]=\"\",\"\",Table1[[#This Row],[Gender (M/F)]])","v":""},{"$f":"IF(Table1[[#This Row],[DisAdv (Y/N)]]=\"\",\"\",Table1[[#This Row],[DisAdv (Y/N)]])","v":""},{"$f":"IF(Table1[[#This Row],[SEND (E,K,N)]]=\"\",\"\",Table1[[#This Row],[SEND (E,K,N)]])","v":""},"",{"$f":"IF(LEN(Table6[[#This Row],[Pupil Name]])>0,1,0)","v":0}]
[{"$f":"IF(Table1[[#This Row],[School/Group Name]]=\"\",\"\",Table1[[#This Row],[School/Group Name]])","v":""},{"$f":"IF(Table1[[#This Row],[Pupil Name]]=\"\",\"\",Table1[[#This Row],[Pupil Name]])","v":""},{"$f":"IF(Table1[[#This Row],[Gender (M/F)]]=\"\",\"\",Table1[[#This Row],[Gender (M/F)]])","v":""},{"$f":"IF(Table1[[#This Row],[DisAdv (Y/N)]]=\"\",\"\",Table1[[#This Row],[DisAdv (Y/N)]])","v":""},{"$f":"IF(Table1[[#This Row],[SEND (E,K,N)]]=\"\",\"\",Table1[[#This Row],[SEND (E,K,N)]])","v":""},"",{"$f":"IF(LEN(Table6[[#This Row],[Pupil Name]])>0,1,0)","v":0}]
[{"$f":"IF(Table1[[#This Row],[School/Group Name]]=\"\",\"\",Table1[[#This Row],[School/Group Name]])","v":""},{"$f":"IF(Table1[[#This Row],[Pupil Name]]=\"\",\"\",Table1[[#This Row],[Pupil Name]])","v":""},{"$f":"IF(Table1[[#This Row],[Gender (M/F)]]=\"\",\"\",Table1[[#This Row],[Gender (M/F)]])","v":""},{"$f":"IF(Table1[[#This Row],[DisAdv (Y/N)]]=\"\",\"\",Table1[[#This Row],[DisAdv (Y/N)]])","v":""},{"$f":"IF(Table1[[#This Row],[SEND (E,K,N)]]=\"\",\"\",Table1[[#This Row],[SEND (E,K,N)]])","v":""},"",{"$f":"IF(LEN(Table6[[#This Row],[Pupil Name]])>0,1,0)","v":0}]
[{"$f":"IF(Table1[[#This Row],[School/Group Name]]=\"\",\"\",Table1[[#This Row],[School/Group Name]])","v":""},{"$f":"IF(Table1[[#This Row],[Pupil Name]]=\"\",\"\",Table1[[#This Row],[Pupil Name]])","v":""},{"$f":"IF(Table1[[#This Row],[Gender (M/F)]]=\"\",\"\",Table1[[#This Row],[Gender (M/F)]])","v":""},{"$f":"IF(Table1[[#This Row],[DisAdv (Y/N)]]=\"\",\"\",Table1[[#This Row],[DisAdv (Y/N)]])","v":""},{"$f":"IF(Table1[[#This Row],[SEND (E,K,N)]]=\"\",\"\",Table1[[#This Row],[SEND (E,K,N)]])","v":""},"",{"$f":"IF(LEN(Table6[[#This Row],[Pupil Name]])>0,1,0)","v":0}]
[{"$f":"IF(Table1[[#This Row],[School/Group Name]]=\"\",\"\",Table1[[#This Row],[School/Group Name]])","v":""},{"$f":"IF(Table1[[#This Row],[Pupil Name]]=\"\",\"\",Table1[[#This Row],[Pupil Name]])","v":""},{"$f":"IF(Table1[[#This Row],[Gender (M/F)]]=\"\",\"\",Table1[[#This Row],[Gender (M/F)]])","v":""},{"$f":"IF(Table1[[#This Row],[DisAdv (Y/N)]]=\"\",\"\",Table1[[#This Row],[DisAdv (Y/N)]])","v":""},{"$f":"IF(Table1[[#This Row],[SEND (E,K,N)]]=\"\",\"\",Table1[[#This Row],[SEND (E,K,N)]])","v":""},"",{"$f":"IF(LEN(Table6[[#This Row],[Pupil Name]])>0,1,0)","v":0}]
[{"$f":"IF(Table1[[#This Row],[School/Group Name]]=\"\",\"\",Table1[[#This Row],[School/Group Name]])","v":""},{"$f":"IF(Table1[[#This Row],[Pupil Name]]=\"\",\"\",Table1[[#This Row],[Pupil Name]])","v":""},{"$f":"IF(Table1[[#This Row],[Gender (M/F)]]=\"\",\"\",Table1[[#This Row],[Gender (M/F)]])","v":""},{"$f":"IF(Table1[[#This Row],[DisAdv (Y/N)]]=\"\",\"\",Table1[[#This Row],[DisAdv (Y/N)]])","v":""},{"$f":"IF(Table1[[#This Row],[SEND (E,K,N)]]=\"\",\"\",Table1[[#This Row],[SEND (E,K,N)]])","v":""},"",{"$f":"IF(LEN(Table6[[#This Row],[Pupil Name]])>0,1,0)","v":0}]
[{"$f":"IF(Table1[[#This Row],[School/Group Name]]=\"\",\"\",Table1[[#This Row],[School/Group Name]])","v":""},{"$f":"IF(Table1[[#This Row],[Pupil Name]]=\"\",\"\",Table1[[#This Row],[Pupil Name]])","v":""},{"$f":"IF(Table1[[#This Row],[Gender (M/F)]]=\"\",\"\",Table1[[#This Row],[Gender (M/F)]])","v":""},{"$f":"IF(Table1[[#This Row],[DisAdv (Y/N)]]=\"\",\"\",Table1[[#This Row],[DisAdv (Y/N)]])","v":""},{"$f":"IF(Table1[[#This Row],[SEND (E,K,N)]]=\"\",\"\",Table1[[#This Row],[SEND (E,K,N)]])","v":""},"",{"$f":"IF(LEN(Table6[[#This Row],[Pupil Name]])>0,1,0)","v":0}]
[{"$f":"IF(Table1[[#This Row],[School/Group Name]]=\"\",\"\",Table1[[#This Row],[School/Group Name]])","v":""},{"$f":"IF(Table1[[#This Row],[Pupil Name]]=\"\",\"\",Table1[[#This Row],[Pupil Name]])","v":""},{"$f":"IF(Table1[[#This Row],[Gender (M/F)]]=\"\",\"\",Table1[[#This Row],[Gender (M/F)]])","v":""},{"$f":"IF(Table1[[#This Row],[DisAdv (Y/N)]]=\"\",\"\",Table1[[#This Row],[DisAdv (Y/N)]])","v":""},{"$f":"IF(Table1[[#This Row],[SEND (E,K,N)]]=\"\",\"\",Table1[[#This Row],[SEND (E,K,N)]])","v":""},"",{"$f":"IF(LEN(Table6[[#This Row],[Pupil Name]])>0,1,0)","v":0}]
[{"$f":"IF(Table1[[#This Row],[School/Group Name]]=\"\",\"\",Table1[[#This Row],[School/Group Name]])","v":""},{"$f":"IF(Table1[[#This Row],[Pupil Name]]=\"\",\"\",Table1[[#This Row],[Pupil Name]])","v":""},{"$f":"IF(Table1[[#This Row],[Gender (M/F)]]=\"\",\"\",Table1[[#This Row],[Gender (M/F)]])","v":""},{"$f":"IF(Table1[[#This Row],[DisAdv (Y/N)]]=\"\",\"\",Table1[[#This Row],[DisAdv (Y/N)]])","v":""},{"$f":"IF(Table1[[#This Row],[SEND (E,K,N)]]=\"\",\"\",Table1[[#This Row],[SEND (E,K,N)]])","v":""},"",{"$f":"IF(LEN(Table6[[#This Row],[Pupil Name]])>0,1,0)","v":0}]
[{"$f":"IF(Table1[[#This Row],[School/Group Name]]=\"\",\"\",Table1[[#This Row],[School/Group Name]])","v":""},{"$f":"IF(Table1[[#This Row],[Pupil Name]]=\"\",\"\",Table1[[#This Row],[Pupil Name]])","v":""},{"$f":"IF(Table1[[#This Row],[Gender (M/F)]]=\"\",\"\",Table1[[#This Row],[Gender (M/F)]])","v":""},{"$f":"IF(Table1[[#This Row],[DisAdv (Y/N)]]=\"\",\"\",Table1[[#This Row],[DisAdv (Y/N)]])","v":""},{"$f":"IF(Table1[[#This Row],[SEND (E,K,N)]]=\"\",\"\",Table1[[#This Row],[SEND (E,K,N)]])","v":""},"",{"$f":"IF(LEN(Table6[[#This Row],[Pupil Name]])>0,1,0)","v":0}]
[{"$f":"IF(Table1[[#This Row],[School/Group Name]]=\"\",\"\",Table1[[#This Row],[School/Group Name]])","v":""},{"$f":"IF(Table1[[#This Row],[Pupil Name]]=\"\",\"\",Table1[[#This Row],[Pupil Name]])","v":""},{"$f":"IF(Table1[[#This Row],[Gender (M/F)]]=\"\",\"\",Table1[[#This Row],[Gender (M/F)]])","v":""},{"$f":"IF(Table1[[#This Row],[DisAdv (Y/N)]]=\"\",\"\",Table1[[#This Row],[DisAdv (Y/N)]])","v":""},{"$f":"IF(Table1[[#This Row],[SEND (E,K,N)]]=\"\",\"\",Table1[[#This Row],[SEND (E,K,N)]])","v":""},"",{"$f":"IF(LEN(Table6[[#This Row],[Pupil Name]])>0,1,0)","v":0}]
[{"$f":"IF(Table1[[#This Row],[School/Group Name]]=\"\",\"\",Table1[[#This Row],[School/Group Name]])","v":""},{"$f":"IF(Table1[[#This Row],[Pupil Name]]=\"\",\"\",Table1[[#This Row],[Pupil Name]])","v":""},{"$f":"IF(Table1[[#This Row],[Gender (M/F)]]=\"\",\"\",Table1[[#This Row],[Gender (M/F)]])","v":""},{"$f":"IF(Table1[[#This Row],[DisAdv (Y/N)]]=\"\",\"\",Table1[[#This Row],[DisAdv (Y/N)]])","v":""},{"$f":"IF(Table1[[#This Row],[SEND (E,K,N)]]=\"\",\"\",Table1[[#This Row],[SEND (E,K,N)]])","v":""},"",{"$f":"IF(LEN(Table6[[#This Row],[Pupil Name]])>0,1,0)","v":0}]
[{"$f":"IF(Table1[[#This Row],[School/Group Name]]=\"\",\"\",Table1[[#This Row],[School/Group Name]])","v":""},{"$f":"IF(Table1[[#This Row],[Pupil Name]]=\"\",\"\",Table1[[#This Row],[Pupil Name]])","v":""},{"$f":"IF(Table1[[#This Row],[Gender (M/F)]]=\"\",\"\",Table1[[#This Row],[Gender (M/F)]])","v":""},{"$f":"IF(Table1[[#This Row],[DisAdv (Y/N)]]=\"\",\"\",Table1[[#This Row],[DisAdv (Y/N)]])","v":""},{"$f":"IF(Table1[[#This Row],[SEND (E,K,N)]]=\"\",\"\",Table1[[#This Row],[SEND (E,K,N)]])","v":""},"",{"$f":"IF(LEN(Table6[[#This Row],[Pupil Name]])>0,1,0)","v":0}]
[{"$f":"IF(Table1[[#This Row],[School/Group Name]]=\"\",\"\",Table1[[#This Row],[School/Group Name]])","v":""},{"$f":"IF(Table1[[#This Row],[Pupil Name]]=\"\",\"\",Table1[[#This Row],[Pupil Name]])","v":""},{"$f":"IF(Table1[[#This Row],[Gender (M/F)]]=\"\",\"\",Table1[[#This Row],[Gender (M/F)]])","v":""},{"$f":"IF(Table1[[#This Row],[DisAdv (Y/N)]]=\"\",\"\",Table1[[#This Row],[DisAdv (Y/N)]])","v":""},{"$f":"IF(Table1[[#This Row],[SEND (E,K,N)]]=\"\",\"\",Table1[[#This Row],[SEND (E,K,N)]])","v":""},"",{"$f":"IF(LEN(Table6[[#This Row],[Pupil Name]])>0,1,0)","v":0}]
[{"$f":"IF(Table1[[#This Row],[School/Group Name]]=\"\",\"\",Table1[[#This Row],[School/Group Name]])","v":""},{"$f":"IF(Table1[[#This Row],[Pupil Name]]=\"\",\"\",Table1[[#This Row],[Pupil Name]])","v":""},{"$f":"IF(Table1[[#This Row],[Gender (M/F)]]=\"\",\"\",Table1[[#This Row],[Gender (M/F)]])","v":""},{"$f":"IF(Table1[[#This Row],[DisAdv (Y/N)]]=\"\",\"\",Table1[[#This Row],[DisAdv (Y/N)]])","v":""},{"$f":"IF(Table1[[#This Row],[SEND (E,K,N)]]=\"\",\"\",Table1[[#This Row],[SEND (E,K,N)]])","v":""},"",{"$f":"IF(LEN(Table6[[#This Row],[Pupil Name]])>0,1,0)","v":0}]
[{"$f":"IF(Table1[[#This Row],[School/Group Name]]=\"\",\"\",Table1[[#This Row],[School/Group Name]])","v":""},{"$f":"IF(Table1[[#This Row],[Pupil Name]]=\"\",\"\",Table1[[#This Row],[Pupil Name]])","v":""},{"$f":"IF(Table1[[#This Row],[Gender (M/F)]]=\"\",\"\",Table1[[#This Row],[Gender (M/F)]])","v":""},{"$f":"IF(Table1[[#This Row],[DisAdv (Y/N)]]=\"\",\"\",Table1[[#This Row],[DisAdv (Y/N)]])","v":""},{"$f":"IF(Table1[[#This Row],[SEND (E,K,N)]]=\"\",\"\",Table1[[#This Row],[SEND (E,K,N)]])","v":""},"",{"$f":"IF(LEN(Table6[[#This Row],[Pupil Name]])>0,1,0)","v":0}]
[{"$f":"IF(Table1[[#This Row],[School/Group Name]]=\"\",\"\",Table1[[#This Row],[School/Group Name]])","v":""},{"$f":"IF(Table1[[#This Row],[Pupil Name]]=\"\",\"\",Table1[[#This Row],[Pupil Name]])","v":""},{"$f":"IF(Table1[[#This Row],[Gender (M/F)]]=\"\",\"\",Table1[[#This Row],[Gender (M/F)]])","v":""},{"$f":"IF(Table1[[#This Row],[DisAdv (Y/N)]]=\"\",\"\",Table1[[#This Row],[DisAdv (Y/N)]])","v":""},{"$f":"IF(Table1[[#This Row],[SEND (E,K,N)]]=\"\",\"\",Table1[[#This Row],[SEND (E,K,N)]])","v":""},"",{"$f":"IF(LEN(Table6[[#This Row],[Pupil Name]])>0,1,0)","v":0}]
[{"$f":"IF(Table1[[#This Row],[School/Group Name]]=\"\",\"\",Table1[[#This Row],[School/Group Name]])","v":""},{"$f":"IF(Table1[[#This Row],[Pupil Name]]=\"\",\"\",Table1[[#This Row],[Pupil Name]])","v":""},{"$f":"IF(Table1[[#This Row],[Gender (M/F)]]=\"\",\"\",Table1[[#This Row],[Gender (M/F)]])","v":""},{"$f":"IF(Table1[[#This Row],[DisAdv (Y/N)]]=\"\",\"\",Table1[[#This Row],[DisAdv (Y/N)]])","v":""},{"$f":"IF(Table1[[#This Row],[SEND (E,K,N)]]=\"\",\"\",Table1[[#This Row],[SEND (E,K,N)]])","v":""},"",{"$f":"IF(LEN(Table6[[#This Row],[Pupil Name]])>0,1,0)","v":0}]
[{"$f":"IF(Table1[[#This Row],[School/Group Name]]=\"\",\"\",Table1[[#This Row],[School/Group Name]])","v":""},{"$f":"IF(Table1[[#This Row],[Pupil Name]]=\"\",\"\",Table1[[#This Row],[Pupil Name]])","v":""},{"$f":"IF(Table1[[#This Row],[Gender (M/F)]]=\"\",\"\",Table1[[#This Row],[Gender (M/F)]])","v":""},{"$f":"IF(Table1[[#This Row],[DisAdv (Y/N)]]=\"\",\"\",Table1[[#This Row],[DisAdv (Y/N)]])","v":""},{"$f":"IF(Table1[[#This Row],[SEND (E,K,N)]]=\"\",\"\",Table1[[#This Row],[SEND (E,K,N)]])","v":""},"",{"$f":"IF(LEN(Table6[[#This Row],[Pupil Name]])>0,1,0)","v":0}]
[{"$f":"IF(Table1[[#This Row],[School/Group Name]]=\"\",\"\",Table1[[#This Row],[School/Group Name]])","v":""},{"$f":"IF(Table1[[#This Row],[Pupil Name]]=\"\",\"\",Table1[[#This Row],[Pupil Name]])","v":""},{"$f":"IF(Table1[[#This Row],[Gender (M/F)]]=\"\",\"\",Table1[[#This Row],[Gender (M/F)]])","v":""},{"$f":"IF(Table1[[#This Row],[DisAdv (Y/N)]]=\"\",\"\",Table1[[#This Row],[DisAdv (Y/N)]])","v":""},{"$f":"IF(Table1[[#This Row],[SEND (E,K,N)]]=\"\",\"\",Table1[[#This Row],[SEND (E,K,N)]])","v":""},"",{"$f":"IF(LEN(Table6[[#This Row],[Pupil Name]])>0,1,0)","v":0}]
[{"$f":"IF(Table1[[#This Row],[School/Group Name]]=\"\",\"\",Table1[[#This Row],[School/Group Name]])","v":""},{"$f":"IF(Table1[[#This Row],[Pupil Name]]=\"\",\"\",Table1[[#This Row],[Pupil Name]])","v":""},{"$f":"IF(Table1[[#This Row],[Gender (M/F)]]=\"\",\"\",Table1[[#This Row],[Gender (M/F)]])","v":""},{"$f":"IF(Table1[[#This Row],[DisAdv (Y/N)]]=\"\",\"\",Table1[[#This Row],[DisAdv (Y/N)]])","v":""},{"$f":"IF(Table1[[#This Row],[SEND (E,K,N)]]=\"\",\"\",Table1[[#This Row],[SEND (E,K,N)]])","v":""},"",{"$f":"IF(LEN(Table6[[#This Row],[Pupil Name]])>0,1,0)","v":0}]
[{"$f":"IF(Table1[[#This Row],[School/Group Name]]=\"\",\"\",Table1[[#This Row],[School/Group Name]])","v":""},{"$f":"IF(Table1[[#This Row],[Pupil Name]]=\"\",\"\",Table1[[#This Row],[Pupil Name]])","v":""},{"$f":"IF(Table1[[#This Row],[Gender (M/F)]]=\"\",\"\",Table1[[#This Row],[Gender (M/F)]])","v":""},{"$f":"IF(Table1[[#This Row],[DisAdv (Y/N)]]=\"\",\"\",Table1[[#This Row],[DisAdv (Y/N)]])","v":""},{"$f":"IF(Table1[[#This Row],[SEND (E,K,N)]]=\"\",\"\",Table1[[#This Row],[SEND (E,K,N)]])","v":""},"",{"$f":"IF(LEN(Table6[[#This Row],[Pupil Name]])>0,1,0)","v":0}]
[{"$f":"IF(Table1[[#This Row],[School/Group Name]]=\"\",\"\",Table1[[#This Row],[School/Group Name]])","v":""},{"$f":"IF(Table1[[#This Row],[Pupil Name]]=\"\",\"\",Table1[[#This Row],[Pupil Name]])","v":""},{"$f":"IF(Table1[[#This Row],[Gender (M/F)]]=\"\",\"\",Table1[[#This Row],[Gender (M/F)]])","v":""},{"$f":"IF(Table1[[#This Row],[DisAdv (Y/N)]]=\"\",\"\",Table1[[#This Row],[DisAdv (Y/N)]])","v":""},{"$f":"IF(Table1[[#This Row],[SEND (E,K,N)]]=\"\",\"\",Table1[[#This Row],[SEND (E,K,N)]])","v":""},"",{"$f":"IF(LEN(Table6[[#This Row],[Pupil Name]])>0,1,0)","v":0}]
[{"$f":"IF(Table1[[#This Row],[School/Group Name]]=\"\",\"\",Table1[[#This Row],[School/Group Name]])","v":""},{"$f":"IF(Table1[[#This Row],[Pupil Name]]=\"\",\"\",Table1[[#This Row],[Pupil Name]])","v":""},{"$f":"IF(Table1[[#This Row],[Gender (M/F)]]=\"\",\"\",Table1[[#This Row],[Gender (M/F)]])","v":""},{"$f":"IF(Table1[[#This Row],[DisAdv (Y/N)]]=\"\",\"\",Table1[[#This Row],[DisAdv (Y/N)]])","v":""},{"$f":"IF(Table1[[#This Row],[SEND (E,K,N)]]=\"\",\"\",Table1[[#This Row],[SEND (E,K,N)]])","v":""},"",{"$f":"IF(LEN(Table6[[#This Row],[Pupil Name]])>0,1,0)","v":0}]
[{"$f":"IF(Table1[[#This Row],[School/Group Name]]=\"\",\"\",Table1[[#This Row],[School/Group Name]])","v":""},{"$f":"IF(Table1[[#This Row],[Pupil Name]]=\"\",\"\",Table1[[#This Row],[Pupil Name]])","v":""},{"$f":"IF(Table1[[#This Row],[Gender (M/F)]]=\"\",\"\",Table1[[#This Row],[Gender (M/F)]])","v":""},{"$f":"IF(Table1[[#This Row],[DisAdv (Y/N)]]=\"\",\"\",Table1[[#This Row],[DisAdv (Y/N)]])","v":""},{"$f":"IF(Table1[[#This Row],[SEND (E,K,N)]]=\"\",\"\",Table1[[#This Row],[SEND (E,K,N)]])","v":""},"",{"$f":"IF(LEN(Table6[[#This Row],[Pupil Name]])>0,1,0)","v":0}]
[{"$f":"IF(Table1[[#This Row],[School/Group Name]]=\"\",\"\",Table1[[#This Row],[School/Group Name]])","v":""},{"$f":"IF(Table1[[#This Row],[Pupil Name]]=\"\",\"\",Table1[[#This Row],[Pupil Name]])","v":""},{"$f":"IF(Table1[[#This Row],[Gender (M/F)]]=\"\",\"\",Table1[[#This Row],[Gender (M/F)]])","v":""},{"$f":"IF(Table1[[#This Row],[DisAdv (Y/N)]]=\"\",\"\",Table1[[#This Row],[DisAdv (Y/N)]])","v":""},{"$f":"IF(Table1[[#This Row],[SEND (E,K,N)]]=\"\",\"\",Table1[[#This Row],[SEND (E,K,N)]])","v":""},"",{"$f":"IF(LEN(Table6[[#This Row],[Pupil Name]])>0,1,0)","v":0}]
[{"$f":"IF(Table1[[#This Row],[School/Group Name]]=\"\",\"\",Table1[[#This Row],[School/Group Name]])","v":""},{"$f":"IF(Table1[[#This Row],[Pupil Name]]=\"\",\"\",Table1[[#This Row],[Pupil Name]])","v":""},{"$f":"IF(Table1[[#This Row],[Gender (M/F)]]=\"\",\"\",Table1[[#This Row],[Gender (M/F)]])","v":""},{"$f":"IF(Table1[[#This Row],[DisAdv (Y/N)]]=\"\",\"\",Table1[[#This Row],[DisAdv (Y/N)]])","v":""},{"$f":"IF(Table1[[#This Row],[SEND (E,K,N)]]=\"\",\"\",Table1[[#This Row],[SEND (E,K,N)]])","v":""},"",{"$f":"IF(LEN(Table6[[#This Row],[Pupil Name]])>0,1,0)","v":0}]
[{"$f":"IF(Table1[[#This Row],[School/Group Name]]=\"\",\"\",Table1[[#This Row],[School/Group Name]])","v":""},{"$f":"IF(Table1[[#This Row],[Pupil Name]]=\"\",\"\",Table1[[#This Row],[Pupil Name]])","v":""},{"$f":"IF(Table1[[#This Row],[Gender (M/F)]]=\"\",\"\",Table1[[#This Row],[Gender (M/F)]])","v":""},{"$f":"IF(Table1[[#This Row],[DisAdv (Y/N)]]=\"\",\"\",Table1[[#This Row],[DisAdv (Y/N)]])","v":""},{"$f":"IF(Table1[[#This Row],[SEND (E,K,N)]]=\"\",\"\",Table1[[#This Row],[SEND (E,K,N)]])","v":""},"",{"$f":"IF(LEN(Table6[[#This Row],[Pupil Name]])>0,1,0)","v":0}]
[{"$f":"IF(Table1[[#This Row],[School/Group Name]]=\"\",\"\",Table1[[#This Row],[School/Group Name]])","v":""},{"$f":"IF(Table1[[#This Row],[Pupil Name]]=\"\",\"\",Table1[[#This Row],[Pupil Name]])","v":""},{"$f":"IF(Table1[[#This Row],[Gender (M/F)]]=\"\",\"\",Table1[[#This Row],[Gender (M/F)]])","v":""},{"$f":"IF(Table1[[#This Row],[DisAdv (Y/N)]]=\"\",\"\",Table1[[#This Row],[DisAdv (Y/N)]])","v":""},{"$f":"IF(Table1[[#This Row],[SEND (E,K,N)]]=\"\",\"\",Table1[[#This Row],[SEND (E,K,N)]])","v":""},"",{"$f":"IF(LEN(Table6[[#This Row],[Pupil Name]])>0,1,0)","v":0}]
[{"$f":"IF(Table1[[#This Row],[School/Group Name]]=\"\",\"\",Table1[[#This Row],[School/Group Name]])","v":""},{"$f":"IF(Table1[[#This Row],[Pupil Name]]=\"\",\"\",Table1[[#This Row],[Pupil Name]])","v":""},{"$f":"IF(Table1[[#This Row],[Gender (M/F)]]=\"\",\"\",Table1[[#This Row],[Gender (M/F)]])","v":""},{"$f":"IF(Table1[[#This Row],[DisAdv (Y/N)]]=\"\",\"\",Table1[[#This Row],[DisAdv (Y/N)]])","v":""},{"$f":"IF(Table1[[#This Row],[SEND (E,K,N)]]=\"\",\"\",Table1[[#This Row],[SEND (E,K,N)]])","v":""},"",{"$f":"IF(LEN(Table6[[#This Row],[Pupil Name]])>0,1,0)","v":0}]
[{"$f":"IF(Table1[[#This Row],[School/Group Name]]=\"\",\"\",Table1[[#This Row],[School/Group Name]])","v":""},{"$f":"IF(Table1[[#This Row],[Pupil Name]]=\"\",\"\",Table1[[#This Row],[Pupil Name]])","v":""},{"$f":"IF(Table1[[#This Row],[Gender (M/F)]]=\"\",\"\",Table1[[#This Row],[Gender (M/F)]])","v":""},{"$f":"IF(Table1[[#This Row],[DisAdv (Y/N)]]=\"\",\"\",Table1[[#This Row],[DisAdv (Y/N)]])","v":""},{"$f":"IF(Table1[[#This Row],[SEND (E,K,N)]]=\"\",\"\",Table1[[#This Row],[SEND (E,K,N)]])","v":""},"",{"$f":"IF(LEN(Table6[[#This Row],[Pupil Name]])>0,1,0)","v":0}]
[{"$f":"IF(Table1[[#This Row],[School/Group Name]]=\"\",\"\",Table1[[#This Row],[School/Group Name]])","v":""},{"$f":"IF(Table1[[#This Row],[Pupil Name]]=\"\",\"\",Table1[[#This Row],[Pupil Name]])","v":""},{"$f":"IF(Table1[[#This Row],[Gender (M/F)]]=\"\",\"\",Table1[[#This Row],[Gender (M/F)]])","v":""},{"$f":"IF(Table1[[#This Row],[DisAdv (Y/N)]]=\"\",\"\",Table1[[#This Row],[DisAdv (Y/N)]])","v":""},{"$f":"IF(Table1[[#This Row],[SEND (E,K,N)]]=\"\",\"\",Table1[[#This Row],[SEND (E,K,N)]])","v":""},"",{"$f":"IF(LEN(Table6[[#This Row],[Pupil Name]])>0,1,0)","v":0}]
[{"$f":"IF(Table1[[#This Row],[School/Group Name]]=\"\",\"\",Table1[[#This Row],[School/Group Name]])","v":""},{"$f":"IF(Table1[[#This Row],[Pupil Name]]=\"\",\"\",Table1[[#This Row],[Pupil Name]])","v":""},{"$f":"IF(Table1[[#This Row],[Gender (M/F)]]=\"\",\"\",Table1[[#This Row],[Gender (M/F)]])","v":""},{"$f":"IF(Table1[[#This Row],[DisAdv (Y/N)]]=\"\",\"\",Table1[[#This Row],[DisAdv (Y/N)]])","v":""},{"$f":"IF(Table1[[#This Row],[SEND (E,K,N)]]=\"\",\"\",Table1[[#This Row],[SEND (E,K,N)]])","v":""},"",{"$f":"IF(LEN(Table6[[#This Row],[Pupil Name]])>0,1,0)","v":0}]
[{"$f":"IF(Table1[[#This Row],[School/Group Name]]=\"\",\"\",Table1[[#This Row],[School/Group Name]])","v":""},{"$f":"IF(Table1[[#This Row],[Pupil Name]]=\"\",\"\",Table1[[#This Row],[Pupil Name]])","v":""},{"$f":"IF(Table1[[#This Row],[Gender (M/F)]]=\"\",\"\",Table1[[#This Row],[Gender (M/F)]])","v":""},{"$f":"IF(Table1[[#This Row],[DisAdv (Y/N)]]=\"\",\"\",Table1[[#This Row],[DisAdv (Y/N)]])","v":""},{"$f":"IF(Table1[[#This Row],[SEND (E,K,N)]]=\"\",\"\",Table1[[#This Row],[SEND (E,K,N)]])","v":""},"",{"$f":"IF(LEN(Table6[[#This Row],[Pupil Name]])>0,1,0)","v":0}]
[{"$f":"IF(Table1[[#This Row],[School/Group Name]]=\"\",\"\",Table1[[#This Row],[School/Group Name]])","v":""},{"$f":"IF(Table1[[#This Row],[Pupil Name]]=\"\",\"\",Table1[[#This Row],[Pupil Name]])","v":""},{"$f":"IF(Table1[[#This Row],[Gender (M/F)]]=\"\",\"\",Table1[[#This Row],[Gender (M/F)]])","v":""},{"$f":"IF(Table1[[#This Row],[DisAdv (Y/N)]]=\"\",\"\",Table1[[#This Row],[DisAdv (Y/N)]])","v":""},{"$f":"IF(Table1[[#This Row],[SEND (E,K,N)]]=\"\",\"\",Table1[[#This Row],[SEND (E,K,N)]])","v":""},"",{"$f":"IF(LEN(Table6[[#This Row],[Pupil Name]])>0,1,0)","v":0}]
[{"$f":"IF(Table1[[#This Row],[School/Group Name]]=\"\",\"\",Table1[[#This Row],[School/Group Name]])","v":""},{"$f":"IF(Table1[[#This Row],[Pupil Name]]=\"\",\"\",Table1[[#This Row],[Pupil Name]])","v":""},{"$f":"IF(Table1[[#This Row],[Gender (M/F)]]=\"\",\"\",Table1[[#This Row],[Gender (M/F)]])","v":""},{"$f":"IF(Table1[[#This Row],[DisAdv (Y/N)]]=\"\",\"\",Table1[[#This Row],[DisAdv (Y/N)]])","v":""},{"$f":"IF(Table1[[#This Row],[SEND (E,K,N)]]=\"\",\"\",Table1[[#This Row],[SEND (E,K,N)]])","v":""},"",{"$f":"IF(LEN(Table6[[#This Row],[Pupil Name]])>0,1,0)","v":0}]
[{"$f":"IF(Table1[[#This Row],[School/Group Name]]=\"\",\"\",Table1[[#This Row],[School/Group Name]])","v":""},{"$f":"IF(Table1[[#This Row],[Pupil Name]]=\"\",\"\",Table1[[#This Row],[Pupil Name]])","v":""},{"$f":"IF(Table1[[#This Row],[Gender (M/F)]]=\"\",\"\",Table1[[#This Row],[Gender (M/F)]])","v":""},{"$f":"IF(Table1[[#This Row],[DisAdv (Y/N)]]=\"\",\"\",Table1[[#This Row],[DisAdv (Y/N)]])","v":""},{"$f":"IF(Table1[[#This Row],[SEND (E,K,N)]]=\"\",\"\",Table1[[#This Row],[SEND (E,K,N)]])","v":""},"",{"$f":"IF(LEN(Table6[[#This Row],[Pupil Name]])>0,1,0)","v":0}]
[{"$f":"IF(Table1[[#This Row],[School/Group Name]]=\"\",\"\",Table1[[#This Row],[School/Group Name]])","v":""},{"$f":"IF(Table1[[#This Row],[Pupil Name]]=\"\",\"\",Table1[[#This Row],[Pupil Name]])","v":""},{"$f":"IF(Table1[[#This Row],[Gender (M/F)]]=\"\",\"\",Table1[[#This Row],[Gender (M/F)]])","v":""},{"$f":"IF(Table1[[#This Row],[DisAdv (Y/N)]]=\"\",\"\",Table1[[#This Row],[DisAdv (Y/N)]])","v":""},{"$f":"IF(Table1[[#This Row],[SEND (E,K,N)]]=\"\",\"\",Table1[[#This Row],[SEND (E,K,N)]])","v":""},"",{"$f":"IF(LEN(Table6[[#This Row],[Pupil Name]])>0,1,0)","v":0}]
[{"$f":"IF(Table1[[#This Row],[School/Group Name]]=\"\",\"\",Table1[[#This Row],[School/Group Name]])","v":""},{"$f":"IF(Table1[[#This Row],[Pupil Name]]=\"\",\"\",Table1[[#This Row],[Pupil Name]])","v":""},{"$f":"IF(Table1[[#This Row],[Gender (M/F)]]=\"\",\"\",Table1[[#This Row],[Gender (M/F)]])","v":""},{"$f":"IF(Table1[[#This Row],[DisAdv (Y/N)]]=\"\",\"\",Table1[[#This Row],[DisAdv (Y/N)]])","v":""},{"$f":"IF(Table1[[#This Row],[SEND (E,K,N)]]=\"\",\"\",Table1[[#This Row],[SEND (E,K,N)]])","v":""},"",{"$f":"IF(LEN(Table6[[#This Row],[Pupil Name]])>0,1,0)","v":0}]
[{"$f":"IF(Table1[[#This Row],[School/Group Name]]=\"\",\"\",Table1[[#This Row],[School/Group Name]])","v":""},{"$f":"IF(Table1[[#This Row],[Pupil Name]]=\"\",\"\",Table1[[#This Row],[Pupil Name]])","v":""},{"$f":"IF(Table1[[#This Row],[Gender (M/F)]]=\"\",\"\",Table1[[#This Row],[Gender (M/F)]])","v":""},{"$f":"IF(Table1[[#This Row],[DisAdv (Y/N)]]=\"\",\"\",Table1[[#This Row],[DisAdv (Y/N)]])","v":""},{"$f":"IF(Table1[[#This Row],[SEND (E,K,N)]]=\"\",\"\",Table1[[#This Row],[SEND (E,K,N)]])","v":""},"",{"$f":"IF(LEN(Table6[[#This Row],[Pupil Name]])>0,1,0)","v":0}]
[{"$f":"IF(Table1[[#This Row],[School/Group Name]]=\"\",\"\",Table1[[#This Row],[School/Group Name]])","v":""},{"$f":"IF(Table1[[#This Row],[Pupil Name]]=\"\",\"\",Table1[[#This Row],[Pupil Name]])","v":""},{"$f":"IF(Table1[[#This Row],[Gender (M/F)]]=\"\",\"\",Table1[[#This Row],[Gender (M/F)]])","v":""},{"$f":"IF(Table1[[#This Row],[DisAdv (Y/N)]]=\"\",\"\",Table1[[#This Row],[DisAdv (Y/N)]])","v":""},{"$f":"IF(Table1[[#This Row],[SEND (E,K,N)]]=\"\",\"\",Table1[[#This Row],[SEND (E,K,N)]])","v":""},"",{"$f":"IF(LEN(Table6[[#This Row],[Pupil Name]])>0,1,0)","v":0}]
[{"$f":"IF(Table1[[#This Row],[School/Group Name]]=\"\",\"\",Table1[[#This Row],[School/Group Name]])","v":""},{"$f":"IF(Table1[[#This Row],[Pupil Name]]=\"\",\"\",Table1[[#This Row],[Pupil Name]])","v":""},{"$f":"IF(Table1[[#This Row],[Gender (M/F)]]=\"\",\"\",Table1[[#This Row],[Gender (M/F)]])","v":""},{"$f":"IF(Table1[[#This Row],[DisAdv (Y/N)]]=\"\",\"\",Table1[[#This Row],[DisAdv (Y/N)]])","v":""},{"$f":"IF(Table1[[#This Row],[SEND (E,K,N)]]=\"\",\"\",Table1[[#This Row],[SEND (E,K,N)]])","v":""},"",{"$f":"IF(LEN(Table6[[#This Row],[Pupil Name]])>0,1,0)","v":0}]
[{"$f":"IF(Table1[[#This Row],[School/Group Name]]=\"\",\"\",Table1[[#This Row],[School/Group Name]])","v":""},{"$f":"IF(Table1[[#This Row],[Pupil Name]]=\"\",\"\",Table1[[#This Row],[Pupil Name]])","v":""},{"$f":"IF(Table1[[#This Row],[Gender (M/F)]]=\"\",\"\",Table1[[#This Row],[Gender (M/F)]])","v":""},{"$f":"IF(Table1[[#This Row],[DisAdv (Y/N)]]=\"\",\"\",Table1[[#This Row],[DisAdv (Y/N)]])","v":""},{"$f":"IF(Table1[[#This Row],[SEND (E,K,N)]]=\"\",\"\",Table1[[#This Row],[SEND (E,K,N)]])","v":""},"",{"$f":"IF(LEN(Table6[[#This Row],[Pupil Name]])>0,1,0)","v":0}]
[{"$f":"IF(Table1[[#This Row],[School/Group Name]]=\"\",\"\",Table1[[#This Row],[School/Group Name]])","v":""},{"$f":"IF(Table1[[#This Row],[Pupil Name]]=\"\",\"\",Table1[[#This Row],[Pupil Name]])","v":""},{"$f":"IF(Table1[[#This Row],[Gender (M/F)]]=\"\",\"\",Table1[[#This Row],[Gender (M/F)]])","v":""},{"$f":"IF(Table1[[#This Row],[DisAdv (Y/N)]]=\"\",\"\",Table1[[#This Row],[DisAdv (Y/N)]])","v":""},{"$f":"IF(Table1[[#This Row],[SEND (E,K,N)]]=\"\",\"\",Table1[[#This Row],[SEND (E,K,N)]])","v":""},"",{"$f":"IF(LEN(Table6[[#This Row],[Pupil Name]])>0,1,0)","v":0}]
[{"$f":"IF(Table1[[#This Row],[School/Group Name]]=\"\",\"\",Table1[[#This Row],[School/Group Name]])","v":""},{"$f":"IF(Table1[[#This Row],[Pupil Name]]=\"\",\"\",Table1[[#This Row],[Pupil Name]])","v":""},{"$f":"IF(Table1[[#This Row],[Gender (M/F)]]=\"\",\"\",Table1[[#This Row],[Gender (M/F)]])","v":""},{"$f":"IF(Table1[[#This Row],[DisAdv (Y/N)]]=\"\",\"\",Table1[[#This Row],[DisAdv (Y/N)]])","v":""},{"$f":"IF(Table1[[#This Row],[SEND (E,K,N)]]=\"\",\"\",Table1[[#This Row],[SEND (E,K,N)]])","v":""},"",{"$f":"IF(LEN(Table6[[#This Row],[Pupil Name]])>0,1,0)","v":0}]
[{"$f":"IF(Table1[[#This Row],[School/Group Name]]=\"\",\"\",Table1[[#This Row],[School/Group Name]])","v":""},{"$f":"IF(Table1[[#This Row],[Pupil Name]]=\"\",\"\",Table1[[#This Row],[Pupil Name]])","v":""},{"$f":"IF(Table1[[#This Row],[Gender (M/F)]]=\"\",\"\",Table1[[#This Row],[Gender (M/F)]])","v":""},{"$f":"IF(Table1[[#This Row],[DisAdv (Y/N)]]=\"\",\"\",Table1[[#This Row],[DisAdv (Y/N)]])","v":""},{"$f":"IF(Table1[[#This Row],[SEND (E,K,N)]]=\"\",\"\",Table1[[#This Row],[SEND (E,K,N)]])","v":""},"",{"$f":"IF(LEN(Table6[[#This Row],[Pupil Name]])>0,1,0)","v":0}]
[{"$f":"IF(Table1[[#This Row],[School/Group Name]]=\"\",\"\",Table1[[#This Row],[School/Group Name]])","v":""},{"$f":"IF(Table1[[#This Row],[Pupil Name]]=\"\",\"\",Table1[[#This Row],[Pupil Name]])","v":""},{"$f":"IF(Table1[[#This Row],[Gender (M/F)]]=\"\",\"\",Table1[[#This Row],[Gender (M/F)]])","v":""},{"$f":"IF(Table1[[#This Row],[DisAdv (Y/N)]]=\"\",\"\",Table1[[#This Row],[DisAdv (Y/N)]])","v":""},{"$f":"IF(Table1[[#This Row],[SEND (E,K,N)]]=\"\",\"\",Table1[[#This Row],[SEND (E,K,N)]])","v":""},"",{"$f":"IF(LEN(Table6[[#This Row],[Pupil Name]])>0,1,0)","v":0}]
[{"$f":"IF(Table1[[#This Row],[School/Group Name]]=\"\",\"\",Table1[[#This Row],[School/Group Name]])","v":""},{"$f":"IF(Table1[[#This Row],[Pupil Name]]=\"\",\"\",Table1[[#This Row],[Pupil Name]])","v":""},{"$f":"IF(Table1[[#This Row],[Gender (M/F)]]=\"\",\"\",Table1[[#This Row],[Gender (M/F)]])","v":""},{"$f":"IF(Table1[[#This Row],[DisAdv (Y/N)]]=\"\",\"\",Table1[[#This Row],[DisAdv (Y/N)]])","v":""},{"$f":"IF(Table1[[#This Row],[SEND (E,K,N)]]=\"\",\"\",Table1[[#This Row],[SEND (E,K,N)]])","v":""},"",{"$f":"IF(LEN(Table6[[#This Row],[Pupil Name]])>0,1,0)","v":0}]
[{"$f":"IF(Table1[[#This Row],[School/Group Name]]=\"\",\"\",Table1[[#This Row],[School/Group Name]])","v":""},{"$f":"IF(Table1[[#This Row],[Pupil Name]]=\"\",\"\",Table1[[#This Row],[Pupil Name]])","v":""},{"$f":"IF(Table1[[#This Row],[Gender (M/F)]]=\"\",\"\",Table1[[#This Row],[Gender (M/F)]])","v":""},{"$f":"IF(Table1[[#This Row],[DisAdv (Y/N)]]=\"\",\"\",Table1[[#This Row],[DisAdv (Y/N)]])","v":""},{"$f":"IF(Table1[[#This Row],[SEND (E,K,N)]]=\"\",\"\",Table1[[#This Row],[SEND (E,K,N)]])","v":""},"",{"$f":"IF(LEN(Table6[[#This Row],[Pupil Name]])>0,1,0)","v":0}]
[{"$f":"IF(Table1[[#This Row],[School/Group Name]]=\"\",\"\",Table1[[#This Row],[School/Group Name]])","v":""},{"$f":"IF(Table1[[#This Row],[Pupil Name]]=\"\",\"\",Table1[[#This Row],[Pupil Name]])","v":""},{"$f":"IF(Table1[[#This Row],[Gender (M/F)]]=\"\",\"\",Table1[[#This Row],[Gender (M/F)]])","v":""},{"$f":"IF(Table1[[#This Row],[DisAdv (Y/N)]]=\"\",\"\",Table1[[#This Row],[DisAdv (Y/N)]])","v":""},{"$f":"IF(Table1[[#This Row],[SEND (E,K,N)]]=\"\",\"\",Table1[[#This Row],[SEND (E,K,N)]])","v":""},"",{"$f":"IF(LEN(Table6[[#This Row],[Pupil Name]])>0,1,0)","v":0}]
[{"$f":"IF(Table1[[#This Row],[School/Group Name]]=\"\",\"\",Table1[[#This Row],[School/Group Name]])","v":""},{"$f":"IF(Table1[[#This Row],[Pupil Name]]=\"\",\"\",Table1[[#This Row],[Pupil Name]])","v":""},{"$f":"IF(Table1[[#This Row],[Gender (M/F)]]=\"\",\"\",Table1[[#This Row],[Gender (M/F)]])","v":""},{"$f":"IF(Table1[[#This Row],[DisAdv (Y/N)]]=\"\",\"\",Table1[[#This Row],[DisAdv (Y/N)]])","v":""},{"$f":"IF(Table1[[#This Row],[SEND (E,K,N)]]=\"\",\"\",Table1[[#This Row],[SEND (E,K,N)]])","v":""},"",{"$f":"IF(LEN(Table6[[#This Row],[Pupil Name]])>0,1,0)","v":0}]
[{"$f":"IF(Table1[[#This Row],[School/Group Name]]=\"\",\"\",Table1[[#This Row],[School/Group Name]])","v":""},{"$f":"IF(Table1[[#This Row],[Pupil Name]]=\"\",\"\",Table1[[#This Row],[Pupil Name]])","v":""},{"$f":"IF(Table1[[#This Row],[Gender (M/F)]]=\"\",\"\",Table1[[#This Row],[Gender (M/F)]])","v":""},{"$f":"IF(Table1[[#This Row],[DisAdv (Y/N)]]=\"\",\"\",Table1[[#This Row],[DisAdv (Y/N)]])","v":""},{"$f":"IF(Table1[[#This Row],[SEND (E,K,N)]]=\"\",\"\",Table1[[#This Row],[SEND (E,K,N)]])","v":""},"",{"$f":"IF(LEN(Table6[[#This Row],[Pupil Name]])>0,1,0)","v":0}]
[{"$f":"IF(Table1[[#This Row],[School/Group Name]]=\"\",\"\",Table1[[#This Row],[School/Group Name]])","v":""},{"$f":"IF(Table1[[#This Row],[Pupil Name]]=\"\",\"\",Table1[[#This Row],[Pupil Name]])","v":""},{"$f":"IF(Table1[[#This Row],[Gender (M/F)]]=\"\",\"\",Table1[[#This Row],[Gender (M/F)]])","v":""},{"$f":"IF(Table1[[#This Row],[DisAdv (Y/N)]]=\"\",\"\",Table1[[#This Row],[DisAdv (Y/N)]])","v":""},{"$f":"IF(Table1[[#This Row],[SEND (E,K,N)]]=\"\",\"\",Table1[[#This Row],[SEND (E,K,N)]])","v":""},"",{"$f":"IF(LEN(Table6[[#This Row],[Pupil Name]])>0,1,0)","v":0}]
[{"$f":"IF(Table1[[#This Row],[School/Group Name]]=\"\",\"\",Table1[[#This Row],[School/Group Name]])","v":""},{"$f":"IF(Table1[[#This Row],[Pupil Name]]=\"\",\"\",Table1[[#This Row],[Pupil Name]])","v":""},{"$f":"IF(Table1[[#This Row],[Gender (M/F)]]=\"\",\"\",Table1[[#This Row],[Gender (M/F)]])","v":""},{"$f":"IF(Table1[[#This Row],[DisAdv (Y/N)]]=\"\",\"\",Table1[[#This Row],[DisAdv (Y/N)]])","v":""},{"$f":"IF(Table1[[#This Row],[SEND (E,K,N)]]=\"\",\"\",Table1[[#This Row],[SEND (E,K,N)]])","v":""},"",{"$f":"IF(LEN(Table6[[#This Row],[Pupil Name]])>0,1,0)","v":0}]
[{"$f":"IF(Table1[[#This Row],[School/Group Name]]=\"\",\"\",Table1[[#This Row],[School/Group Name]])","v":""},{"$f":"IF(Table1[[#This Row],[Pupil Name]]=\"\",\"\",Table1[[#This Row],[Pupil Name]])","v":""},{"$f":"IF(Table1[[#This Row],[Gender (M/F)]]=\"\",\"\",Table1[[#This Row],[Gender (M/F)]])","v":""},{"$f":"IF(Table1[[#This Row],[DisAdv (Y/N)]]=\"\",\"\",Table1[[#This Row],[DisAdv (Y/N)]])","v":""},{"$f":"IF(Table1[[#This Row],[SEND (E,K,N)]]=\"\",\"\",Table1[[#This Row],[SEND (E,K,N)]])","v":""},"",{"$f":"IF(LEN(Table6[[#This Row],[Pupil Name]])>0,1,0)","v":0}]
[{"$f":"IF(Table1[[#This Row],[School/Group Name]]=\"\",\"\",Table1[[#This Row],[School/Group Name]])","v":""},{"$f":"IF(Table1[[#This Row],[Pupil Name]]=\"\",\"\",Table1[[#This Row],[Pupil Name]])","v":""},{"$f":"IF(Table1[[#This Row],[Gender (M/F)]]=\"\",\"\",Table1[[#This Row],[Gender (M/F)]])","v":""},{"$f":"IF(Table1[[#This Row],[DisAdv (Y/N)]]=\"\",\"\",Table1[[#This Row],[DisAdv (Y/N)]])","v":""},{"$f":"IF(Table1[[#This Row],[SEND (E,K,N)]]=\"\",\"\",Table1[[#This Row],[SEND (E,K,N)]])","v":""},"",{"$f":"IF(LEN(Table6[[#This Row],[Pupil Name]])>0,1,0)","v":0}]
[{"$f":"IF(Table1[[#This Row],[School/Group Name]]=\"\",\"\",Table1[[#This Row],[School/Group Name]])","v":""},{"$f":"IF(Table1[[#This Row],[Pupil Name]]=\"\",\"\",Table1[[#This Row],[Pupil Name]])","v":""},{"$f":"IF(Table1[[#This Row],[Gender (M/F)]]=\"\",\"\",Table1[[#This Row],[Gender (M/F)]])","v":""},{"$f":"IF(Table1[[#This Row],[DisAdv (Y/N)]]=\"\",\"\",Table1[[#This Row],[DisAdv (Y/N)]])","v":""},{"$f":"IF(Table1[[#This Row],[SEND (E,K,N)]]=\"\",\"\",Table1[[#This Row],[SEND (E,K,N)]])","v":""},"",{"$f":"IF(LEN(Table6[[#This Row],[Pupil Name]])>0,1,0)","v":0}]
[{"$f":"IF(Table1[[#This Row],[School/Group Name]]=\"\",\"\",Table1[[#This Row],[School/Group Name]])","v":""},{"$f":"IF(Table1[[#This Row],[Pupil Name]]=\"\",\"\",Table1[[#This Row],[Pupil Name]])","v":""},{"$f":"IF(Table1[[#This Row],[Gender (M/F)]]=\"\",\"\",Table1[[#This Row],[Gender (M/F)]])","v":""},{"$f":"IF(Table1[[#This Row],[DisAdv (Y/N)]]=\"\",\"\",Table1[[#This Row],[DisAdv (Y/N)]])","v":""},{"$f":"IF(Table1[[#This Row],[SEND (E,K,N)]]=\"\",\"\",Table1[[#This Row],[SEND (E,K,N)]])","v":""},"",{"$f":"IF(LEN(Table6[[#This Row],[Pupil Name]])>0,1,0)","v":0}]
[{"$f":"IF(Table1[[#This Row],[School/Group Name]]=\"\",\"\",Table1[[#This Row],[School/Group Name]])","v":""},{"$f":"IF(Table1[[#This Row],[Pupil Name]]=\"\",\"\",Table1[[#This Row],[Pupil Name]])","v":""},{"$f":"IF(Table1[[#This Row],[Gender (M/F)]]=\"\",\"\",Table1[[#This Row],[Gender (M/F)]])","v":""},{"$f":"IF(Table1[[#This Row],[DisAdv (Y/N)]]=\"\",\"\",Table1[[#This Row],[DisAdv (Y/N)]])","v":""},{"$f":"IF(Table1[[#This Row],[SEND (E,K,N)]]=\"\",\"\",Table1[[#This Row],[SEND (E,K,N)]])","v":""},"",{"$f":"IF(LEN(Table6[[#This Row],[Pupil Name]])>0,1,0)","v":0}]
[{"$f":"IF(Table1[[#This Row],[School/Group Name]]=\"\",\"\",Table1[[#This Row],[School/Group Name]])","v":""},{"$f":"IF(Table1[[#This Row],[Pupil Name]]=\"\",\"\",Table1[[#This Row],[Pupil Name]])","v":""},{"$f":"IF(Table1[[#This Row],[Gender (M/F)]]=\"\",\"\",Table1[[#This Row],[Gender (M/F)]])","v":""},{"$f":"IF(Table1[[#This Row],[DisAdv (Y/N)]]=\"\",\"\",Table1[[#This Row],[DisAdv (Y/N)]])","v":""},{"$f":"IF(Table1[[#This Row],[SEND (E,K,N)]]=\"\",\"\",Table1[[#This Row],[SEND (E,K,N)]])","v":""},"",{"$f":"IF(LEN(Table6[[#This Row],[Pupil Name]])>0,1,0)","v":0}]
[{"$f":"IF(Table1[[#This Row],[School/Group Name]]=\"\",\"\",Table1[[#This Row],[School/Group Name]])","v":""},{"$f":"IF(Table1[[#This Row],[Pupil Name]]=\"\",\"\",Table1[[#This Row],[Pupil Name]])","v":""},{"$f":"IF(Table1[[#This Row],[Gender (M/F)]]=\"\",\"\",Table1[[#This Row],[Gender (M/F)]])","v":""},{"$f":"IF(Table1[[#This Row],[DisAdv (Y/N)]]=\"\",\"\",Table1[[#This Row],[DisAdv (Y/N)]])","v":""},{"$f":"IF(Table1[[#This Row],[SEND (E,K,N)]]=\"\",\"\",Table1[[#This Row],[SEND (E,K,N)]])","v":""},"",{"$f":"IF(LEN(Table6[[#This Row],[Pupil Name]])>0,1,0)","v":0}]
[{"$f":"IF(Table1[[#This Row],[School/Group Name]]=\"\",\"\",Table1[[#This Row],[School/Group Name]])","v":""},{"$f":"IF(Table1[[#This Row],[Pupil Name]]=\"\",\"\",Table1[[#This Row],[Pupil Name]])","v":""},{"$f":"IF(Table1[[#This Row],[Gender (M/F)]]=\"\",\"\",Table1[[#This Row],[Gender (M/F)]])","v":""},{"$f":"IF(Table1[[#This Row],[DisAdv (Y/N)]]=\"\",\"\",Table1[[#This Row],[DisAdv (Y/N)]])","v":""},{"$f":"IF(Table1[[#This Row],[SEND (E,K,N)]]=\"\",\"\",Table1[[#This Row],[SEND (E,K,N)]])","v":""},{"$f":"IF(H71=\"\",\"\",(SUM(H71:BE71)))","v":""},{"$f":"IF(LEN(Table6[[#This Row],[Pupil Name]])>0,1,0)","v":0}]
[{"$f":"IF(Table1[[#This Row],[School/Group Name]]=\"\",\"\",Table1[[#This Row],[School/Group Name]])","v":""},{"$f":"IF(Table1[[#This Row],[Pupil Name]]=\"\",\"\",Table1[[#This Row],[Pupil Name]])","v":""},{"$f":"IF(Table1[[#This Row],[Gender (M/F)]]=\"\",\"\",Table1[[#This Row],[Gender (M/F)]])","v":""},{"$f":"IF(Table1[[#This Row],[DisAdv (Y/N)]]=\"\",\"\",Table1[[#This Row],[DisAdv (Y/N)]])","v":""},{"$f":"IF(Table1[[#This Row],[SEND (E,K,N)]]=\"\",\"\",Table1[[#This Row],[SEND (E,K,N)]])","v":""},"",{"$f":"IF(LEN(Table6[[#This Row],[Pupil Name]])>0,1,0)","v":0}]
[{"$f":"IF(Table1[[#This Row],[School/Group Name]]=\"\",\"\",Table1[[#This Row],[School/Group Name]])","v":""},{"$f":"IF(Table1[[#This Row],[Pupil Name]]=\"\",\"\",Table1[[#This Row],[Pupil Name]])","v":""},{"$f":"IF(Table1[[#This Row],[Gender (M/F)]]=\"\",\"\",Table1[[#This Row],[Gender (M/F)]])","v":""},{"$f":"IF(Table1[[#This Row],[DisAdv (Y/N)]]=\"\",\"\",Table1[[#This Row],[DisAdv (Y/N)]])","v":""},{"$f":"IF(Table1[[#This Row],[SEND (E,K,N)]]=\"\",\"\",Table1[[#This Row],[SEND (E,K,N)]])","v":""},"",{"$f":"IF(LEN(Table6[[#This Row],[Pupil Name]])>0,1,0)","v":0}]
[{"$f":"IF(Table1[[#This Row],[School/Group Name]]=\"\",\"\",Table1[[#This Row],[School/Group Name]])","v":""},{"$f":"IF(Table1[[#This Row],[Pupil Name]]=\"\",\"\",Table1[[#This Row],[Pupil Name]])","v":""},{"$f":"IF(Table1[[#This Row],[Gender (M/F)]]=\"\",\"\",Table1[[#This Row],[Gender (M/F)]])","v":""},{"$f":"IF(Table1[[#This Row],[DisAdv (Y/N)]]=\"\",\"\",Table1[[#This Row],[DisAdv (Y/N)]])","v":""},{"$f":"IF(Table1[[#This Row],[SEND (E,K,N)]]=\"\",\"\",Table1[[#This Row],[SEND (E,K,N)]])","v":""},"",{"$f":"IF(LEN(Table6[[#This Row],[Pupil Name]])>0,1,0)","v":0}]
[{"$f":"IF(Table1[[#This Row],[School/Group Name]]=\"\",\"\",Table1[[#This Row],[School/Group Name]])","v":""},{"$f":"IF(Table1[[#This Row],[Pupil Name]]=\"\",\"\",Table1[[#This Row],[Pupil Name]])","v":""},{"$f":"IF(Table1[[#This Row],[Gender (M/F)]]=\"\",\"\",Table1[[#This Row],[Gender (M/F)]])","v":""},{"$f":"IF(Table1[[#This Row],[DisAdv (Y/N)]]=\"\",\"\",Table1[[#This Row],[DisAdv (Y/N)]])","v":""},{"$f":"IF(Table1[[#This Row],[SEND (E,K,N)]]=\"\",\"\",Table1[[#This Row],[SEND (E,K,N)]])","v":""},"",{"$f":"IF(LEN(Table6[[#This Row],[Pupil Name]])>0,1,0)","v":0}]
[{"$f":"IF(Table1[[#This Row],[School/Group Name]]=\"\",\"\",Table1[[#This Row],[School/Group Name]])","v":""},{"$f":"IF(Table1[[#This Row],[Pupil Name]]=\"\",\"\",Table1[[#This Row],[Pupil Name]])","v":""},{"$f":"IF(Table1[[#This Row],[Gender (M/F)]]=\"\",\"\",Table1[[#This Row],[Gender (M/F)]])","v":""},{"$f":"IF(Table1[[#This Row],[DisAdv (Y/N)]]=\"\",\"\",Table1[[#This Row],[DisAdv (Y/N)]])","v":""},{"$f":"IF(Table1[[#This Row],[SEND (E,K,N)]]=\"\",\"\",Table1[[#This Row],[SEND (E,K,N)]])","v":""},"",{"$f":"IF(LEN(Table6[[#This Row],[Pupil Name]])>0,1,0)","v":0}]
[{"$f":"IF(Table1[[#This Row],[School/Group Name]]=\"\",\"\",Table1[[#This Row],[School/Group Name]])","v":""},{"$f":"IF(Table1[[#This Row],[Pupil Name]]=\"\",\"\",Table1[[#This Row],[Pupil Name]])","v":""},{"$f":"IF(Table1[[#This Row],[Gender (M/F)]]=\"\",\"\",Table1[[#This Row],[Gender (M/F)]])","v":""},{"$f":"IF(Table1[[#This Row],[DisAdv (Y/N)]]=\"\",\"\",Table1[[#This Row],[DisAdv (Y/N)]])","v":""},{"$f":"IF(Table1[[#This Row],[SEND (E,K,N)]]=\"\",\"\",Table1[[#This Row],[SEND (E,K,N)]])","v":""},"",{"$f":"IF(LEN(Table6[[#This Row],[Pupil Name]])>0,1,0)","v":0}]
[{"$f":"IF(Table1[[#This Row],[School/Group Name]]=\"\",\"\",Table1[[#This Row],[School/Group Name]])","v":""},{"$f":"IF(Table1[[#This Row],[Pupil Name]]=\"\",\"\",Table1[[#This Row],[Pupil Name]])","v":""},{"$f":"IF(Table1[[#This Row],[Gender (M/F)]]=\"\",\"\",Table1[[#This Row],[Gender (M/F)]])","v":""},{"$f":"IF(Table1[[#This Row],[DisAdv (Y/N)]]=\"\",\"\",Table1[[#This Row],[DisAdv (Y/N)]])","v":""},{"$f":"IF(Table1[[#This Row],[SEND (E,K,N)]]=\"\",\"\",Table1[[#This Row],[SEND (E,K,N)]])","v":""},"",{"$f":"IF(LEN(Table6[[#This Row],[Pupil Name]])>0,1,0)","v":0}]
[{"$f":"IF(Table1[[#This Row],[School/Group Name]]=\"\",\"\",Table1[[#This Row],[School/Group Name]])","v":""},{"$f":"IF(Table1[[#This Row],[Pupil Name]]=\"\",\"\",Table1[[#This Row],[Pupil Name]])","v":""},{"$f":"IF(Table1[[#This Row],[Gender (M/F)]]=\"\",\"\",Table1[[#This Row],[Gender (M/F)]])","v":""},{"$f":"IF(Table1[[#This Row],[DisAdv (Y/N)]]=\"\",\"\",Table1[[#This Row],[DisAdv (Y/N)]])","v":""},{"$f":"IF(Table1[[#This Row],[SEND (E,K,N)]]=\"\",\"\",Table1[[#This Row],[SEND (E,K,N)]])","v":""},"",{"$f":"IF(LEN(Table6[[#This Row],[Pupil Name]])>0,1,0)","v":0}]
[{"$f":"IF(Table1[[#This Row],[School/Group Name]]=\"\",\"\",Table1[[#This Row],[School/Group Name]])","v":""},{"$f":"IF(Table1[[#This Row],[Pupil Name]]=\"\",\"\",Table1[[#This Row],[Pupil Name]])","v":""},{"$f":"IF(Table1[[#This Row],[Gender (M/F)]]=\"\",\"\",Table1[[#This Row],[Gender (M/F)]])","v":""},{"$f":"IF(Table1[[#This Row],[DisAdv (Y/N)]]=\"\",\"\",Table1[[#This Row],[DisAdv (Y/N)]])","v":""},{"$f":"IF(Table1[[#This Row],[SEND (E,K,N)]]=\"\",\"\",Table1[[#This Row],[SEND (E,K,N)]])","v":""},"",{"$f":"IF(LEN(Table6[[#This Row],[Pupil Name]])>0,1,0)","v":0}]
[{"$f":"IF(Table1[[#This Row],[School/Group Name]]=\"\",\"\",Table1[[#This Row],[School/Group Name]])","v":""},{"$f":"IF(Table1[[#This Row],[Pupil Name]]=\"\",\"\",Table1[[#This Row],[Pupil Name]])","v":""},{"$f":"IF(Table1[[#This Row],[Gender (M/F)]]=\"\",\"\",Table1[[#This Row],[Gender (M/F)]])","v":""},{"$f":"IF(Table1[[#This Row],[DisAdv (Y/N)]]=\"\",\"\",Table1[[#This Row],[DisAdv (Y/N)]])","v":""},{"$f":"IF(Table1[[#This Row],[SEND (E,K,N)]]=\"\",\"\",Table1[[#This Row],[SEND (E,K,N)]])","v":""},"",{"$f":"IF(LEN(Table6[[#This Row],[Pupil Name]])>0,1,0)","v":0}]
[{"$f":"IF(Table1[[#This Row],[School/Group Name]]=\"\",\"\",Table1[[#This Row],[School/Group Name]])","v":""},{"$f":"IF(Table1[[#This Row],[Pupil Name]]=\"\",\"\",Table1[[#This Row],[Pupil Name]])","v":""},{"$f":"IF(Table1[[#This Row],[Gender (M/F)]]=\"\",\"\",Table1[[#This Row],[Gender (M/F)]])","v":""},{"$f":"IF(Table1[[#This Row],[DisAdv (Y/N)]]=\"\",\"\",Table1[[#This Row],[DisAdv (Y/N)]])","v":""},{"$f":"IF(Table1[[#This Row],[SEND (E,K,N)]]=\"\",\"\",Table1[[#This Row],[SEND (E,K,N)]])","v":""},"",{"$f":"IF(LEN(Table6[[#This Row],[Pupil Name]])>0,1,0)","v":0}]
[{"$f":"IF(Table1[[#This Row],[School/Group Name]]=\"\",\"\",Table1[[#This Row],[School/Group Name]])","v":""},{"$f":"IF(Table1[[#This Row],[Pupil Name]]=\"\",\"\",Table1[[#This Row],[Pupil Name]])","v":""},{"$f":"IF(Table1[[#This Row],[Gender (M/F)]]=\"\",\"\",Table1[[#This Row],[Gender (M/F)]])","v":""},{"$f":"IF(Table1[[#This Row],[DisAdv (Y/N)]]=\"\",\"\",Table1[[#This Row],[DisAdv (Y/N)]])","v":""},{"$f":"IF(Table1[[#This Row],[SEND (E,K,N)]]=\"\",\"\",Table1[[#This Row],[SEND (E,K,N)]])","v":""},"",{"$f":"IF(LEN(Table6[[#This Row],[Pupil Name]])>0,1,0)","v":0}]
[{"$f":"IF(Table1[[#This Row],[School/Group Name]]=\"\",\"\",Table1[[#This Row],[School/Group Name]])","v":""},{"$f":"IF(Table1[[#This Row],[Pupil Name]]=\"\",\"\",Table1[[#This Row],[Pupil Name]])","v":""},{"$f":"IF(Table1[[#This Row],[Gender (M/F)]]=\"\",\"\",Table1[[#This Row],[Gender (M/F)]])","v":""},{"$f":"IF(Table1[[#This Row],[DisAdv (Y/N)]]=\"\",\"\",Table1[[#This Row],[DisAdv (Y/N)]])","v":""},{"$f":"IF(Table1[[#This Row],[SEND (E,K,N)]]=\"\",\"\",Table1[[#This Row],[SEND (E,K,N)]])","v":""},"",{"$f":"IF(LEN(Table6[[#This Row],[Pupil Name]])>0,1,0)","v":0}]
[{"$f":"IF(Table1[[#This Row],[School/Group Name]]=\"\",\"\",Table1[[#This Row],[School/Group Name]])","v":""},{"$f":"IF(Table1[[#This Row],[Pupil Name]]=\"\",\"\",Table1[[#This Row],[Pupil Name]])","v":""},{"$f":"IF(Table1[[#This Row],[Gender (M/F)]]=\"\",\"\",Table1[[#This Row],[Gender (M/F)]])","v":""},{"$f":"IF(Table1[[#This Row],[DisAdv (Y/N)]]=\"\",\"\",Table1[[#This Row],[DisAdv (Y/N)]])","v":""},{"$f":"IF(Table1[[#This Row],[SEND (E,K,N)]]=\"\",\"\",Table1[[#This Row],[SEND (E,K,N)]])","v":""},"",{"$f":"IF(LEN(Table6[[#This Row],[Pupil Name]])>0,1,0)","v":0}]
[{"$f":"IF(Table1[[#This Row],[School/Group Name]]=\"\",\"\",Table1[[#This Row],[School/Group Name]])","v":""},{"$f":"IF(Table1[[#This Row],[Pupil Name]]=\"\",\"\",Table1[[#This Row],[Pupil Name]])","v":""},{"$f":"IF(Table1[[#This Row],[Gender (M/F)]]=\"\",\"\",Table1[[#This Row],[Gender (M/F)]])","v":""},{"$f":"IF(Table1[[#This Row],[DisAdv (Y/N)]]=\"\",\"\",Table1[[#This Row],[DisAdv (Y/N)]])","v":""},{"$f":"IF(Table1[[#This Row],[SEND (E,K,N)]]=\"\",\"\",Table1[[#This Row],[SEND (E,K,N)]])","v":""},"",{"$f":"IF(LEN(Table6[[#This Row],[Pupil Name]])>0,1,0)","v":0}]
[{"$f":"IF(Table1[[#This Row],[School/Group Name]]=\"\",\"\",Table1[[#This Row],[School/Group Name]])","v":""},{"$f":"IF(Table1[[#This Row],[Pupil Name]]=\"\",\"\",Table1[[#This Row],[Pupil Name]])","v":""},{"$f":"IF(Table1[[#This Row],[Gender (M/F)]]=\"\",\"\",Table1[[#This Row],[Gender (M/F)]])","v":""},{"$f":"IF(Table1[[#This Row],[DisAdv (Y/N)]]=\"\",\"\",Table1[[#This Row],[DisAdv (Y/N)]])","v":""},{"$f":"IF(Table1[[#This Row],[SEND (E,K,N)]]=\"\",\"\",Table1[[#This Row],[SEND (E,K,N)]])","v":""},"",{"$f":"IF(LEN(Table6[[#This Row],[Pupil Name]])>0,1,0)","v":0}]
[{"$f":"IF(Table1[[#This Row],[School/Group Name]]=\"\",\"\",Table1[[#This Row],[School/Group Name]])","v":""},{"$f":"IF(Table1[[#This Row],[Pupil Name]]=\"\",\"\",Table1[[#This Row],[Pupil Name]])","v":""},{"$f":"IF(Table1[[#This Row],[Gender (M/F)]]=\"\",\"\",Table1[[#This Row],[Gender (M/F)]])","v":""},{"$f":"IF(Table1[[#This Row],[DisAdv (Y/N)]]=\"\",\"\",Table1[[#This Row],[DisAdv (Y/N)]])","v":""},{"$f":"IF(Table1[[#This Row],[SEND (E,K,N)]]=\"\",\"\",Table1[[#This Row],[SEND (E,K,N)]])","v":""},"",{"$f":"IF(LEN(Table6[[#This Row],[Pupil Name]])>0,1,0)","v":0}]
[{"$f":"IF(Table1[[#This Row],[School/Group Name]]=\"\",\"\",Table1[[#This Row],[School/Group Name]])","v":""},{"$f":"IF(Table1[[#This Row],[Pupil Name]]=\"\",\"\",Table1[[#This Row],[Pupil Name]])","v":""},{"$f":"IF(Table1[[#This Row],[Gender (M/F)]]=\"\",\"\",Table1[[#This Row],[Gender (M/F)]])","v":""},{"$f":"IF(Table1[[#This Row],[DisAdv (Y/N)]]=\"\",\"\",Table1[[#This Row],[DisAdv (Y/N)]])","v":""},{"$f":"IF(Table1[[#This Row],[SEND (E,K,N)]]=\"\",\"\",Table1[[#This Row],[SEND (E,K,N)]])","v":""},"",{"$f":"IF(LEN(Table6[[#This Row],[Pupil Name]])>0,1,0)","v":0}]
[{"$f":"IF(Table1[[#This Row],[School/Group Name]]=\"\",\"\",Table1[[#This Row],[School/Group Name]])","v":""},{"$f":"IF(Table1[[#This Row],[Pupil Name]]=\"\",\"\",Table1[[#This Row],[Pupil Name]])","v":""},{"$f":"IF(Table1[[#This Row],[Gender (M/F)]]=\"\",\"\",Table1[[#This Row],[Gender (M/F)]])","v":""},{"$f":"IF(Table1[[#This Row],[DisAdv (Y/N)]]=\"\",\"\",Table1[[#This Row],[DisAdv (Y/N)]])","v":""},{"$f":"IF(Table1[[#This Row],[SEND (E,K,N)]]=\"\",\"\",Table1[[#This Row],[SEND (E,K,N)]])","v":""},"",{"$f":"IF(LEN(Table6[[#This Row],[Pupil Name]])>0,1,0)","v":0}]
[{"$f":"IF(Table1[[#This Row],[School/Group Name]]=\"\",\"\",Table1[[#This Row],[School/Group Name]])","v":""},{"$f":"IF(Table1[[#This Row],[Pupil Name]]=\"\",\"\",Table1[[#This Row],[Pupil Name]])","v":""},{"$f":"IF(Table1[[#This Row],[Gender (M/F)]]=\"\",\"\",Table1[[#This Row],[Gender (M/F)]])","v":""},{"$f":"IF(Table1[[#This Row],[DisAdv (Y/N)]]=\"\",\"\",Table1[[#This Row],[DisAdv (Y/N)]])","v":""},{"$f":"IF(Table1[[#This Row],[SEND (E,K,N)]]=\"\",\"\",Table1[[#This Row],[SEND (E,K,N)]])","v":""},"",{"$f":"IF(LEN(Table6[[#This Row],[Pupil Name]])>0,1,0)","v":0}]
[{"$f":"IF(Table1[[#This Row],[School/Group Name]]=\"\",\"\",Table1[[#This Row],[School/Group Name]])","v":""},{"$f":"IF(Table1[[#This Row],[Pupil Name]]=\"\",\"\",Table1[[#This Row],[Pupil Name]])","v":""},{"$f":"IF(Table1[[#This Row],[Gender (M/F)]]=\"\",\"\",Table1[[#This Row],[Gender (M/F)]])","v":""},{"$f":"IF(Table1[[#This Row],[DisAdv (Y/N)]]=\"\",\"\",Table1[[#This Row],[DisAdv (Y/N)]])","v":""},{"$f":"IF(Table1[[#This Row],[SEND (E,K,N)]]=\"\",\"\",Table1[[#This Row],[SEND (E,K,N)]])","v":""},"",{"$f":"IF(LEN(Table6[[#This Row],[Pupil Name]])>0,1,0)","v":0}]
[{"$f":"IF(Table1[[#This Row],[School/Group Name]]=\"\",\"\",Table1[[#This Row],[School/Group Name]])","v":""},{"$f":"IF(Table1[[#This Row],[Pupil Name]]=\"\",\"\",Table1[[#This Row],[Pupil Name]])","v":""},{"$f":"IF(Table1[[#This Row],[Gender (M/F)]]=\"\",\"\",Table1[[#This Row],[Gender (M/F)]])","v":""},{"$f":"IF(Table1[[#This Row],[DisAdv (Y/N)]]=\"\",\"\",Table1[[#This Row],[DisAdv (Y/N)]])","v":""},{"$f":"IF(Table1[[#This Row],[SEND (E,K,N)]]=\"\",\"\",Table1[[#This Row],[SEND (E,K,N)]])","v":""},"",{"$f":"IF(LEN(Table6[[#This Row],[Pupil Name]])>0,1,0)","v":0}]
[{"$f":"IF(Table1[[#This Row],[School/Group Name]]=\"\",\"\",Table1[[#This Row],[School/Group Name]])","v":""},{"$f":"IF(Table1[[#This Row],[Pupil Name]]=\"\",\"\",Table1[[#This Row],[Pupil Name]])","v":""},{"$f":"IF(Table1[[#This Row],[Gender (M/F)]]=\"\",\"\",Table1[[#This Row],[Gender (M/F)]])","v":""},{"$f":"IF(Table1[[#This Row],[DisAdv (Y/N)]]=\"\",\"\",Table1[[#This Row],[DisAdv (Y/N)]])","v":""},{"$f":"IF(Table1[[#This Row],[SEND (E,K,N)]]=\"\",\"\",Table1[[#This Row],[SEND (E,K,N)]])","v":""},"",{"$f":"IF(LEN(Table6[[#This Row],[Pupil Name]])>0,1,0)","v":0}]
[{"$f":"IF(Table1[[#This Row],[School/Group Name]]=\"\",\"\",Table1[[#This Row],[School/Group Name]])","v":""},{"$f":"IF(Table1[[#This Row],[Pupil Name]]=\"\",\"\",Table1[[#This Row],[Pupil Name]])","v":""},{"$f":"IF(Table1[[#This Row],[Gender (M/F)]]=\"\",\"\",Table1[[#This Row],[Gender (M/F)]])","v":""},{"$f":"IF(Table1[[#This Row],[DisAdv (Y/N)]]=\"\",\"\",Table1[[#This Row],[DisAdv (Y/N)]])","v":""},{"$f":"IF(Table1[[#This Row],[SEND (E,K,N)]]=\"\",\"\",Table1[[#This Row],[SEND (E,K,N)]])","v":""},"",{"$f":"IF(LEN(Table6[[#This Row],[Pupil Name]])>0,1,0)","v":0}]
[{"$f":"IF(Table1[[#This Row],[School/Group Name]]=\"\",\"\",Table1[[#This Row],[School/Group Name]])","v":""},{"$f":"IF(Table1[[#This Row],[Pupil Name]]=\"\",\"\",Table1[[#This Row],[Pupil Name]])","v":""},{"$f":"IF(Table1[[#This Row],[Gender (M/F)]]=\"\",\"\",Table1[[#This Row],[Gender (M/F)]])","v":""},{"$f":"IF(Table1[[#This Row],[DisAdv (Y/N)]]=\"\",\"\",Table1[[#This Row],[DisAdv (Y/N)]])","v":""},{"$f":"IF(Table1[[#This Row],[SEND (E,K,N)]]=\"\",\"\",Table1[[#This Row],[SEND (E,K,N)]])","v":""},"",{"$f":"IF(LEN(Table6[[#This Row],[Pupil Name]])>0,1,0)","v":0}]
[{"$f":"IF(Table1[[#This Row],[School/Group Name]]=\"\",\"\",Table1[[#This Row],[School/Group Name]])","v":""},{"$f":"IF(Table1[[#This Row],[Pupil Name]]=\"\",\"\",Table1[[#This Row],[Pupil Name]])","v":""},{"$f":"IF(Table1[[#This Row],[Gender (M/F)]]=\"\",\"\",Table1[[#This Row],[Gender (M/F)]])","v":""},{"$f":"IF(Table1[[#This Row],[DisAdv (Y/N)]]=\"\",\"\",Table1[[#This Row],[DisAdv (Y/N)]])","v":""},{"$f":"IF(Table1[[#This Row],[SEND (E,K,N)]]=\"\",\"\",Table1[[#This Row],[SEND (E,K,N)]])","v":""},"",{"$f":"IF(LEN(Table6[[#This Row],[Pupil Name]])>0,1,0)","v":0}]
[{"$f":"IF(Table1[[#This Row],[School/Group Name]]=\"\",\"\",Table1[[#This Row],[School/Group Name]])","v":""},{"$f":"IF(Table1[[#This Row],[Pupil Name]]=\"\",\"\",Table1[[#This Row],[Pupil Name]])","v":""},{"$f":"IF(Table1[[#This Row],[Gender (M/F)]]=\"\",\"\",Table1[[#This Row],[Gender (M/F)]])","v":""},{"$f":"IF(Table1[[#This Row],[DisAdv (Y/N)]]=\"\",\"\",Table1[[#This Row],[DisAdv (Y/N)]])","v":""},{"$f":"IF(Table1[[#This Row],[SEND (E,K,N)]]=\"\",\"\",Table1[[#This Row],[SEND (E,K,N)]])","v":""},"",{"$f":"IF(LEN(Table6[[#This Row],[Pupil Name]])>0,1,0)","v":0}]
[{"$f":"IF(Table1[[#This Row],[School/Group Name]]=\"\",\"\",Table1[[#This Row],[School/Group Name]])","v":""},{"$f":"IF(Table1[[#This Row],[Pupil Name]]=\"\",\"\",Table1[[#This Row],[Pupil Name]])","v":""},{"$f":"IF(Table1[[#This Row],[Gender (M/F)]]=\"\",\"\",Table1[[#This Row],[Gender (M/F)]])","v":""},{"$f":"IF(Table1[[#This Row],[DisAdv (Y/N)]]=\"\",\"\",Table1[[#This Row],[DisAdv (Y/N)]])","v":""},{"$f":"IF(Table1[[#This Row],[SEND (E,K,N)]]=\"\",\"\",Table1[[#This Row],[SEND (E,K,N)]])","v":""},"",{"$f":"IF(LEN(Table6[[#This Row],[Pupil Name]])>0,1,0)","v":0}]
[{"$f":"IF(Table1[[#This Row],[School/Group Name]]=\"\",\"\",Table1[[#This Row],[School/Group Name]])","v":""},{"$f":"IF(Table1[[#This Row],[Pupil Name]]=\"\",\"\",Table1[[#This Row],[Pupil Name]])","v":""},{"$f":"IF(Table1[[#This Row],[Gender (M/F)]]=\"\",\"\",Table1[[#This Row],[Gender (M/F)]])","v":""},{"$f":"IF(Table1[[#This Row],[DisAdv (Y/N)]]=\"\",\"\",Table1[[#This Row],[DisAdv (Y/N)]])","v":""},{"$f":"IF(Table1[[#This Row],[SEND (E,K,N)]]=\"\",\"\",Table1[[#This Row],[SEND (E,K,N)]])","v":""},"",{"$f":"IF(LEN(Table6[[#This Row],[Pupil Name]])>0,1,0)","v":0}]
[{"$f":"IF(Table1[[#This Row],[School/Group Name]]=\"\",\"\",Table1[[#This Row],[School/Group Name]])","v":""},{"$f":"IF(Table1[[#This Row],[Pupil Name]]=\"\",\"\",Table1[[#This Row],[Pupil Name]])","v":""},{"$f":"IF(Table1[[#This Row],[Gender (M/F)]]=\"\",\"\",Table1[[#This Row],[Gender (M/F)]])","v":""},{"$f":"IF(Table1[[#This Row],[DisAdv (Y/N)]]=\"\",\"\",Table1[[#This Row],[DisAdv (Y/N)]])","v":""},{"$f":"IF(Table1[[#This Row],[SEND (E,K,N)]]=\"\",\"\",Table1[[#This Row],[SEND (E,K,N)]])","v":""},"",{"$f":"IF(LEN(Table6[[#This Row],[Pupil Name]])>0,1,0)","v":0}]
[{"$f":"IF(Table1[[#This Row],[School/Group Name]]=\"\",\"\",Table1[[#This Row],[School/Group Name]])","v":""},{"$f":"IF(Table1[[#This Row],[Pupil Name]]=\"\",\"\",Table1[[#This Row],[Pupil Name]])","v":""},{"$f":"IF(Table1[[#This Row],[Gender (M/F)]]=\"\",\"\",Table1[[#This Row],[Gender (M/F)]])","v":""},{"$f":"IF(Table1[[#This Row],[DisAdv (Y/N)]]=\"\",\"\",Table1[[#This Row],[DisAdv (Y/N)]])","v":""},{"$f":"IF(Table1[[#This Row],[SEND (E,K,N)]]=\"\",\"\",Table1[[#This Row],[SEND (E,K,N)]])","v":""},"",{"$f":"IF(LEN(Table6[[#This Row],[Pupil Name]])>0,1,0)","v":0}]
[{"$f":"IF(Table1[[#This Row],[School/Group Name]]=\"\",\"\",Table1[[#This Row],[School/Group Name]])","v":""},{"$f":"IF(Table1[[#This Row],[Pupil Name]]=\"\",\"\",Table1[[#This Row],[Pupil Name]])","v":""},{"$f":"IF(Table1[[#This Row],[Gender (M/F)]]=\"\",\"\",Table1[[#This Row],[Gender (M/F)]])","v":""},{"$f":"IF(Table1[[#This Row],[DisAdv (Y/N)]]=\"\",\"\",Table1[[#This Row],[DisAdv (Y/N)]])","v":""},{"$f":"IF(Table1[[#This Row],[SEND (E,K,N)]]=\"\",\"\",Table1[[#This Row],[SEND (E,K,N)]])","v":""},"",{"$f":"IF(LEN(Table6[[#This Row],[Pupil Name]])>0,1,0)","v":0}]
[{"$f":"IF(Table1[[#This Row],[School/Group Name]]=\"\",\"\",Table1[[#This Row],[School/Group Name]])","v":""},{"$f":"IF(Table1[[#This Row],[Pupil Name]]=\"\",\"\",Table1[[#This Row],[Pupil Name]])","v":""},{"$f":"IF(Table1[[#This Row],[Gender (M/F)]]=\"\",\"\",Table1[[#This Row],[Gender (M/F)]])","v":""},{"$f":"IF(Table1[[#This Row],[DisAdv (Y/N)]]=\"\",\"\",Table1[[#This Row],[DisAdv (Y/N)]])","v":""},{"$f":"IF(Table1[[#This Row],[SEND (E,K,N)]]=\"\",\"\",Table1[[#This Row],[SEND (E,K,N)]])","v":""},"",{"$f":"IF(LEN(Table6[[#This Row],[Pupil Name]])>0,1,0)","v":0}]
[{"$f":"IF(Table1[[#This Row],[School/Group Name]]=\"\",\"\",Table1[[#This Row],[School/Group Name]])","v":""},{"$f":"IF(Table1[[#This Row],[Pupil Name]]=\"\",\"\",Table1[[#This Row],[Pupil Name]])","v":""},{"$f":"IF(Table1[[#This Row],[Gender (M/F)]]=\"\",\"\",Table1[[#This Row],[Gender (M/F)]])","v":""},{"$f":"IF(Table1[[#This Row],[DisAdv (Y/N)]]=\"\",\"\",Table1[[#This Row],[DisAdv (Y/N)]])","v":""},{"$f":"IF(Table1[[#This Row],[SEND (E,K,N)]]=\"\",\"\",Table1[[#This Row],[SEND (E,K,N)]])","v":""},"",{"$f":"IF(LEN(Table6[[#This Row],[Pupil Name]])>0,1,0)","v":0}]
[{"$f":"IF(Table1[[#This Row],[School/Group Name]]=\"\",\"\",Table1[[#This Row],[School/Group Name]])","v":""},{"$f":"IF(Table1[[#This Row],[Pupil Name]]=\"\",\"\",Table1[[#This Row],[Pupil Name]])","v":""},{"$f":"IF(Table1[[#This Row],[Gender (M/F)]]=\"\",\"\",Table1[[#This Row],[Gender (M/F)]])","v":""},{"$f":"IF(Table1[[#This Row],[DisAdv (Y/N)]]=\"\",\"\",Table1[[#This Row],[DisAdv (Y/N)]])","v":""},{"$f":"IF(Table1[[#This Row],[SEND (E,K,N)]]=\"\",\"\",Table1[[#This Row],[SEND (E,K,N)]])","v":""},"",{"$f":"IF(LEN(Table6[[#This Row],[Pupil Name]])>0,1,0)","v":0}]
[{"$f":"IF(Table1[[#This Row],[School/Group Name]]=\"\",\"\",Table1[[#This Row],[School/Group Name]])","v":""},{"$f":"IF(Table1[[#This Row],[Pupil Name]]=\"\",\"\",Table1[[#This Row],[Pupil Name]])","v":""},{"$f":"IF(Table1[[#This Row],[Gender (M/F)]]=\"\",\"\",Table1[[#This Row],[Gender (M/F)]])","v":""},{"$f":"IF(Table1[[#This Row],[DisAdv (Y/N)]]=\"\",\"\",Table1[[#This Row],[DisAdv (Y/N)]])","v":""},{"$f":"IF(Table1[[#This Row],[SEND (E,K,N)]]=\"\",\"\",Table1[[#This Row],[SEND (E,K,N)]])","v":""},"",{"$f":"IF(LEN(Table6[[#This Row],[Pupil Name]])>0,1,0)","v":0}]
[{"$f":"IF(Table1[[#This Row],[School/Group Name]]=\"\",\"\",Table1[[#This Row],[School/Group Name]])","v":""},{"$f":"IF(Table1[[#This Row],[Pupil Name]]=\"\",\"\",Table1[[#This Row],[Pupil Name]])","v":""},{"$f":"IF(Table1[[#This Row],[Gender (M/F)]]=\"\",\"\",Table1[[#This Row],[Gender (M/F)]])","v":""},{"$f":"IF(Table1[[#This Row],[DisAdv (Y/N)]]=\"\",\"\",Table1[[#This Row],[DisAdv (Y/N)]])","v":""},{"$f":"IF(Table1[[#This Row],[SEND (E,K,N)]]=\"\",\"\",Table1[[#This Row],[SEND (E,K,N)]])","v":""},"",{"$f":"IF(LEN(Table6[[#This Row],[Pupil Name]])>0,1,0)","v":0}]
[{"$f":"IF(Table1[[#This Row],[School/Group Name]]=\"\",\"\",Table1[[#This Row],[School/Group Name]])","v":""},{"$f":"IF(Table1[[#This Row],[Pupil Name]]=\"\",\"\",Table1[[#This Row],[Pupil Name]])","v":""},{"$f":"IF(Table1[[#This Row],[Gender (M/F)]]=\"\",\"\",Table1[[#This Row],[Gender (M/F)]])","v":""},{"$f":"IF(Table1[[#This Row],[DisAdv (Y/N)]]=\"\",\"\",Table1[[#This Row],[DisAdv (Y/N)]])","v":""},{"$f":"IF(Table1[[#This Row],[SEND (E,K,N)]]=\"\",\"\",Table1[[#This Row],[SEND (E,K,N)]])","v":""},"",{"$f":"IF(LEN(Table6[[#This Row],[Pupil Name]])>0,1,0)","v":0}]
[{"$f":"IF(Table1[[#This Row],[School/Group Name]]=\"\",\"\",Table1[[#This Row],[School/Group Name]])","v":""},{"$f":"IF(Table1[[#This Row],[Pupil Name]]=\"\",\"\",Table1[[#This Row],[Pupil Name]])","v":""},{"$f":"IF(Table1[[#This Row],[Gender (M/F)]]=\"\",\"\",Table1[[#This Row],[Gender (M/F)]])","v":""},{"$f":"IF(Table1[[#This Row],[DisAdv (Y/N)]]=\"\",\"\",Table1[[#This Row],[DisAdv (Y/N)]])","v":""},{"$f":"IF(Table1[[#This Row],[SEND (E,K,N)]]=\"\",\"\",Table1[[#This Row],[SEND (E,K,N)]])","v":""},"",{"$f":"IF(LEN(Table6[[#This Row],[Pupil Name]])>0,1,0)","v":0}]
[{"$f":"IF(Table1[[#This Row],[School/Group Name]]=\"\",\"\",Table1[[#This Row],[School/Group Name]])","v":""},{"$f":"IF(Table1[[#This Row],[Pupil Name]]=\"\",\"\",Table1[[#This Row],[Pupil Name]])","v":""},{"$f":"IF(Table1[[#This Row],[Gender (M/F)]]=\"\",\"\",Table1[[#This Row],[Gender (M/F)]])","v":""},{"$f":"IF(Table1[[#This Row],[DisAdv (Y/N)]]=\"\",\"\",Table1[[#This Row],[DisAdv (Y/N)]])","v":""},{"$f":"IF(Table1[[#This Row],[SEND (E,K,N)]]=\"\",\"\",Table1[[#This Row],[SEND (E,K,N)]])","v":""},"",{"$f":"IF(LEN(Table6[[#This Row],[Pupil Name]])>0,1,0)","v":0}]
[{"$f":"IF(Table1[[#This Row],[School/Group Name]]=\"\",\"\",Table1[[#This Row],[School/Group Name]])","v":""},{"$f":"IF(Table1[[#This Row],[Pupil Name]]=\"\",\"\",Table1[[#This Row],[Pupil Name]])","v":""},{"$f":"IF(Table1[[#This Row],[Gender (M/F)]]=\"\",\"\",Table1[[#This Row],[Gender (M/F)]])","v":""},{"$f":"IF(Table1[[#This Row],[DisAdv (Y/N)]]=\"\",\"\",Table1[[#This Row],[DisAdv (Y/N)]])","v":""},{"$f":"IF(Table1[[#This Row],[SEND (E,K,N)]]=\"\",\"\",Table1[[#This Row],[SEND (E,K,N)]])","v":""},"",{"$f":"IF(LEN(Table6[[#This Row],[Pupil Name]])>0,1,0)","v":0}]
[{"$f":"IF(Table1[[#This Row],[School/Group Name]]=\"\",\"\",Table1[[#This Row],[School/Group Name]])","v":""},{"$f":"IF(Table1[[#This Row],[Pupil Name]]=\"\",\"\",Table1[[#This Row],[Pupil Name]])","v":""},{"$f":"IF(Table1[[#This Row],[Gender (M/F)]]=\"\",\"\",Table1[[#This Row],[Gender (M/F)]])","v":""},{"$f":"IF(Table1[[#This Row],[DisAdv (Y/N)]]=\"\",\"\",Table1[[#This Row],[DisAdv (Y/N)]])","v":""},{"$f":"IF(Table1[[#This Row],[SEND (E,K,N)]]=\"\",\"\",Table1[[#This Row],[SEND (E,K,N)]])","v":""},"",{"$f":"IF(LEN(Table6[[#This Row],[Pupil Name]])>0,1,0)","v":0}]
[{"$f":"IF(Table1[[#This Row],[School/Group Name]]=\"\",\"\",Table1[[#This Row],[School/Group Name]])","v":""},{"$f":"IF(Table1[[#This Row],[Pupil Name]]=\"\",\"\",Table1[[#This Row],[Pupil Name]])","v":""},{"$f":"IF(Table1[[#This Row],[Gender (M/F)]]=\"\",\"\",Table1[[#This Row],[Gender (M/F)]])","v":""},{"$f":"IF(Table1[[#This Row],[DisAdv (Y/N)]]=\"\",\"\",Table1[[#This Row],[DisAdv (Y/N)]])","v":""},{"$f":"IF(Table1[[#This Row],[SEND (E,K,N)]]=\"\",\"\",Table1[[#This Row],[SEND (E,K,N)]])","v":""},"",{"$f":"IF(LEN(Table6[[#This Row],[Pupil Name]])>0,1,0)","v":0}]
[{"$f":"IF(Table1[[#This Row],[School/Group Name]]=\"\",\"\",Table1[[#This Row],[School/Group Name]])","v":""},{"$f":"IF(Table1[[#This Row],[Pupil Name]]=\"\",\"\",Table1[[#This Row],[Pupil Name]])","v":""},{"$f":"IF(Table1[[#This Row],[Gender (M/F)]]=\"\",\"\",Table1[[#This Row],[Gender (M/F)]])","v":""},{"$f":"IF(Table1[[#This Row],[DisAdv (Y/N)]]=\"\",\"\",Table1[[#This Row],[DisAdv (Y/N)]])","v":""},{"$f":"IF(Table1[[#This Row],[SEND (E,K,N)]]=\"\",\"\",Table1[[#This Row],[SEND (E,K,N)]])","v":""},"",{"$f":"IF(LEN(Table6[[#This Row],[Pupil Name]])>0,1,0)","v":0}]
[{"$f":"IF(Table1[[#This Row],[School/Group Name]]=\"\",\"\",Table1[[#This Row],[School/Group Name]])","v":""},{"$f":"IF(Table1[[#This Row],[Pupil Name]]=\"\",\"\",Table1[[#This Row],[Pupil Name]])","v":""},{"$f":"IF(Table1[[#This Row],[Gender (M/F)]]=\"\",\"\",Table1[[#This Row],[Gender (M/F)]])","v":""},{"$f":"IF(Table1[[#This Row],[DisAdv (Y/N)]]=\"\",\"\",Table1[[#This Row],[DisAdv (Y/N)]])","v":""},{"$f":"IF(Table1[[#This Row],[SEND (E,K,N)]]=\"\",\"\",Table1[[#This Row],[SEND (E,K,N)]])","v":""},"",{"$f":"IF(LEN(Table6[[#This Row],[Pupil Name]])>0,1,0)","v":0}]
[{"$f":"IF(Table1[[#This Row],[School/Group Name]]=\"\",\"\",Table1[[#This Row],[School/Group Name]])","v":""},{"$f":"IF(Table1[[#This Row],[Pupil Name]]=\"\",\"\",Table1[[#This Row],[Pupil Name]])","v":""},{"$f":"IF(Table1[[#This Row],[Gender (M/F)]]=\"\",\"\",Table1[[#This Row],[Gender (M/F)]])","v":""},{"$f":"IF(Table1[[#This Row],[DisAdv (Y/N)]]=\"\",\"\",Table1[[#This Row],[DisAdv (Y/N)]])","v":""},{"$f":"IF(Table1[[#This Row],[SEND (E,K,N)]]=\"\",\"\",Table1[[#This Row],[SEND (E,K,N)]])","v":""},"",{"$f":"IF(LEN(Table6[[#This Row],[Pupil Name]])>0,1,0)","v":0}]
[{"$f":"IF(Table1[[#This Row],[School/Group Name]]=\"\",\"\",Table1[[#This Row],[School/Group Name]])","v":""},{"$f":"IF(Table1[[#This Row],[Pupil Name]]=\"\",\"\",Table1[[#This Row],[Pupil Name]])","v":""},{"$f":"IF(Table1[[#This Row],[Gender (M/F)]]=\"\",\"\",Table1[[#This Row],[Gender (M/F)]])","v":""},{"$f":"IF(Table1[[#This Row],[DisAdv (Y/N)]]=\"\",\"\",Table1[[#This Row],[DisAdv (Y/N)]])","v":""},{"$f":"IF(Table1[[#This Row],[SEND (E,K,N)]]=\"\",\"\",Table1[[#This Row],[SEND (E,K,N)]])","v":""},"",{"$f":"IF(LEN(Table6[[#This Row],[Pupil Name]])>0,1,0)","v":0}]
[{"$f":"IF(Table1[[#This Row],[School/Group Name]]=\"\",\"\",Table1[[#This Row],[School/Group Name]])","v":""},{"$f":"IF(Table1[[#This Row],[Pupil Name]]=\"\",\"\",Table1[[#This Row],[Pupil Name]])","v":""},{"$f":"IF(Table1[[#This Row],[Gender (M/F)]]=\"\",\"\",Table1[[#This Row],[Gender (M/F)]])","v":""},{"$f":"IF(Table1[[#This Row],[DisAdv (Y/N)]]=\"\",\"\",Table1[[#This Row],[DisAdv (Y/N)]])","v":""},{"$f":"IF(Table1[[#This Row],[SEND (E,K,N)]]=\"\",\"\",Table1[[#This Row],[SEND (E,K,N)]])","v":""},"",{"$f":"IF(LEN(Table6[[#This Row],[Pupil Name]])>0,1,0)","v":0}]
[{"$f":"IF(Table1[[#This Row],[School/Group Name]]=\"\",\"\",Table1[[#This Row],[School/Group Name]])","v":""},{"$f":"IF(Table1[[#This Row],[Pupil Name]]=\"\",\"\",Table1[[#This Row],[Pupil Name]])","v":""},{"$f":"IF(Table1[[#This Row],[Gender (M/F)]]=\"\",\"\",Table1[[#This Row],[Gender (M/F)]])","v":""},{"$f":"IF(Table1[[#This Row],[DisAdv (Y/N)]]=\"\",\"\",Table1[[#This Row],[DisAdv (Y/N)]])","v":""},{"$f":"IF(Table1[[#This Row],[SEND (E,K,N)]]=\"\",\"\",Table1[[#This Row],[SEND (E,K,N)]])","v":""},"",{"$f":"IF(LEN(Table6[[#This Row],[Pupil Name]])>0,1,0)","v":0}]
[{"$f":"IF(Table1[[#This Row],[School/Group Name]]=\"\",\"\",Table1[[#This Row],[School/Group Name]])","v":""},{"$f":"IF(Table1[[#This Row],[Pupil Name]]=\"\",\"\",Table1[[#This Row],[Pupil Name]])","v":""},{"$f":"IF(Table1[[#This Row],[Gender (M/F)]]=\"\",\"\",Table1[[#This Row],[Gender (M/F)]])","v":""},{"$f":"IF(Table1[[#This Row],[DisAdv (Y/N)]]=\"\",\"\",Table1[[#This Row],[DisAdv (Y/N)]])","v":""},{"$f":"IF(Table1[[#This Row],[SEND (E,K,N)]]=\"\",\"\",Table1[[#This Row],[SEND (E,K,N)]])","v":""},"",{"$f":"IF(LEN(Table6[[#This Row],[Pupil Name]])>0,1,0)","v":0}]
[{"$f":"IF(Table1[[#This Row],[School/Group Name]]=\"\",\"\",Table1[[#This Row],[School/Group Name]])","v":""},{"$f":"IF(Table1[[#This Row],[Pupil Name]]=\"\",\"\",Table1[[#This Row],[Pupil Name]])","v":""},{"$f":"IF(Table1[[#This Row],[Gender (M/F)]]=\"\",\"\",Table1[[#This Row],[Gender (M/F)]])","v":""},{"$f":"IF(Table1[[#This Row],[DisAdv (Y/N)]]=\"\",\"\",Table1[[#This Row],[DisAdv (Y/N)]])","v":""},{"$f":"IF(Table1[[#This Row],[SEND (E,K,N)]]=\"\",\"\",Table1[[#This Row],[SEND (E,K,N)]])","v":""},"",{"$f":"IF(LEN(Table6[[#This Row],[Pupil Name]])>0,1,0)","v":0}]
[{"$f":"IF(Table1[[#This Row],[School/Group Name]]=\"\",\"\",Table1[[#This Row],[School/Group Name]])","v":""},{"$f":"IF(Table1[[#This Row],[Pupil Name]]=\"\",\"\",Table1[[#This Row],[Pupil Name]])","v":""},{"$f":"IF(Table1[[#This Row],[Gender (M/F)]]=\"\",\"\",Table1[[#This Row],[Gender (M/F)]])","v":""},{"$f":"IF(Table1[[#This Row],[DisAdv (Y/N)]]=\"\",\"\",Table1[[#This Row],[DisAdv (Y/N)]])","v":""},{"$f":"IF(Table1[[#This Row],[SEND (E,K,N)]]=\"\",\"\",Table1[[#This Row],[SEND (E,K,N)]])","v":""},"",{"$f":"IF(LEN(Table6[[#This Row],[Pupil Name]])>0,1,0)","v":0}]
[{"$f":"IF(Table1[[#This Row],[School/Group Name]]=\"\",\"\",Table1[[#This Row],[School/Group Name]])","v":""},{"$f":"IF(Table1[[#This Row],[Pupil Name]]=\"\",\"\",Table1[[#This Row],[Pupil Name]])","v":""},{"$f":"IF(Table1[[#This Row],[Gender (M/F)]]=\"\",\"\",Table1[[#This Row],[Gender (M/F)]])","v":""},{"$f":"IF(Table1[[#This Row],[DisAdv (Y/N)]]=\"\",\"\",Table1[[#This Row],[DisAdv (Y/N)]])","v":""},{"$f":"IF(Table1[[#This Row],[SEND (E,K,N)]]=\"\",\"\",Table1[[#This Row],[SEND (E,K,N)]])","v":""},"",{"$f":"IF(LEN(Table6[[#This Row],[Pupil Name]])>0,1,0)","v":0}]
[{"$f":"IF(Table1[[#This Row],[School/Group Name]]=\"\",\"\",Table1[[#This Row],[School/Group Name]])","v":""},{"$f":"IF(Table1[[#This Row],[Pupil Name]]=\"\",\"\",Table1[[#This Row],[Pupil Name]])","v":""},{"$f":"IF(Table1[[#This Row],[Gender (M/F)]]=\"\",\"\",Table1[[#This Row],[Gender (M/F)]])","v":""},{"$f":"IF(Table1[[#This Row],[DisAdv (Y/N)]]=\"\",\"\",Table1[[#This Row],[DisAdv (Y/N)]])","v":""},{"$f":"IF(Table1[[#This Row],[SEND (E,K,N)]]=\"\",\"\",Table1[[#This Row],[SEND (E,K,N)]])","v":""},"",{"$f":"IF(LEN(Table6[[#This Row],[Pupil Name]])>0,1,0)","v":0}]
[{"$f":"IF(Table1[[#This Row],[School/Group Name]]=\"\",\"\",Table1[[#This Row],[School/Group Name]])","v":""},{"$f":"IF(Table1[[#This Row],[Pupil Name]]=\"\",\"\",Table1[[#This Row],[Pupil Name]])","v":""},{"$f":"IF(Table1[[#This Row],[Gender (M/F)]]=\"\",\"\",Table1[[#This Row],[Gender (M/F)]])","v":""},{"$f":"IF(Table1[[#This Row],[DisAdv (Y/N)]]=\"\",\"\",Table1[[#This Row],[DisAdv (Y/N)]])","v":""},{"$f":"IF(Table1[[#This Row],[SEND (E,K,N)]]=\"\",\"\",Table1[[#This Row],[SEND (E,K,N)]])","v":""},"",{"$f":"IF(LEN(Table6[[#This Row],[Pupil Name]])>0,1,0)","v":0}]
[{"$f":"IF(Table1[[#This Row],[School/Group Name]]=\"\",\"\",Table1[[#This Row],[School/Group Name]])","v":""},{"$f":"IF(Table1[[#This Row],[Pupil Name]]=\"\",\"\",Table1[[#This Row],[Pupil Name]])","v":""},{"$f":"IF(Table1[[#This Row],[Gender (M/F)]]=\"\",\"\",Table1[[#This Row],[Gender (M/F)]])","v":""},{"$f":"IF(Table1[[#This Row],[DisAdv (Y/N)]]=\"\",\"\",Table1[[#This Row],[DisAdv (Y/N)]])","v":""},{"$f":"IF(Table1[[#This Row],[SEND (E,K,N)]]=\"\",\"\",Table1[[#This Row],[SEND (E,K,N)]])","v":""},"",{"$f":"IF(LEN(Table6[[#This Row],[Pupil Name]])>0,1,0)","v":0}]
[{"$f":"IF(Table1[[#This Row],[School/Group Name]]=\"\",\"\",Table1[[#This Row],[School/Group Name]])","v":""},{"$f":"IF(Table1[[#This Row],[Pupil Name]]=\"\",\"\",Table1[[#This Row],[Pupil Name]])","v":""},{"$f":"IF(Table1[[#This Row],[Gender (M/F)]]=\"\",\"\",Table1[[#This Row],[Gender (M/F)]])","v":""},{"$f":"IF(Table1[[#This Row],[DisAdv (Y/N)]]=\"\",\"\",Table1[[#This Row],[DisAdv (Y/N)]])","v":""},{"$f":"IF(Table1[[#This Row],[SEND (E,K,N)]]=\"\",\"\",Table1[[#This Row],[SEND (E,K,N)]])","v":""},"",{"$f":"IF(LEN(Table6[[#This Row],[Pupil Name]])>0,1,0)","v":0}]
[{"$f":"IF(Table1[[#This Row],[School/Group Name]]=\"\",\"\",Table1[[#This Row],[School/Group Name]])","v":""},{"$f":"IF(Table1[[#This Row],[Pupil Name]]=\"\",\"\",Table1[[#This Row],[Pupil Name]])","v":""},{"$f":"IF(Table1[[#This Row],[Gender (M/F)]]=\"\",\"\",Table1[[#This Row],[Gender (M/F)]])","v":""},{"$f":"IF(Table1[[#This Row],[DisAdv (Y/N)]]=\"\",\"\",Table1[[#This Row],[DisAdv (Y/N)]])","v":""},{"$f":"IF(Table1[[#This Row],[SEND (E,K,N)]]=\"\",\"\",Table1[[#This Row],[SEND (E,K,N)]])","v":""},"",{"$f":"IF(LEN(Table6[[#This Row],[Pupil Name]])>0,1,0)","v":0}]
[{"$f":"IF(Table1[[#This Row],[School/Group Name]]=\"\",\"\",Table1[[#This Row],[School/Group Name]])","v":""},{"$f":"IF(Table1[[#This Row],[Pupil Name]]=\"\",\"\",Table1[[#This Row],[Pupil Name]])","v":""},{"$f":"IF(Table1[[#This Row],[Gender (M/F)]]=\"\",\"\",Table1[[#This Row],[Gender (M/F)]])","v":""},{"$f":"IF(Table1[[#This Row],[DisAdv (Y/N)]]=\"\",\"\",Table1[[#This Row],[DisAdv (Y/N)]])","v":""},{"$f":"IF(Table1[[#This Row],[SEND (E,K,N)]]=\"\",\"\",Table1[[#This Row],[SEND (E,K,N)]])","v":""},"",{"$f":"IF(LEN(Table6[[#This Row],[Pupil Name]])>0,1,0)","v":0}]
[{"$f":"IF(Table1[[#This Row],[School/Group Name]]=\"\",\"\",Table1[[#This Row],[School/Group Name]])","v":""},{"$f":"IF(Table1[[#This Row],[Pupil Name]]=\"\",\"\",Table1[[#This Row],[Pupil Name]])","v":""},{"$f":"IF(Table1[[#This Row],[Gender (M/F)]]=\"\",\"\",Table1[[#This Row],[Gender (M/F)]])","v":""},{"$f":"IF(Table1[[#This Row],[DisAdv (Y/N)]]=\"\",\"\",Table1[[#This Row],[DisAdv (Y/N)]])","v":""},{"$f":"IF(Table1[[#This Row],[SEND (E,K,N)]]=\"\",\"\",Table1[[#This Row],[SEND (E,K,N)]])","v":""},"",{"$f":"IF(LEN(Table6[[#This Row],[Pupil Name]])>0,1,0)","v":0}]
[{"$f":"IF(Table1[[#This Row],[School/Group Name]]=\"\",\"\",Table1[[#This Row],[School/Group Name]])","v":""},{"$f":"IF(Table1[[#This Row],[Pupil Name]]=\"\",\"\",Table1[[#This Row],[Pupil Name]])","v":""},{"$f":"IF(Table1[[#This Row],[Gender (M/F)]]=\"\",\"\",Table1[[#This Row],[Gender (M/F)]])","v":""},{"$f":"IF(Table1[[#This Row],[DisAdv (Y/N)]]=\"\",\"\",Table1[[#This Row],[DisAdv (Y/N)]])","v":""},{"$f":"IF(Table1[[#This Row],[SEND (E,K,N)]]=\"\",\"\",Table1[[#This Row],[SEND (E,K,N)]])","v":""},"",{"$f":"IF(LEN(Table6[[#This Row],[Pupil Name]])>0,1,0)","v":0}]
[{"$f":"IF(Table1[[#This Row],[School/Group Name]]=\"\",\"\",Table1[[#This Row],[School/Group Name]])","v":""},{"$f":"IF(Table1[[#This Row],[Pupil Name]]=\"\",\"\",Table1[[#This Row],[Pupil Name]])","v":""},{"$f":"IF(Table1[[#This Row],[Gender (M/F)]]=\"\",\"\",Table1[[#This Row],[Gender (M/F)]])","v":""},{"$f":"IF(Table1[[#This Row],[DisAdv (Y/N)]]=\"\",\"\",Table1[[#This Row],[DisAdv (Y/N)]])","v":""},{"$f":"IF(Table1[[#This Row],[SEND (E,K,N)]]=\"\",\"\",Table1[[#This Row],[SEND (E,K,N)]])","v":""},"",{"$f":"IF(LEN(Table6[[#This Row],[Pupil Name]])>0,1,0)","v":0}]
[{"$f":"IF(Table1[[#This Row],[School/Group Name]]=\"\",\"\",Table1[[#This Row],[School/Group Name]])","v":""},{"$f":"IF(Table1[[#This Row],[Pupil Name]]=\"\",\"\",Table1[[#This Row],[Pupil Name]])","v":""},{"$f":"IF(Table1[[#This Row],[Gender (M/F)]]=\"\",\"\",Table1[[#This Row],[Gender (M/F)]])","v":""},{"$f":"IF(Table1[[#This Row],[DisAdv (Y/N)]]=\"\",\"\",Table1[[#This Row],[DisAdv (Y/N)]])","v":""},{"$f":"IF(Table1[[#This Row],[SEND (E,K,N)]]=\"\",\"\",Table1[[#This Row],[SEND (E,K,N)]])","v":""},"",{"$f":"IF(LEN(Table6[[#This Row],[Pupil Name]])>0,1,0)","v":0}]
[{"$f":"IF(Table1[[#This Row],[School/Group Name]]=\"\",\"\",Table1[[#This Row],[School/Group Name]])","v":""},{"$f":"IF(Table1[[#This Row],[Pupil Name]]=\"\",\"\",Table1[[#This Row],[Pupil Name]])","v":""},{"$f":"IF(Table1[[#This Row],[Gender (M/F)]]=\"\",\"\",Table1[[#This Row],[Gender (M/F)]])","v":""},{"$f":"IF(Table1[[#This Row],[DisAdv (Y/N)]]=\"\",\"\",Table1[[#This Row],[DisAdv (Y/N)]])","v":""},{"$f":"IF(Table1[[#This Row],[SEND (E,K,N)]]=\"\",\"\",Table1[[#This Row],[SEND (E,K,N)]])","v":""},{"$f":"IF(H135=\"\",\"\",(SUM(H135:BE135)))","v":""},{"$f":"IF(LEN(Table6[[#This Row],[Pupil Name]])>0,1,0)","v":0}]
[{"$f":"IF(Table1[[#This Row],[School/Group Name]]=\"\",\"\",Table1[[#This Row],[School/Group Name]])","v":""},{"$f":"IF(Table1[[#This Row],[Pupil Name]]=\"\",\"\",Table1[[#This Row],[Pupil Name]])","v":""},{"$f":"IF(Table1[[#This Row],[Gender (M/F)]]=\"\",\"\",Table1[[#This Row],[Gender (M/F)]])","v":""},{"$f":"IF(Table1[[#This Row],[DisAdv (Y/N)]]=\"\",\"\",Table1[[#This Row],[DisAdv (Y/N)]])","v":""},{"$f":"IF(Table1[[#This Row],[SEND (E,K,N)]]=\"\",\"\",Table1[[#This Row],[SEND (E,K,N)]])","v":""},"",{"$f":"IF(LEN(Table6[[#This Row],[Pupil Name]])>0,1,0)","v":0}]
[{"$f":"IF(Table1[[#This Row],[School/Group Name]]=\"\",\"\",Table1[[#This Row],[School/Group Name]])","v":""},{"$f":"IF(Table1[[#This Row],[Pupil Name]]=\"\",\"\",Table1[[#This Row],[Pupil Name]])","v":""},{"$f":"IF(Table1[[#This Row],[Gender (M/F)]]=\"\",\"\",Table1[[#This Row],[Gender (M/F)]])","v":""},{"$f":"IF(Table1[[#This Row],[DisAdv (Y/N)]]=\"\",\"\",Table1[[#This Row],[DisAdv (Y/N)]])","v":""},{"$f":"IF(Table1[[#This Row],[SEND (E,K,N)]]=\"\",\"\",Table1[[#This Row],[SEND (E,K,N)]])","v":""},"",{"$f":"IF(LEN(Table6[[#This Row],[Pupil Name]])>0,1,0)","v":0}]
[{"$f":"IF(Table1[[#This Row],[School/Group Name]]=\"\",\"\",Table1[[#This Row],[School/Group Name]])","v":""},{"$f":"IF(Table1[[#This Row],[Pupil Name]]=\"\",\"\",Table1[[#This Row],[Pupil Name]])","v":""},{"$f":"IF(Table1[[#This Row],[Gender (M/F)]]=\"\",\"\",Table1[[#This Row],[Gender (M/F)]])","v":""},{"$f":"IF(Table1[[#This Row],[DisAdv (Y/N)]]=\"\",\"\",Table1[[#This Row],[DisAdv (Y/N)]])","v":""},{"$f":"IF(Table1[[#This Row],[SEND (E,K,N)]]=\"\",\"\",Table1[[#This Row],[SEND (E,K,N)]])","v":""},"",{"$f":"IF(LEN(Table6[[#This Row],[Pupil Name]])>0,1,0)","v":0}]
[{"$f":"IF(Table1[[#This Row],[School/Group Name]]=\"\",\"\",Table1[[#This Row],[School/Group Name]])","v":""},{"$f":"IF(Table1[[#This Row],[Pupil Name]]=\"\",\"\",Table1[[#This Row],[Pupil Name]])","v":""},{"$f":"IF(Table1[[#This Row],[Gender (M/F)]]=\"\",\"\",Table1[[#This Row],[Gender (M/F)]])","v":""},{"$f":"IF(Table1[[#This Row],[DisAdv (Y/N)]]=\"\",\"\",Table1[[#This Row],[DisAdv (Y/N)]])","v":""},{"$f":"IF(Table1[[#This Row],[SEND (E,K,N)]]=\"\",\"\",Table1[[#This Row],[SEND (E,K,N)]])","v":""},"",{"$f":"IF(LEN(Table6[[#This Row],[Pupil Name]])>0,1,0)","v":0}]
[{"$f":"IF(Table1[[#This Row],[School/Group Name]]=\"\",\"\",Table1[[#This Row],[School/Group Name]])","v":""},{"$f":"IF(Table1[[#This Row],[Pupil Name]]=\"\",\"\",Table1[[#This Row],[Pupil Name]])","v":""},{"$f":"IF(Table1[[#This Row],[Gender (M/F)]]=\"\",\"\",Table1[[#This Row],[Gender (M/F)]])","v":""},{"$f":"IF(Table1[[#This Row],[DisAdv (Y/N)]]=\"\",\"\",Table1[[#This Row],[DisAdv (Y/N)]])","v":""},{"$f":"IF(Table1[[#This Row],[SEND (E,K,N)]]=\"\",\"\",Table1[[#This Row],[SEND (E,K,N)]])","v":""},"",{"$f":"IF(LEN(Table6[[#This Row],[Pupil Name]])>0,1,0)","v":0}]
[{"$f":"IF(Table1[[#This Row],[School/Group Name]]=\"\",\"\",Table1[[#This Row],[School/Group Name]])","v":""},{"$f":"IF(Table1[[#This Row],[Pupil Name]]=\"\",\"\",Table1[[#This Row],[Pupil Name]])","v":""},{"$f":"IF(Table1[[#This Row],[Gender (M/F)]]=\"\",\"\",Table1[[#This Row],[Gender (M/F)]])","v":""},{"$f":"IF(Table1[[#This Row],[DisAdv (Y/N)]]=\"\",\"\",Table1[[#This Row],[DisAdv (Y/N)]])","v":""},{"$f":"IF(Table1[[#This Row],[SEND (E,K,N)]]=\"\",\"\",Table1[[#This Row],[SEND (E,K,N)]])","v":""},"",{"$f":"IF(LEN(Table6[[#This Row],[Pupil Name]])>0,1,0)","v":0}]
[{"$f":"IF(Table1[[#This Row],[School/Group Name]]=\"\",\"\",Table1[[#This Row],[School/Group Name]])","v":""},{"$f":"IF(Table1[[#This Row],[Pupil Name]]=\"\",\"\",Table1[[#This Row],[Pupil Name]])","v":""},{"$f":"IF(Table1[[#This Row],[Gender (M/F)]]=\"\",\"\",Table1[[#This Row],[Gender (M/F)]])","v":""},{"$f":"IF(Table1[[#This Row],[DisAdv (Y/N)]]=\"\",\"\",Table1[[#This Row],[DisAdv (Y/N)]])","v":""},{"$f":"IF(Table1[[#This Row],[SEND (E,K,N)]]=\"\",\"\",Table1[[#This Row],[SEND (E,K,N)]])","v":""},"",{"$f":"IF(LEN(Table6[[#This Row],[Pupil Name]])>0,1,0)","v":0}]
[{"$f":"IF(Table1[[#This Row],[School/Group Name]]=\"\",\"\",Table1[[#This Row],[School/Group Name]])","v":""},{"$f":"IF(Table1[[#This Row],[Pupil Name]]=\"\",\"\",Table1[[#This Row],[Pupil Name]])","v":""},{"$f":"IF(Table1[[#This Row],[Gender (M/F)]]=\"\",\"\",Table1[[#This Row],[Gender (M/F)]])","v":""},{"$f":"IF(Table1[[#This Row],[DisAdv (Y/N)]]=\"\",\"\",Table1[[#This Row],[DisAdv (Y/N)]])","v":""},{"$f":"IF(Table1[[#This Row],[SEND (E,K,N)]]=\"\",\"\",Table1[[#This Row],[SEND (E,K,N)]])","v":""},"",{"$f":"IF(LEN(Table6[[#This Row],[Pupil Name]])>0,1,0)","v":0}]
[{"$f":"IF(Table1[[#This Row],[School/Group Name]]=\"\",\"\",Table1[[#This Row],[School/Group Name]])","v":""},{"$f":"IF(Table1[[#This Row],[Pupil Name]]=\"\",\"\",Table1[[#This Row],[Pupil Name]])","v":""},{"$f":"IF(Table1[[#This Row],[Gender (M/F)]]=\"\",\"\",Table1[[#This Row],[Gender (M/F)]])","v":""},{"$f":"IF(Table1[[#This Row],[DisAdv (Y/N)]]=\"\",\"\",Table1[[#This Row],[DisAdv (Y/N)]])","v":""},{"$f":"IF(Table1[[#This Row],[SEND (E,K,N)]]=\"\",\"\",Table1[[#This Row],[SEND (E,K,N)]])","v":""},"",{"$f":"IF(LEN(Table6[[#This Row],[Pupil Name]])>0,1,0)","v":0}]
[{"$f":"IF(Table1[[#This Row],[School/Group Name]]=\"\",\"\",Table1[[#This Row],[School/Group Name]])","v":""},{"$f":"IF(Table1[[#This Row],[Pupil Name]]=\"\",\"\",Table1[[#This Row],[Pupil Name]])","v":""},{"$f":"IF(Table1[[#This Row],[Gender (M/F)]]=\"\",\"\",Table1[[#This Row],[Gender (M/F)]])","v":""},{"$f":"IF(Table1[[#This Row],[DisAdv (Y/N)]]=\"\",\"\",Table1[[#This Row],[DisAdv (Y/N)]])","v":""},{"$f":"IF(Table1[[#This Row],[SEND (E,K,N)]]=\"\",\"\",Table1[[#This Row],[SEND (E,K,N)]])","v":""},"",{"$f":"IF(LEN(Table6[[#This Row],[Pupil Name]])>0,1,0)","v":0}]
[{"$f":"IF(Table1[[#This Row],[School/Group Name]]=\"\",\"\",Table1[[#This Row],[School/Group Name]])","v":""},{"$f":"IF(Table1[[#This Row],[Pupil Name]]=\"\",\"\",Table1[[#This Row],[Pupil Name]])","v":""},{"$f":"IF(Table1[[#This Row],[Gender (M/F)]]=\"\",\"\",Table1[[#This Row],[Gender (M/F)]])","v":""},{"$f":"IF(Table1[[#This Row],[DisAdv (Y/N)]]=\"\",\"\",Table1[[#This Row],[DisAdv (Y/N)]])","v":""},{"$f":"IF(Table1[[#This Row],[SEND (E,K,N)]]=\"\",\"\",Table1[[#This Row],[SEND (E,K,N)]])","v":""},"",{"$f":"IF(LEN(Table6[[#This Row],[Pupil Name]])>0,1,0)","v":0}]
[{"$f":"IF(Table1[[#This Row],[School/Group Name]]=\"\",\"\",Table1[[#This Row],[School/Group Name]])","v":""},{"$f":"IF(Table1[[#This Row],[Pupil Name]]=\"\",\"\",Table1[[#This Row],[Pupil Name]])","v":""},{"$f":"IF(Table1[[#This Row],[Gender (M/F)]]=\"\",\"\",Table1[[#This Row],[Gender (M/F)]])","v":""},{"$f":"IF(Table1[[#This Row],[DisAdv (Y/N)]]=\"\",\"\",Table1[[#This Row],[DisAdv (Y/N)]])","v":""},{"$f":"IF(Table1[[#This Row],[SEND (E,K,N)]]=\"\",\"\",Table1[[#This Row],[SEND (E,K,N)]])","v":""},"",{"$f":"IF(LEN(Table6[[#This Row],[Pupil Name]])>0,1,0)","v":0}]
[{"$f":"IF(Table1[[#This Row],[School/Group Name]]=\"\",\"\",Table1[[#This Row],[School/Group Name]])","v":""},{"$f":"IF(Table1[[#This Row],[Pupil Name]]=\"\",\"\",Table1[[#This Row],[Pupil Name]])","v":""},{"$f":"IF(Table1[[#This Row],[Gender (M/F)]]=\"\",\"\",Table1[[#This Row],[Gender (M/F)]])","v":""},{"$f":"IF(Table1[[#This Row],[DisAdv (Y/N)]]=\"\",\"\",Table1[[#This Row],[DisAdv (Y/N)]])","v":""},{"$f":"IF(Table1[[#This Row],[SEND (E,K,N)]]=\"\",\"\",Table1[[#This Row],[SEND (E,K,N)]])","v":""},"",{"$f":"IF(LEN(Table6[[#This Row],[Pupil Name]])>0,1,0)","v":0}]
[{"$f":"IF(Table1[[#This Row],[School/Group Name]]=\"\",\"\",Table1[[#This Row],[School/Group Name]])","v":""},{"$f":"IF(Table1[[#This Row],[Pupil Name]]=\"\",\"\",Table1[[#This Row],[Pupil Name]])","v":""},{"$f":"IF(Table1[[#This Row],[Gender (M/F)]]=\"\",\"\",Table1[[#This Row],[Gender (M/F)]])","v":""},{"$f":"IF(Table1[[#This Row],[DisAdv (Y/N)]]=\"\",\"\",Table1[[#This Row],[DisAdv (Y/N)]])","v":""},{"$f":"IF(Table1[[#This Row],[SEND (E,K,N)]]=\"\",\"\",Table1[[#This Row],[SEND (E,K,N)]])","v":""},"",{"$f":"IF(LEN(Table6[[#This Row],[Pupil Name]])>0,1,0)","v":0}]
[{"$f":"IF(Table1[[#This Row],[School/Group Name]]=\"\",\"\",Table1[[#This Row],[School/Group Name]])","v":""},{"$f":"IF(Table1[[#This Row],[Pupil Name]]=\"\",\"\",Table1[[#This Row],[Pupil Name]])","v":""},{"$f":"IF(Table1[[#This Row],[Gender (M/F)]]=\"\",\"\",Table1[[#This Row],[Gender (M/F)]])","v":""},{"$f":"IF(Table1[[#This Row],[DisAdv (Y/N)]]=\"\",\"\",Table1[[#This Row],[DisAdv (Y/N)]])","v":""},{"$f":"IF(Table1[[#This Row],[SEND (E,K,N)]]=\"\",\"\",Table1[[#This Row],[SEND (E,K,N)]])","v":""},"",{"$f":"IF(LEN(Table6[[#This Row],[Pupil Name]])>0,1,0)","v":0}]
[{"$f":"IF(Table1[[#This Row],[School/Group Name]]=\"\",\"\",Table1[[#This Row],[School/Group Name]])","v":""},{"$f":"IF(Table1[[#This Row],[Pupil Name]]=\"\",\"\",Table1[[#This Row],[Pupil Name]])","v":""},{"$f":"IF(Table1[[#This Row],[Gender (M/F)]]=\"\",\"\",Table1[[#This Row],[Gender (M/F)]])","v":""},{"$f":"IF(Table1[[#This Row],[DisAdv (Y/N)]]=\"\",\"\",Table1[[#This Row],[DisAdv (Y/N)]])","v":""},{"$f":"IF(Table1[[#This Row],[SEND (E,K,N)]]=\"\",\"\",Table1[[#This Row],[SEND (E,K,N)]])","v":""},"",{"$f":"IF(LEN(Table6[[#This Row],[Pupil Name]])>0,1,0)","v":0}]
[{"$f":"IF(Table1[[#This Row],[School/Group Name]]=\"\",\"\",Table1[[#This Row],[School/Group Name]])","v":""},{"$f":"IF(Table1[[#This Row],[Pupil Name]]=\"\",\"\",Table1[[#This Row],[Pupil Name]])","v":""},{"$f":"IF(Table1[[#This Row],[Gender (M/F)]]=\"\",\"\",Table1[[#This Row],[Gender (M/F)]])","v":""},{"$f":"IF(Table1[[#This Row],[DisAdv (Y/N)]]=\"\",\"\",Table1[[#This Row],[DisAdv (Y/N)]])","v":""},{"$f":"IF(Table1[[#This Row],[SEND (E,K,N)]]=\"\",\"\",Table1[[#This Row],[SEND (E,K,N)]])","v":""},"",{"$f":"IF(LEN(Table6[[#This Row],[Pupil Name]])>0,1,0)","v":0}]
[{"$f":"IF(Table1[[#This Row],[School/Group Name]]=\"\",\"\",Table1[[#This Row],[School/Group Name]])","v":""},{"$f":"IF(Table1[[#This Row],[Pupil Name]]=\"\",\"\",Table1[[#This Row],[Pupil Name]])","v":""},{"$f":"IF(Table1[[#This Row],[Gender (M/F)]]=\"\",\"\",Table1[[#This Row],[Gender (M/F)]])","v":""},{"$f":"IF(Table1[[#This Row],[DisAdv (Y/N)]]=\"\",\"\",Table1[[#This Row],[DisAdv (Y/N)]])","v":""},{"$f":"IF(Table1[[#This Row],[SEND (E,K,N)]]=\"\",\"\",Table1[[#This Row],[SEND (E,K,N)]])","v":""},"",{"$f":"IF(LEN(Table6[[#This Row],[Pupil Name]])>0,1,0)","v":0}]
[{"$f":"IF(Table1[[#This Row],[School/Group Name]]=\"\",\"\",Table1[[#This Row],[School/Group Name]])","v":""},{"$f":"IF(Table1[[#This Row],[Pupil Name]]=\"\",\"\",Table1[[#This Row],[Pupil Name]])","v":""},{"$f":"IF(Table1[[#This Row],[Gender (M/F)]]=\"\",\"\",Table1[[#This Row],[Gender (M/F)]])","v":""},{"$f":"IF(Table1[[#This Row],[DisAdv (Y/N)]]=\"\",\"\",Table1[[#This Row],[DisAdv (Y/N)]])","v":""},{"$f":"IF(Table1[[#This Row],[SEND (E,K,N)]]=\"\",\"\",Table1[[#This Row],[SEND (E,K,N)]])","v":""},"",{"$f":"IF(LEN(Table6[[#This Row],[Pupil Name]])>0,1,0)","v":0}]
[{"$f":"IF(Table1[[#This Row],[School/Group Name]]=\"\",\"\",Table1[[#This Row],[School/Group Name]])","v":""},{"$f":"IF(Table1[[#This Row],[Pupil Name]]=\"\",\"\",Table1[[#This Row],[Pupil Name]])","v":""},{"$f":"IF(Table1[[#This Row],[Gender (M/F)]]=\"\",\"\",Table1[[#This Row],[Gender (M/F)]])","v":""},{"$f":"IF(Table1[[#This Row],[DisAdv (Y/N)]]=\"\",\"\",Table1[[#This Row],[DisAdv (Y/N)]])","v":""},{"$f":"IF(Table1[[#This Row],[SEND (E,K,N)]]=\"\",\"\",Table1[[#This Row],[SEND (E,K,N)]])","v":""},"",{"$f":"IF(LEN(Table6[[#This Row],[Pupil Name]])>0,1,0)","v":0}]
[{"$f":"IF(Table1[[#This Row],[School/Group Name]]=\"\",\"\",Table1[[#This Row],[School/Group Name]])","v":""},{"$f":"IF(Table1[[#This Row],[Pupil Name]]=\"\",\"\",Table1[[#This Row],[Pupil Name]])","v":""},{"$f":"IF(Table1[[#This Row],[Gender (M/F)]]=\"\",\"\",Table1[[#This Row],[Gender (M/F)]])","v":""},{"$f":"IF(Table1[[#This Row],[DisAdv (Y/N)]]=\"\",\"\",Table1[[#This Row],[DisAdv (Y/N)]])","v":""},{"$f":"IF(Table1[[#This Row],[SEND (E,K,N)]]=\"\",\"\",Table1[[#This Row],[SEND (E,K,N)]])","v":""},"",{"$f":"IF(LEN(Table6[[#This Row],[Pupil Name]])>0,1,0)","v":0}]
[{"$f":"IF(Table1[[#This Row],[School/Group Name]]=\"\",\"\",Table1[[#This Row],[School/Group Name]])","v":""},{"$f":"IF(Table1[[#This Row],[Pupil Name]]=\"\",\"\",Table1[[#This Row],[Pupil Name]])","v":""},{"$f":"IF(Table1[[#This Row],[Gender (M/F)]]=\"\",\"\",Table1[[#This Row],[Gender (M/F)]])","v":""},{"$f":"IF(Table1[[#This Row],[DisAdv (Y/N)]]=\"\",\"\",Table1[[#This Row],[DisAdv (Y/N)]])","v":""},{"$f":"IF(Table1[[#This Row],[SEND (E,K,N)]]=\"\",\"\",Table1[[#This Row],[SEND (E,K,N)]])","v":""},"",{"$f":"IF(LEN(Table6[[#This Row],[Pupil Name]])>0,1,0)","v":0}]
[{"$f":"IF(Table1[[#This Row],[School/Group Name]]=\"\",\"\",Table1[[#This Row],[School/Group Name]])","v":""},{"$f":"IF(Table1[[#This Row],[Pupil Name]]=\"\",\"\",Table1[[#This Row],[Pupil Name]])","v":""},{"$f":"IF(Table1[[#This Row],[Gender (M/F)]]=\"\",\"\",Table1[[#This Row],[Gender (M/F)]])","v":""},{"$f":"IF(Table1[[#This Row],[DisAdv (Y/N)]]=\"\",\"\",Table1[[#This Row],[DisAdv (Y/N)]])","v":""},{"$f":"IF(Table1[[#This Row],[SEND (E,K,N)]]=\"\",\"\",Table1[[#This Row],[SEND (E,K,N)]])","v":""},"",{"$f":"IF(LEN(Table6[[#This Row],[Pupil Name]])>0,1,0)","v":0}]
[{"$f":"IF(Table1[[#This Row],[School/Group Name]]=\"\",\"\",Table1[[#This Row],[School/Group Name]])","v":""},{"$f":"IF(Table1[[#This Row],[Pupil Name]]=\"\",\"\",Table1[[#This Row],[Pupil Name]])","v":""},{"$f":"IF(Table1[[#This Row],[Gender (M/F)]]=\"\",\"\",Table1[[#This Row],[Gender (M/F)]])","v":""},{"$f":"IF(Table1[[#This Row],[DisAdv (Y/N)]]=\"\",\"\",Table1[[#This Row],[DisAdv (Y/N)]])","v":""},{"$f":"IF(Table1[[#This Row],[SEND (E,K,N)]]=\"\",\"\",Table1[[#This Row],[SEND (E,K,N)]])","v":""},"",{"$f":"IF(LEN(Table6[[#This Row],[Pupil Name]])>0,1,0)","v":0}]
[{"$f":"IF(Table1[[#This Row],[School/Group Name]]=\"\",\"\",Table1[[#This Row],[School/Group Name]])","v":""},{"$f":"IF(Table1[[#This Row],[Pupil Name]]=\"\",\"\",Table1[[#This Row],[Pupil Name]])","v":""},{"$f":"IF(Table1[[#This Row],[Gender (M/F)]]=\"\",\"\",Table1[[#This Row],[Gender (M/F)]])","v":""},{"$f":"IF(Table1[[#This Row],[DisAdv (Y/N)]]=\"\",\"\",Table1[[#This Row],[DisAdv (Y/N)]])","v":""},{"$f":"IF(Table1[[#This Row],[SEND (E,K,N)]]=\"\",\"\",Table1[[#This Row],[SEND (E,K,N)]])","v":""},"",{"$f":"IF(LEN(Table6[[#This Row],[Pupil Name]])>0,1,0)","v":0}]
[{"$f":"IF(Table1[[#This Row],[School/Group Name]]=\"\",\"\",Table1[[#This Row],[School/Group Name]])","v":""},{"$f":"IF(Table1[[#This Row],[Pupil Name]]=\"\",\"\",Table1[[#This Row],[Pupil Name]])","v":""},{"$f":"IF(Table1[[#This Row],[Gender (M/F)]]=\"\",\"\",Table1[[#This Row],[Gender (M/F)]])","v":""},{"$f":"IF(Table1[[#This Row],[DisAdv (Y/N)]]=\"\",\"\",Table1[[#This Row],[DisAdv (Y/N)]])","v":""},{"$f":"IF(Table1[[#This Row],[SEND (E,K,N)]]=\"\",\"\",Table1[[#This Row],[SEND (E,K,N)]])","v":""},"",{"$f":"IF(LEN(Table6[[#This Row],[Pupil Name]])>0,1,0)","v":0}]
[{"$f":"IF(Table1[[#This Row],[School/Group Name]]=\"\",\"\",Table1[[#This Row],[School/Group Name]])","v":""},{"$f":"IF(Table1[[#This Row],[Pupil Name]]=\"\",\"\",Table1[[#This Row],[Pupil Name]])","v":""},{"$f":"IF(Table1[[#This Row],[Gender (M/F)]]=\"\",\"\",Table1[[#This Row],[Gender (M/F)]])","v":""},{"$f":"IF(Table1[[#This Row],[DisAdv (Y/N)]]=\"\",\"\",Table1[[#This Row],[DisAdv (Y/N)]])","v":""},{"$f":"IF(Table1[[#This Row],[SEND (E,K,N)]]=\"\",\"\",Table1[[#This Row],[SEND (E,K,N)]])","v":""},"",{"$f":"IF(LEN(Table6[[#This Row],[Pupil Name]])>0,1,0)","v":0}]
[{"$f":"IF(Table1[[#This Row],[School/Group Name]]=\"\",\"\",Table1[[#This Row],[School/Group Name]])","v":""},{"$f":"IF(Table1[[#This Row],[Pupil Name]]=\"\",\"\",Table1[[#This Row],[Pupil Name]])","v":""},{"$f":"IF(Table1[[#This Row],[Gender (M/F)]]=\"\",\"\",Table1[[#This Row],[Gender (M/F)]])","v":""},{"$f":"IF(Table1[[#This Row],[DisAdv (Y/N)]]=\"\",\"\",Table1[[#This Row],[DisAdv (Y/N)]])","v":""},{"$f":"IF(Table1[[#This Row],[SEND (E,K,N)]]=\"\",\"\",Table1[[#This Row],[SEND (E,K,N)]])","v":""},"",{"$f":"IF(LEN(Table6[[#This Row],[Pupil Name]])>0,1,0)","v":0}]
[{"$f":"IF(Table1[[#This Row],[School/Group Name]]=\"\",\"\",Table1[[#This Row],[School/Group Name]])","v":""},{"$f":"IF(Table1[[#This Row],[Pupil Name]]=\"\",\"\",Table1[[#This Row],[Pupil Name]])","v":""},{"$f":"IF(Table1[[#This Row],[Gender (M/F)]]=\"\",\"\",Table1[[#This Row],[Gender (M/F)]])","v":""},{"$f":"IF(Table1[[#This Row],[DisAdv (Y/N)]]=\"\",\"\",Table1[[#This Row],[DisAdv (Y/N)]])","v":""},{"$f":"IF(Table1[[#This Row],[SEND (E,K,N)]]=\"\",\"\",Table1[[#This Row],[SEND (E,K,N)]])","v":""},"",{"$f":"IF(LEN(Table6[[#This Row],[Pupil Name]])>0,1,0)","v":0}]
[{"$f":"IF(Table1[[#This Row],[School/Group Name]]=\"\",\"\",Table1[[#This Row],[School/Group Name]])","v":""},{"$f":"IF(Table1[[#This Row],[Pupil Name]]=\"\",\"\",Table1[[#This Row],[Pupil Name]])","v":""},{"$f":"IF(Table1[[#This Row],[Gender (M/F)]]=\"\",\"\",Table1[[#This Row],[Gender (M/F)]])","v":""},{"$f":"IF(Table1[[#This Row],[DisAdv (Y/N)]]=\"\",\"\",Table1[[#This Row],[DisAdv (Y/N)]])","v":""},{"$f":"IF(Table1[[#This Row],[SEND (E,K,N)]]=\"\",\"\",Table1[[#This Row],[SEND (E,K,N)]])","v":""},"",{"$f":"IF(LEN(Table6[[#This Row],[Pupil Name]])>0,1,0)","v":0}]
[{"$f":"IF(Table1[[#This Row],[School/Group Name]]=\"\",\"\",Table1[[#This Row],[School/Group Name]])","v":""},{"$f":"IF(Table1[[#This Row],[Pupil Name]]=\"\",\"\",Table1[[#This Row],[Pupil Name]])","v":""},{"$f":"IF(Table1[[#This Row],[Gender (M/F)]]=\"\",\"\",Table1[[#This Row],[Gender (M/F)]])","v":""},{"$f":"IF(Table1[[#This Row],[DisAdv (Y/N)]]=\"\",\"\",Table1[[#This Row],[DisAdv (Y/N)]])","v":""},{"$f":"IF(Table1[[#This Row],[SEND (E,K,N)]]=\"\",\"\",Table1[[#This Row],[SEND (E,K,N)]])","v":""},"",{"$f":"IF(LEN(Table6[[#This Row],[Pupil Name]])>0,1,0)","v":0}]
[{"$f":"IF(Table1[[#This Row],[School/Group Name]]=\"\",\"\",Table1[[#This Row],[School/Group Name]])","v":""},{"$f":"IF(Table1[[#This Row],[Pupil Name]]=\"\",\"\",Table1[[#This Row],[Pupil Name]])","v":""},{"$f":"IF(Table1[[#This Row],[Gender (M/F)]]=\"\",\"\",Table1[[#This Row],[Gender (M/F)]])","v":""},{"$f":"IF(Table1[[#This Row],[DisAdv (Y/N)]]=\"\",\"\",Table1[[#This Row],[DisAdv (Y/N)]])","v":""},{"$f":"IF(Table1[[#This Row],[SEND (E,K,N)]]=\"\",\"\",Table1[[#This Row],[SEND (E,K,N)]])","v":""},"",{"$f":"IF(LEN(Table6[[#This Row],[Pupil Name]])>0,1,0)","v":0}]
[{"$f":"IF(Table1[[#This Row],[School/Group Name]]=\"\",\"\",Table1[[#This Row],[School/Group Name]])","v":""},{"$f":"IF(Table1[[#This Row],[Pupil Name]]=\"\",\"\",Table1[[#This Row],[Pupil Name]])","v":""},{"$f":"IF(Table1[[#This Row],[Gender (M/F)]]=\"\",\"\",Table1[[#This Row],[Gender (M/F)]])","v":""},{"$f":"IF(Table1[[#This Row],[DisAdv (Y/N)]]=\"\",\"\",Table1[[#This Row],[DisAdv (Y/N)]])","v":""},{"$f":"IF(Table1[[#This Row],[SEND (E,K,N)]]=\"\",\"\",Table1[[#This Row],[SEND (E,K,N)]])","v":""},"",{"$f":"IF(LEN(Table6[[#This Row],[Pupil Name]])>0,1,0)","v":0}]
[{"$f":"IF(Table1[[#This Row],[School/Group Name]]=\"\",\"\",Table1[[#This Row],[School/Group Name]])","v":""},{"$f":"IF(Table1[[#This Row],[Pupil Name]]=\"\",\"\",Table1[[#This Row],[Pupil Name]])","v":""},{"$f":"IF(Table1[[#This Row],[Gender (M/F)]]=\"\",\"\",Table1[[#This Row],[Gender (M/F)]])","v":""},{"$f":"IF(Table1[[#This Row],[DisAdv (Y/N)]]=\"\",\"\",Table1[[#This Row],[DisAdv (Y/N)]])","v":""},{"$f":"IF(Table1[[#This Row],[SEND (E,K,N)]]=\"\",\"\",Table1[[#This Row],[SEND (E,K,N)]])","v":""},"",{"$f":"IF(LEN(Table6[[#This Row],[Pupil Name]])>0,1,0)","v":0}]
[{"$f":"IF(Table1[[#This Row],[School/Group Name]]=\"\",\"\",Table1[[#This Row],[School/Group Name]])","v":""},{"$f":"IF(Table1[[#This Row],[Pupil Name]]=\"\",\"\",Table1[[#This Row],[Pupil Name]])","v":""},{"$f":"IF(Table1[[#This Row],[Gender (M/F)]]=\"\",\"\",Table1[[#This Row],[Gender (M/F)]])","v":""},{"$f":"IF(Table1[[#This Row],[DisAdv (Y/N)]]=\"\",\"\",Table1[[#This Row],[DisAdv (Y/N)]])","v":""},{"$f":"IF(Table1[[#This Row],[SEND (E,K,N)]]=\"\",\"\",Table1[[#This Row],[SEND (E,K,N)]])","v":""},"",{"$f":"IF(LEN(Table6[[#This Row],[Pupil Name]])>0,1,0)","v":0}]
[{"$f":"IF(Table1[[#This Row],[School/Group Name]]=\"\",\"\",Table1[[#This Row],[School/Group Name]])","v":""},{"$f":"IF(Table1[[#This Row],[Pupil Name]]=\"\",\"\",Table1[[#This Row],[Pupil Name]])","v":""},{"$f":"IF(Table1[[#This Row],[Gender (M/F)]]=\"\",\"\",Table1[[#This Row],[Gender (M/F)]])","v":""},{"$f":"IF(Table1[[#This Row],[DisAdv (Y/N)]]=\"\",\"\",Table1[[#This Row],[DisAdv (Y/N)]])","v":""},{"$f":"IF(Table1[[#This Row],[SEND (E,K,N)]]=\"\",\"\",Table1[[#This Row],[SEND (E,K,N)]])","v":""},"",{"$f":"IF(LEN(Table6[[#This Row],[Pupil Name]])>0,1,0)","v":0}]
[{"$f":"IF(Table1[[#This Row],[School/Group Name]]=\"\",\"\",Table1[[#This Row],[School/Group Name]])","v":""},{"$f":"IF(Table1[[#This Row],[Pupil Name]]=\"\",\"\",Table1[[#This Row],[Pupil Name]])","v":""},{"$f":"IF(Table1[[#This Row],[Gender (M/F)]]=\"\",\"\",Table1[[#This Row],[Gender (M/F)]])","v":""},{"$f":"IF(Table1[[#This Row],[DisAdv (Y/N)]]=\"\",\"\",Table1[[#This Row],[DisAdv (Y/N)]])","v":""},{"$f":"IF(Table1[[#This Row],[SEND (E,K,N)]]=\"\",\"\",Table1[[#This Row],[SEND (E,K,N)]])","v":""},"",{"$f":"IF(LEN(Table6[[#This Row],[Pupil Name]])>0,1,0)","v":0}]
[{"$f":"IF(Table1[[#This Row],[School/Group Name]]=\"\",\"\",Table1[[#This Row],[School/Group Name]])","v":""},{"$f":"IF(Table1[[#This Row],[Pupil Name]]=\"\",\"\",Table1[[#This Row],[Pupil Name]])","v":""},{"$f":"IF(Table1[[#This Row],[Gender (M/F)]]=\"\",\"\",Table1[[#This Row],[Gender (M/F)]])","v":""},{"$f":"IF(Table1[[#This Row],[DisAdv (Y/N)]]=\"\",\"\",Table1[[#This Row],[DisAdv (Y/N)]])","v":""},{"$f":"IF(Table1[[#This Row],[SEND (E,K,N)]]=\"\",\"\",Table1[[#This Row],[SEND (E,K,N)]])","v":""},"",{"$f":"IF(LEN(Table6[[#This Row],[Pupil Name]])>0,1,0)","v":0}]
[{"$f":"IF(Table1[[#This Row],[School/Group Name]]=\"\",\"\",Table1[[#This Row],[School/Group Name]])","v":""},{"$f":"IF(Table1[[#This Row],[Pupil Name]]=\"\",\"\",Table1[[#This Row],[Pupil Name]])","v":""},{"$f":"IF(Table1[[#This Row],[Gender (M/F)]]=\"\",\"\",Table1[[#This Row],[Gender (M/F)]])","v":""},{"$f":"IF(Table1[[#This Row],[DisAdv (Y/N)]]=\"\",\"\",Table1[[#This Row],[DisAdv (Y/N)]])","v":""},{"$f":"IF(Table1[[#This Row],[SEND (E,K,N)]]=\"\",\"\",Table1[[#This Row],[SEND (E,K,N)]])","v":""},"",{"$f":"IF(LEN(Table6[[#This Row],[Pupil Name]])>0,1,0)","v":0}]
[{"$f":"IF(Table1[[#This Row],[School/Group Name]]=\"\",\"\",Table1[[#This Row],[School/Group Name]])","v":""},{"$f":"IF(Table1[[#This Row],[Pupil Name]]=\"\",\"\",Table1[[#This Row],[Pupil Name]])","v":""},{"$f":"IF(Table1[[#This Row],[Gender (M/F)]]=\"\",\"\",Table1[[#This Row],[Gender (M/F)]])","v":""},{"$f":"IF(Table1[[#This Row],[DisAdv (Y/N)]]=\"\",\"\",Table1[[#This Row],[DisAdv (Y/N)]])","v":""},{"$f":"IF(Table1[[#This Row],[SEND (E,K,N)]]=\"\",\"\",Table1[[#This Row],[SEND (E,K,N)]])","v":""},"",{"$f":"IF(LEN(Table6[[#This Row],[Pupil Name]])>0,1,0)","v":0}]
[{"$f":"IF(Table1[[#This Row],[School/Group Name]]=\"\",\"\",Table1[[#This Row],[School/Group Name]])","v":""},{"$f":"IF(Table1[[#This Row],[Pupil Name]]=\"\",\"\",Table1[[#This Row],[Pupil Name]])","v":""},{"$f":"IF(Table1[[#This Row],[Gender (M/F)]]=\"\",\"\",Table1[[#This Row],[Gender (M/F)]])","v":""},{"$f":"IF(Table1[[#This Row],[DisAdv (Y/N)]]=\"\",\"\",Table1[[#This Row],[DisAdv (Y/N)]])","v":""},{"$f":"IF(Table1[[#This Row],[SEND (E,K,N)]]=\"\",\"\",Table1[[#This Row],[SEND (E,K,N)]])","v":""},"",{"$f":"IF(LEN(Table6[[#This Row],[Pupil Name]])>0,1,0)","v":0}]
[{"$f":"IF(Table1[[#This Row],[School/Group Name]]=\"\",\"\",Table1[[#This Row],[School/Group Name]])","v":""},{"$f":"IF(Table1[[#This Row],[Pupil Name]]=\"\",\"\",Table1[[#This Row],[Pupil Name]])","v":""},{"$f":"IF(Table1[[#This Row],[Gender (M/F)]]=\"\",\"\",Table1[[#This Row],[Gender (M/F)]])","v":""},{"$f":"IF(Table1[[#This Row],[DisAdv (Y/N)]]=\"\",\"\",Table1[[#This Row],[DisAdv (Y/N)]])","v":""},{"$f":"IF(Table1[[#This Row],[SEND (E,K,N)]]=\"\",\"\",Table1[[#This Row],[SEND (E,K,N)]])","v":""},"",{"$f":"IF(LEN(Table6[[#This Row],[Pupil Name]])>0,1,0)","v":0}]
[{"$f":"IF(Table1[[#This Row],[School/Group Name]]=\"\",\"\",Table1[[#This Row],[School/Group Name]])","v":""},{"$f":"IF(Table1[[#This Row],[Pupil Name]]=\"\",\"\",Table1[[#This Row],[Pupil Name]])","v":""},{"$f":"IF(Table1[[#This Row],[Gender (M/F)]]=\"\",\"\",Table1[[#This Row],[Gender (M/F)]])","v":""},{"$f":"IF(Table1[[#This Row],[DisAdv (Y/N)]]=\"\",\"\",Table1[[#This Row],[DisAdv (Y/N)]])","v":""},{"$f":"IF(Table1[[#This Row],[SEND (E,K,N)]]=\"\",\"\",Table1[[#This Row],[SEND (E,K,N)]])","v":""},"",{"$f":"IF(LEN(Table6[[#This Row],[Pupil Name]])>0,1,0)","v":0}]
[{"$f":"IF(Table1[[#This Row],[School/Group Name]]=\"\",\"\",Table1[[#This Row],[School/Group Name]])","v":""},{"$f":"IF(Table1[[#This Row],[Pupil Name]]=\"\",\"\",Table1[[#This Row],[Pupil Name]])","v":""},{"$f":"IF(Table1[[#This Row],[Gender (M/F)]]=\"\",\"\",Table1[[#This Row],[Gender (M/F)]])","v":""},{"$f":"IF(Table1[[#This Row],[DisAdv (Y/N)]]=\"\",\"\",Table1[[#This Row],[DisAdv (Y/N)]])","v":""},{"$f":"IF(Table1[[#This Row],[SEND (E,K,N)]]=\"\",\"\",Table1[[#This Row],[SEND (E,K,N)]])","v":""},"",{"$f":"IF(LEN(Table6[[#This Row],[Pupil Name]])>0,1,0)","v":0}]
[{"$f":"IF(Table1[[#This Row],[School/Group Name]]=\"\",\"\",Table1[[#This Row],[School/Group Name]])","v":""},{"$f":"IF(Table1[[#This Row],[Pupil Name]]=\"\",\"\",Table1[[#This Row],[Pupil Name]])","v":""},{"$f":"IF(Table1[[#This Row],[Gender (M/F)]]=\"\",\"\",Table1[[#This Row],[Gender (M/F)]])","v":""},{"$f":"IF(Table1[[#This Row],[DisAdv (Y/N)]]=\"\",\"\",Table1[[#This Row],[DisAdv (Y/N)]])","v":""},{"$f":"IF(Table1[[#This Row],[SEND (E,K,N)]]=\"\",\"\",Table1[[#This Row],[SEND (E,K,N)]])","v":""},"",{"$f":"IF(LEN(Table6[[#This Row],[Pupil Name]])>0,1,0)","v":0}]
[{"$f":"IF(Table1[[#This Row],[School/Group Name]]=\"\",\"\",Table1[[#This Row],[School/Group Name]])","v":""},{"$f":"IF(Table1[[#This Row],[Pupil Name]]=\"\",\"\",Table1[[#This Row],[Pupil Name]])","v":""},{"$f":"IF(Table1[[#This Row],[Gender (M/F)]]=\"\",\"\",Table1[[#This Row],[Gender (M/F)]])","v":""},{"$f":"IF(Table1[[#This Row],[DisAdv (Y/N)]]=\"\",\"\",Table1[[#This Row],[DisAdv (Y/N)]])","v":""},{"$f":"IF(Table1[[#This Row],[SEND (E,K,N)]]=\"\",\"\",Table1[[#This Row],[SEND (E,K,N)]])","v":""},"",{"$f":"IF(LEN(Table6[[#This Row],[Pupil Name]])>0,1,0)","v":0}]
[{"$f":"IF(Table1[[#This Row],[School/Group Name]]=\"\",\"\",Table1[[#This Row],[School/Group Name]])","v":""},{"$f":"IF(Table1[[#This Row],[Pupil Name]]=\"\",\"\",Table1[[#This Row],[Pupil Name]])","v":""},{"$f":"IF(Table1[[#This Row],[Gender (M/F)]]=\"\",\"\",Table1[[#This Row],[Gender (M/F)]])","v":""},{"$f":"IF(Table1[[#This Row],[DisAdv (Y/N)]]=\"\",\"\",Table1[[#This Row],[DisAdv (Y/N)]])","v":""},{"$f":"IF(Table1[[#This Row],[SEND (E,K,N)]]=\"\",\"\",Table1[[#This Row],[SEND (E,K,N)]])","v":""},"",{"$f":"IF(LEN(Table6[[#This Row],[Pupil Name]])>0,1,0)","v":0}]
[{"$f":"IF(Table1[[#This Row],[School/Group Name]]=\"\",\"\",Table1[[#This Row],[School/Group Name]])","v":""},{"$f":"IF(Table1[[#This Row],[Pupil Name]]=\"\",\"\",Table1[[#This Row],[Pupil Name]])","v":""},{"$f":"IF(Table1[[#This Row],[Gender (M/F)]]=\"\",\"\",Table1[[#This Row],[Gender (M/F)]])","v":""},{"$f":"IF(Table1[[#This Row],[DisAdv (Y/N)]]=\"\",\"\",Table1[[#This Row],[DisAdv (Y/N)]])","v":""},{"$f":"IF(Table1[[#This Row],[SEND (E,K,N)]]=\"\",\"\",Table1[[#This Row],[SEND (E,K,N)]])","v":""},"",{"$f":"IF(LEN(Table6[[#This Row],[Pupil Name]])>0,1,0)","v":0}]
[{"$f":"IF(Table1[[#This Row],[School/Group Name]]=\"\",\"\",Table1[[#This Row],[School/Group Name]])","v":""},{"$f":"IF(Table1[[#This Row],[Pupil Name]]=\"\",\"\",Table1[[#This Row],[Pupil Name]])","v":""},{"$f":"IF(Table1[[#This Row],[Gender (M/F)]]=\"\",\"\",Table1[[#This Row],[Gender (M/F)]])","v":""},{"$f":"IF(Table1[[#This Row],[DisAdv (Y/N)]]=\"\",\"\",Table1[[#This Row],[DisAdv (Y/N)]])","v":""},{"$f":"IF(Table1[[#This Row],[SEND (E,K,N)]]=\"\",\"\",Table1[[#This Row],[SEND (E,K,N)]])","v":""},"",{"$f":"IF(LEN(Table6[[#This Row],[Pupil Name]])>0,1,0)","v":0}]
[{"$f":"IF(Table1[[#This Row],[School/Group Name]]=\"\",\"\",Table1[[#This Row],[School/Group Name]])","v":""},{"$f":"IF(Table1[[#This Row],[Pupil Name]]=\"\",\"\",Table1[[#This Row],[Pupil Name]])","v":""},{"$f":"IF(Table1[[#This Row],[Gender (M/F)]]=\"\",\"\",Table1[[#This Row],[Gender (M/F)]])","v":""},{"$f":"IF(Table1[[#This Row],[DisAdv (Y/N)]]=\"\",\"\",Table1[[#This Row],[DisAdv (Y/N)]])","v":""},{"$f":"IF(Table1[[#This Row],[SEND (E,K,N)]]=\"\",\"\",Table1[[#This Row],[SEND (E,K,N)]])","v":""},"",{"$f":"IF(LEN(Table6[[#This Row],[Pupil Name]])>0,1,0)","v":0}]
[{"$f":"IF(Table1[[#This Row],[School/Group Name]]=\"\",\"\",Table1[[#This Row],[School/Group Name]])","v":""},{"$f":"IF(Table1[[#This Row],[Pupil Name]]=\"\",\"\",Table1[[#This Row],[Pupil Name]])","v":""},{"$f":"IF(Table1[[#This Row],[Gender (M/F)]]=\"\",\"\",Table1[[#This Row],[Gender (M/F)]])","v":""},{"$f":"IF(Table1[[#This Row],[DisAdv (Y/N)]]=\"\",\"\",Table1[[#This Row],[DisAdv (Y/N)]])","v":""},{"$f":"IF(Table1[[#This Row],[SEND (E,K,N)]]=\"\",\"\",Table1[[#This Row],[SEND (E,K,N)]])","v":""},"",{"$f":"IF(LEN(Table6[[#This Row],[Pupil Name]])>0,1,0)","v":0}]
[{"$f":"IF(Table1[[#This Row],[School/Group Name]]=\"\",\"\",Table1[[#This Row],[School/Group Name]])","v":""},{"$f":"IF(Table1[[#This Row],[Pupil Name]]=\"\",\"\",Table1[[#This Row],[Pupil Name]])","v":""},{"$f":"IF(Table1[[#This Row],[Gender (M/F)]]=\"\",\"\",Table1[[#This Row],[Gender (M/F)]])","v":""},{"$f":"IF(Table1[[#This Row],[DisAdv (Y/N)]]=\"\",\"\",Table1[[#This Row],[DisAdv (Y/N)]])","v":""},{"$f":"IF(Table1[[#This Row],[SEND (E,K,N)]]=\"\",\"\",Table1[[#This Row],[SEND (E,K,N)]])","v":""},"",{"$f":"IF(LEN(Table6[[#This Row],[Pupil Name]])>0,1,0)","v":0}]
[{"$f":"IF(Table1[[#This Row],[School/Group Name]]=\"\",\"\",Table1[[#This Row],[School/Group Name]])","v":""},{"$f":"IF(Table1[[#This Row],[Pupil Name]]=\"\",\"\",Table1[[#This Row],[Pupil Name]])","v":""},{"$f":"IF(Table1[[#This Row],[Gender (M/F)]]=\"\",\"\",Table1[[#This Row],[Gender (M/F)]])","v":""},{"$f":"IF(Table1[[#This Row],[DisAdv (Y/N)]]=\"\",\"\",Table1[[#This Row],[DisAdv (Y/N)]])","v":""},{"$f":"IF(Table1[[#This Row],[SEND (E,K,N)]]=\"\",\"\",Table1[[#This Row],[SEND (E,K,N)]])","v":""},"",{"$f":"IF(LEN(Table6[[#This Row],[Pupil Name]])>0,1,0)","v":0}]
[{"$f":"IF(Table1[[#This Row],[School/Group Name]]=\"\",\"\",Table1[[#This Row],[School/Group Name]])","v":""},{"$f":"IF(Table1[[#This Row],[Pupil Name]]=\"\",\"\",Table1[[#This Row],[Pupil Name]])","v":""},{"$f":"IF(Table1[[#This Row],[Gender (M/F)]]=\"\",\"\",Table1[[#This Row],[Gender (M/F)]])","v":""},{"$f":"IF(Table1[[#This Row],[DisAdv (Y/N)]]=\"\",\"\",Table1[[#This Row],[DisAdv (Y/N)]])","v":""},{"$f":"IF(Table1[[#This Row],[SEND (E,K,N)]]=\"\",\"\",Table1[[#This Row],[SEND (E,K,N)]])","v":""},"",{"$f":"IF(LEN(Table6[[#This Row],[Pupil Name]])>0,1,0)","v":0}]
[{"$f":"IF(Table1[[#This Row],[School/Group Name]]=\"\",\"\",Table1[[#This Row],[School/Group Name]])","v":""},{"$f":"IF(Table1[[#This Row],[Pupil Name]]=\"\",\"\",Table1[[#This Row],[Pupil Name]])","v":""},{"$f":"IF(Table1[[#This Row],[Gender (M/F)]]=\"\",\"\",Table1[[#This Row],[Gender (M/F)]])","v":""},{"$f":"IF(Table1[[#This Row],[DisAdv (Y/N)]]=\"\",\"\",Table1[[#This Row],[DisAdv (Y/N)]])","v":""},{"$f":"IF(Table1[[#This Row],[SEND (E,K,N)]]=\"\",\"\",Table1[[#This Row],[SEND (E,K,N)]])","v":""},"",{"$f":"IF(LEN(Table6[[#This Row],[Pupil Name]])>0,1,0)","v":0}]
[{"$f":"IF(Table1[[#This Row],[School/Group Name]]=\"\",\"\",Table1[[#This Row],[School/Group Name]])","v":""},{"$f":"IF(Table1[[#This Row],[Pupil Name]]=\"\",\"\",Table1[[#This Row],[Pupil Name]])","v":""},{"$f":"IF(Table1[[#This Row],[Gender (M/F)]]=\"\",\"\",Table1[[#This Row],[Gender (M/F)]])","v":""},{"$f":"IF(Table1[[#This Row],[DisAdv (Y/N)]]=\"\",\"\",Table1[[#This Row],[DisAdv (Y/N)]])","v":""},{"$f":"IF(Table1[[#This Row],[SEND (E,K,N)]]=\"\",\"\",Table1[[#This Row],[SEND (E,K,N)]])","v":""},"",{"$f":"IF(LEN(Table6[[#This Row],[Pupil Name]])>0,1,0)","v":0}]
[{"$f":"IF(Table1[[#This Row],[School/Group Name]]=\"\",\"\",Table1[[#This Row],[School/Group Name]])","v":""},{"$f":"IF(Table1[[#This Row],[Pupil Name]]=\"\",\"\",Table1[[#This Row],[Pupil Name]])","v":""},{"$f":"IF(Table1[[#This Row],[Gender (M/F)]]=\"\",\"\",Table1[[#This Row],[Gender (M/F)]])","v":""},{"$f":"IF(Table1[[#This Row],[DisAdv (Y/N)]]=\"\",\"\",Table1[[#This Row],[DisAdv (Y/N)]])","v":""},{"$f":"IF(Table1[[#This Row],[SEND (E,K,N)]]=\"\",\"\",Table1[[#This Row],[SEND (E,K,N)]])","v":""},"",{"$f":"IF(LEN(Table6[[#This Row],[Pupil Name]])>0,1,0)","v":0}]
[{"$f":"IF(Table1[[#This Row],[School/Group Name]]=\"\",\"\",Table1[[#This Row],[School/Group Name]])","v":""},{"$f":"IF(Table1[[#This Row],[Pupil Name]]=\"\",\"\",Table1[[#This Row],[Pupil Name]])","v":""},{"$f":"IF(Table1[[#This Row],[Gender (M/F)]]=\"\",\"\",Table1[[#This Row],[Gender (M/F)]])","v":""},{"$f":"IF(Table1[[#This Row],[DisAdv (Y/N)]]=\"\",\"\",Table1[[#This Row],[DisAdv (Y/N)]])","v":""},{"$f":"IF(Table1[[#This Row],[SEND (E,K,N)]]=\"\",\"\",Table1[[#This Row],[SEND (E,K,N)]])","v":""},"",{"$f":"IF(LEN(Table6[[#This Row],[Pupil Name]])>0,1,0)","v":0}]
[{"$f":"IF(Table1[[#This Row],[School/Group Name]]=\"\",\"\",Table1[[#This Row],[School/Group Name]])","v":""},{"$f":"IF(Table1[[#This Row],[Pupil Name]]=\"\",\"\",Table1[[#This Row],[Pupil Name]])","v":""},{"$f":"IF(Table1[[#This Row],[Gender (M/F)]]=\"\",\"\",Table1[[#This Row],[Gender (M/F)]])","v":""},{"$f":"IF(Table1[[#This Row],[DisAdv (Y/N)]]=\"\",\"\",Table1[[#This Row],[DisAdv (Y/N)]])","v":""},{"$f":"IF(Table1[[#This Row],[SEND (E,K,N)]]=\"\",\"\",Table1[[#This Row],[SEND (E,K,N)]])","v":""},"",{"$f":"IF(LEN(Table6[[#This Row],[Pupil Name]])>0,1,0)","v":0}]
[{"$f":"IF(Table1[[#This Row],[School/Group Name]]=\"\",\"\",Table1[[#This Row],[School/Group Name]])","v":""},{"$f":"IF(Table1[[#This Row],[Pupil Name]]=\"\",\"\",Table1[[#This Row],[Pupil Name]])","v":""},{"$f":"IF(Table1[[#This Row],[Gender (M/F)]]=\"\",\"\",Table1[[#This Row],[Gender (M/F)]])","v":""},{"$f":"IF(Table1[[#This Row],[DisAdv (Y/N)]]=\"\",\"\",Table1[[#This Row],[DisAdv (Y/N)]])","v":""},{"$f":"IF(Table1[[#This Row],[SEND (E,K,N)]]=\"\",\"\",Table1[[#This Row],[SEND (E,K,N)]])","v":""},"",{"$f":"IF(LEN(Table6[[#This Row],[Pupil Name]])>0,1,0)","v":0}]
[{"$f":"IF(Table1[[#This Row],[School/Group Name]]=\"\",\"\",Table1[[#This Row],[School/Group Name]])","v":""},{"$f":"IF(Table1[[#This Row],[Pupil Name]]=\"\",\"\",Table1[[#This Row],[Pupil Name]])","v":""},{"$f":"IF(Table1[[#This Row],[Gender (M/F)]]=\"\",\"\",Table1[[#This Row],[Gender (M/F)]])","v":""},{"$f":"IF(Table1[[#This Row],[DisAdv (Y/N)]]=\"\",\"\",Table1[[#This Row],[DisAdv (Y/N)]])","v":""},{"$f":"IF(Table1[[#This Row],[SEND (E,K,N)]]=\"\",\"\",Table1[[#This Row],[SEND (E,K,N)]])","v":""},"",{"$f":"IF(LEN(Table6[[#This Row],[Pupil Name]])>0,1,0)","v":0}]
[{"$f":"IF(Table1[[#This Row],[School/Group Name]]=\"\",\"\",Table1[[#This Row],[School/Group Name]])","v":""},{"$f":"IF(Table1[[#This Row],[Pupil Name]]=\"\",\"\",Table1[[#This Row],[Pupil Name]])","v":""},{"$f":"IF(Table1[[#This Row],[Gender (M/F)]]=\"\",\"\",Table1[[#This Row],[Gender (M/F)]])","v":""},{"$f":"IF(Table1[[#This Row],[DisAdv (Y/N)]]=\"\",\"\",Table1[[#This Row],[DisAdv (Y/N)]])","v":""},{"$f":"IF(Table1[[#This Row],[SEND (E,K,N)]]=\"\",\"\",Table1[[#This Row],[SEND (E,K,N)]])","v":""},"",{"$f":"IF(LEN(Table6[[#This Row],[Pupil Name]])>0,1,0)","v":0}]
[{"$f":"IF(Table1[[#This Row],[School/Group Name]]=\"\",\"\",Table1[[#This Row],[School/Group Name]])","v":""},{"$f":"IF(Table1[[#This Row],[Pupil Name]]=\"\",\"\",Table1[[#This Row],[Pupil Name]])","v":""},{"$f":"IF(Table1[[#This Row],[Gender (M/F)]]=\"\",\"\",Table1[[#This Row],[Gender (M/F)]])","v":""},{"$f":"IF(Table1[[#This Row],[DisAdv (Y/N)]]=\"\",\"\",Table1[[#This Row],[DisAdv (Y/N)]])","v":""},{"$f":"IF(Table1[[#This Row],[SEND (E,K,N)]]=\"\",\"\",Table1[[#This Row],[SEND (E,K,N)]])","v":""},"",{"$f":"IF(LEN(Table6[[#This Row],[Pupil Name]])>0,1,0)","v":0}]
[{"$f":"IF(Table1[[#This Row],[School/Group Name]]=\"\",\"\",Table1[[#This Row],[School/Group Name]])","v":""},{"$f":"IF(Table1[[#This Row],[Pupil Name]]=\"\",\"\",Table1[[#This Row],[Pupil Name]])","v":""},{"$f":"IF(Table1[[#This Row],[Gender (M/F)]]=\"\",\"\",Table1[[#This Row],[Gender (M/F)]])","v":""},{"$f":"IF(Table1[[#This Row],[DisAdv (Y/N)]]=\"\",\"\",Table1[[#This Row],[DisAdv (Y/N)]])","v":""},{"$f":"IF(Table1[[#This Row],[SEND (E,K,N)]]=\"\",\"\",Table1[[#This Row],[SEND (E,K,N)]])","v":""},{"$f":"IF(H199=\"\",\"\",(SUM(H199:BE199)))","v":""},{"$f":"IF(LEN(Table6[[#This Row],[Pupil Name]])>0,1,0)","v":0}]
[{"$f":"IF(Table1[[#This Row],[School/Group Name]]=\"\",\"\",Table1[[#This Row],[School/Group Name]])","v":""},{"$f":"IF(Table1[[#This Row],[Pupil Name]]=\"\",\"\",Table1[[#This Row],[Pupil Name]])","v":""},{"$f":"IF(Table1[[#This Row],[Gender (M/F)]]=\"\",\"\",Table1[[#This Row],[Gender (M/F)]])","v":""},{"$f":"IF(Table1[[#This Row],[DisAdv (Y/N)]]=\"\",\"\",Table1[[#This Row],[DisAdv (Y/N)]])","v":""},{"$f":"IF(Table1[[#This Row],[SEND (E,K,N)]]=\"\",\"\",Table1[[#This Row],[SEND (E,K,N)]])","v":""},"",{"$f":"IF(LEN(Table6[[#This Row],[Pupil Name]])>0,1,0)","v":0}]
[{"$f":"IF(Table1[[#This Row],[School/Group Name]]=\"\",\"\",Table1[[#This Row],[School/Group Name]])","v":""},{"$f":"IF(Table1[[#This Row],[Pupil Name]]=\"\",\"\",Table1[[#This Row],[Pupil Name]])","v":""},{"$f":"IF(Table1[[#This Row],[Gender (M/F)]]=\"\",\"\",Table1[[#This Row],[Gender (M/F)]])","v":""},{"$f":"IF(Table1[[#This Row],[DisAdv (Y/N)]]=\"\",\"\",Table1[[#This Row],[DisAdv (Y/N)]])","v":""},{"$f":"IF(Table1[[#This Row],[SEND (E,K,N)]]=\"\",\"\",Table1[[#This Row],[SEND (E,K,N)]])","v":""},"",{"$f":"IF(LEN(Table6[[#This Row],[Pupil Name]])>0,1,0)","v":0}]
[{"$f":"IF(Table1[[#This Row],[School/Group Name]]=\"\",\"\",Table1[[#This Row],[School/Group Name]])","v":""},{"$f":"IF(Table1[[#This Row],[Pupil Name]]=\"\",\"\",Table1[[#This Row],[Pupil Name]])","v":""},{"$f":"IF(Table1[[#This Row],[Gender (M/F)]]=\"\",\"\",Table1[[#This Row],[Gender (M/F)]])","v":""},{"$f":"IF(Table1[[#This Row],[DisAdv (Y/N)]]=\"\",\"\",Table1[[#This Row],[DisAdv (Y/N)]])","v":""},{"$f":"IF(Table1[[#This Row],[SEND (E,K,N)]]=\"\",\"\",Table1[[#This Row],[SEND (E,K,N)]])","v":""},"",{"$f":"IF(LEN(Table6[[#This Row],[Pupil Name]])>0,1,0)","v":0}]
[{"$f":"IF(Table1[[#This Row],[School/Group Name]]=\"\",\"\",Table1[[#This Row],[School/Group Name]])","v":""},{"$f":"IF(Table1[[#This Row],[Pupil Name]]=\"\",\"\",Table1[[#This Row],[Pupil Name]])","v":""},{"$f":"IF(Table1[[#This Row],[Gender (M/F)]]=\"\",\"\",Table1[[#This Row],[Gender (M/F)]])","v":""},{"$f":"IF(Table1[[#This Row],[DisAdv (Y/N)]]=\"\",\"\",Table1[[#This Row],[DisAdv (Y/N)]])","v":""},{"$f":"IF(Table1[[#This Row],[SEND (E,K,N)]]=\"\",\"\",Table1[[#This Row],[SEND (E,K,N)]])","v":""},"",{"$f":"IF(LEN(Table6[[#This Row],[Pupil Name]])>0,1,0)","v":0}]
[{"$f":"IF(Table1[[#This Row],[School/Group Name]]=\"\",\"\",Table1[[#This Row],[School/Group Name]])","v":""},{"$f":"IF(Table1[[#This Row],[Pupil Name]]=\"\",\"\",Table1[[#This Row],[Pupil Name]])","v":""},{"$f":"IF(Table1[[#This Row],[Gender (M/F)]]=\"\",\"\",Table1[[#This Row],[Gender (M/F)]])","v":""},{"$f":"IF(Table1[[#This Row],[DisAdv (Y/N)]]=\"\",\"\",Table1[[#This Row],[DisAdv (Y/N)]])","v":""},{"$f":"IF(Table1[[#This Row],[SEND (E,K,N)]]=\"\",\"\",Table1[[#This Row],[SEND (E,K,N)]])","v":""},"",{"$f":"IF(LEN(Table6[[#This Row],[Pupil Name]])>0,1,0)","v":0}]
[{"$f":"IF(Table1[[#This Row],[School/Group Name]]=\"\",\"\",Table1[[#This Row],[School/Group Name]])","v":""},{"$f":"IF(Table1[[#This Row],[Pupil Name]]=\"\",\"\",Table1[[#This Row],[Pupil Name]])","v":""},{"$f":"IF(Table1[[#This Row],[Gender (M/F)]]=\"\",\"\",Table1[[#This Row],[Gender (M/F)]])","v":""},{"$f":"IF(Table1[[#This Row],[DisAdv (Y/N)]]=\"\",\"\",Table1[[#This Row],[DisAdv (Y/N)]])","v":""},{"$f":"IF(Table1[[#This Row],[SEND (E,K,N)]]=\"\",\"\",Table1[[#This Row],[SEND (E,K,N)]])","v":""},"",{"$f":"IF(LEN(Table6[[#This Row],[Pupil Name]])>0,1,0)","v":0}]
[{"$f":"IF(Table1[[#This Row],[School/Group Name]]=\"\",\"\",Table1[[#This Row],[School/Group Name]])","v":""},{"$f":"IF(Table1[[#This Row],[Pupil Name]]=\"\",\"\",Table1[[#This Row],[Pupil Name]])","v":""},{"$f":"IF(Table1[[#This Row],[Gender (M/F)]]=\"\",\"\",Table1[[#This Row],[Gender (M/F)]])","v":""},{"$f":"IF(Table1[[#This Row],[DisAdv (Y/N)]]=\"\",\"\",Table1[[#This Row],[DisAdv (Y/N)]])","v":""},{"$f":"IF(Table1[[#This Row],[SEND (E,K,N)]]=\"\",\"\",Table1[[#This Row],[SEND (E,K,N)]])","v":""},"",{"$f":"IF(LEN(Table6[[#This Row],[Pupil Name]])>0,1,0)","v":0}]
[{"$f":"IF(Table1[[#This Row],[School/Group Name]]=\"\",\"\",Table1[[#This Row],[School/Group Name]])","v":""},{"$f":"IF(Table1[[#This Row],[Pupil Name]]=\"\",\"\",Table1[[#This Row],[Pupil Name]])","v":""},{"$f":"IF(Table1[[#This Row],[Gender (M/F)]]=\"\",\"\",Table1[[#This Row],[Gender (M/F)]])","v":""},{"$f":"IF(Table1[[#This Row],[DisAdv (Y/N)]]=\"\",\"\",Table1[[#This Row],[DisAdv (Y/N)]])","v":""},{"$f":"IF(Table1[[#This Row],[SEND (E,K,N)]]=\"\",\"\",Table1[[#This Row],[SEND (E,K,N)]])","v":""},"",{"$f":"IF(LEN(Table6[[#This Row],[Pupil Name]])>0,1,0)","v":0}]
[{"$f":"IF(Table1[[#This Row],[School/Group Name]]=\"\",\"\",Table1[[#This Row],[School/Group Name]])","v":""},{"$f":"IF(Table1[[#This Row],[Pupil Name]]=\"\",\"\",Table1[[#This Row],[Pupil Name]])","v":""},{"$f":"IF(Table1[[#This Row],[Gender (M/F)]]=\"\",\"\",Table1[[#This Row],[Gender (M/F)]])","v":""},{"$f":"IF(Table1[[#This Row],[DisAdv (Y/N)]]=\"\",\"\",Table1[[#This Row],[DisAdv (Y/N)]])","v":""},{"$f":"IF(Table1[[#This Row],[SEND (E,K,N)]]=\"\",\"\",Table1[[#This Row],[SEND (E,K,N)]])","v":""},"",{"$f":"IF(LEN(Table6[[#This Row],[Pupil Name]])>0,1,0)","v":0}]
[{"$f":"IF(Table1[[#This Row],[School/Group Name]]=\"\",\"\",Table1[[#This Row],[School/Group Name]])","v":""},{"$f":"IF(Table1[[#This Row],[Pupil Name]]=\"\",\"\",Table1[[#This Row],[Pupil Name]])","v":""},{"$f":"IF(Table1[[#This Row],[Gender (M/F)]]=\"\",\"\",Table1[[#This Row],[Gender (M/F)]])","v":""},{"$f":"IF(Table1[[#This Row],[DisAdv (Y/N)]]=\"\",\"\",Table1[[#This Row],[DisAdv (Y/N)]])","v":""},{"$f":"IF(Table1[[#This Row],[SEND (E,K,N)]]=\"\",\"\",Table1[[#This Row],[SEND (E,K,N)]])","v":""},"",{"$f":"IF(LEN(Table6[[#This Row],[Pupil Name]])>0,1,0)","v":0}]
[{"$f":"IF(Table1[[#This Row],[School/Group Name]]=\"\",\"\",Table1[[#This Row],[School/Group Name]])","v":""},{"$f":"IF(Table1[[#This Row],[Pupil Name]]=\"\",\"\",Table1[[#This Row],[Pupil Name]])","v":""},{"$f":"IF(Table1[[#This Row],[Gender (M/F)]]=\"\",\"\",Table1[[#This Row],[Gender (M/F)]])","v":""},{"$f":"IF(Table1[[#This Row],[DisAdv (Y/N)]]=\"\",\"\",Table1[[#This Row],[DisAdv (Y/N)]])","v":""},{"$f":"IF(Table1[[#This Row],[SEND (E,K,N)]]=\"\",\"\",Table1[[#This Row],[SEND (E,K,N)]])","v":""},"",{"$f":"IF(LEN(Table6[[#This Row],[Pupil Name]])>0,1,0)","v":0}]
[{"$f":"IF(Table1[[#This Row],[School/Group Name]]=\"\",\"\",Table1[[#This Row],[School/Group Name]])","v":""},{"$f":"IF(Table1[[#This Row],[Pupil Name]]=\"\",\"\",Table1[[#This Row],[Pupil Name]])","v":""},{"$f":"IF(Table1[[#This Row],[Gender (M/F)]]=\"\",\"\",Table1[[#This Row],[Gender (M/F)]])","v":""},{"$f":"IF(Table1[[#This Row],[DisAdv (Y/N)]]=\"\",\"\",Table1[[#This Row],[DisAdv (Y/N)]])","v":""},{"$f":"IF(Table1[[#This Row],[SEND (E,K,N)]]=\"\",\"\",Table1[[#This Row],[SEND (E,K,N)]])","v":""},"",{"$f":"IF(LEN(Table6[[#This Row],[Pupil Name]])>0,1,0)","v":0}]
[{"$f":"IF(Table1[[#This Row],[School/Group Name]]=\"\",\"\",Table1[[#This Row],[School/Group Name]])","v":""},{"$f":"IF(Table1[[#This Row],[Pupil Name]]=\"\",\"\",Table1[[#This Row],[Pupil Name]])","v":""},{"$f":"IF(Table1[[#This Row],[Gender (M/F)]]=\"\",\"\",Table1[[#This Row],[Gender (M/F)]])","v":""},{"$f":"IF(Table1[[#This Row],[DisAdv (Y/N)]]=\"\",\"\",Table1[[#This Row],[DisAdv (Y/N)]])","v":""},{"$f":"IF(Table1[[#This Row],[SEND (E,K,N)]]=\"\",\"\",Table1[[#This Row],[SEND (E,K,N)]])","v":""},"",{"$f":"IF(LEN(Table6[[#This Row],[Pupil Name]])>0,1,0)","v":0}]
[{"$f":"IF(Table1[[#This Row],[School/Group Name]]=\"\",\"\",Table1[[#This Row],[School/Group Name]])","v":""},{"$f":"IF(Table1[[#This Row],[Pupil Name]]=\"\",\"\",Table1[[#This Row],[Pupil Name]])","v":""},{"$f":"IF(Table1[[#This Row],[Gender (M/F)]]=\"\",\"\",Table1[[#This Row],[Gender (M/F)]])","v":""},{"$f":"IF(Table1[[#This Row],[DisAdv (Y/N)]]=\"\",\"\",Table1[[#This Row],[DisAdv (Y/N)]])","v":""},{"$f":"IF(Table1[[#This Row],[SEND (E,K,N)]]=\"\",\"\",Table1[[#This Row],[SEND (E,K,N)]])","v":""},"",{"$f":"IF(LEN(Table6[[#This Row],[Pupil Name]])>0,1,0)","v":0}]
[{"$f":"IF(Table1[[#This Row],[School/Group Name]]=\"\",\"\",Table1[[#This Row],[School/Group Name]])","v":""},{"$f":"IF(Table1[[#This Row],[Pupil Name]]=\"\",\"\",Table1[[#This Row],[Pupil Name]])","v":""},{"$f":"IF(Table1[[#This Row],[Gender (M/F)]]=\"\",\"\",Table1[[#This Row],[Gender (M/F)]])","v":""},{"$f":"IF(Table1[[#This Row],[DisAdv (Y/N)]]=\"\",\"\",Table1[[#This Row],[DisAdv (Y/N)]])","v":""},{"$f":"IF(Table1[[#This Row],[SEND (E,K,N)]]=\"\",\"\",Table1[[#This Row],[SEND (E,K,N)]])","v":""},"",{"$f":"IF(LEN(Table6[[#This Row],[Pupil Name]])>0,1,0)","v":0}]
[{"$f":"IF(Table1[[#This Row],[School/Group Name]]=\"\",\"\",Table1[[#This Row],[School/Group Name]])","v":""},{"$f":"IF(Table1[[#This Row],[Pupil Name]]=\"\",\"\",Table1[[#This Row],[Pupil Name]])","v":""},{"$f":"IF(Table1[[#This Row],[Gender (M/F)]]=\"\",\"\",Table1[[#This Row],[Gender (M/F)]])","v":""},{"$f":"IF(Table1[[#This Row],[DisAdv (Y/N)]]=\"\",\"\",Table1[[#This Row],[DisAdv (Y/N)]])","v":""},{"$f":"IF(Table1[[#This Row],[SEND (E,K,N)]]=\"\",\"\",Table1[[#This Row],[SEND (E,K,N)]])","v":""},"",{"$f":"IF(LEN(Table6[[#This Row],[Pupil Name]])>0,1,0)","v":0}]
[{"$f":"IF(Table1[[#This Row],[School/Group Name]]=\"\",\"\",Table1[[#This Row],[School/Group Name]])","v":""},{"$f":"IF(Table1[[#This Row],[Pupil Name]]=\"\",\"\",Table1[[#This Row],[Pupil Name]])","v":""},{"$f":"IF(Table1[[#This Row],[Gender (M/F)]]=\"\",\"\",Table1[[#This Row],[Gender (M/F)]])","v":""},{"$f":"IF(Table1[[#This Row],[DisAdv (Y/N)]]=\"\",\"\",Table1[[#This Row],[DisAdv (Y/N)]])","v":""},{"$f":"IF(Table1[[#This Row],[SEND (E,K,N)]]=\"\",\"\",Table1[[#This Row],[SEND (E,K,N)]])","v":""},"",{"$f":"IF(LEN(Table6[[#This Row],[Pupil Name]])>0,1,0)","v":0}]
[{"$f":"IF(Table1[[#This Row],[School/Group Name]]=\"\",\"\",Table1[[#This Row],[School/Group Name]])","v":""},{"$f":"IF(Table1[[#This Row],[Pupil Name]]=\"\",\"\",Table1[[#This Row],[Pupil Name]])","v":""},{"$f":"IF(Table1[[#This Row],[Gender (M/F)]]=\"\",\"\",Table1[[#This Row],[Gender (M/F)]])","v":""},{"$f":"IF(Table1[[#This Row],[DisAdv (Y/N)]]=\"\",\"\",Table1[[#This Row],[DisAdv (Y/N)]])","v":""},{"$f":"IF(Table1[[#This Row],[SEND (E,K,N)]]=\"\",\"\",Table1[[#This Row],[SEND (E,K,N)]])","v":""},"",{"$f":"IF(LEN(Table6[[#This Row],[Pupil Name]])>0,1,0)","v":0}]
[{"$f":"IF(Table1[[#This Row],[School/Group Name]]=\"\",\"\",Table1[[#This Row],[School/Group Name]])","v":""},{"$f":"IF(Table1[[#This Row],[Pupil Name]]=\"\",\"\",Table1[[#This Row],[Pupil Name]])","v":""},{"$f":"IF(Table1[[#This Row],[Gender (M/F)]]=\"\",\"\",Table1[[#This Row],[Gender (M/F)]])","v":""},{"$f":"IF(Table1[[#This Row],[DisAdv (Y/N)]]=\"\",\"\",Table1[[#This Row],[DisAdv (Y/N)]])","v":""},{"$f":"IF(Table1[[#This Row],[SEND (E,K,N)]]=\"\",\"\",Table1[[#This Row],[SEND (E,K,N)]])","v":""},"",{"$f":"IF(LEN(Table6[[#This Row],[Pupil Name]])>0,1,0)","v":0}]
[{"$f":"IF(Table1[[#This Row],[School/Group Name]]=\"\",\"\",Table1[[#This Row],[School/Group Name]])","v":""},{"$f":"IF(Table1[[#This Row],[Pupil Name]]=\"\",\"\",Table1[[#This Row],[Pupil Name]])","v":""},{"$f":"IF(Table1[[#This Row],[Gender (M/F)]]=\"\",\"\",Table1[[#This Row],[Gender (M/F)]])","v":""},{"$f":"IF(Table1[[#This Row],[DisAdv (Y/N)]]=\"\",\"\",Table1[[#This Row],[DisAdv (Y/N)]])","v":""},{"$f":"IF(Table1[[#This Row],[SEND (E,K,N)]]=\"\",\"\",Table1[[#This Row],[SEND (E,K,N)]])","v":""},"",{"$f":"IF(LEN(Table6[[#This Row],[Pupil Name]])>0,1,0)","v":0}]
[{"$f":"IF(Table1[[#This Row],[School/Group Name]]=\"\",\"\",Table1[[#This Row],[School/Group Name]])","v":""},{"$f":"IF(Table1[[#This Row],[Pupil Name]]=\"\",\"\",Table1[[#This Row],[Pupil Name]])","v":""},{"$f":"IF(Table1[[#This Row],[Gender (M/F)]]=\"\",\"\",Table1[[#This Row],[Gender (M/F)]])","v":""},{"$f":"IF(Table1[[#This Row],[DisAdv (Y/N)]]=\"\",\"\",Table1[[#This Row],[DisAdv (Y/N)]])","v":""},{"$f":"IF(Table1[[#This Row],[SEND (E,K,N)]]=\"\",\"\",Table1[[#This Row],[SEND (E,K,N)]])","v":""},"",{"$f":"IF(LEN(Table6[[#This Row],[Pupil Name]])>0,1,0)","v":0}]
[{"$f":"IF(Table1[[#This Row],[School/Group Name]]=\"\",\"\",Table1[[#This Row],[School/Group Name]])","v":""},{"$f":"IF(Table1[[#This Row],[Pupil Name]]=\"\",\"\",Table1[[#This Row],[Pupil Name]])","v":""},{"$f":"IF(Table1[[#This Row],[Gender (M/F)]]=\"\",\"\",Table1[[#This Row],[Gender (M/F)]])","v":""},{"$f":"IF(Table1[[#This Row],[DisAdv (Y/N)]]=\"\",\"\",Table1[[#This Row],[DisAdv (Y/N)]])","v":""},{"$f":"IF(Table1[[#This Row],[SEND (E,K,N)]]=\"\",\"\",Table1[[#This Row],[SEND (E,K,N)]])","v":""},"",{"$f":"IF(LEN(Table6[[#This Row],[Pupil Name]])>0,1,0)","v":0}]
[{"$f":"IF(Table1[[#This Row],[School/Group Name]]=\"\",\"\",Table1[[#This Row],[School/Group Name]])","v":""},{"$f":"IF(Table1[[#This Row],[Pupil Name]]=\"\",\"\",Table1[[#This Row],[Pupil Name]])","v":""},{"$f":"IF(Table1[[#This Row],[Gender (M/F)]]=\"\",\"\",Table1[[#This Row],[Gender (M/F)]])","v":""},{"$f":"IF(Table1[[#This Row],[DisAdv (Y/N)]]=\"\",\"\",Table1[[#This Row],[DisAdv (Y/N)]])","v":""},{"$f":"IF(Table1[[#This Row],[SEND (E,K,N)]]=\"\",\"\",Table1[[#This Row],[SEND (E,K,N)]])","v":""},"",{"$f":"IF(LEN(Table6[[#This Row],[Pupil Name]])>0,1,0)","v":0}]
[{"$f":"IF(Table1[[#This Row],[School/Group Name]]=\"\",\"\",Table1[[#This Row],[School/Group Name]])","v":""},{"$f":"IF(Table1[[#This Row],[Pupil Name]]=\"\",\"\",Table1[[#This Row],[Pupil Name]])","v":""},{"$f":"IF(Table1[[#This Row],[Gender (M/F)]]=\"\",\"\",Table1[[#This Row],[Gender (M/F)]])","v":""},{"$f":"IF(Table1[[#This Row],[DisAdv (Y/N)]]=\"\",\"\",Table1[[#This Row],[DisAdv (Y/N)]])","v":""},{"$f":"IF(Table1[[#This Row],[SEND (E,K,N)]]=\"\",\"\",Table1[[#This Row],[SEND (E,K,N)]])","v":""},"",{"$f":"IF(LEN(Table6[[#This Row],[Pupil Name]])>0,1,0)","v":0}]
[{"$f":"IF(Table1[[#This Row],[School/Group Name]]=\"\",\"\",Table1[[#This Row],[School/Group Name]])","v":""},{"$f":"IF(Table1[[#This Row],[Pupil Name]]=\"\",\"\",Table1[[#This Row],[Pupil Name]])","v":""},{"$f":"IF(Table1[[#This Row],[Gender (M/F)]]=\"\",\"\",Table1[[#This Row],[Gender (M/F)]])","v":""},{"$f":"IF(Table1[[#This Row],[DisAdv (Y/N)]]=\"\",\"\",Table1[[#This Row],[DisAdv (Y/N)]])","v":""},{"$f":"IF(Table1[[#This Row],[SEND (E,K,N)]]=\"\",\"\",Table1[[#This Row],[SEND (E,K,N)]])","v":""},"",{"$f":"IF(LEN(Table6[[#This Row],[Pupil Name]])>0,1,0)","v":0}]
[{"$f":"IF(Table1[[#This Row],[School/Group Name]]=\"\",\"\",Table1[[#This Row],[School/Group Name]])","v":""},{"$f":"IF(Table1[[#This Row],[Pupil Name]]=\"\",\"\",Table1[[#This Row],[Pupil Name]])","v":""},{"$f":"IF(Table1[[#This Row],[Gender (M/F)]]=\"\",\"\",Table1[[#This Row],[Gender (M/F)]])","v":""},{"$f":"IF(Table1[[#This Row],[DisAdv (Y/N)]]=\"\",\"\",Table1[[#This Row],[DisAdv (Y/N)]])","v":""},{"$f":"IF(Table1[[#This Row],[SEND (E,K,N)]]=\"\",\"\",Table1[[#This Row],[SEND (E,K,N)]])","v":""},"",{"$f":"IF(LEN(Table6[[#This Row],[Pupil Name]])>0,1,0)","v":0}]
[{"$f":"IF(Table1[[#This Row],[School/Group Name]]=\"\",\"\",Table1[[#This Row],[School/Group Name]])","v":""},{"$f":"IF(Table1[[#This Row],[Pupil Name]]=\"\",\"\",Table1[[#This Row],[Pupil Name]])","v":""},{"$f":"IF(Table1[[#This Row],[Gender (M/F)]]=\"\",\"\",Table1[[#This Row],[Gender (M/F)]])","v":""},{"$f":"IF(Table1[[#This Row],[DisAdv (Y/N)]]=\"\",\"\",Table1[[#This Row],[DisAdv (Y/N)]])","v":""},{"$f":"IF(Table1[[#This Row],[SEND (E,K,N)]]=\"\",\"\",Table1[[#This Row],[SEND (E,K,N)]])","v":""},"",{"$f":"IF(LEN(Table6[[#This Row],[Pupil Name]])>0,1,0)","v":0}]
[{"$f":"IF(Table1[[#This Row],[School/Group Name]]=\"\",\"\",Table1[[#This Row],[School/Group Name]])","v":""},{"$f":"IF(Table1[[#This Row],[Pupil Name]]=\"\",\"\",Table1[[#This Row],[Pupil Name]])","v":""},{"$f":"IF(Table1[[#This Row],[Gender (M/F)]]=\"\",\"\",Table1[[#This Row],[Gender (M/F)]])","v":""},{"$f":"IF(Table1[[#This Row],[DisAdv (Y/N)]]=\"\",\"\",Table1[[#This Row],[DisAdv (Y/N)]])","v":""},{"$f":"IF(Table1[[#This Row],[SEND (E,K,N)]]=\"\",\"\",Table1[[#This Row],[SEND (E,K,N)]])","v":""},"",{"$f":"IF(LEN(Table6[[#This Row],[Pupil Name]])>0,1,0)","v":0}]
[{"$f":"IF(Table1[[#This Row],[School/Group Name]]=\"\",\"\",Table1[[#This Row],[School/Group Name]])","v":""},{"$f":"IF(Table1[[#This Row],[Pupil Name]]=\"\",\"\",Table1[[#This Row],[Pupil Name]])","v":""},{"$f":"IF(Table1[[#This Row],[Gender (M/F)]]=\"\",\"\",Table1[[#This Row],[Gender (M/F)]])","v":""},{"$f":"IF(Table1[[#This Row],[DisAdv (Y/N)]]=\"\",\"\",Table1[[#This Row],[DisAdv (Y/N)]])","v":""},{"$f":"IF(Table1[[#This Row],[SEND (E,K,N)]]=\"\",\"\",Table1[[#This Row],[SEND (E,K,N)]])","v":""},"",{"$f":"IF(LEN(Table6[[#This Row],[Pupil Name]])>0,1,0)","v":0}]
[{"$f":"IF(Table1[[#This Row],[School/Group Name]]=\"\",\"\",Table1[[#This Row],[School/Group Name]])","v":""},{"$f":"IF(Table1[[#This Row],[Pupil Name]]=\"\",\"\",Table1[[#This Row],[Pupil Name]])","v":""},{"$f":"IF(Table1[[#This Row],[Gender (M/F)]]=\"\",\"\",Table1[[#This Row],[Gender (M/F)]])","v":""},{"$f":"IF(Table1[[#This Row],[DisAdv (Y/N)]]=\"\",\"\",Table1[[#This Row],[DisAdv (Y/N)]])","v":""},{"$f":"IF(Table1[[#This Row],[SEND (E,K,N)]]=\"\",\"\",Table1[[#This Row],[SEND (E,K,N)]])","v":""},"",{"$f":"IF(LEN(Table6[[#This Row],[Pupil Name]])>0,1,0)","v":0}]
[{"$f":"IF(Table1[[#This Row],[School/Group Name]]=\"\",\"\",Table1[[#This Row],[School/Group Name]])","v":""},{"$f":"IF(Table1[[#This Row],[Pupil Name]]=\"\",\"\",Table1[[#This Row],[Pupil Name]])","v":""},{"$f":"IF(Table1[[#This Row],[Gender (M/F)]]=\"\",\"\",Table1[[#This Row],[Gender (M/F)]])","v":""},{"$f":"IF(Table1[[#This Row],[DisAdv (Y/N)]]=\"\",\"\",Table1[[#This Row],[DisAdv (Y/N)]])","v":""},{"$f":"IF(Table1[[#This Row],[SEND (E,K,N)]]=\"\",\"\",Table1[[#This Row],[SEND (E,K,N)]])","v":""},"",{"$f":"IF(LEN(Table6[[#This Row],[Pupil Name]])>0,1,0)","v":0}]
[{"$f":"IF(Table1[[#This Row],[School/Group Name]]=\"\",\"\",Table1[[#This Row],[School/Group Name]])","v":""},{"$f":"IF(Table1[[#This Row],[Pupil Name]]=\"\",\"\",Table1[[#This Row],[Pupil Name]])","v":""},{"$f":"IF(Table1[[#This Row],[Gender (M/F)]]=\"\",\"\",Table1[[#This Row],[Gender (M/F)]])","v":""},{"$f":"IF(Table1[[#This Row],[DisAdv (Y/N)]]=\"\",\"\",Table1[[#This Row],[DisAdv (Y/N)]])","v":""},{"$f":"IF(Table1[[#This Row],[SEND (E,K,N)]]=\"\",\"\",Table1[[#This Row],[SEND (E,K,N)]])","v":""},"",{"$f":"IF(LEN(Table6[[#This Row],[Pupil Name]])>0,1,0)","v":0}]
[{"$f":"IF(Table1[[#This Row],[School/Group Name]]=\"\",\"\",Table1[[#This Row],[School/Group Name]])","v":""},{"$f":"IF(Table1[[#This Row],[Pupil Name]]=\"\",\"\",Table1[[#This Row],[Pupil Name]])","v":""},{"$f":"IF(Table1[[#This Row],[Gender (M/F)]]=\"\",\"\",Table1[[#This Row],[Gender (M/F)]])","v":""},{"$f":"IF(Table1[[#This Row],[DisAdv (Y/N)]]=\"\",\"\",Table1[[#This Row],[DisAdv (Y/N)]])","v":""},{"$f":"IF(Table1[[#This Row],[SEND (E,K,N)]]=\"\",\"\",Table1[[#This Row],[SEND (E,K,N)]])","v":""},"",{"$f":"IF(LEN(Table6[[#This Row],[Pupil Name]])>0,1,0)","v":0}]
[{"$f":"IF(Table1[[#This Row],[School/Group Name]]=\"\",\"\",Table1[[#This Row],[School/Group Name]])","v":""},{"$f":"IF(Table1[[#This Row],[Pupil Name]]=\"\",\"\",Table1[[#This Row],[Pupil Name]])","v":""},{"$f":"IF(Table1[[#This Row],[Gender (M/F)]]=\"\",\"\",Table1[[#This Row],[Gender (M/F)]])","v":""},{"$f":"IF(Table1[[#This Row],[DisAdv (Y/N)]]=\"\",\"\",Table1[[#This Row],[DisAdv (Y/N)]])","v":""},{"$f":"IF(Table1[[#This Row],[SEND (E,K,N)]]=\"\",\"\",Table1[[#This Row],[SEND (E,K,N)]])","v":""},"",{"$f":"IF(LEN(Table6[[#This Row],[Pupil Name]])>0,1,0)","v":0}]
[{"$f":"IF(Table1[[#This Row],[School/Group Name]]=\"\",\"\",Table1[[#This Row],[School/Group Name]])","v":""},{"$f":"IF(Table1[[#This Row],[Pupil Name]]=\"\",\"\",Table1[[#This Row],[Pupil Name]])","v":""},{"$f":"IF(Table1[[#This Row],[Gender (M/F)]]=\"\",\"\",Table1[[#This Row],[Gender (M/F)]])","v":""},{"$f":"IF(Table1[[#This Row],[DisAdv (Y/N)]]=\"\",\"\",Table1[[#This Row],[DisAdv (Y/N)]])","v":""},{"$f":"IF(Table1[[#This Row],[SEND (E,K,N)]]=\"\",\"\",Table1[[#This Row],[SEND (E,K,N)]])","v":""},"",{"$f":"IF(LEN(Table6[[#This Row],[Pupil Name]])>0,1,0)","v":0}]
[{"$f":"IF(Table1[[#This Row],[School/Group Name]]=\"\",\"\",Table1[[#This Row],[School/Group Name]])","v":""},{"$f":"IF(Table1[[#This Row],[Pupil Name]]=\"\",\"\",Table1[[#This Row],[Pupil Name]])","v":""},{"$f":"IF(Table1[[#This Row],[Gender (M/F)]]=\"\",\"\",Table1[[#This Row],[Gender (M/F)]])","v":""},{"$f":"IF(Table1[[#This Row],[DisAdv (Y/N)]]=\"\",\"\",Table1[[#This Row],[DisAdv (Y/N)]])","v":""},{"$f":"IF(Table1[[#This Row],[SEND (E,K,N)]]=\"\",\"\",Table1[[#This Row],[SEND (E,K,N)]])","v":""},"",{"$f":"IF(LEN(Table6[[#This Row],[Pupil Name]])>0,1,0)","v":0}]
[{"$f":"IF(Table1[[#This Row],[School/Group Name]]=\"\",\"\",Table1[[#This Row],[School/Group Name]])","v":""},{"$f":"IF(Table1[[#This Row],[Pupil Name]]=\"\",\"\",Table1[[#This Row],[Pupil Name]])","v":""},{"$f":"IF(Table1[[#This Row],[Gender (M/F)]]=\"\",\"\",Table1[[#This Row],[Gender (M/F)]])","v":""},{"$f":"IF(Table1[[#This Row],[DisAdv (Y/N)]]=\"\",\"\",Table1[[#This Row],[DisAdv (Y/N)]])","v":""},{"$f":"IF(Table1[[#This Row],[SEND (E,K,N)]]=\"\",\"\",Table1[[#This Row],[SEND (E,K,N)]])","v":""},"",{"$f":"IF(LEN(Table6[[#This Row],[Pupil Name]])>0,1,0)","v":0}]
[{"$f":"IF(Table1[[#This Row],[School/Group Name]]=\"\",\"\",Table1[[#This Row],[School/Group Name]])","v":""},{"$f":"IF(Table1[[#This Row],[Pupil Name]]=\"\",\"\",Table1[[#This Row],[Pupil Name]])","v":""},{"$f":"IF(Table1[[#This Row],[Gender (M/F)]]=\"\",\"\",Table1[[#This Row],[Gender (M/F)]])","v":""},{"$f":"IF(Table1[[#This Row],[DisAdv (Y/N)]]=\"\",\"\",Table1[[#This Row],[DisAdv (Y/N)]])","v":""},{"$f":"IF(Table1[[#This Row],[SEND (E,K,N)]]=\"\",\"\",Table1[[#This Row],[SEND (E,K,N)]])","v":""},"",{"$f":"IF(LEN(Table6[[#This Row],[Pupil Name]])>0,1,0)","v":0}]
[{"$f":"IF(Table1[[#This Row],[School/Group Name]]=\"\",\"\",Table1[[#This Row],[School/Group Name]])","v":""},{"$f":"IF(Table1[[#This Row],[Pupil Name]]=\"\",\"\",Table1[[#This Row],[Pupil Name]])","v":""},{"$f":"IF(Table1[[#This Row],[Gender (M/F)]]=\"\",\"\",Table1[[#This Row],[Gender (M/F)]])","v":""},{"$f":"IF(Table1[[#This Row],[DisAdv (Y/N)]]=\"\",\"\",Table1[[#This Row],[DisAdv (Y/N)]])","v":""},{"$f":"IF(Table1[[#This Row],[SEND (E,K,N)]]=\"\",\"\",Table1[[#This Row],[SEND (E,K,N)]])","v":""},"",{"$f":"IF(LEN(Table6[[#This Row],[Pupil Name]])>0,1,0)","v":0}]
[{"$f":"IF(Table1[[#This Row],[School/Group Name]]=\"\",\"\",Table1[[#This Row],[School/Group Name]])","v":""},{"$f":"IF(Table1[[#This Row],[Pupil Name]]=\"\",\"\",Table1[[#This Row],[Pupil Name]])","v":""},{"$f":"IF(Table1[[#This Row],[Gender (M/F)]]=\"\",\"\",Table1[[#This Row],[Gender (M/F)]])","v":""},{"$f":"IF(Table1[[#This Row],[DisAdv (Y/N)]]=\"\",\"\",Table1[[#This Row],[DisAdv (Y/N)]])","v":""},{"$f":"IF(Table1[[#This Row],[SEND (E,K,N)]]=\"\",\"\",Table1[[#This Row],[SEND (E,K,N)]])","v":""},"",{"$f":"IF(LEN(Table6[[#This Row],[Pupil Name]])>0,1,0)","v":0}]
[{"$f":"IF(Table1[[#This Row],[School/Group Name]]=\"\",\"\",Table1[[#This Row],[School/Group Name]])","v":""},{"$f":"IF(Table1[[#This Row],[Pupil Name]]=\"\",\"\",Table1[[#This Row],[Pupil Name]])","v":""},{"$f":"IF(Table1[[#This Row],[Gender (M/F)]]=\"\",\"\",Table1[[#This Row],[Gender (M/F)]])","v":""},{"$f":"IF(Table1[[#This Row],[DisAdv (Y/N)]]=\"\",\"\",Table1[[#This Row],[DisAdv (Y/N)]])","v":""},{"$f":"IF(Table1[[#This Row],[SEND (E,K,N)]]=\"\",\"\",Table1[[#This Row],[SEND (E,K,N)]])","v":""},"",{"$f":"IF(LEN(Table6[[#This Row],[Pupil Name]])>0,1,0)","v":0}]
[{"$f":"IF(Table1[[#This Row],[School/Group Name]]=\"\",\"\",Table1[[#This Row],[School/Group Name]])","v":""},{"$f":"IF(Table1[[#This Row],[Pupil Name]]=\"\",\"\",Table1[[#This Row],[Pupil Name]])","v":""},{"$f":"IF(Table1[[#This Row],[Gender (M/F)]]=\"\",\"\",Table1[[#This Row],[Gender (M/F)]])","v":""},{"$f":"IF(Table1[[#This Row],[DisAdv (Y/N)]]=\"\",\"\",Table1[[#This Row],[DisAdv (Y/N)]])","v":""},{"$f":"IF(Table1[[#This Row],[SEND (E,K,N)]]=\"\",\"\",Table1[[#This Row],[SEND (E,K,N)]])","v":""},"",{"$f":"IF(LEN(Table6[[#This Row],[Pupil Name]])>0,1,0)","v":0}]
[{"$f":"IF(Table1[[#This Row],[School/Group Name]]=\"\",\"\",Table1[[#This Row],[School/Group Name]])","v":""},{"$f":"IF(Table1[[#This Row],[Pupil Name]]=\"\",\"\",Table1[[#This Row],[Pupil Name]])","v":""},{"$f":"IF(Table1[[#This Row],[Gender (M/F)]]=\"\",\"\",Table1[[#This Row],[Gender (M/F)]])","v":""},{"$f":"IF(Table1[[#This Row],[DisAdv (Y/N)]]=\"\",\"\",Table1[[#This Row],[DisAdv (Y/N)]])","v":""},{"$f":"IF(Table1[[#This Row],[SEND (E,K,N)]]=\"\",\"\",Table1[[#This Row],[SEND (E,K,N)]])","v":""},"",{"$f":"IF(LEN(Table6[[#This Row],[Pupil Name]])>0,1,0)","v":0}]
[{"$f":"IF(Table1[[#This Row],[School/Group Name]]=\"\",\"\",Table1[[#This Row],[School/Group Name]])","v":""},{"$f":"IF(Table1[[#This Row],[Pupil Name]]=\"\",\"\",Table1[[#This Row],[Pupil Name]])","v":""},{"$f":"IF(Table1[[#This Row],[Gender (M/F)]]=\"\",\"\",Table1[[#This Row],[Gender (M/F)]])","v":""},{"$f":"IF(Table1[[#This Row],[DisAdv (Y/N)]]=\"\",\"\",Table1[[#This Row],[DisAdv (Y/N)]])","v":""},{"$f":"IF(Table1[[#This Row],[SEND (E,K,N)]]=\"\",\"\",Table1[[#This Row],[SEND (E,K,N)]])","v":""},"",{"$f":"IF(LEN(Table6[[#This Row],[Pupil Name]])>0,1,0)","v":0}]
[{"$f":"IF(Table1[[#This Row],[School/Group Name]]=\"\",\"\",Table1[[#This Row],[School/Group Name]])","v":""},{"$f":"IF(Table1[[#This Row],[Pupil Name]]=\"\",\"\",Table1[[#This Row],[Pupil Name]])","v":""},{"$f":"IF(Table1[[#This Row],[Gender (M/F)]]=\"\",\"\",Table1[[#This Row],[Gender (M/F)]])","v":""},{"$f":"IF(Table1[[#This Row],[DisAdv (Y/N)]]=\"\",\"\",Table1[[#This Row],[DisAdv (Y/N)]])","v":""},{"$f":"IF(Table1[[#This Row],[SEND (E,K,N)]]=\"\",\"\",Table1[[#This Row],[SEND (E,K,N)]])","v":""},"",{"$f":"IF(LEN(Table6[[#This Row],[Pupil Name]])>0,1,0)","v":0}]
[{"$f":"IF(Table1[[#This Row],[School/Group Name]]=\"\",\"\",Table1[[#This Row],[School/Group Name]])","v":""},{"$f":"IF(Table1[[#This Row],[Pupil Name]]=\"\",\"\",Table1[[#This Row],[Pupil Name]])","v":""},{"$f":"IF(Table1[[#This Row],[Gender (M/F)]]=\"\",\"\",Table1[[#This Row],[Gender (M/F)]])","v":""},{"$f":"IF(Table1[[#This Row],[DisAdv (Y/N)]]=\"\",\"\",Table1[[#This Row],[DisAdv (Y/N)]])","v":""},{"$f":"IF(Table1[[#This Row],[SEND (E,K,N)]]=\"\",\"\",Table1[[#This Row],[SEND (E,K,N)]])","v":""},"",{"$f":"IF(LEN(Table6[[#This Row],[Pupil Name]])>0,1,0)","v":0}]
[{"$f":"IF(Table1[[#This Row],[School/Group Name]]=\"\",\"\",Table1[[#This Row],[School/Group Name]])","v":""},{"$f":"IF(Table1[[#This Row],[Pupil Name]]=\"\",\"\",Table1[[#This Row],[Pupil Name]])","v":""},{"$f":"IF(Table1[[#This Row],[Gender (M/F)]]=\"\",\"\",Table1[[#This Row],[Gender (M/F)]])","v":""},{"$f":"IF(Table1[[#This Row],[DisAdv (Y/N)]]=\"\",\"\",Table1[[#This Row],[DisAdv (Y/N)]])","v":""},{"$f":"IF(Table1[[#This Row],[SEND (E,K,N)]]=\"\",\"\",Table1[[#This Row],[SEND (E,K,N)]])","v":""},"",{"$f":"IF(LEN(Table6[[#This Row],[Pupil Name]])>0,1,0)","v":0}]
[{"$f":"IF(Table1[[#This Row],[School/Group Name]]=\"\",\"\",Table1[[#This Row],[School/Group Name]])","v":""},{"$f":"IF(Table1[[#This Row],[Pupil Name]]=\"\",\"\",Table1[[#This Row],[Pupil Name]])","v":""},{"$f":"IF(Table1[[#This Row],[Gender (M/F)]]=\"\",\"\",Table1[[#This Row],[Gender (M/F)]])","v":""},{"$f":"IF(Table1[[#This Row],[DisAdv (Y/N)]]=\"\",\"\",Table1[[#This Row],[DisAdv (Y/N)]])","v":""},{"$f":"IF(Table1[[#This Row],[SEND (E,K,N)]]=\"\",\"\",Table1[[#This Row],[SEND (E,K,N)]])","v":""},"",{"$f":"IF(LEN(Table6[[#This Row],[Pupil Name]])>0,1,0)","v":0}]
[{"$f":"IF(Table1[[#This Row],[School/Group Name]]=\"\",\"\",Table1[[#This Row],[School/Group Name]])","v":""},{"$f":"IF(Table1[[#This Row],[Pupil Name]]=\"\",\"\",Table1[[#This Row],[Pupil Name]])","v":""},{"$f":"IF(Table1[[#This Row],[Gender (M/F)]]=\"\",\"\",Table1[[#This Row],[Gender (M/F)]])","v":""},{"$f":"IF(Table1[[#This Row],[DisAdv (Y/N)]]=\"\",\"\",Table1[[#This Row],[DisAdv (Y/N)]])","v":""},{"$f":"IF(Table1[[#This Row],[SEND (E,K,N)]]=\"\",\"\",Table1[[#This Row],[SEND (E,K,N)]])","v":""},"",{"$f":"IF(LEN(Table6[[#This Row],[Pupil Name]])>0,1,0)","v":0}]
[{"$f":"IF(Table1[[#This Row],[School/Group Name]]=\"\",\"\",Table1[[#This Row],[School/Group Name]])","v":""},{"$f":"IF(Table1[[#This Row],[Pupil Name]]=\"\",\"\",Table1[[#This Row],[Pupil Name]])","v":""},{"$f":"IF(Table1[[#This Row],[Gender (M/F)]]=\"\",\"\",Table1[[#This Row],[Gender (M/F)]])","v":""},{"$f":"IF(Table1[[#This Row],[DisAdv (Y/N)]]=\"\",\"\",Table1[[#This Row],[DisAdv (Y/N)]])","v":""},{"$f":"IF(Table1[[#This Row],[SEND (E,K,N)]]=\"\",\"\",Table1[[#This Row],[SEND (E,K,N)]])","v":""},"",{"$f":"IF(LEN(Table6[[#This Row],[Pupil Name]])>0,1,0)","v":0}]
[{"$f":"IF(Table1[[#This Row],[School/Group Name]]=\"\",\"\",Table1[[#This Row],[School/Group Name]])","v":""},{"$f":"IF(Table1[[#This Row],[Pupil Name]]=\"\",\"\",Table1[[#This Row],[Pupil Name]])","v":""},{"$f":"IF(Table1[[#This Row],[Gender (M/F)]]=\"\",\"\",Table1[[#This Row],[Gender (M/F)]])","v":""},{"$f":"IF(Table1[[#This Row],[DisAdv (Y/N)]]=\"\",\"\",Table1[[#This Row],[DisAdv (Y/N)]])","v":""},{"$f":"IF(Table1[[#This Row],[SEND (E,K,N)]]=\"\",\"\",Table1[[#This Row],[SEND (E,K,N)]])","v":""},"",{"$f":"IF(LEN(Table6[[#This Row],[Pupil Name]])>0,1,0)","v":0}]
[{"$f":"IF(Table1[[#This Row],[School/Group Name]]=\"\",\"\",Table1[[#This Row],[School/Group Name]])","v":""},{"$f":"IF(Table1[[#This Row],[Pupil Name]]=\"\",\"\",Table1[[#This Row],[Pupil Name]])","v":""},{"$f":"IF(Table1[[#This Row],[Gender (M/F)]]=\"\",\"\",Table1[[#This Row],[Gender (M/F)]])","v":""},{"$f":"IF(Table1[[#This Row],[DisAdv (Y/N)]]=\"\",\"\",Table1[[#This Row],[DisAdv (Y/N)]])","v":""},{"$f":"IF(Table1[[#This Row],[SEND (E,K,N)]]=\"\",\"\",Table1[[#This Row],[SEND (E,K,N)]])","v":""},"",{"$f":"IF(LEN(Table6[[#This Row],[Pupil Name]])>0,1,0)","v":0}]
[{"$f":"IF(Table1[[#This Row],[School/Group Name]]=\"\",\"\",Table1[[#This Row],[School/Group Name]])","v":""},{"$f":"IF(Table1[[#This Row],[Pupil Name]]=\"\",\"\",Table1[[#This Row],[Pupil Name]])","v":""},{"$f":"IF(Table1[[#This Row],[Gender (M/F)]]=\"\",\"\",Table1[[#This Row],[Gender (M/F)]])","v":""},{"$f":"IF(Table1[[#This Row],[DisAdv (Y/N)]]=\"\",\"\",Table1[[#This Row],[DisAdv (Y/N)]])","v":""},{"$f":"IF(Table1[[#This Row],[SEND (E,K,N)]]=\"\",\"\",Table1[[#This Row],[SEND (E,K,N)]])","v":""},"",{"$f":"IF(LEN(Table6[[#This Row],[Pupil Name]])>0,1,0)","v":0}]
[{"$f":"IF(Table1[[#This Row],[School/Group Name]]=\"\",\"\",Table1[[#This Row],[School/Group Name]])","v":""},{"$f":"IF(Table1[[#This Row],[Pupil Name]]=\"\",\"\",Table1[[#This Row],[Pupil Name]])","v":""},{"$f":"IF(Table1[[#This Row],[Gender (M/F)]]=\"\",\"\",Table1[[#This Row],[Gender (M/F)]])","v":""},{"$f":"IF(Table1[[#This Row],[DisAdv (Y/N)]]=\"\",\"\",Table1[[#This Row],[DisAdv (Y/N)]])","v":""},{"$f":"IF(Table1[[#This Row],[SEND (E,K,N)]]=\"\",\"\",Table1[[#This Row],[SEND (E,K,N)]])","v":""},"",{"$f":"IF(LEN(Table6[[#This Row],[Pupil Name]])>0,1,0)","v":0}]
[{"$f":"IF(Table1[[#This Row],[School/Group Name]]=\"\",\"\",Table1[[#This Row],[School/Group Name]])","v":""},{"$f":"IF(Table1[[#This Row],[Pupil Name]]=\"\",\"\",Table1[[#This Row],[Pupil Name]])","v":""},{"$f":"IF(Table1[[#This Row],[Gender (M/F)]]=\"\",\"\",Table1[[#This Row],[Gender (M/F)]])","v":""},{"$f":"IF(Table1[[#This Row],[DisAdv (Y/N)]]=\"\",\"\",Table1[[#This Row],[DisAdv (Y/N)]])","v":""},{"$f":"IF(Table1[[#This Row],[SEND (E,K,N)]]=\"\",\"\",Table1[[#This Row],[SEND (E,K,N)]])","v":""},"",{"$f":"IF(LEN(Table6[[#This Row],[Pupil Name]])>0,1,0)","v":0}]
[{"$f":"IF(Table1[[#This Row],[School/Group Name]]=\"\",\"\",Table1[[#This Row],[School/Group Name]])","v":""},{"$f":"IF(Table1[[#This Row],[Pupil Name]]=\"\",\"\",Table1[[#This Row],[Pupil Name]])","v":""},{"$f":"IF(Table1[[#This Row],[Gender (M/F)]]=\"\",\"\",Table1[[#This Row],[Gender (M/F)]])","v":""},{"$f":"IF(Table1[[#This Row],[DisAdv (Y/N)]]=\"\",\"\",Table1[[#This Row],[DisAdv (Y/N)]])","v":""},{"$f":"IF(Table1[[#This Row],[SEND (E,K,N)]]=\"\",\"\",Table1[[#This Row],[SEND (E,K,N)]])","v":""},"",{"$f":"IF(LEN(Table6[[#This Row],[Pupil Name]])>0,1,0)","v":0}]
[{"$f":"IF(Table1[[#This Row],[School/Group Name]]=\"\",\"\",Table1[[#This Row],[School/Group Name]])","v":""},{"$f":"IF(Table1[[#This Row],[Pupil Name]]=\"\",\"\",Table1[[#This Row],[Pupil Name]])","v":""},{"$f":"IF(Table1[[#This Row],[Gender (M/F)]]=\"\",\"\",Table1[[#This Row],[Gender (M/F)]])","v":""},{"$f":"IF(Table1[[#This Row],[DisAdv (Y/N)]]=\"\",\"\",Table1[[#This Row],[DisAdv (Y/N)]])","v":""},{"$f":"IF(Table1[[#This Row],[SEND (E,K,N)]]=\"\",\"\",Table1[[#This Row],[SEND (E,K,N)]])","v":""},"",{"$f":"IF(LEN(Table6[[#This Row],[Pupil Name]])>0,1,0)","v":0}]
[{"$f":"IF(Table1[[#This Row],[School/Group Name]]=\"\",\"\",Table1[[#This Row],[School/Group Name]])","v":""},{"$f":"IF(Table1[[#This Row],[Pupil Name]]=\"\",\"\",Table1[[#This Row],[Pupil Name]])","v":""},{"$f":"IF(Table1[[#This Row],[Gender (M/F)]]=\"\",\"\",Table1[[#This Row],[Gender (M/F)]])","v":""},{"$f":"IF(Table1[[#This Row],[DisAdv (Y/N)]]=\"\",\"\",Table1[[#This Row],[DisAdv (Y/N)]])","v":""},{"$f":"IF(Table1[[#This Row],[SEND (E,K,N)]]=\"\",\"\",Table1[[#This Row],[SEND (E,K,N)]])","v":""},"",{"$f":"IF(LEN(Table6[[#This Row],[Pupil Name]])>0,1,0)","v":0}]
[{"$f":"IF(Table1[[#This Row],[School/Group Name]]=\"\",\"\",Table1[[#This Row],[School/Group Name]])","v":""},{"$f":"IF(Table1[[#This Row],[Pupil Name]]=\"\",\"\",Table1[[#This Row],[Pupil Name]])","v":""},{"$f":"IF(Table1[[#This Row],[Gender (M/F)]]=\"\",\"\",Table1[[#This Row],[Gender (M/F)]])","v":""},{"$f":"IF(Table1[[#This Row],[DisAdv (Y/N)]]=\"\",\"\",Table1[[#This Row],[DisAdv (Y/N)]])","v":""},{"$f":"IF(Table1[[#This Row],[SEND (E,K,N)]]=\"\",\"\",Table1[[#This Row],[SEND (E,K,N)]])","v":""},"",{"$f":"IF(LEN(Table6[[#This Row],[Pupil Name]])>0,1,0)","v":0}]
[{"$f":"IF(Table1[[#This Row],[School/Group Name]]=\"\",\"\",Table1[[#This Row],[School/Group Name]])","v":""},{"$f":"IF(Table1[[#This Row],[Pupil Name]]=\"\",\"\",Table1[[#This Row],[Pupil Name]])","v":""},{"$f":"IF(Table1[[#This Row],[Gender (M/F)]]=\"\",\"\",Table1[[#This Row],[Gender (M/F)]])","v":""},{"$f":"IF(Table1[[#This Row],[DisAdv (Y/N)]]=\"\",\"\",Table1[[#This Row],[DisAdv (Y/N)]])","v":""},{"$f":"IF(Table1[[#This Row],[SEND (E,K,N)]]=\"\",\"\",Table1[[#This Row],[SEND (E,K,N)]])","v":""},"",{"$f":"IF(LEN(Table6[[#This Row],[Pupil Name]])>0,1,0)","v":0}]
[{"$f":"IF(Table1[[#This Row],[School/Group Name]]=\"\",\"\",Table1[[#This Row],[School/Group Name]])","v":""},{"$f":"IF(Table1[[#This Row],[Pupil Name]]=\"\",\"\",Table1[[#This Row],[Pupil Name]])","v":""},{"$f":"IF(Table1[[#This Row],[Gender (M/F)]]=\"\",\"\",Table1[[#This Row],[Gender (M/F)]])","v":""},{"$f":"IF(Table1[[#This Row],[DisAdv (Y/N)]]=\"\",\"\",Table1[[#This Row],[DisAdv (Y/N)]])","v":""},{"$f":"IF(Table1[[#This Row],[SEND (E,K,N)]]=\"\",\"\",Table1[[#This Row],[SEND (E,K,N)]])","v":""},"",{"$f":"IF(LEN(Table6[[#This Row],[Pupil Name]])>0,1,0)","v":0}]
[{"$f":"IF(Table1[[#This Row],[School/Group Name]]=\"\",\"\",Table1[[#This Row],[School/Group Name]])","v":""},{"$f":"IF(Table1[[#This Row],[Pupil Name]]=\"\",\"\",Table1[[#This Row],[Pupil Name]])","v":""},{"$f":"IF(Table1[[#This Row],[Gender (M/F)]]=\"\",\"\",Table1[[#This Row],[Gender (M/F)]])","v":""},{"$f":"IF(Table1[[#This Row],[DisAdv (Y/N)]]=\"\",\"\",Table1[[#This Row],[DisAdv (Y/N)]])","v":""},{"$f":"IF(Table1[[#This Row],[SEND (E,K,N)]]=\"\",\"\",Table1[[#This Row],[SEND (E,K,N)]])","v":""},"",{"$f":"IF(LEN(Table6[[#This Row],[Pupil Name]])>0,1,0)","v":0}]
[{"$f":"IF(Table1[[#This Row],[School/Group Name]]=\"\",\"\",Table1[[#This Row],[School/Group Name]])","v":""},{"$f":"IF(Table1[[#This Row],[Pupil Name]]=\"\",\"\",Table1[[#This Row],[Pupil Name]])","v":""},{"$f":"IF(Table1[[#This Row],[Gender (M/F)]]=\"\",\"\",Table1[[#This Row],[Gender (M/F)]])","v":""},{"$f":"IF(Table1[[#This Row],[DisAdv (Y/N)]]=\"\",\"\",Table1[[#This Row],[DisAdv (Y/N)]])","v":""},{"$f":"IF(Table1[[#This Row],[SEND (E,K,N)]]=\"\",\"\",Table1[[#This Row],[SEND (E,K,N)]])","v":""},"",{"$f":"IF(LEN(Table6[[#This Row],[Pupil Name]])>0,1,0)","v":0}]
[{"$f":"IF(Table1[[#This Row],[School/Group Name]]=\"\",\"\",Table1[[#This Row],[School/Group Name]])","v":""},{"$f":"IF(Table1[[#This Row],[Pupil Name]]=\"\",\"\",Table1[[#This Row],[Pupil Name]])","v":""},{"$f":"IF(Table1[[#This Row],[Gender (M/F)]]=\"\",\"\",Table1[[#This Row],[Gender (M/F)]])","v":""},{"$f":"IF(Table1[[#This Row],[DisAdv (Y/N)]]=\"\",\"\",Table1[[#This Row],[DisAdv (Y/N)]])","v":""},{"$f":"IF(Table1[[#This Row],[SEND (E,K,N)]]=\"\",\"\",Table1[[#This Row],[SEND (E,K,N)]])","v":""},{"$f":"IF(H263=\"\",\"\",(SUM(H263:BE263)))","v":""},{"$f":"IF(LEN(Table6[[#This Row],[Pupil Name]])>0,1,0)","v":0}]
[{"$f":"IF(Table1[[#This Row],[School/Group Name]]=\"\",\"\",Table1[[#This Row],[School/Group Name]])","v":""},{"$f":"IF(Table1[[#This Row],[Pupil Name]]=\"\",\"\",Table1[[#This Row],[Pupil Name]])","v":""},{"$f":"IF(Table1[[#This Row],[Gender (M/F)]]=\"\",\"\",Table1[[#This Row],[Gender (M/F)]])","v":""},{"$f":"IF(Table1[[#This Row],[DisAdv (Y/N)]]=\"\",\"\",Table1[[#This Row],[DisAdv (Y/N)]])","v":""},{"$f":"IF(Table1[[#This Row],[SEND (E,K,N)]]=\"\",\"\",Table1[[#This Row],[SEND (E,K,N)]])","v":""},"",{"$f":"IF(LEN(Table6[[#This Row],[Pupil Name]])>0,1,0)","v":0}]
[{"$f":"IF(Table1[[#This Row],[School/Group Name]]=\"\",\"\",Table1[[#This Row],[School/Group Name]])","v":""},{"$f":"IF(Table1[[#This Row],[Pupil Name]]=\"\",\"\",Table1[[#This Row],[Pupil Name]])","v":""},{"$f":"IF(Table1[[#This Row],[Gender (M/F)]]=\"\",\"\",Table1[[#This Row],[Gender (M/F)]])","v":""},{"$f":"IF(Table1[[#This Row],[DisAdv (Y/N)]]=\"\",\"\",Table1[[#This Row],[DisAdv (Y/N)]])","v":""},{"$f":"IF(Table1[[#This Row],[SEND (E,K,N)]]=\"\",\"\",Table1[[#This Row],[SEND (E,K,N)]])","v":""},"",{"$f":"IF(LEN(Table6[[#This Row],[Pupil Name]])>0,1,0)","v":0}]
[{"$f":"IF(Table1[[#This Row],[School/Group Name]]=\"\",\"\",Table1[[#This Row],[School/Group Name]])","v":""},{"$f":"IF(Table1[[#This Row],[Pupil Name]]=\"\",\"\",Table1[[#This Row],[Pupil Name]])","v":""},{"$f":"IF(Table1[[#This Row],[Gender (M/F)]]=\"\",\"\",Table1[[#This Row],[Gender (M/F)]])","v":""},{"$f":"IF(Table1[[#This Row],[DisAdv (Y/N)]]=\"\",\"\",Table1[[#This Row],[DisAdv (Y/N)]])","v":""},{"$f":"IF(Table1[[#This Row],[SEND (E,K,N)]]=\"\",\"\",Table1[[#This Row],[SEND (E,K,N)]])","v":""},"",{"$f":"IF(LEN(Table6[[#This Row],[Pupil Name]])>0,1,0)","v":0}]
[{"$f":"IF(Table1[[#This Row],[School/Group Name]]=\"\",\"\",Table1[[#This Row],[School/Group Name]])","v":""},{"$f":"IF(Table1[[#This Row],[Pupil Name]]=\"\",\"\",Table1[[#This Row],[Pupil Name]])","v":""},{"$f":"IF(Table1[[#This Row],[Gender (M/F)]]=\"\",\"\",Table1[[#This Row],[Gender (M/F)]])","v":""},{"$f":"IF(Table1[[#This Row],[DisAdv (Y/N)]]=\"\",\"\",Table1[[#This Row],[DisAdv (Y/N)]])","v":""},{"$f":"IF(Table1[[#This Row],[SEND (E,K,N)]]=\"\",\"\",Table1[[#This Row],[SEND (E,K,N)]])","v":""},"",{"$f":"IF(LEN(Table6[[#This Row],[Pupil Name]])>0,1,0)","v":0}]
[{"$f":"IF(Table1[[#This Row],[School/Group Name]]=\"\",\"\",Table1[[#This Row],[School/Group Name]])","v":""},{"$f":"IF(Table1[[#This Row],[Pupil Name]]=\"\",\"\",Table1[[#This Row],[Pupil Name]])","v":""},{"$f":"IF(Table1[[#This Row],[Gender (M/F)]]=\"\",\"\",Table1[[#This Row],[Gender (M/F)]])","v":""},{"$f":"IF(Table1[[#This Row],[DisAdv (Y/N)]]=\"\",\"\",Table1[[#This Row],[DisAdv (Y/N)]])","v":""},{"$f":"IF(Table1[[#This Row],[SEND (E,K,N)]]=\"\",\"\",Table1[[#This Row],[SEND (E,K,N)]])","v":""},"",{"$f":"IF(LEN(Table6[[#This Row],[Pupil Name]])>0,1,0)","v":0}]
[{"$f":"IF(Table1[[#This Row],[School/Group Name]]=\"\",\"\",Table1[[#This Row],[School/Group Name]])","v":""},{"$f":"IF(Table1[[#This Row],[Pupil Name]]=\"\",\"\",Table1[[#This Row],[Pupil Name]])","v":""},{"$f":"IF(Table1[[#This Row],[Gender (M/F)]]=\"\",\"\",Table1[[#This Row],[Gender (M/F)]])","v":""},{"$f":"IF(Table1[[#This Row],[DisAdv (Y/N)]]=\"\",\"\",Table1[[#This Row],[DisAdv (Y/N)]])","v":""},{"$f":"IF(Table1[[#This Row],[SEND (E,K,N)]]=\"\",\"\",Table1[[#This Row],[SEND (E,K,N)]])","v":""},"",{"$f":"IF(LEN(Table6[[#This Row],[Pupil Name]])>0,1,0)","v":0}]
[{"$f":"IF(Table1[[#This Row],[School/Group Name]]=\"\",\"\",Table1[[#This Row],[School/Group Name]])","v":""},{"$f":"IF(Table1[[#This Row],[Pupil Name]]=\"\",\"\",Table1[[#This Row],[Pupil Name]])","v":""},{"$f":"IF(Table1[[#This Row],[Gender (M/F)]]=\"\",\"\",Table1[[#This Row],[Gender (M/F)]])","v":""},{"$f":"IF(Table1[[#This Row],[DisAdv (Y/N)]]=\"\",\"\",Table1[[#This Row],[DisAdv (Y/N)]])","v":""},{"$f":"IF(Table1[[#This Row],[SEND (E,K,N)]]=\"\",\"\",Table1[[#This Row],[SEND (E,K,N)]])","v":""},"",{"$f":"IF(LEN(Table6[[#This Row],[Pupil Name]])>0,1,0)","v":0}]
[{"$f":"IF(Table1[[#This Row],[School/Group Name]]=\"\",\"\",Table1[[#This Row],[School/Group Name]])","v":""},{"$f":"IF(Table1[[#This Row],[Pupil Name]]=\"\",\"\",Table1[[#This Row],[Pupil Name]])","v":""},{"$f":"IF(Table1[[#This Row],[Gender (M/F)]]=\"\",\"\",Table1[[#This Row],[Gender (M/F)]])","v":""},{"$f":"IF(Table1[[#This Row],[DisAdv (Y/N)]]=\"\",\"\",Table1[[#This Row],[DisAdv (Y/N)]])","v":""},{"$f":"IF(Table1[[#This Row],[SEND (E,K,N)]]=\"\",\"\",Table1[[#This Row],[SEND (E,K,N)]])","v":""},"",{"$f":"IF(LEN(Table6[[#This Row],[Pupil Name]])>0,1,0)","v":0}]
[{"$f":"IF(Table1[[#This Row],[School/Group Name]]=\"\",\"\",Table1[[#This Row],[School/Group Name]])","v":""},{"$f":"IF(Table1[[#This Row],[Pupil Name]]=\"\",\"\",Table1[[#This Row],[Pupil Name]])","v":""},{"$f":"IF(Table1[[#This Row],[Gender (M/F)]]=\"\",\"\",Table1[[#This Row],[Gender (M/F)]])","v":""},{"$f":"IF(Table1[[#This Row],[DisAdv (Y/N)]]=\"\",\"\",Table1[[#This Row],[DisAdv (Y/N)]])","v":""},{"$f":"IF(Table1[[#This Row],[SEND (E,K,N)]]=\"\",\"\",Table1[[#This Row],[SEND (E,K,N)]])","v":""},"",{"$f":"IF(LEN(Table6[[#This Row],[Pupil Name]])>0,1,0)","v":0}]
[{"$f":"IF(Table1[[#This Row],[School/Group Name]]=\"\",\"\",Table1[[#This Row],[School/Group Name]])","v":""},{"$f":"IF(Table1[[#This Row],[Pupil Name]]=\"\",\"\",Table1[[#This Row],[Pupil Name]])","v":""},{"$f":"IF(Table1[[#This Row],[Gender (M/F)]]=\"\",\"\",Table1[[#This Row],[Gender (M/F)]])","v":""},{"$f":"IF(Table1[[#This Row],[DisAdv (Y/N)]]=\"\",\"\",Table1[[#This Row],[DisAdv (Y/N)]])","v":""},{"$f":"IF(Table1[[#This Row],[SEND (E,K,N)]]=\"\",\"\",Table1[[#This Row],[SEND (E,K,N)]])","v":""},"",{"$f":"IF(LEN(Table6[[#This Row],[Pupil Name]])>0,1,0)","v":0}]
[{"$f":"IF(Table1[[#This Row],[School/Group Name]]=\"\",\"\",Table1[[#This Row],[School/Group Name]])","v":""},{"$f":"IF(Table1[[#This Row],[Pupil Name]]=\"\",\"\",Table1[[#This Row],[Pupil Name]])","v":""},{"$f":"IF(Table1[[#This Row],[Gender (M/F)]]=\"\",\"\",Table1[[#This Row],[Gender (M/F)]])","v":""},{"$f":"IF(Table1[[#This Row],[DisAdv (Y/N)]]=\"\",\"\",Table1[[#This Row],[DisAdv (Y/N)]])","v":""},{"$f":"IF(Table1[[#This Row],[SEND (E,K,N)]]=\"\",\"\",Table1[[#This Row],[SEND (E,K,N)]])","v":""},"",{"$f":"IF(LEN(Table6[[#This Row],[Pupil Name]])>0,1,0)","v":0}]
[{"$f":"IF(Table1[[#This Row],[School/Group Name]]=\"\",\"\",Table1[[#This Row],[School/Group Name]])","v":""},{"$f":"IF(Table1[[#This Row],[Pupil Name]]=\"\",\"\",Table1[[#This Row],[Pupil Name]])","v":""},{"$f":"IF(Table1[[#This Row],[Gender (M/F)]]=\"\",\"\",Table1[[#This Row],[Gender (M/F)]])","v":""},{"$f":"IF(Table1[[#This Row],[DisAdv (Y/N)]]=\"\",\"\",Table1[[#This Row],[DisAdv (Y/N)]])","v":""},{"$f":"IF(Table1[[#This Row],[SEND (E,K,N)]]=\"\",\"\",Table1[[#This Row],[SEND (E,K,N)]])","v":""},"",{"$f":"IF(LEN(Table6[[#This Row],[Pupil Name]])>0,1,0)","v":0}]
[{"$f":"IF(Table1[[#This Row],[School/Group Name]]=\"\",\"\",Table1[[#This Row],[School/Group Name]])","v":""},{"$f":"IF(Table1[[#This Row],[Pupil Name]]=\"\",\"\",Table1[[#This Row],[Pupil Name]])","v":""},{"$f":"IF(Table1[[#This Row],[Gender (M/F)]]=\"\",\"\",Table1[[#This Row],[Gender (M/F)]])","v":""},{"$f":"IF(Table1[[#This Row],[DisAdv (Y/N)]]=\"\",\"\",Table1[[#This Row],[DisAdv (Y/N)]])","v":""},{"$f":"IF(Table1[[#This Row],[SEND (E,K,N)]]=\"\",\"\",Table1[[#This Row],[SEND (E,K,N)]])","v":""},"",{"$f":"IF(LEN(Table6[[#This Row],[Pupil Name]])>0,1,0)","v":0}]
[{"$f":"IF(Table1[[#This Row],[School/Group Name]]=\"\",\"\",Table1[[#This Row],[School/Group Name]])","v":""},{"$f":"IF(Table1[[#This Row],[Pupil Name]]=\"\",\"\",Table1[[#This Row],[Pupil Name]])","v":""},{"$f":"IF(Table1[[#This Row],[Gender (M/F)]]=\"\",\"\",Table1[[#This Row],[Gender (M/F)]])","v":""},{"$f":"IF(Table1[[#This Row],[DisAdv (Y/N)]]=\"\",\"\",Table1[[#This Row],[DisAdv (Y/N)]])","v":""},{"$f":"IF(Table1[[#This Row],[SEND (E,K,N)]]=\"\",\"\",Table1[[#This Row],[SEND (E,K,N)]])","v":""},"",{"$f":"IF(LEN(Table6[[#This Row],[Pupil Name]])>0,1,0)","v":0}]
[{"$f":"IF(Table1[[#This Row],[School/Group Name]]=\"\",\"\",Table1[[#This Row],[School/Group Name]])","v":""},{"$f":"IF(Table1[[#This Row],[Pupil Name]]=\"\",\"\",Table1[[#This Row],[Pupil Name]])","v":""},{"$f":"IF(Table1[[#This Row],[Gender (M/F)]]=\"\",\"\",Table1[[#This Row],[Gender (M/F)]])","v":""},{"$f":"IF(Table1[[#This Row],[DisAdv (Y/N)]]=\"\",\"\",Table1[[#This Row],[DisAdv (Y/N)]])","v":""},{"$f":"IF(Table1[[#This Row],[SEND (E,K,N)]]=\"\",\"\",Table1[[#This Row],[SEND (E,K,N)]])","v":""},"",{"$f":"IF(LEN(Table6[[#This Row],[Pupil Name]])>0,1,0)","v":0}]
[{"$f":"IF(Table1[[#This Row],[School/Group Name]]=\"\",\"\",Table1[[#This Row],[School/Group Name]])","v":""},{"$f":"IF(Table1[[#This Row],[Pupil Name]]=\"\",\"\",Table1[[#This Row],[Pupil Name]])","v":""},{"$f":"IF(Table1[[#This Row],[Gender (M/F)]]=\"\",\"\",Table1[[#This Row],[Gender (M/F)]])","v":""},{"$f":"IF(Table1[[#This Row],[DisAdv (Y/N)]]=\"\",\"\",Table1[[#This Row],[DisAdv (Y/N)]])","v":""},{"$f":"IF(Table1[[#This Row],[SEND (E,K,N)]]=\"\",\"\",Table1[[#This Row],[SEND (E,K,N)]])","v":""},"",{"$f":"IF(LEN(Table6[[#This Row],[Pupil Name]])>0,1,0)","v":0}]
[{"$f":"IF(Table1[[#This Row],[School/Group Name]]=\"\",\"\",Table1[[#This Row],[School/Group Name]])","v":""},{"$f":"IF(Table1[[#This Row],[Pupil Name]]=\"\",\"\",Table1[[#This Row],[Pupil Name]])","v":""},{"$f":"IF(Table1[[#This Row],[Gender (M/F)]]=\"\",\"\",Table1[[#This Row],[Gender (M/F)]])","v":""},{"$f":"IF(Table1[[#This Row],[DisAdv (Y/N)]]=\"\",\"\",Table1[[#This Row],[DisAdv (Y/N)]])","v":""},{"$f":"IF(Table1[[#This Row],[SEND (E,K,N)]]=\"\",\"\",Table1[[#This Row],[SEND (E,K,N)]])","v":""},"",{"$f":"IF(LEN(Table6[[#This Row],[Pupil Name]])>0,1,0)","v":0}]
[{"$f":"IF(Table1[[#This Row],[School/Group Name]]=\"\",\"\",Table1[[#This Row],[School/Group Name]])","v":""},{"$f":"IF(Table1[[#This Row],[Pupil Name]]=\"\",\"\",Table1[[#This Row],[Pupil Name]])","v":""},{"$f":"IF(Table1[[#This Row],[Gender (M/F)]]=\"\",\"\",Table1[[#This Row],[Gender (M/F)]])","v":""},{"$f":"IF(Table1[[#This Row],[DisAdv (Y/N)]]=\"\",\"\",Table1[[#This Row],[DisAdv (Y/N)]])","v":""},{"$f":"IF(Table1[[#This Row],[SEND (E,K,N)]]=\"\",\"\",Table1[[#This Row],[SEND (E,K,N)]])","v":""},"",{"$f":"IF(LEN(Table6[[#This Row],[Pupil Name]])>0,1,0)","v":0}]
[{"$f":"IF(Table1[[#This Row],[School/Group Name]]=\"\",\"\",Table1[[#This Row],[School/Group Name]])","v":""},{"$f":"IF(Table1[[#This Row],[Pupil Name]]=\"\",\"\",Table1[[#This Row],[Pupil Name]])","v":""},{"$f":"IF(Table1[[#This Row],[Gender (M/F)]]=\"\",\"\",Table1[[#This Row],[Gender (M/F)]])","v":""},{"$f":"IF(Table1[[#This Row],[DisAdv (Y/N)]]=\"\",\"\",Table1[[#This Row],[DisAdv (Y/N)]])","v":""},{"$f":"IF(Table1[[#This Row],[SEND (E,K,N)]]=\"\",\"\",Table1[[#This Row],[SEND (E,K,N)]])","v":""},"",{"$f":"IF(LEN(Table6[[#This Row],[Pupil Name]])>0,1,0)","v":0}]
[{"$f":"IF(Table1[[#This Row],[School/Group Name]]=\"\",\"\",Table1[[#This Row],[School/Group Name]])","v":""},{"$f":"IF(Table1[[#This Row],[Pupil Name]]=\"\",\"\",Table1[[#This Row],[Pupil Name]])","v":""},{"$f":"IF(Table1[[#This Row],[Gender (M/F)]]=\"\",\"\",Table1[[#This Row],[Gender (M/F)]])","v":""},{"$f":"IF(Table1[[#This Row],[DisAdv (Y/N)]]=\"\",\"\",Table1[[#This Row],[DisAdv (Y/N)]])","v":""},{"$f":"IF(Table1[[#This Row],[SEND (E,K,N)]]=\"\",\"\",Table1[[#This Row],[SEND (E,K,N)]])","v":""},"",{"$f":"IF(LEN(Table6[[#This Row],[Pupil Name]])>0,1,0)","v":0}]
[{"$f":"IF(Table1[[#This Row],[School/Group Name]]=\"\",\"\",Table1[[#This Row],[School/Group Name]])","v":""},{"$f":"IF(Table1[[#This Row],[Pupil Name]]=\"\",\"\",Table1[[#This Row],[Pupil Name]])","v":""},{"$f":"IF(Table1[[#This Row],[Gender (M/F)]]=\"\",\"\",Table1[[#This Row],[Gender (M/F)]])","v":""},{"$f":"IF(Table1[[#This Row],[DisAdv (Y/N)]]=\"\",\"\",Table1[[#This Row],[DisAdv (Y/N)]])","v":""},{"$f":"IF(Table1[[#This Row],[SEND (E,K,N)]]=\"\",\"\",Table1[[#This Row],[SEND (E,K,N)]])","v":""},"",{"$f":"IF(LEN(Table6[[#This Row],[Pupil Name]])>0,1,0)","v":0}]
[{"$f":"IF(Table1[[#This Row],[School/Group Name]]=\"\",\"\",Table1[[#This Row],[School/Group Name]])","v":""},{"$f":"IF(Table1[[#This Row],[Pupil Name]]=\"\",\"\",Table1[[#This Row],[Pupil Name]])","v":""},{"$f":"IF(Table1[[#This Row],[Gender (M/F)]]=\"\",\"\",Table1[[#This Row],[Gender (M/F)]])","v":""},{"$f":"IF(Table1[[#This Row],[DisAdv (Y/N)]]=\"\",\"\",Table1[[#This Row],[DisAdv (Y/N)]])","v":""},{"$f":"IF(Table1[[#This Row],[SEND (E,K,N)]]=\"\",\"\",Table1[[#This Row],[SEND (E,K,N)]])","v":""},"",{"$f":"IF(LEN(Table6[[#This Row],[Pupil Name]])>0,1,0)","v":0}]
[{"$f":"IF(Table1[[#This Row],[School/Group Name]]=\"\",\"\",Table1[[#This Row],[School/Group Name]])","v":""},{"$f":"IF(Table1[[#This Row],[Pupil Name]]=\"\",\"\",Table1[[#This Row],[Pupil Name]])","v":""},{"$f":"IF(Table1[[#This Row],[Gender (M/F)]]=\"\",\"\",Table1[[#This Row],[Gender (M/F)]])","v":""},{"$f":"IF(Table1[[#This Row],[DisAdv (Y/N)]]=\"\",\"\",Table1[[#This Row],[DisAdv (Y/N)]])","v":""},{"$f":"IF(Table1[[#This Row],[SEND (E,K,N)]]=\"\",\"\",Table1[[#This Row],[SEND (E,K,N)]])","v":""},"",{"$f":"IF(LEN(Table6[[#This Row],[Pupil Name]])>0,1,0)","v":0}]
[{"$f":"IF(Table1[[#This Row],[School/Group Name]]=\"\",\"\",Table1[[#This Row],[School/Group Name]])","v":""},{"$f":"IF(Table1[[#This Row],[Pupil Name]]=\"\",\"\",Table1[[#This Row],[Pupil Name]])","v":""},{"$f":"IF(Table1[[#This Row],[Gender (M/F)]]=\"\",\"\",Table1[[#This Row],[Gender (M/F)]])","v":""},{"$f":"IF(Table1[[#This Row],[DisAdv (Y/N)]]=\"\",\"\",Table1[[#This Row],[DisAdv (Y/N)]])","v":""},{"$f":"IF(Table1[[#This Row],[SEND (E,K,N)]]=\"\",\"\",Table1[[#This Row],[SEND (E,K,N)]])","v":""},"",{"$f":"IF(LEN(Table6[[#This Row],[Pupil Name]])>0,1,0)","v":0}]
[{"$f":"IF(Table1[[#This Row],[School/Group Name]]=\"\",\"\",Table1[[#This Row],[School/Group Name]])","v":""},{"$f":"IF(Table1[[#This Row],[Pupil Name]]=\"\",\"\",Table1[[#This Row],[Pupil Name]])","v":""},{"$f":"IF(Table1[[#This Row],[Gender (M/F)]]=\"\",\"\",Table1[[#This Row],[Gender (M/F)]])","v":""},{"$f":"IF(Table1[[#This Row],[DisAdv (Y/N)]]=\"\",\"\",Table1[[#This Row],[DisAdv (Y/N)]])","v":""},{"$f":"IF(Table1[[#This Row],[SEND (E,K,N)]]=\"\",\"\",Table1[[#This Row],[SEND (E,K,N)]])","v":""},"",{"$f":"IF(LEN(Table6[[#This Row],[Pupil Name]])>0,1,0)","v":0}]
[{"$f":"IF(Table1[[#This Row],[School/Group Name]]=\"\",\"\",Table1[[#This Row],[School/Group Name]])","v":""},{"$f":"IF(Table1[[#This Row],[Pupil Name]]=\"\",\"\",Table1[[#This Row],[Pupil Name]])","v":""},{"$f":"IF(Table1[[#This Row],[Gender (M/F)]]=\"\",\"\",Table1[[#This Row],[Gender (M/F)]])","v":""},{"$f":"IF(Table1[[#This Row],[DisAdv (Y/N)]]=\"\",\"\",Table1[[#This Row],[DisAdv (Y/N)]])","v":""},{"$f":"IF(Table1[[#This Row],[SEND (E,K,N)]]=\"\",\"\",Table1[[#This Row],[SEND (E,K,N)]])","v":""},"",{"$f":"IF(LEN(Table6[[#This Row],[Pupil Name]])>0,1,0)","v":0}]
[{"$f":"IF(Table1[[#This Row],[School/Group Name]]=\"\",\"\",Table1[[#This Row],[School/Group Name]])","v":""},{"$f":"IF(Table1[[#This Row],[Pupil Name]]=\"\",\"\",Table1[[#This Row],[Pupil Name]])","v":""},{"$f":"IF(Table1[[#This Row],[Gender (M/F)]]=\"\",\"\",Table1[[#This Row],[Gender (M/F)]])","v":""},{"$f":"IF(Table1[[#This Row],[DisAdv (Y/N)]]=\"\",\"\",Table1[[#This Row],[DisAdv (Y/N)]])","v":""},{"$f":"IF(Table1[[#This Row],[SEND (E,K,N)]]=\"\",\"\",Table1[[#This Row],[SEND (E,K,N)]])","v":""},"",{"$f":"IF(LEN(Table6[[#This Row],[Pupil Name]])>0,1,0)","v":0}]
[{"$f":"IF(Table1[[#This Row],[School/Group Name]]=\"\",\"\",Table1[[#This Row],[School/Group Name]])","v":""},{"$f":"IF(Table1[[#This Row],[Pupil Name]]=\"\",\"\",Table1[[#This Row],[Pupil Name]])","v":""},{"$f":"IF(Table1[[#This Row],[Gender (M/F)]]=\"\",\"\",Table1[[#This Row],[Gender (M/F)]])","v":""},{"$f":"IF(Table1[[#This Row],[DisAdv (Y/N)]]=\"\",\"\",Table1[[#This Row],[DisAdv (Y/N)]])","v":""},{"$f":"IF(Table1[[#This Row],[SEND (E,K,N)]]=\"\",\"\",Table1[[#This Row],[SEND (E,K,N)]])","v":""},"",{"$f":"IF(LEN(Table6[[#This Row],[Pupil Name]])>0,1,0)","v":0}]
[{"$f":"IF(Table1[[#This Row],[School/Group Name]]=\"\",\"\",Table1[[#This Row],[School/Group Name]])","v":""},{"$f":"IF(Table1[[#This Row],[Pupil Name]]=\"\",\"\",Table1[[#This Row],[Pupil Name]])","v":""},{"$f":"IF(Table1[[#This Row],[Gender (M/F)]]=\"\",\"\",Table1[[#This Row],[Gender (M/F)]])","v":""},{"$f":"IF(Table1[[#This Row],[DisAdv (Y/N)]]=\"\",\"\",Table1[[#This Row],[DisAdv (Y/N)]])","v":""},{"$f":"IF(Table1[[#This Row],[SEND (E,K,N)]]=\"\",\"\",Table1[[#This Row],[SEND (E,K,N)]])","v":""},"",{"$f":"IF(LEN(Table6[[#This Row],[Pupil Name]])>0,1,0)","v":0}]
[{"$f":"IF(Table1[[#This Row],[School/Group Name]]=\"\",\"\",Table1[[#This Row],[School/Group Name]])","v":""},{"$f":"IF(Table1[[#This Row],[Pupil Name]]=\"\",\"\",Table1[[#This Row],[Pupil Name]])","v":""},{"$f":"IF(Table1[[#This Row],[Gender (M/F)]]=\"\",\"\",Table1[[#This Row],[Gender (M/F)]])","v":""},{"$f":"IF(Table1[[#This Row],[DisAdv (Y/N)]]=\"\",\"\",Table1[[#This Row],[DisAdv (Y/N)]])","v":""},{"$f":"IF(Table1[[#This Row],[SEND (E,K,N)]]=\"\",\"\",Table1[[#This Row],[SEND (E,K,N)]])","v":""},"",{"$f":"IF(LEN(Table6[[#This Row],[Pupil Name]])>0,1,0)","v":0}]
[{"$f":"IF(Table1[[#This Row],[School/Group Name]]=\"\",\"\",Table1[[#This Row],[School/Group Name]])","v":""},{"$f":"IF(Table1[[#This Row],[Pupil Name]]=\"\",\"\",Table1[[#This Row],[Pupil Name]])","v":""},{"$f":"IF(Table1[[#This Row],[Gender (M/F)]]=\"\",\"\",Table1[[#This Row],[Gender (M/F)]])","v":""},{"$f":"IF(Table1[[#This Row],[DisAdv (Y/N)]]=\"\",\"\",Table1[[#This Row],[DisAdv (Y/N)]])","v":""},{"$f":"IF(Table1[[#This Row],[SEND (E,K,N)]]=\"\",\"\",Table1[[#This Row],[SEND (E,K,N)]])","v":""},"",{"$f":"IF(LEN(Table6[[#This Row],[Pupil Name]])>0,1,0)","v":0}]
[{"$f":"IF(Table1[[#This Row],[School/Group Name]]=\"\",\"\",Table1[[#This Row],[School/Group Name]])","v":""},{"$f":"IF(Table1[[#This Row],[Pupil Name]]=\"\",\"\",Table1[[#This Row],[Pupil Name]])","v":""},{"$f":"IF(Table1[[#This Row],[Gender (M/F)]]=\"\",\"\",Table1[[#This Row],[Gender (M/F)]])","v":""},{"$f":"IF(Table1[[#This Row],[DisAdv (Y/N)]]=\"\",\"\",Table1[[#This Row],[DisAdv (Y/N)]])","v":""},{"$f":"IF(Table1[[#This Row],[SEND (E,K,N)]]=\"\",\"\",Table1[[#This Row],[SEND (E,K,N)]])","v":""},"",{"$f":"IF(LEN(Table6[[#This Row],[Pupil Name]])>0,1,0)","v":0}]
[{"$f":"IF(Table1[[#This Row],[School/Group Name]]=\"\",\"\",Table1[[#This Row],[School/Group Name]])","v":""},{"$f":"IF(Table1[[#This Row],[Pupil Name]]=\"\",\"\",Table1[[#This Row],[Pupil Name]])","v":""},{"$f":"IF(Table1[[#This Row],[Gender (M/F)]]=\"\",\"\",Table1[[#This Row],[Gender (M/F)]])","v":""},{"$f":"IF(Table1[[#This Row],[DisAdv (Y/N)]]=\"\",\"\",Table1[[#This Row],[DisAdv (Y/N)]])","v":""},{"$f":"IF(Table1[[#This Row],[SEND (E,K,N)]]=\"\",\"\",Table1[[#This Row],[SEND (E,K,N)]])","v":""},"",{"$f":"IF(LEN(Table6[[#This Row],[Pupil Name]])>0,1,0)","v":0}]
[{"$f":"IF(Table1[[#This Row],[School/Group Name]]=\"\",\"\",Table1[[#This Row],[School/Group Name]])","v":""},{"$f":"IF(Table1[[#This Row],[Pupil Name]]=\"\",\"\",Table1[[#This Row],[Pupil Name]])","v":""},{"$f":"IF(Table1[[#This Row],[Gender (M/F)]]=\"\",\"\",Table1[[#This Row],[Gender (M/F)]])","v":""},{"$f":"IF(Table1[[#This Row],[DisAdv (Y/N)]]=\"\",\"\",Table1[[#This Row],[DisAdv (Y/N)]])","v":""},{"$f":"IF(Table1[[#This Row],[SEND (E,K,N)]]=\"\",\"\",Table1[[#This Row],[SEND (E,K,N)]])","v":""},"",{"$f":"IF(LEN(Table6[[#This Row],[Pupil Name]])>0,1,0)","v":0}]
[{"$f":"IF(Table1[[#This Row],[School/Group Name]]=\"\",\"\",Table1[[#This Row],[School/Group Name]])","v":""},{"$f":"IF(Table1[[#This Row],[Pupil Name]]=\"\",\"\",Table1[[#This Row],[Pupil Name]])","v":""},{"$f":"IF(Table1[[#This Row],[Gender (M/F)]]=\"\",\"\",Table1[[#This Row],[Gender (M/F)]])","v":""},{"$f":"IF(Table1[[#This Row],[DisAdv (Y/N)]]=\"\",\"\",Table1[[#This Row],[DisAdv (Y/N)]])","v":""},{"$f":"IF(Table1[[#This Row],[SEND (E,K,N)]]=\"\",\"\",Table1[[#This Row],[SEND (E,K,N)]])","v":""},"",{"$f":"IF(LEN(Table6[[#This Row],[Pupil Name]])>0,1,0)","v":0}]
[{"$f":"IF(Table1[[#This Row],[School/Group Name]]=\"\",\"\",Table1[[#This Row],[School/Group Name]])","v":""},{"$f":"IF(Table1[[#This Row],[Pupil Name]]=\"\",\"\",Table1[[#This Row],[Pupil Name]])","v":""},{"$f":"IF(Table1[[#This Row],[Gender (M/F)]]=\"\",\"\",Table1[[#This Row],[Gender (M/F)]])","v":""},{"$f":"IF(Table1[[#This Row],[DisAdv (Y/N)]]=\"\",\"\",Table1[[#This Row],[DisAdv (Y/N)]])","v":""},{"$f":"IF(Table1[[#This Row],[SEND (E,K,N)]]=\"\",\"\",Table1[[#This Row],[SEND (E,K,N)]])","v":""},"",{"$f":"IF(LEN(Table6[[#This Row],[Pupil Name]])>0,1,0)","v":0}]
[{"$f":"IF(Table1[[#This Row],[School/Group Name]]=\"\",\"\",Table1[[#This Row],[School/Group Name]])","v":""},{"$f":"IF(Table1[[#This Row],[Pupil Name]]=\"\",\"\",Table1[[#This Row],[Pupil Name]])","v":""},{"$f":"IF(Table1[[#This Row],[Gender (M/F)]]=\"\",\"\",Table1[[#This Row],[Gender (M/F)]])","v":""},{"$f":"IF(Table1[[#This Row],[DisAdv (Y/N)]]=\"\",\"\",Table1[[#This Row],[DisAdv (Y/N)]])","v":""},{"$f":"IF(Table1[[#This Row],[SEND (E,K,N)]]=\"\",\"\",Table1[[#This Row],[SEND (E,K,N)]])","v":""},"",{"$f":"IF(LEN(Table6[[#This Row],[Pupil Name]])>0,1,0)","v":0}]
[{"$f":"IF(Table1[[#This Row],[School/Group Name]]=\"\",\"\",Table1[[#This Row],[School/Group Name]])","v":""},{"$f":"IF(Table1[[#This Row],[Pupil Name]]=\"\",\"\",Table1[[#This Row],[Pupil Name]])","v":""},{"$f":"IF(Table1[[#This Row],[Gender (M/F)]]=\"\",\"\",Table1[[#This Row],[Gender (M/F)]])","v":""},{"$f":"IF(Table1[[#This Row],[DisAdv (Y/N)]]=\"\",\"\",Table1[[#This Row],[DisAdv (Y/N)]])","v":""},{"$f":"IF(Table1[[#This Row],[SEND (E,K,N)]]=\"\",\"\",Table1[[#This Row],[SEND (E,K,N)]])","v":""},"",{"$f":"IF(LEN(Table6[[#This Row],[Pupil Name]])>0,1,0)","v":0}]
[{"$f":"IF(Table1[[#This Row],[School/Group Name]]=\"\",\"\",Table1[[#This Row],[School/Group Name]])","v":""},{"$f":"IF(Table1[[#This Row],[Pupil Name]]=\"\",\"\",Table1[[#This Row],[Pupil Name]])","v":""},{"$f":"IF(Table1[[#This Row],[Gender (M/F)]]=\"\",\"\",Table1[[#This Row],[Gender (M/F)]])","v":""},{"$f":"IF(Table1[[#This Row],[DisAdv (Y/N)]]=\"\",\"\",Table1[[#This Row],[DisAdv (Y/N)]])","v":""},{"$f":"IF(Table1[[#This Row],[SEND (E,K,N)]]=\"\",\"\",Table1[[#This Row],[SEND (E,K,N)]])","v":""},"",{"$f":"IF(LEN(Table6[[#This Row],[Pupil Name]])>0,1,0)","v":0}]
[{"$f":"IF(Table1[[#This Row],[School/Group Name]]=\"\",\"\",Table1[[#This Row],[School/Group Name]])","v":""},{"$f":"IF(Table1[[#This Row],[Pupil Name]]=\"\",\"\",Table1[[#This Row],[Pupil Name]])","v":""},{"$f":"IF(Table1[[#This Row],[Gender (M/F)]]=\"\",\"\",Table1[[#This Row],[Gender (M/F)]])","v":""},{"$f":"IF(Table1[[#This Row],[DisAdv (Y/N)]]=\"\",\"\",Table1[[#This Row],[DisAdv (Y/N)]])","v":""},{"$f":"IF(Table1[[#This Row],[SEND (E,K,N)]]=\"\",\"\",Table1[[#This Row],[SEND (E,K,N)]])","v":""},"",{"$f":"IF(LEN(Table6[[#This Row],[Pupil Name]])>0,1,0)","v":0}]
[{"$f":"IF(Table1[[#This Row],[School/Group Name]]=\"\",\"\",Table1[[#This Row],[School/Group Name]])","v":""},{"$f":"IF(Table1[[#This Row],[Pupil Name]]=\"\",\"\",Table1[[#This Row],[Pupil Name]])","v":""},{"$f":"IF(Table1[[#This Row],[Gender (M/F)]]=\"\",\"\",Table1[[#This Row],[Gender (M/F)]])","v":""},{"$f":"IF(Table1[[#This Row],[DisAdv (Y/N)]]=\"\",\"\",Table1[[#This Row],[DisAdv (Y/N)]])","v":""},{"$f":"IF(Table1[[#This Row],[SEND (E,K,N)]]=\"\",\"\",Table1[[#This Row],[SEND (E,K,N)]])","v":""},"",{"$f":"IF(LEN(Table6[[#This Row],[Pupil Name]])>0,1,0)","v":0}]
[{"$f":"IF(Table1[[#This Row],[School/Group Name]]=\"\",\"\",Table1[[#This Row],[School/Group Name]])","v":""},{"$f":"IF(Table1[[#This Row],[Pupil Name]]=\"\",\"\",Table1[[#This Row],[Pupil Name]])","v":""},{"$f":"IF(Table1[[#This Row],[Gender (M/F)]]=\"\",\"\",Table1[[#This Row],[Gender (M/F)]])","v":""},{"$f":"IF(Table1[[#This Row],[DisAdv (Y/N)]]=\"\",\"\",Table1[[#This Row],[DisAdv (Y/N)]])","v":""},{"$f":"IF(Table1[[#This Row],[SEND (E,K,N)]]=\"\",\"\",Table1[[#This Row],[SEND (E,K,N)]])","v":""},"",{"$f":"IF(LEN(Table6[[#This Row],[Pupil Name]])>0,1,0)","v":0}]
[{"$f":"IF(Table1[[#This Row],[School/Group Name]]=\"\",\"\",Table1[[#This Row],[School/Group Name]])","v":""},{"$f":"IF(Table1[[#This Row],[Pupil Name]]=\"\",\"\",Table1[[#This Row],[Pupil Name]])","v":""},{"$f":"IF(Table1[[#This Row],[Gender (M/F)]]=\"\",\"\",Table1[[#This Row],[Gender (M/F)]])","v":""},{"$f":"IF(Table1[[#This Row],[DisAdv (Y/N)]]=\"\",\"\",Table1[[#This Row],[DisAdv (Y/N)]])","v":""},{"$f":"IF(Table1[[#This Row],[SEND (E,K,N)]]=\"\",\"\",Table1[[#This Row],[SEND (E,K,N)]])","v":""},"",{"$f":"IF(LEN(Table6[[#This Row],[Pupil Name]])>0,1,0)","v":0}]
[{"$f":"IF(Table1[[#This Row],[School/Group Name]]=\"\",\"\",Table1[[#This Row],[School/Group Name]])","v":""},{"$f":"IF(Table1[[#This Row],[Pupil Name]]=\"\",\"\",Table1[[#This Row],[Pupil Name]])","v":""},{"$f":"IF(Table1[[#This Row],[Gender (M/F)]]=\"\",\"\",Table1[[#This Row],[Gender (M/F)]])","v":""},{"$f":"IF(Table1[[#This Row],[DisAdv (Y/N)]]=\"\",\"\",Table1[[#This Row],[DisAdv (Y/N)]])","v":""},{"$f":"IF(Table1[[#This Row],[SEND (E,K,N)]]=\"\",\"\",Table1[[#This Row],[SEND (E,K,N)]])","v":""},"",{"$f":"IF(LEN(Table6[[#This Row],[Pupil Name]])>0,1,0)","v":0}]
[{"$f":"IF(Table1[[#This Row],[School/Group Name]]=\"\",\"\",Table1[[#This Row],[School/Group Name]])","v":""},{"$f":"IF(Table1[[#This Row],[Pupil Name]]=\"\",\"\",Table1[[#This Row],[Pupil Name]])","v":""},{"$f":"IF(Table1[[#This Row],[Gender (M/F)]]=\"\",\"\",Table1[[#This Row],[Gender (M/F)]])","v":""},{"$f":"IF(Table1[[#This Row],[DisAdv (Y/N)]]=\"\",\"\",Table1[[#This Row],[DisAdv (Y/N)]])","v":""},{"$f":"IF(Table1[[#This Row],[SEND (E,K,N)]]=\"\",\"\",Table1[[#This Row],[SEND (E,K,N)]])","v":""},"",{"$f":"IF(LEN(Table6[[#This Row],[Pupil Name]])>0,1,0)","v":0}]
[{"$f":"IF(Table1[[#This Row],[School/Group Name]]=\"\",\"\",Table1[[#This Row],[School/Group Name]])","v":""},{"$f":"IF(Table1[[#This Row],[Pupil Name]]=\"\",\"\",Table1[[#This Row],[Pupil Name]])","v":""},{"$f":"IF(Table1[[#This Row],[Gender (M/F)]]=\"\",\"\",Table1[[#This Row],[Gender (M/F)]])","v":""},{"$f":"IF(Table1[[#This Row],[DisAdv (Y/N)]]=\"\",\"\",Table1[[#This Row],[DisAdv (Y/N)]])","v":""},{"$f":"IF(Table1[[#This Row],[SEND (E,K,N)]]=\"\",\"\",Table1[[#This Row],[SEND (E,K,N)]])","v":""},"",{"$f":"IF(LEN(Table6[[#This Row],[Pupil Name]])>0,1,0)","v":0}]
[{"$f":"IF(Table1[[#This Row],[School/Group Name]]=\"\",\"\",Table1[[#This Row],[School/Group Name]])","v":""},{"$f":"IF(Table1[[#This Row],[Pupil Name]]=\"\",\"\",Table1[[#This Row],[Pupil Name]])","v":""},{"$f":"IF(Table1[[#This Row],[Gender (M/F)]]=\"\",\"\",Table1[[#This Row],[Gender (M/F)]])","v":""},{"$f":"IF(Table1[[#This Row],[DisAdv (Y/N)]]=\"\",\"\",Table1[[#This Row],[DisAdv (Y/N)]])","v":""},{"$f":"IF(Table1[[#This Row],[SEND (E,K,N)]]=\"\",\"\",Table1[[#This Row],[SEND (E,K,N)]])","v":""},"",{"$f":"IF(LEN(Table6[[#This Row],[Pupil Name]])>0,1,0)","v":0}]
[{"$f":"IF(Table1[[#This Row],[School/Group Name]]=\"\",\"\",Table1[[#This Row],[School/Group Name]])","v":""},{"$f":"IF(Table1[[#This Row],[Pupil Name]]=\"\",\"\",Table1[[#This Row],[Pupil Name]])","v":""},{"$f":"IF(Table1[[#This Row],[Gender (M/F)]]=\"\",\"\",Table1[[#This Row],[Gender (M/F)]])","v":""},{"$f":"IF(Table1[[#This Row],[DisAdv (Y/N)]]=\"\",\"\",Table1[[#This Row],[DisAdv (Y/N)]])","v":""},{"$f":"IF(Table1[[#This Row],[SEND (E,K,N)]]=\"\",\"\",Table1[[#This Row],[SEND (E,K,N)]])","v":""},"",{"$f":"IF(LEN(Table6[[#This Row],[Pupil Name]])>0,1,0)","v":0}]
[{"$f":"IF(Table1[[#This Row],[School/Group Name]]=\"\",\"\",Table1[[#This Row],[School/Group Name]])","v":""},{"$f":"IF(Table1[[#This Row],[Pupil Name]]=\"\",\"\",Table1[[#This Row],[Pupil Name]])","v":""},{"$f":"IF(Table1[[#This Row],[Gender (M/F)]]=\"\",\"\",Table1[[#This Row],[Gender (M/F)]])","v":""},{"$f":"IF(Table1[[#This Row],[DisAdv (Y/N)]]=\"\",\"\",Table1[[#This Row],[DisAdv (Y/N)]])","v":""},{"$f":"IF(Table1[[#This Row],[SEND (E,K,N)]]=\"\",\"\",Table1[[#This Row],[SEND (E,K,N)]])","v":""},"",{"$f":"IF(LEN(Table6[[#This Row],[Pupil Name]])>0,1,0)","v":0}]
[{"$f":"IF(Table1[[#This Row],[School/Group Name]]=\"\",\"\",Table1[[#This Row],[School/Group Name]])","v":""},{"$f":"IF(Table1[[#This Row],[Pupil Name]]=\"\",\"\",Table1[[#This Row],[Pupil Name]])","v":""},{"$f":"IF(Table1[[#This Row],[Gender (M/F)]]=\"\",\"\",Table1[[#This Row],[Gender (M/F)]])","v":""},{"$f":"IF(Table1[[#This Row],[DisAdv (Y/N)]]=\"\",\"\",Table1[[#This Row],[DisAdv (Y/N)]])","v":""},{"$f":"IF(Table1[[#This Row],[SEND (E,K,N)]]=\"\",\"\",Table1[[#This Row],[SEND (E,K,N)]])","v":""},"",{"$f":"IF(LEN(Table6[[#This Row],[Pupil Name]])>0,1,0)","v":0}]
[{"$f":"IF(Table1[[#This Row],[School/Group Name]]=\"\",\"\",Table1[[#This Row],[School/Group Name]])","v":""},{"$f":"IF(Table1[[#This Row],[Pupil Name]]=\"\",\"\",Table1[[#This Row],[Pupil Name]])","v":""},{"$f":"IF(Table1[[#This Row],[Gender (M/F)]]=\"\",\"\",Table1[[#This Row],[Gender (M/F)]])","v":""},{"$f":"IF(Table1[[#This Row],[DisAdv (Y/N)]]=\"\",\"\",Table1[[#This Row],[DisAdv (Y/N)]])","v":""},{"$f":"IF(Table1[[#This Row],[SEND (E,K,N)]]=\"\",\"\",Table1[[#This Row],[SEND (E,K,N)]])","v":""},"",{"$f":"IF(LEN(Table6[[#This Row],[Pupil Name]])>0,1,0)","v":0}]
[{"$f":"IF(Table1[[#This Row],[School/Group Name]]=\"\",\"\",Table1[[#This Row],[School/Group Name]])","v":""},{"$f":"IF(Table1[[#This Row],[Pupil Name]]=\"\",\"\",Table1[[#This Row],[Pupil Name]])","v":""},{"$f":"IF(Table1[[#This Row],[Gender (M/F)]]=\"\",\"\",Table1[[#This Row],[Gender (M/F)]])","v":""},{"$f":"IF(Table1[[#This Row],[DisAdv (Y/N)]]=\"\",\"\",Table1[[#This Row],[DisAdv (Y/N)]])","v":""},{"$f":"IF(Table1[[#This Row],[SEND (E,K,N)]]=\"\",\"\",Table1[[#This Row],[SEND (E,K,N)]])","v":""},"",{"$f":"IF(LEN(Table6[[#This Row],[Pupil Name]])>0,1,0)","v":0}]
[{"$f":"IF(Table1[[#This Row],[School/Group Name]]=\"\",\"\",Table1[[#This Row],[School/Group Name]])","v":""},{"$f":"IF(Table1[[#This Row],[Pupil Name]]=\"\",\"\",Table1[[#This Row],[Pupil Name]])","v":""},{"$f":"IF(Table1[[#This Row],[Gender (M/F)]]=\"\",\"\",Table1[[#This Row],[Gender (M/F)]])","v":""},{"$f":"IF(Table1[[#This Row],[DisAdv (Y/N)]]=\"\",\"\",Table1[[#This Row],[DisAdv (Y/N)]])","v":""},{"$f":"IF(Table1[[#This Row],[SEND (E,K,N)]]=\"\",\"\",Table1[[#This Row],[SEND (E,K,N)]])","v":""},"",{"$f":"IF(LEN(Table6[[#This Row],[Pupil Name]])>0,1,0)","v":0}]
[{"$f":"IF(Table1[[#This Row],[School/Group Name]]=\"\",\"\",Table1[[#This Row],[School/Group Name]])","v":""},{"$f":"IF(Table1[[#This Row],[Pupil Name]]=\"\",\"\",Table1[[#This Row],[Pupil Name]])","v":""},{"$f":"IF(Table1[[#This Row],[Gender (M/F)]]=\"\",\"\",Table1[[#This Row],[Gender (M/F)]])","v":""},{"$f":"IF(Table1[[#This Row],[DisAdv (Y/N)]]=\"\",\"\",Table1[[#This Row],[DisAdv (Y/N)]])","v":""},{"$f":"IF(Table1[[#This Row],[SEND (E,K,N)]]=\"\",\"\",Table1[[#This Row],[SEND (E,K,N)]])","v":""},"",{"$f":"IF(LEN(Table6[[#This Row],[Pupil Name]])>0,1,0)","v":0}]
[{"$f":"IF(Table1[[#This Row],[School/Group Name]]=\"\",\"\",Table1[[#This Row],[School/Group Name]])","v":""},{"$f":"IF(Table1[[#This Row],[Pupil Name]]=\"\",\"\",Table1[[#This Row],[Pupil Name]])","v":""},{"$f":"IF(Table1[[#This Row],[Gender (M/F)]]=\"\",\"\",Table1[[#This Row],[Gender (M/F)]])","v":""},{"$f":"IF(Table1[[#This Row],[DisAdv (Y/N)]]=\"\",\"\",Table1[[#This Row],[DisAdv (Y/N)]])","v":""},{"$f":"IF(Table1[[#This Row],[SEND (E,K,N)]]=\"\",\"\",Table1[[#This Row],[SEND (E,K,N)]])","v":""},"",{"$f":"IF(LEN(Table6[[#This Row],[Pupil Name]])>0,1,0)","v":0}]
[{"$f":"IF(Table1[[#This Row],[School/Group Name]]=\"\",\"\",Table1[[#This Row],[School/Group Name]])","v":""},{"$f":"IF(Table1[[#This Row],[Pupil Name]]=\"\",\"\",Table1[[#This Row],[Pupil Name]])","v":""},{"$f":"IF(Table1[[#This Row],[Gender (M/F)]]=\"\",\"\",Table1[[#This Row],[Gender (M/F)]])","v":""},{"$f":"IF(Table1[[#This Row],[DisAdv (Y/N)]]=\"\",\"\",Table1[[#This Row],[DisAdv (Y/N)]])","v":""},{"$f":"IF(Table1[[#This Row],[SEND (E,K,N)]]=\"\",\"\",Table1[[#This Row],[SEND (E,K,N)]])","v":""},"",{"$f":"IF(LEN(Table6[[#This Row],[Pupil Name]])>0,1,0)","v":0}]
[{"$f":"IF(Table1[[#This Row],[School/Group Name]]=\"\",\"\",Table1[[#This Row],[School/Group Name]])","v":""},{"$f":"IF(Table1[[#This Row],[Pupil Name]]=\"\",\"\",Table1[[#This Row],[Pupil Name]])","v":""},{"$f":"IF(Table1[[#This Row],[Gender (M/F)]]=\"\",\"\",Table1[[#This Row],[Gender (M/F)]])","v":""},{"$f":"IF(Table1[[#This Row],[DisAdv (Y/N)]]=\"\",\"\",Table1[[#This Row],[DisAdv (Y/N)]])","v":""},{"$f":"IF(Table1[[#This Row],[SEND (E,K,N)]]=\"\",\"\",Table1[[#This Row],[SEND (E,K,N)]])","v":""},"",{"$f":"IF(LEN(Table6[[#This Row],[Pupil Name]])>0,1,0)","v":0}]
[{"$f":"IF(Table1[[#This Row],[School/Group Name]]=\"\",\"\",Table1[[#This Row],[School/Group Name]])","v":""},{"$f":"IF(Table1[[#This Row],[Pupil Name]]=\"\",\"\",Table1[[#This Row],[Pupil Name]])","v":""},{"$f":"IF(Table1[[#This Row],[Gender (M/F)]]=\"\",\"\",Table1[[#This Row],[Gender (M/F)]])","v":""},{"$f":"IF(Table1[[#This Row],[DisAdv (Y/N)]]=\"\",\"\",Table1[[#This Row],[DisAdv (Y/N)]])","v":""},{"$f":"IF(Table1[[#This Row],[SEND (E,K,N)]]=\"\",\"\",Table1[[#This Row],[SEND (E,K,N)]])","v":""},"",{"$f":"IF(LEN(Table6[[#This Row],[Pupil Name]])>0,1,0)","v":0}]
[{"$f":"IF(Table1[[#This Row],[School/Group Name]]=\"\",\"\",Table1[[#This Row],[School/Group Name]])","v":""},{"$f":"IF(Table1[[#This Row],[Pupil Name]]=\"\",\"\",Table1[[#This Row],[Pupil Name]])","v":""},{"$f":"IF(Table1[[#This Row],[Gender (M/F)]]=\"\",\"\",Table1[[#This Row],[Gender (M/F)]])","v":""},{"$f":"IF(Table1[[#This Row],[DisAdv (Y/N)]]=\"\",\"\",Table1[[#This Row],[DisAdv (Y/N)]])","v":""},{"$f":"IF(Table1[[#This Row],[SEND (E,K,N)]]=\"\",\"\",Table1[[#This Row],[SEND (E,K,N)]])","v":""},"",{"$f":"IF(LEN(Table6[[#This Row],[Pupil Name]])>0,1,0)","v":0}]
[{"$f":"IF(Table1[[#This Row],[School/Group Name]]=\"\",\"\",Table1[[#This Row],[School/Group Name]])","v":""},{"$f":"IF(Table1[[#This Row],[Pupil Name]]=\"\",\"\",Table1[[#This Row],[Pupil Name]])","v":""},{"$f":"IF(Table1[[#This Row],[Gender (M/F)]]=\"\",\"\",Table1[[#This Row],[Gender (M/F)]])","v":""},{"$f":"IF(Table1[[#This Row],[DisAdv (Y/N)]]=\"\",\"\",Table1[[#This Row],[DisAdv (Y/N)]])","v":""},{"$f":"IF(Table1[[#This Row],[SEND (E,K,N)]]=\"\",\"\",Table1[[#This Row],[SEND (E,K,N)]])","v":""},"",{"$f":"IF(LEN(Table6[[#This Row],[Pupil Name]])>0,1,0)","v":0}]
[{"$f":"IF(Table1[[#This Row],[School/Group Name]]=\"\",\"\",Table1[[#This Row],[School/Group Name]])","v":""},{"$f":"IF(Table1[[#This Row],[Pupil Name]]=\"\",\"\",Table1[[#This Row],[Pupil Name]])","v":""},{"$f":"IF(Table1[[#This Row],[Gender (M/F)]]=\"\",\"\",Table1[[#This Row],[Gender (M/F)]])","v":""},{"$f":"IF(Table1[[#This Row],[DisAdv (Y/N)]]=\"\",\"\",Table1[[#This Row],[DisAdv (Y/N)]])","v":""},{"$f":"IF(Table1[[#This Row],[SEND (E,K,N)]]=\"\",\"\",Table1[[#This Row],[SEND (E,K,N)]])","v":""},"",{"$f":"IF(LEN(Table6[[#This Row],[Pupil Name]])>0,1,0)","v":0}]
[{"$f":"IF(Table1[[#This Row],[School/Group Name]]=\"\",\"\",Table1[[#This Row],[School/Group Name]])","v":""},{"$f":"IF(Table1[[#This Row],[Pupil Name]]=\"\",\"\",Table1[[#This Row],[Pupil Name]])","v":""},{"$f":"IF(Table1[[#This Row],[Gender (M/F)]]=\"\",\"\",Table1[[#This Row],[Gender (M/F)]])","v":""},{"$f":"IF(Table1[[#This Row],[DisAdv (Y/N)]]=\"\",\"\",Table1[[#This Row],[DisAdv (Y/N)]])","v":""},{"$f":"IF(Table1[[#This Row],[SEND (E,K,N)]]=\"\",\"\",Table1[[#This Row],[SEND (E,K,N)]])","v":""},"",{"$f":"IF(LEN(Table6[[#This Row],[Pupil Name]])>0,1,0)","v":0}]
[{"$f":"IF(Table1[[#This Row],[School/Group Name]]=\"\",\"\",Table1[[#This Row],[School/Group Name]])","v":""},{"$f":"IF(Table1[[#This Row],[Pupil Name]]=\"\",\"\",Table1[[#This Row],[Pupil Name]])","v":""},{"$f":"IF(Table1[[#This Row],[Gender (M/F)]]=\"\",\"\",Table1[[#This Row],[Gender (M/F)]])","v":""},{"$f":"IF(Table1[[#This Row],[DisAdv (Y/N)]]=\"\",\"\",Table1[[#This Row],[DisAdv (Y/N)]])","v":""},{"$f":"IF(Table1[[#This Row],[SEND (E,K,N)]]=\"\",\"\",Table1[[#This Row],[SEND (E,K,N)]])","v":""},"",{"$f":"IF(LEN(Table6[[#This Row],[Pupil Name]])>0,1,0)","v":0}]
[{"$f":"IF(Table1[[#This Row],[School/Group Name]]=\"\",\"\",Table1[[#This Row],[School/Group Name]])","v":""},{"$f":"IF(Table1[[#This Row],[Pupil Name]]=\"\",\"\",Table1[[#This Row],[Pupil Name]])","v":""},{"$f":"IF(Table1[[#This Row],[Gender (M/F)]]=\"\",\"\",Table1[[#This Row],[Gender (M/F)]])","v":""},{"$f":"IF(Table1[[#This Row],[DisAdv (Y/N)]]=\"\",\"\",Table1[[#This Row],[DisAdv (Y/N)]])","v":""},{"$f":"IF(Table1[[#This Row],[SEND (E,K,N)]]=\"\",\"\",Table1[[#This Row],[SEND (E,K,N)]])","v":""},{"$f":"IF(H327=\"\",\"\",(SUM(H327:BE327)))","v":""},{"$f":"IF(LEN(Table6[[#This Row],[Pupil Name]])>0,1,0)","v":0}]
[{"$f":"IF(Table1[[#This Row],[School/Group Name]]=\"\",\"\",Table1[[#This Row],[School/Group Name]])","v":""},{"$f":"IF(Table1[[#This Row],[Pupil Name]]=\"\",\"\",Table1[[#This Row],[Pupil Name]])","v":""},{"$f":"IF(Table1[[#This Row],[Gender (M/F)]]=\"\",\"\",Table1[[#This Row],[Gender (M/F)]])","v":""},{"$f":"IF(Table1[[#This Row],[DisAdv (Y/N)]]=\"\",\"\",Table1[[#This Row],[DisAdv (Y/N)]])","v":""},{"$f":"IF(Table1[[#This Row],[SEND (E,K,N)]]=\"\",\"\",Table1[[#This Row],[SEND (E,K,N)]])","v":""},"",{"$f":"IF(LEN(Table6[[#This Row],[Pupil Name]])>0,1,0)","v":0}]
[{"$f":"IF(Table1[[#This Row],[School/Group Name]]=\"\",\"\",Table1[[#This Row],[School/Group Name]])","v":""},{"$f":"IF(Table1[[#This Row],[Pupil Name]]=\"\",\"\",Table1[[#This Row],[Pupil Name]])","v":""},{"$f":"IF(Table1[[#This Row],[Gender (M/F)]]=\"\",\"\",Table1[[#This Row],[Gender (M/F)]])","v":""},{"$f":"IF(Table1[[#This Row],[DisAdv (Y/N)]]=\"\",\"\",Table1[[#This Row],[DisAdv (Y/N)]])","v":""},{"$f":"IF(Table1[[#This Row],[SEND (E,K,N)]]=\"\",\"\",Table1[[#This Row],[SEND (E,K,N)]])","v":""},"",{"$f":"IF(LEN(Table6[[#This Row],[Pupil Name]])>0,1,0)","v":0}]
[{"$f":"IF(Table1[[#This Row],[School/Group Name]]=\"\",\"\",Table1[[#This Row],[School/Group Name]])","v":""},{"$f":"IF(Table1[[#This Row],[Pupil Name]]=\"\",\"\",Table1[[#This Row],[Pupil Name]])","v":""},{"$f":"IF(Table1[[#This Row],[Gender (M/F)]]=\"\",\"\",Table1[[#This Row],[Gender (M/F)]])","v":""},{"$f":"IF(Table1[[#This Row],[DisAdv (Y/N)]]=\"\",\"\",Table1[[#This Row],[DisAdv (Y/N)]])","v":""},{"$f":"IF(Table1[[#This Row],[SEND (E,K,N)]]=\"\",\"\",Table1[[#This Row],[SEND (E,K,N)]])","v":""},"",{"$f":"IF(LEN(Table6[[#This Row],[Pupil Name]])>0,1,0)","v":0}]
[{"$f":"IF(Table1[[#This Row],[School/Group Name]]=\"\",\"\",Table1[[#This Row],[School/Group Name]])","v":""},{"$f":"IF(Table1[[#This Row],[Pupil Name]]=\"\",\"\",Table1[[#This Row],[Pupil Name]])","v":""},{"$f":"IF(Table1[[#This Row],[Gender (M/F)]]=\"\",\"\",Table1[[#This Row],[Gender (M/F)]])","v":""},{"$f":"IF(Table1[[#This Row],[DisAdv (Y/N)]]=\"\",\"\",Table1[[#This Row],[DisAdv (Y/N)]])","v":""},{"$f":"IF(Table1[[#This Row],[SEND (E,K,N)]]=\"\",\"\",Table1[[#This Row],[SEND (E,K,N)]])","v":""},"",{"$f":"IF(LEN(Table6[[#This Row],[Pupil Name]])>0,1,0)","v":0}]
[{"$f":"IF(Table1[[#This Row],[School/Group Name]]=\"\",\"\",Table1[[#This Row],[School/Group Name]])","v":""},{"$f":"IF(Table1[[#This Row],[Pupil Name]]=\"\",\"\",Table1[[#This Row],[Pupil Name]])","v":""},{"$f":"IF(Table1[[#This Row],[Gender (M/F)]]=\"\",\"\",Table1[[#This Row],[Gender (M/F)]])","v":""},{"$f":"IF(Table1[[#This Row],[DisAdv (Y/N)]]=\"\",\"\",Table1[[#This Row],[DisAdv (Y/N)]])","v":""},{"$f":"IF(Table1[[#This Row],[SEND (E,K,N)]]=\"\",\"\",Table1[[#This Row],[SEND (E,K,N)]])","v":""},"",{"$f":"IF(LEN(Table6[[#This Row],[Pupil Name]])>0,1,0)","v":0}]
[{"$f":"IF(Table1[[#This Row],[School/Group Name]]=\"\",\"\",Table1[[#This Row],[School/Group Name]])","v":""},{"$f":"IF(Table1[[#This Row],[Pupil Name]]=\"\",\"\",Table1[[#This Row],[Pupil Name]])","v":""},{"$f":"IF(Table1[[#This Row],[Gender (M/F)]]=\"\",\"\",Table1[[#This Row],[Gender (M/F)]])","v":""},{"$f":"IF(Table1[[#This Row],[DisAdv (Y/N)]]=\"\",\"\",Table1[[#This Row],[DisAdv (Y/N)]])","v":""},{"$f":"IF(Table1[[#This Row],[SEND (E,K,N)]]=\"\",\"\",Table1[[#This Row],[SEND (E,K,N)]])","v":""},"",{"$f":"IF(LEN(Table6[[#This Row],[Pupil Name]])>0,1,0)","v":0}]
[{"$f":"IF(Table1[[#This Row],[School/Group Name]]=\"\",\"\",Table1[[#This Row],[School/Group Name]])","v":""},{"$f":"IF(Table1[[#This Row],[Pupil Name]]=\"\",\"\",Table1[[#This Row],[Pupil Name]])","v":""},{"$f":"IF(Table1[[#This Row],[Gender (M/F)]]=\"\",\"\",Table1[[#This Row],[Gender (M/F)]])","v":""},{"$f":"IF(Table1[[#This Row],[DisAdv (Y/N)]]=\"\",\"\",Table1[[#This Row],[DisAdv (Y/N)]])","v":""},{"$f":"IF(Table1[[#This Row],[SEND (E,K,N)]]=\"\",\"\",Table1[[#This Row],[SEND (E,K,N)]])","v":""},"",{"$f":"IF(LEN(Table6[[#This Row],[Pupil Name]])>0,1,0)","v":0}]
[{"$f":"IF(Table1[[#This Row],[School/Group Name]]=\"\",\"\",Table1[[#This Row],[School/Group Name]])","v":""},{"$f":"IF(Table1[[#This Row],[Pupil Name]]=\"\",\"\",Table1[[#This Row],[Pupil Name]])","v":""},{"$f":"IF(Table1[[#This Row],[Gender (M/F)]]=\"\",\"\",Table1[[#This Row],[Gender (M/F)]])","v":""},{"$f":"IF(Table1[[#This Row],[DisAdv (Y/N)]]=\"\",\"\",Table1[[#This Row],[DisAdv (Y/N)]])","v":""},{"$f":"IF(Table1[[#This Row],[SEND (E,K,N)]]=\"\",\"\",Table1[[#This Row],[SEND (E,K,N)]])","v":""},"",{"$f":"IF(LEN(Table6[[#This Row],[Pupil Name]])>0,1,0)","v":0}]
[{"$f":"IF(Table1[[#This Row],[School/Group Name]]=\"\",\"\",Table1[[#This Row],[School/Group Name]])","v":""},{"$f":"IF(Table1[[#This Row],[Pupil Name]]=\"\",\"\",Table1[[#This Row],[Pupil Name]])","v":""},{"$f":"IF(Table1[[#This Row],[Gender (M/F)]]=\"\",\"\",Table1[[#This Row],[Gender (M/F)]])","v":""},{"$f":"IF(Table1[[#This Row],[DisAdv (Y/N)]]=\"\",\"\",Table1[[#This Row],[DisAdv (Y/N)]])","v":""},{"$f":"IF(Table1[[#This Row],[SEND (E,K,N)]]=\"\",\"\",Table1[[#This Row],[SEND (E,K,N)]])","v":""},"",{"$f":"IF(LEN(Table6[[#This Row],[Pupil Name]])>0,1,0)","v":0}]
[{"$f":"IF(Table1[[#This Row],[School/Group Name]]=\"\",\"\",Table1[[#This Row],[School/Group Name]])","v":""},{"$f":"IF(Table1[[#This Row],[Pupil Name]]=\"\",\"\",Table1[[#This Row],[Pupil Name]])","v":""},{"$f":"IF(Table1[[#This Row],[Gender (M/F)]]=\"\",\"\",Table1[[#This Row],[Gender (M/F)]])","v":""},{"$f":"IF(Table1[[#This Row],[DisAdv (Y/N)]]=\"\",\"\",Table1[[#This Row],[DisAdv (Y/N)]])","v":""},{"$f":"IF(Table1[[#This Row],[SEND (E,K,N)]]=\"\",\"\",Table1[[#This Row],[SEND (E,K,N)]])","v":""},"",{"$f":"IF(LEN(Table6[[#This Row],[Pupil Name]])>0,1,0)","v":0}]
[{"$f":"IF(Table1[[#This Row],[School/Group Name]]=\"\",\"\",Table1[[#This Row],[School/Group Name]])","v":""},{"$f":"IF(Table1[[#This Row],[Pupil Name]]=\"\",\"\",Table1[[#This Row],[Pupil Name]])","v":""},{"$f":"IF(Table1[[#This Row],[Gender (M/F)]]=\"\",\"\",Table1[[#This Row],[Gender (M/F)]])","v":""},{"$f":"IF(Table1[[#This Row],[DisAdv (Y/N)]]=\"\",\"\",Table1[[#This Row],[DisAdv (Y/N)]])","v":""},{"$f":"IF(Table1[[#This Row],[SEND (E,K,N)]]=\"\",\"\",Table1[[#This Row],[SEND (E,K,N)]])","v":""},"",{"$f":"IF(LEN(Table6[[#This Row],[Pupil Name]])>0,1,0)","v":0}]
[{"$f":"IF(Table1[[#This Row],[School/Group Name]]=\"\",\"\",Table1[[#This Row],[School/Group Name]])","v":""},{"$f":"IF(Table1[[#This Row],[Pupil Name]]=\"\",\"\",Table1[[#This Row],[Pupil Name]])","v":""},{"$f":"IF(Table1[[#This Row],[Gender (M/F)]]=\"\",\"\",Table1[[#This Row],[Gender (M/F)]])","v":""},{"$f":"IF(Table1[[#This Row],[DisAdv (Y/N)]]=\"\",\"\",Table1[[#This Row],[DisAdv (Y/N)]])","v":""},{"$f":"IF(Table1[[#This Row],[SEND (E,K,N)]]=\"\",\"\",Table1[[#This Row],[SEND (E,K,N)]])","v":""},"",{"$f":"IF(LEN(Table6[[#This Row],[Pupil Name]])>0,1,0)","v":0}]
[{"$f":"IF(Table1[[#This Row],[School/Group Name]]=\"\",\"\",Table1[[#This Row],[School/Group Name]])","v":""},{"$f":"IF(Table1[[#This Row],[Pupil Name]]=\"\",\"\",Table1[[#This Row],[Pupil Name]])","v":""},{"$f":"IF(Table1[[#This Row],[Gender (M/F)]]=\"\",\"\",Table1[[#This Row],[Gender (M/F)]])","v":""},{"$f":"IF(Table1[[#This Row],[DisAdv (Y/N)]]=\"\",\"\",Table1[[#This Row],[DisAdv (Y/N)]])","v":""},{"$f":"IF(Table1[[#This Row],[SEND (E,K,N)]]=\"\",\"\",Table1[[#This Row],[SEND (E,K,N)]])","v":""},"",{"$f":"IF(LEN(Table6[[#This Row],[Pupil Name]])>0,1,0)","v":0}]
[{"$f":"IF(Table1[[#This Row],[School/Group Name]]=\"\",\"\",Table1[[#This Row],[School/Group Name]])","v":""},{"$f":"IF(Table1[[#This Row],[Pupil Name]]=\"\",\"\",Table1[[#This Row],[Pupil Name]])","v":""},{"$f":"IF(Table1[[#This Row],[Gender (M/F)]]=\"\",\"\",Table1[[#This Row],[Gender (M/F)]])","v":""},{"$f":"IF(Table1[[#This Row],[DisAdv (Y/N)]]=\"\",\"\",Table1[[#This Row],[DisAdv (Y/N)]])","v":""},{"$f":"IF(Table1[[#This Row],[SEND (E,K,N)]]=\"\",\"\",Table1[[#This Row],[SEND (E,K,N)]])","v":""},"",{"$f":"IF(LEN(Table6[[#This Row],[Pupil Name]])>0,1,0)","v":0}]
[{"$f":"IF(Table1[[#This Row],[School/Group Name]]=\"\",\"\",Table1[[#This Row],[School/Group Name]])","v":""},{"$f":"IF(Table1[[#This Row],[Pupil Name]]=\"\",\"\",Table1[[#This Row],[Pupil Name]])","v":""},{"$f":"IF(Table1[[#This Row],[Gender (M/F)]]=\"\",\"\",Table1[[#This Row],[Gender (M/F)]])","v":""},{"$f":"IF(Table1[[#This Row],[DisAdv (Y/N)]]=\"\",\"\",Table1[[#This Row],[DisAdv (Y/N)]])","v":""},{"$f":"IF(Table1[[#This Row],[SEND (E,K,N)]]=\"\",\"\",Table1[[#This Row],[SEND (E,K,N)]])","v":""},"",{"$f":"IF(LEN(Table6[[#This Row],[Pupil Name]])>0,1,0)","v":0}]
[{"$f":"IF(Table1[[#This Row],[School/Group Name]]=\"\",\"\",Table1[[#This Row],[School/Group Name]])","v":""},{"$f":"IF(Table1[[#This Row],[Pupil Name]]=\"\",\"\",Table1[[#This Row],[Pupil Name]])","v":""},{"$f":"IF(Table1[[#This Row],[Gender (M/F)]]=\"\",\"\",Table1[[#This Row],[Gender (M/F)]])","v":""},{"$f":"IF(Table1[[#This Row],[DisAdv (Y/N)]]=\"\",\"\",Table1[[#This Row],[DisAdv (Y/N)]])","v":""},{"$f":"IF(Table1[[#This Row],[SEND (E,K,N)]]=\"\",\"\",Table1[[#This Row],[SEND (E,K,N)]])","v":""},"",{"$f":"IF(LEN(Table6[[#This Row],[Pupil Name]])>0,1,0)","v":0}]
[{"$f":"IF(Table1[[#This Row],[School/Group Name]]=\"\",\"\",Table1[[#This Row],[School/Group Name]])","v":""},{"$f":"IF(Table1[[#This Row],[Pupil Name]]=\"\",\"\",Table1[[#This Row],[Pupil Name]])","v":""},{"$f":"IF(Table1[[#This Row],[Gender (M/F)]]=\"\",\"\",Table1[[#This Row],[Gender (M/F)]])","v":""},{"$f":"IF(Table1[[#This Row],[DisAdv (Y/N)]]=\"\",\"\",Table1[[#This Row],[DisAdv (Y/N)]])","v":""},{"$f":"IF(Table1[[#This Row],[SEND (E,K,N)]]=\"\",\"\",Table1[[#This Row],[SEND (E,K,N)]])","v":""},"",{"$f":"IF(LEN(Table6[[#This Row],[Pupil Name]])>0,1,0)","v":0}]
[{"$f":"IF(Table1[[#This Row],[School/Group Name]]=\"\",\"\",Table1[[#This Row],[School/Group Name]])","v":""},{"$f":"IF(Table1[[#This Row],[Pupil Name]]=\"\",\"\",Table1[[#This Row],[Pupil Name]])","v":""},{"$f":"IF(Table1[[#This Row],[Gender (M/F)]]=\"\",\"\",Table1[[#This Row],[Gender (M/F)]])","v":""},{"$f":"IF(Table1[[#This Row],[DisAdv (Y/N)]]=\"\",\"\",Table1[[#This Row],[DisAdv (Y/N)]])","v":""},{"$f":"IF(Table1[[#This Row],[SEND (E,K,N)]]=\"\",\"\",Table1[[#This Row],[SEND (E,K,N)]])","v":""},"",{"$f":"IF(LEN(Table6[[#This Row],[Pupil Name]])>0,1,0)","v":0}]
[{"$f":"IF(Table1[[#This Row],[School/Group Name]]=\"\",\"\",Table1[[#This Row],[School/Group Name]])","v":""},{"$f":"IF(Table1[[#This Row],[Pupil Name]]=\"\",\"\",Table1[[#This Row],[Pupil Name]])","v":""},{"$f":"IF(Table1[[#This Row],[Gender (M/F)]]=\"\",\"\",Table1[[#This Row],[Gender (M/F)]])","v":""},{"$f":"IF(Table1[[#This Row],[DisAdv (Y/N)]]=\"\",\"\",Table1[[#This Row],[DisAdv (Y/N)]])","v":""},{"$f":"IF(Table1[[#This Row],[SEND (E,K,N)]]=\"\",\"\",Table1[[#This Row],[SEND (E,K,N)]])","v":""},"",{"$f":"IF(LEN(Table6[[#This Row],[Pupil Name]])>0,1,0)","v":0}]
[{"$f":"IF(Table1[[#This Row],[School/Group Name]]=\"\",\"\",Table1[[#This Row],[School/Group Name]])","v":""},{"$f":"IF(Table1[[#This Row],[Pupil Name]]=\"\",\"\",Table1[[#This Row],[Pupil Name]])","v":""},{"$f":"IF(Table1[[#This Row],[Gender (M/F)]]=\"\",\"\",Table1[[#This Row],[Gender (M/F)]])","v":""},{"$f":"IF(Table1[[#This Row],[DisAdv (Y/N)]]=\"\",\"\",Table1[[#This Row],[DisAdv (Y/N)]])","v":""},{"$f":"IF(Table1[[#This Row],[SEND (E,K,N)]]=\"\",\"\",Table1[[#This Row],[SEND (E,K,N)]])","v":""},"",{"$f":"IF(LEN(Table6[[#This Row],[Pupil Name]])>0,1,0)","v":0}]
[{"$f":"IF(Table1[[#This Row],[School/Group Name]]=\"\",\"\",Table1[[#This Row],[School/Group Name]])","v":""},{"$f":"IF(Table1[[#This Row],[Pupil Name]]=\"\",\"\",Table1[[#This Row],[Pupil Name]])","v":""},{"$f":"IF(Table1[[#This Row],[Gender (M/F)]]=\"\",\"\",Table1[[#This Row],[Gender (M/F)]])","v":""},{"$f":"IF(Table1[[#This Row],[DisAdv (Y/N)]]=\"\",\"\",Table1[[#This Row],[DisAdv (Y/N)]])","v":""},{"$f":"IF(Table1[[#This Row],[SEND (E,K,N)]]=\"\",\"\",Table1[[#This Row],[SEND (E,K,N)]])","v":""},"",{"$f":"IF(LEN(Table6[[#This Row],[Pupil Name]])>0,1,0)","v":0}]
[{"$f":"IF(Table1[[#This Row],[School/Group Name]]=\"\",\"\",Table1[[#This Row],[School/Group Name]])","v":""},{"$f":"IF(Table1[[#This Row],[Pupil Name]]=\"\",\"\",Table1[[#This Row],[Pupil Name]])","v":""},{"$f":"IF(Table1[[#This Row],[Gender (M/F)]]=\"\",\"\",Table1[[#This Row],[Gender (M/F)]])","v":""},{"$f":"IF(Table1[[#This Row],[DisAdv (Y/N)]]=\"\",\"\",Table1[[#This Row],[DisAdv (Y/N)]])","v":""},{"$f":"IF(Table1[[#This Row],[SEND (E,K,N)]]=\"\",\"\",Table1[[#This Row],[SEND (E,K,N)]])","v":""},"",{"$f":"IF(LEN(Table6[[#This Row],[Pupil Name]])>0,1,0)","v":0}]
[{"$f":"IF(Table1[[#This Row],[School/Group Name]]=\"\",\"\",Table1[[#This Row],[School/Group Name]])","v":""},{"$f":"IF(Table1[[#This Row],[Pupil Name]]=\"\",\"\",Table1[[#This Row],[Pupil Name]])","v":""},{"$f":"IF(Table1[[#This Row],[Gender (M/F)]]=\"\",\"\",Table1[[#This Row],[Gender (M/F)]])","v":""},{"$f":"IF(Table1[[#This Row],[DisAdv (Y/N)]]=\"\",\"\",Table1[[#This Row],[DisAdv (Y/N)]])","v":""},{"$f":"IF(Table1[[#This Row],[SEND (E,K,N)]]=\"\",\"\",Table1[[#This Row],[SEND (E,K,N)]])","v":""},"",{"$f":"IF(LEN(Table6[[#This Row],[Pupil Name]])>0,1,0)","v":0}]
[{"$f":"IF(Table1[[#This Row],[School/Group Name]]=\"\",\"\",Table1[[#This Row],[School/Group Name]])","v":""},{"$f":"IF(Table1[[#This Row],[Pupil Name]]=\"\",\"\",Table1[[#This Row],[Pupil Name]])","v":""},{"$f":"IF(Table1[[#This Row],[Gender (M/F)]]=\"\",\"\",Table1[[#This Row],[Gender (M/F)]])","v":""},{"$f":"IF(Table1[[#This Row],[DisAdv (Y/N)]]=\"\",\"\",Table1[[#This Row],[DisAdv (Y/N)]])","v":""},{"$f":"IF(Table1[[#This Row],[SEND (E,K,N)]]=\"\",\"\",Table1[[#This Row],[SEND (E,K,N)]])","v":""},"",{"$f":"IF(LEN(Table6[[#This Row],[Pupil Name]])>0,1,0)","v":0}]
[{"$f":"IF(Table1[[#This Row],[School/Group Name]]=\"\",\"\",Table1[[#This Row],[School/Group Name]])","v":""},{"$f":"IF(Table1[[#This Row],[Pupil Name]]=\"\",\"\",Table1[[#This Row],[Pupil Name]])","v":""},{"$f":"IF(Table1[[#This Row],[Gender (M/F)]]=\"\",\"\",Table1[[#This Row],[Gender (M/F)]])","v":""},{"$f":"IF(Table1[[#This Row],[DisAdv (Y/N)]]=\"\",\"\",Table1[[#This Row],[DisAdv (Y/N)]])","v":""},{"$f":"IF(Table1[[#This Row],[SEND (E,K,N)]]=\"\",\"\",Table1[[#This Row],[SEND (E,K,N)]])","v":""},"",{"$f":"IF(LEN(Table6[[#This Row],[Pupil Name]])>0,1,0)","v":0}]
[{"$f":"IF(Table1[[#This Row],[School/Group Name]]=\"\",\"\",Table1[[#This Row],[School/Group Name]])","v":""},{"$f":"IF(Table1[[#This Row],[Pupil Name]]=\"\",\"\",Table1[[#This Row],[Pupil Name]])","v":""},{"$f":"IF(Table1[[#This Row],[Gender (M/F)]]=\"\",\"\",Table1[[#This Row],[Gender (M/F)]])","v":""},{"$f":"IF(Table1[[#This Row],[DisAdv (Y/N)]]=\"\",\"\",Table1[[#This Row],[DisAdv (Y/N)]])","v":""},{"$f":"IF(Table1[[#This Row],[SEND (E,K,N)]]=\"\",\"\",Table1[[#This Row],[SEND (E,K,N)]])","v":""},"",{"$f":"IF(LEN(Table6[[#This Row],[Pupil Name]])>0,1,0)","v":0}]
[{"$f":"IF(Table1[[#This Row],[School/Group Name]]=\"\",\"\",Table1[[#This Row],[School/Group Name]])","v":""},{"$f":"IF(Table1[[#This Row],[Pupil Name]]=\"\",\"\",Table1[[#This Row],[Pupil Name]])","v":""},{"$f":"IF(Table1[[#This Row],[Gender (M/F)]]=\"\",\"\",Table1[[#This Row],[Gender (M/F)]])","v":""},{"$f":"IF(Table1[[#This Row],[DisAdv (Y/N)]]=\"\",\"\",Table1[[#This Row],[DisAdv (Y/N)]])","v":""},{"$f":"IF(Table1[[#This Row],[SEND (E,K,N)]]=\"\",\"\",Table1[[#This Row],[SEND (E,K,N)]])","v":""},"",{"$f":"IF(LEN(Table6[[#This Row],[Pupil Name]])>0,1,0)","v":0}]
[{"$f":"IF(Table1[[#This Row],[School/Group Name]]=\"\",\"\",Table1[[#This Row],[School/Group Name]])","v":""},{"$f":"IF(Table1[[#This Row],[Pupil Name]]=\"\",\"\",Table1[[#This Row],[Pupil Name]])","v":""},{"$f":"IF(Table1[[#This Row],[Gender (M/F)]]=\"\",\"\",Table1[[#This Row],[Gender (M/F)]])","v":""},{"$f":"IF(Table1[[#This Row],[DisAdv (Y/N)]]=\"\",\"\",Table1[[#This Row],[DisAdv (Y/N)]])","v":""},{"$f":"IF(Table1[[#This Row],[SEND (E,K,N)]]=\"\",\"\",Table1[[#This Row],[SEND (E,K,N)]])","v":""},"",{"$f":"IF(LEN(Table6[[#This Row],[Pupil Name]])>0,1,0)","v":0}]
[{"$f":"IF(Table1[[#This Row],[School/Group Name]]=\"\",\"\",Table1[[#This Row],[School/Group Name]])","v":""},{"$f":"IF(Table1[[#This Row],[Pupil Name]]=\"\",\"\",Table1[[#This Row],[Pupil Name]])","v":""},{"$f":"IF(Table1[[#This Row],[Gender (M/F)]]=\"\",\"\",Table1[[#This Row],[Gender (M/F)]])","v":""},{"$f":"IF(Table1[[#This Row],[DisAdv (Y/N)]]=\"\",\"\",Table1[[#This Row],[DisAdv (Y/N)]])","v":""},{"$f":"IF(Table1[[#This Row],[SEND (E,K,N)]]=\"\",\"\",Table1[[#This Row],[SEND (E,K,N)]])","v":""},"",{"$f":"IF(LEN(Table6[[#This Row],[Pupil Name]])>0,1,0)","v":0}]
[{"$f":"IF(Table1[[#This Row],[School/Group Name]]=\"\",\"\",Table1[[#This Row],[School/Group Name]])","v":""},{"$f":"IF(Table1[[#This Row],[Pupil Name]]=\"\",\"\",Table1[[#This Row],[Pupil Name]])","v":""},{"$f":"IF(Table1[[#This Row],[Gender (M/F)]]=\"\",\"\",Table1[[#This Row],[Gender (M/F)]])","v":""},{"$f":"IF(Table1[[#This Row],[DisAdv (Y/N)]]=\"\",\"\",Table1[[#This Row],[DisAdv (Y/N)]])","v":""},{"$f":"IF(Table1[[#This Row],[SEND (E,K,N)]]=\"\",\"\",Table1[[#This Row],[SEND (E,K,N)]])","v":""},"",{"$f":"IF(LEN(Table6[[#This Row],[Pupil Name]])>0,1,0)","v":0}]
[{"$f":"IF(Table1[[#This Row],[School/Group Name]]=\"\",\"\",Table1[[#This Row],[School/Group Name]])","v":""},{"$f":"IF(Table1[[#This Row],[Pupil Name]]=\"\",\"\",Table1[[#This Row],[Pupil Name]])","v":""},{"$f":"IF(Table1[[#This Row],[Gender (M/F)]]=\"\",\"\",Table1[[#This Row],[Gender (M/F)]])","v":""},{"$f":"IF(Table1[[#This Row],[DisAdv (Y/N)]]=\"\",\"\",Table1[[#This Row],[DisAdv (Y/N)]])","v":""},{"$f":"IF(Table1[[#This Row],[SEND (E,K,N)]]=\"\",\"\",Table1[[#This Row],[SEND (E,K,N)]])","v":""},"",{"$f":"IF(LEN(Table6[[#This Row],[Pupil Name]])>0,1,0)","v":0}]
[{"$f":"IF(Table1[[#This Row],[School/Group Name]]=\"\",\"\",Table1[[#This Row],[School/Group Name]])","v":""},{"$f":"IF(Table1[[#This Row],[Pupil Name]]=\"\",\"\",Table1[[#This Row],[Pupil Name]])","v":""},{"$f":"IF(Table1[[#This Row],[Gender (M/F)]]=\"\",\"\",Table1[[#This Row],[Gender (M/F)]])","v":""},{"$f":"IF(Table1[[#This Row],[DisAdv (Y/N)]]=\"\",\"\",Table1[[#This Row],[DisAdv (Y/N)]])","v":""},{"$f":"IF(Table1[[#This Row],[SEND (E,K,N)]]=\"\",\"\",Table1[[#This Row],[SEND (E,K,N)]])","v":""},"",{"$f":"IF(LEN(Table6[[#This Row],[Pupil Name]])>0,1,0)","v":0}]
[{"$f":"IF(Table1[[#This Row],[School/Group Name]]=\"\",\"\",Table1[[#This Row],[School/Group Name]])","v":""},{"$f":"IF(Table1[[#This Row],[Pupil Name]]=\"\",\"\",Table1[[#This Row],[Pupil Name]])","v":""},{"$f":"IF(Table1[[#This Row],[Gender (M/F)]]=\"\",\"\",Table1[[#This Row],[Gender (M/F)]])","v":""},{"$f":"IF(Table1[[#This Row],[DisAdv (Y/N)]]=\"\",\"\",Table1[[#This Row],[DisAdv (Y/N)]])","v":""},{"$f":"IF(Table1[[#This Row],[SEND (E,K,N)]]=\"\",\"\",Table1[[#This Row],[SEND (E,K,N)]])","v":""},"",{"$f":"IF(LEN(Table6[[#This Row],[Pupil Name]])>0,1,0)","v":0}]
[{"$f":"IF(Table1[[#This Row],[School/Group Name]]=\"\",\"\",Table1[[#This Row],[School/Group Name]])","v":""},{"$f":"IF(Table1[[#This Row],[Pupil Name]]=\"\",\"\",Table1[[#This Row],[Pupil Name]])","v":""},{"$f":"IF(Table1[[#This Row],[Gender (M/F)]]=\"\",\"\",Table1[[#This Row],[Gender (M/F)]])","v":""},{"$f":"IF(Table1[[#This Row],[DisAdv (Y/N)]]=\"\",\"\",Table1[[#This Row],[DisAdv (Y/N)]])","v":""},{"$f":"IF(Table1[[#This Row],[SEND (E,K,N)]]=\"\",\"\",Table1[[#This Row],[SEND (E,K,N)]])","v":""},"",{"$f":"IF(LEN(Table6[[#This Row],[Pupil Name]])>0,1,0)","v":0}]
[{"$f":"IF(Table1[[#This Row],[School/Group Name]]=\"\",\"\",Table1[[#This Row],[School/Group Name]])","v":""},{"$f":"IF(Table1[[#This Row],[Pupil Name]]=\"\",\"\",Table1[[#This Row],[Pupil Name]])","v":""},{"$f":"IF(Table1[[#This Row],[Gender (M/F)]]=\"\",\"\",Table1[[#This Row],[Gender (M/F)]])","v":""},{"$f":"IF(Table1[[#This Row],[DisAdv (Y/N)]]=\"\",\"\",Table1[[#This Row],[DisAdv (Y/N)]])","v":""},{"$f":"IF(Table1[[#This Row],[SEND (E,K,N)]]=\"\",\"\",Table1[[#This Row],[SEND (E,K,N)]])","v":""},"",{"$f":"IF(LEN(Table6[[#This Row],[Pupil Name]])>0,1,0)","v":0}]
[{"$f":"IF(Table1[[#This Row],[School/Group Name]]=\"\",\"\",Table1[[#This Row],[School/Group Name]])","v":""},{"$f":"IF(Table1[[#This Row],[Pupil Name]]=\"\",\"\",Table1[[#This Row],[Pupil Name]])","v":""},{"$f":"IF(Table1[[#This Row],[Gender (M/F)]]=\"\",\"\",Table1[[#This Row],[Gender (M/F)]])","v":""},{"$f":"IF(Table1[[#This Row],[DisAdv (Y/N)]]=\"\",\"\",Table1[[#This Row],[DisAdv (Y/N)]])","v":""},{"$f":"IF(Table1[[#This Row],[SEND (E,K,N)]]=\"\",\"\",Table1[[#This Row],[SEND (E,K,N)]])","v":""},"",{"$f":"IF(LEN(Table6[[#This Row],[Pupil Name]])>0,1,0)","v":0}]
[{"$f":"IF(Table1[[#This Row],[School/Group Name]]=\"\",\"\",Table1[[#This Row],[School/Group Name]])","v":""},{"$f":"IF(Table1[[#This Row],[Pupil Name]]=\"\",\"\",Table1[[#This Row],[Pupil Name]])","v":""},{"$f":"IF(Table1[[#This Row],[Gender (M/F)]]=\"\",\"\",Table1[[#This Row],[Gender (M/F)]])","v":""},{"$f":"IF(Table1[[#This Row],[DisAdv (Y/N)]]=\"\",\"\",Table1[[#This Row],[DisAdv (Y/N)]])","v":""},{"$f":"IF(Table1[[#This Row],[SEND (E,K,N)]]=\"\",\"\",Table1[[#This Row],[SEND (E,K,N)]])","v":""},"",{"$f":"IF(LEN(Table6[[#This Row],[Pupil Name]])>0,1,0)","v":0}]
[{"$f":"IF(Table1[[#This Row],[School/Group Name]]=\"\",\"\",Table1[[#This Row],[School/Group Name]])","v":""},{"$f":"IF(Table1[[#This Row],[Pupil Name]]=\"\",\"\",Table1[[#This Row],[Pupil Name]])","v":""},{"$f":"IF(Table1[[#This Row],[Gender (M/F)]]=\"\",\"\",Table1[[#This Row],[Gender (M/F)]])","v":""},{"$f":"IF(Table1[[#This Row],[DisAdv (Y/N)]]=\"\",\"\",Table1[[#This Row],[DisAdv (Y/N)]])","v":""},{"$f":"IF(Table1[[#This Row],[SEND (E,K,N)]]=\"\",\"\",Table1[[#This Row],[SEND (E,K,N)]])","v":""},"",{"$f":"IF(LEN(Table6[[#This Row],[Pupil Name]])>0,1,0)","v":0}]
[{"$f":"IF(Table1[[#This Row],[School/Group Name]]=\"\",\"\",Table1[[#This Row],[School/Group Name]])","v":""},{"$f":"IF(Table1[[#This Row],[Pupil Name]]=\"\",\"\",Table1[[#This Row],[Pupil Name]])","v":""},{"$f":"IF(Table1[[#This Row],[Gender (M/F)]]=\"\",\"\",Table1[[#This Row],[Gender (M/F)]])","v":""},{"$f":"IF(Table1[[#This Row],[DisAdv (Y/N)]]=\"\",\"\",Table1[[#This Row],[DisAdv (Y/N)]])","v":""},{"$f":"IF(Table1[[#This Row],[SEND (E,K,N)]]=\"\",\"\",Table1[[#This Row],[SEND (E,K,N)]])","v":""},"",{"$f":"IF(LEN(Table6[[#This Row],[Pupil Name]])>0,1,0)","v":0}]
[{"$f":"IF(Table1[[#This Row],[School/Group Name]]=\"\",\"\",Table1[[#This Row],[School/Group Name]])","v":""},{"$f":"IF(Table1[[#This Row],[Pupil Name]]=\"\",\"\",Table1[[#This Row],[Pupil Name]])","v":""},{"$f":"IF(Table1[[#This Row],[Gender (M/F)]]=\"\",\"\",Table1[[#This Row],[Gender (M/F)]])","v":""},{"$f":"IF(Table1[[#This Row],[DisAdv (Y/N)]]=\"\",\"\",Table1[[#This Row],[DisAdv (Y/N)]])","v":""},{"$f":"IF(Table1[[#This Row],[SEND (E,K,N)]]=\"\",\"\",Table1[[#This Row],[SEND (E,K,N)]])","v":""},"",{"$f":"IF(LEN(Table6[[#This Row],[Pupil Name]])>0,1,0)","v":0}]
[{"$f":"IF(Table1[[#This Row],[School/Group Name]]=\"\",\"\",Table1[[#This Row],[School/Group Name]])","v":""},{"$f":"IF(Table1[[#This Row],[Pupil Name]]=\"\",\"\",Table1[[#This Row],[Pupil Name]])","v":""},{"$f":"IF(Table1[[#This Row],[Gender (M/F)]]=\"\",\"\",Table1[[#This Row],[Gender (M/F)]])","v":""},{"$f":"IF(Table1[[#This Row],[DisAdv (Y/N)]]=\"\",\"\",Table1[[#This Row],[DisAdv (Y/N)]])","v":""},{"$f":"IF(Table1[[#This Row],[SEND (E,K,N)]]=\"\",\"\",Table1[[#This Row],[SEND (E,K,N)]])","v":""},"",{"$f":"IF(LEN(Table6[[#This Row],[Pupil Name]])>0,1,0)","v":0}]
[{"$f":"IF(Table1[[#This Row],[School/Group Name]]=\"\",\"\",Table1[[#This Row],[School/Group Name]])","v":""},{"$f":"IF(Table1[[#This Row],[Pupil Name]]=\"\",\"\",Table1[[#This Row],[Pupil Name]])","v":""},{"$f":"IF(Table1[[#This Row],[Gender (M/F)]]=\"\",\"\",Table1[[#This Row],[Gender (M/F)]])","v":""},{"$f":"IF(Table1[[#This Row],[DisAdv (Y/N)]]=\"\",\"\",Table1[[#This Row],[DisAdv (Y/N)]])","v":""},{"$f":"IF(Table1[[#This Row],[SEND (E,K,N)]]=\"\",\"\",Table1[[#This Row],[SEND (E,K,N)]])","v":""},"",{"$f":"IF(LEN(Table6[[#This Row],[Pupil Name]])>0,1,0)","v":0}]
[{"$f":"IF(Table1[[#This Row],[School/Group Name]]=\"\",\"\",Table1[[#This Row],[School/Group Name]])","v":""},{"$f":"IF(Table1[[#This Row],[Pupil Name]]=\"\",\"\",Table1[[#This Row],[Pupil Name]])","v":""},{"$f":"IF(Table1[[#This Row],[Gender (M/F)]]=\"\",\"\",Table1[[#This Row],[Gender (M/F)]])","v":""},{"$f":"IF(Table1[[#This Row],[DisAdv (Y/N)]]=\"\",\"\",Table1[[#This Row],[DisAdv (Y/N)]])","v":""},{"$f":"IF(Table1[[#This Row],[SEND (E,K,N)]]=\"\",\"\",Table1[[#This Row],[SEND (E,K,N)]])","v":""},"",{"$f":"IF(LEN(Table6[[#This Row],[Pupil Name]])>0,1,0)","v":0}]
[{"$f":"IF(Table1[[#This Row],[School/Group Name]]=\"\",\"\",Table1[[#This Row],[School/Group Name]])","v":""},{"$f":"IF(Table1[[#This Row],[Pupil Name]]=\"\",\"\",Table1[[#This Row],[Pupil Name]])","v":""},{"$f":"IF(Table1[[#This Row],[Gender (M/F)]]=\"\",\"\",Table1[[#This Row],[Gender (M/F)]])","v":""},{"$f":"IF(Table1[[#This Row],[DisAdv (Y/N)]]=\"\",\"\",Table1[[#This Row],[DisAdv (Y/N)]])","v":""},{"$f":"IF(Table1[[#This Row],[SEND (E,K,N)]]=\"\",\"\",Table1[[#This Row],[SEND (E,K,N)]])","v":""},"",{"$f":"IF(LEN(Table6[[#This Row],[Pupil Name]])>0,1,0)","v":0}]
[{"$f":"IF(Table1[[#This Row],[School/Group Name]]=\"\",\"\",Table1[[#This Row],[School/Group Name]])","v":""},{"$f":"IF(Table1[[#This Row],[Pupil Name]]=\"\",\"\",Table1[[#This Row],[Pupil Name]])","v":""},{"$f":"IF(Table1[[#This Row],[Gender (M/F)]]=\"\",\"\",Table1[[#This Row],[Gender (M/F)]])","v":""},{"$f":"IF(Table1[[#This Row],[DisAdv (Y/N)]]=\"\",\"\",Table1[[#This Row],[DisAdv (Y/N)]])","v":""},{"$f":"IF(Table1[[#This Row],[SEND (E,K,N)]]=\"\",\"\",Table1[[#This Row],[SEND (E,K,N)]])","v":""},"",{"$f":"IF(LEN(Table6[[#This Row],[Pupil Name]])>0,1,0)","v":0}]
[{"$f":"IF(Table1[[#This Row],[School/Group Name]]=\"\",\"\",Table1[[#This Row],[School/Group Name]])","v":""},{"$f":"IF(Table1[[#This Row],[Pupil Name]]=\"\",\"\",Table1[[#This Row],[Pupil Name]])","v":""},{"$f":"IF(Table1[[#This Row],[Gender (M/F)]]=\"\",\"\",Table1[[#This Row],[Gender (M/F)]])","v":""},{"$f":"IF(Table1[[#This Row],[DisAdv (Y/N)]]=\"\",\"\",Table1[[#This Row],[DisAdv (Y/N)]])","v":""},{"$f":"IF(Table1[[#This Row],[SEND (E,K,N)]]=\"\",\"\",Table1[[#This Row],[SEND (E,K,N)]])","v":""},"",{"$f":"IF(LEN(Table6[[#This Row],[Pupil Name]])>0,1,0)","v":0}]
[{"$f":"IF(Table1[[#This Row],[School/Group Name]]=\"\",\"\",Table1[[#This Row],[School/Group Name]])","v":""},{"$f":"IF(Table1[[#This Row],[Pupil Name]]=\"\",\"\",Table1[[#This Row],[Pupil Name]])","v":""},{"$f":"IF(Table1[[#This Row],[Gender (M/F)]]=\"\",\"\",Table1[[#This Row],[Gender (M/F)]])","v":""},{"$f":"IF(Table1[[#This Row],[DisAdv (Y/N)]]=\"\",\"\",Table1[[#This Row],[DisAdv (Y/N)]])","v":""},{"$f":"IF(Table1[[#This Row],[SEND (E,K,N)]]=\"\",\"\",Table1[[#This Row],[SEND (E,K,N)]])","v":""},"",{"$f":"IF(LEN(Table6[[#This Row],[Pupil Name]])>0,1,0)","v":0}]
[{"$f":"IF(Table1[[#This Row],[School/Group Name]]=\"\",\"\",Table1[[#This Row],[School/Group Name]])","v":""},{"$f":"IF(Table1[[#This Row],[Pupil Name]]=\"\",\"\",Table1[[#This Row],[Pupil Name]])","v":""},{"$f":"IF(Table1[[#This Row],[Gender (M/F)]]=\"\",\"\",Table1[[#This Row],[Gender (M/F)]])","v":""},{"$f":"IF(Table1[[#This Row],[DisAdv (Y/N)]]=\"\",\"\",Table1[[#This Row],[DisAdv (Y/N)]])","v":""},{"$f":"IF(Table1[[#This Row],[SEND (E,K,N)]]=\"\",\"\",Table1[[#This Row],[SEND (E,K,N)]])","v":""},"",{"$f":"IF(LEN(Table6[[#This Row],[Pupil Name]])>0,1,0)","v":0}]
[{"$f":"IF(Table1[[#This Row],[School/Group Name]]=\"\",\"\",Table1[[#This Row],[School/Group Name]])","v":""},{"$f":"IF(Table1[[#This Row],[Pupil Name]]=\"\",\"\",Table1[[#This Row],[Pupil Name]])","v":""},{"$f":"IF(Table1[[#This Row],[Gender (M/F)]]=\"\",\"\",Table1[[#This Row],[Gender (M/F)]])","v":""},{"$f":"IF(Table1[[#This Row],[DisAdv (Y/N)]]=\"\",\"\",Table1[[#This Row],[DisAdv (Y/N)]])","v":""},{"$f":"IF(Table1[[#This Row],[SEND (E,K,N)]]=\"\",\"\",Table1[[#This Row],[SEND (E,K,N)]])","v":""},"",{"$f":"IF(LEN(Table6[[#This Row],[Pupil Name]])>0,1,0)","v":0}]
[{"$f":"IF(Table1[[#This Row],[School/Group Name]]=\"\",\"\",Table1[[#This Row],[School/Group Name]])","v":""},{"$f":"IF(Table1[[#This Row],[Pupil Name]]=\"\",\"\",Table1[[#This Row],[Pupil Name]])","v":""},{"$f":"IF(Table1[[#This Row],[Gender (M/F)]]=\"\",\"\",Table1[[#This Row],[Gender (M/F)]])","v":""},{"$f":"IF(Table1[[#This Row],[DisAdv (Y/N)]]=\"\",\"\",Table1[[#This Row],[DisAdv (Y/N)]])","v":""},{"$f":"IF(Table1[[#This Row],[SEND (E,K,N)]]=\"\",\"\",Table1[[#This Row],[SEND (E,K,N)]])","v":""},"",{"$f":"IF(LEN(Table6[[#This Row],[Pupil Name]])>0,1,0)","v":0}]
[{"$f":"IF(Table1[[#This Row],[School/Group Name]]=\"\",\"\",Table1[[#This Row],[School/Group Name]])","v":""},{"$f":"IF(Table1[[#This Row],[Pupil Name]]=\"\",\"\",Table1[[#This Row],[Pupil Name]])","v":""},{"$f":"IF(Table1[[#This Row],[Gender (M/F)]]=\"\",\"\",Table1[[#This Row],[Gender (M/F)]])","v":""},{"$f":"IF(Table1[[#This Row],[DisAdv (Y/N)]]=\"\",\"\",Table1[[#This Row],[DisAdv (Y/N)]])","v":""},{"$f":"IF(Table1[[#This Row],[SEND (E,K,N)]]=\"\",\"\",Table1[[#This Row],[SEND (E,K,N)]])","v":""},"",{"$f":"IF(LEN(Table6[[#This Row],[Pupil Name]])>0,1,0)","v":0}]
[{"$f":"IF(Table1[[#This Row],[School/Group Name]]=\"\",\"\",Table1[[#This Row],[School/Group Name]])","v":""},{"$f":"IF(Table1[[#This Row],[Pupil Name]]=\"\",\"\",Table1[[#This Row],[Pupil Name]])","v":""},{"$f":"IF(Table1[[#This Row],[Gender (M/F)]]=\"\",\"\",Table1[[#This Row],[Gender (M/F)]])","v":""},{"$f":"IF(Table1[[#This Row],[DisAdv (Y/N)]]=\"\",\"\",Table1[[#This Row],[DisAdv (Y/N)]])","v":""},{"$f":"IF(Table1[[#This Row],[SEND (E,K,N)]]=\"\",\"\",Table1[[#This Row],[SEND (E,K,N)]])","v":""},"",{"$f":"IF(LEN(Table6[[#This Row],[Pupil Name]])>0,1,0)","v":0}]
[{"$f":"IF(Table1[[#This Row],[School/Group Name]]=\"\",\"\",Table1[[#This Row],[School/Group Name]])","v":""},{"$f":"IF(Table1[[#This Row],[Pupil Name]]=\"\",\"\",Table1[[#This Row],[Pupil Name]])","v":""},{"$f":"IF(Table1[[#This Row],[Gender (M/F)]]=\"\",\"\",Table1[[#This Row],[Gender (M/F)]])","v":""},{"$f":"IF(Table1[[#This Row],[DisAdv (Y/N)]]=\"\",\"\",Table1[[#This Row],[DisAdv (Y/N)]])","v":""},{"$f":"IF(Table1[[#This Row],[SEND (E,K,N)]]=\"\",\"\",Table1[[#This Row],[SEND (E,K,N)]])","v":""},"",{"$f":"IF(LEN(Table6[[#This Row],[Pupil Name]])>0,1,0)","v":0}]
[{"$f":"IF(Table1[[#This Row],[School/Group Name]]=\"\",\"\",Table1[[#This Row],[School/Group Name]])","v":""},{"$f":"IF(Table1[[#This Row],[Pupil Name]]=\"\",\"\",Table1[[#This Row],[Pupil Name]])","v":""},{"$f":"IF(Table1[[#This Row],[Gender (M/F)]]=\"\",\"\",Table1[[#This Row],[Gender (M/F)]])","v":""},{"$f":"IF(Table1[[#This Row],[DisAdv (Y/N)]]=\"\",\"\",Table1[[#This Row],[DisAdv (Y/N)]])","v":""},{"$f":"IF(Table1[[#This Row],[SEND (E,K,N)]]=\"\",\"\",Table1[[#This Row],[SEND (E,K,N)]])","v":""},"",{"$f":"IF(LEN(Table6[[#This Row],[Pupil Name]])>0,1,0)","v":0}]
[{"$f":"IF(Table1[[#This Row],[School/Group Name]]=\"\",\"\",Table1[[#This Row],[School/Group Name]])","v":""},{"$f":"IF(Table1[[#This Row],[Pupil Name]]=\"\",\"\",Table1[[#This Row],[Pupil Name]])","v":""},{"$f":"IF(Table1[[#This Row],[Gender (M/F)]]=\"\",\"\",Table1[[#This Row],[Gender (M/F)]])","v":""},{"$f":"IF(Table1[[#This Row],[DisAdv (Y/N)]]=\"\",\"\",Table1[[#This Row],[DisAdv (Y/N)]])","v":""},{"$f":"IF(Table1[[#This Row],[SEND (E,K,N)]]=\"\",\"\",Table1[[#This Row],[SEND (E,K,N)]])","v":""},"",{"$f":"IF(LEN(Table6[[#This Row],[Pupil Name]])>0,1,0)","v":0}]
[{"$f":"IF(Table1[[#This Row],[School/Group Name]]=\"\",\"\",Table1[[#This Row],[School/Group Name]])","v":""},{"$f":"IF(Table1[[#This Row],[Pupil Name]]=\"\",\"\",Table1[[#This Row],[Pupil Name]])","v":""},{"$f":"IF(Table1[[#This Row],[Gender (M/F)]]=\"\",\"\",Table1[[#This Row],[Gender (M/F)]])","v":""},{"$f":"IF(Table1[[#This Row],[DisAdv (Y/N)]]=\"\",\"\",Table1[[#This Row],[DisAdv (Y/N)]])","v":""},{"$f":"IF(Table1[[#This Row],[SEND (E,K,N)]]=\"\",\"\",Table1[[#This Row],[SEND (E,K,N)]])","v":""},"",{"$f":"IF(LEN(Table6[[#This Row],[Pupil Name]])>0,1,0)","v":0}]
[{"$f":"IF(Table1[[#This Row],[School/Group Name]]=\"\",\"\",Table1[[#This Row],[School/Group Name]])","v":""},{"$f":"IF(Table1[[#This Row],[Pupil Name]]=\"\",\"\",Table1[[#This Row],[Pupil Name]])","v":""},{"$f":"IF(Table1[[#This Row],[Gender (M/F)]]=\"\",\"\",Table1[[#This Row],[Gender (M/F)]])","v":""},{"$f":"IF(Table1[[#This Row],[DisAdv (Y/N)]]=\"\",\"\",Table1[[#This Row],[DisAdv (Y/N)]])","v":""},{"$f":"IF(Table1[[#This Row],[SEND (E,K,N)]]=\"\",\"\",Table1[[#This Row],[SEND (E,K,N)]])","v":""},"",{"$f":"IF(LEN(Table6[[#This Row],[Pupil Name]])>0,1,0)","v":0}]
[{"$f":"IF(Table1[[#This Row],[School/Group Name]]=\"\",\"\",Table1[[#This Row],[School/Group Name]])","v":""},{"$f":"IF(Table1[[#This Row],[Pupil Name]]=\"\",\"\",Table1[[#This Row],[Pupil Name]])","v":""},{"$f":"IF(Table1[[#This Row],[Gender (M/F)]]=\"\",\"\",Table1[[#This Row],[Gender (M/F)]])","v":""},{"$f":"IF(Table1[[#This Row],[DisAdv (Y/N)]]=\"\",\"\",Table1[[#This Row],[DisAdv (Y/N)]])","v":""},{"$f":"IF(Table1[[#This Row],[SEND (E,K,N)]]=\"\",\"\",Table1[[#This Row],[SEND (E,K,N)]])","v":""},"",{"$f":"IF(LEN(Table6[[#This Row],[Pupil Name]])>0,1,0)","v":0}]
[{"$f":"IF(Table1[[#This Row],[School/Group Name]]=\"\",\"\",Table1[[#This Row],[School/Group Name]])","v":""},{"$f":"IF(Table1[[#This Row],[Pupil Name]]=\"\",\"\",Table1[[#This Row],[Pupil Name]])","v":""},{"$f":"IF(Table1[[#This Row],[Gender (M/F)]]=\"\",\"\",Table1[[#This Row],[Gender (M/F)]])","v":""},{"$f":"IF(Table1[[#This Row],[DisAdv (Y/N)]]=\"\",\"\",Table1[[#This Row],[DisAdv (Y/N)]])","v":""},{"$f":"IF(Table1[[#This Row],[SEND (E,K,N)]]=\"\",\"\",Table1[[#This Row],[SEND (E,K,N)]])","v":""},"",{"$f":"IF(LEN(Table6[[#This Row],[Pupil Name]])>0,1,0)","v":0}]
[{"$f":"IF(Table1[[#This Row],[School/Group Name]]=\"\",\"\",Table1[[#This Row],[School/Group Name]])","v":""},{"$f":"IF(Table1[[#This Row],[Pupil Name]]=\"\",\"\",Table1[[#This Row],[Pupil Name]])","v":""},{"$f":"IF(Table1[[#This Row],[Gender (M/F)]]=\"\",\"\",Table1[[#This Row],[Gender (M/F)]])","v":""},{"$f":"IF(Table1[[#This Row],[DisAdv (Y/N)]]=\"\",\"\",Table1[[#This Row],[DisAdv (Y/N)]])","v":""},{"$f":"IF(Table1[[#This Row],[SEND (E,K,N)]]=\"\",\"\",Table1[[#This Row],[SEND (E,K,N)]])","v":""},"",{"$f":"IF(LEN(Table6[[#This Row],[Pupil Name]])>0,1,0)","v":0}]
[{"$f":"IF(Table1[[#This Row],[School/Group Name]]=\"\",\"\",Table1[[#This Row],[School/Group Name]])","v":""},{"$f":"IF(Table1[[#This Row],[Pupil Name]]=\"\",\"\",Table1[[#This Row],[Pupil Name]])","v":""},{"$f":"IF(Table1[[#This Row],[Gender (M/F)]]=\"\",\"\",Table1[[#This Row],[Gender (M/F)]])","v":""},{"$f":"IF(Table1[[#This Row],[DisAdv (Y/N)]]=\"\",\"\",Table1[[#This Row],[DisAdv (Y/N)]])","v":""},{"$f":"IF(Table1[[#This Row],[SEND (E,K,N)]]=\"\",\"\",Table1[[#This Row],[SEND (E,K,N)]])","v":""},"",{"$f":"IF(LEN(Table6[[#This Row],[Pupil Name]])>0,1,0)","v":0}]
[{"$f":"IF(Table1[[#This Row],[School/Group Name]]=\"\",\"\",Table1[[#This Row],[School/Group Name]])","v":""},{"$f":"IF(Table1[[#This Row],[Pupil Name]]=\"\",\"\",Table1[[#This Row],[Pupil Name]])","v":""},{"$f":"IF(Table1[[#This Row],[Gender (M/F)]]=\"\",\"\",Table1[[#This Row],[Gender (M/F)]])","v":""},{"$f":"IF(Table1[[#This Row],[DisAdv (Y/N)]]=\"\",\"\",Table1[[#This Row],[DisAdv (Y/N)]])","v":""},{"$f":"IF(Table1[[#This Row],[SEND (E,K,N)]]=\"\",\"\",Table1[[#This Row],[SEND (E,K,N)]])","v":""},"",{"$f":"IF(LEN(Table6[[#This Row],[Pupil Name]])>0,1,0)","v":0}]
[{"$f":"IF(Table1[[#This Row],[School/Group Name]]=\"\",\"\",Table1[[#This Row],[School/Group Name]])","v":""},{"$f":"IF(Table1[[#This Row],[Pupil Name]]=\"\",\"\",Table1[[#This Row],[Pupil Name]])","v":""},{"$f":"IF(Table1[[#This Row],[Gender (M/F)]]=\"\",\"\",Table1[[#This Row],[Gender (M/F)]])","v":""},{"$f":"IF(Table1[[#This Row],[DisAdv (Y/N)]]=\"\",\"\",Table1[[#This Row],[DisAdv (Y/N)]])","v":""},{"$f":"IF(Table1[[#This Row],[SEND (E,K,N)]]=\"\",\"\",Table1[[#This Row],[SEND (E,K,N)]])","v":""},"",{"$f":"IF(LEN(Table6[[#This Row],[Pupil Name]])>0,1,0)","v":0}]
[{"$f":"IF(Table1[[#This Row],[School/Group Name]]=\"\",\"\",Table1[[#This Row],[School/Group Name]])","v":""},{"$f":"IF(Table1[[#This Row],[Pupil Name]]=\"\",\"\",Table1[[#This Row],[Pupil Name]])","v":""},{"$f":"IF(Table1[[#This Row],[Gender (M/F)]]=\"\",\"\",Table1[[#This Row],[Gender (M/F)]])","v":""},{"$f":"IF(Table1[[#This Row],[DisAdv (Y/N)]]=\"\",\"\",Table1[[#This Row],[DisAdv (Y/N)]])","v":""},{"$f":"IF(Table1[[#This Row],[SEND (E,K,N)]]=\"\",\"\",Table1[[#This Row],[SEND (E,K,N)]])","v":""},{"$f":"IF(H391=\"\",\"\",(SUM(H391:BE391)))","v":""},{"$f":"IF(LEN(Table6[[#This Row],[Pupil Name]])>0,1,0)","v":0}]
[{"$f":"IF(Table1[[#This Row],[School/Group Name]]=\"\",\"\",Table1[[#This Row],[School/Group Name]])","v":""},{"$f":"IF(Table1[[#This Row],[Pupil Name]]=\"\",\"\",Table1[[#This Row],[Pupil Name]])","v":""},{"$f":"IF(Table1[[#This Row],[Gender (M/F)]]=\"\",\"\",Table1[[#This Row],[Gender (M/F)]])","v":""},{"$f":"IF(Table1[[#This Row],[DisAdv (Y/N)]]=\"\",\"\",Table1[[#This Row],[DisAdv (Y/N)]])","v":""},{"$f":"IF(Table1[[#This Row],[SEND (E,K,N)]]=\"\",\"\",Table1[[#This Row],[SEND (E,K,N)]])","v":""},"",{"$f":"IF(LEN(Table6[[#This Row],[Pupil Name]])>0,1,0)","v":0}]
[{"$f":"IF(Table1[[#This Row],[School/Group Name]]=\"\",\"\",Table1[[#This Row],[School/Group Name]])","v":""},{"$f":"IF(Table1[[#This Row],[Pupil Name]]=\"\",\"\",Table1[[#This Row],[Pupil Name]])","v":""},{"$f":"IF(Table1[[#This Row],[Gender (M/F)]]=\"\",\"\",Table1[[#This Row],[Gender (M/F)]])","v":""},{"$f":"IF(Table1[[#This Row],[DisAdv (Y/N)]]=\"\",\"\",Table1[[#This Row],[DisAdv (Y/N)]])","v":""},{"$f":"IF(Table1[[#This Row],[SEND (E,K,N)]]=\"\",\"\",Table1[[#This Row],[SEND (E,K,N)]])","v":""},"",{"$f":"IF(LEN(Table6[[#This Row],[Pupil Name]])>0,1,0)","v":0}]
[{"$f":"IF(Table1[[#This Row],[School/Group Name]]=\"\",\"\",Table1[[#This Row],[School/Group Name]])","v":""},{"$f":"IF(Table1[[#This Row],[Pupil Name]]=\"\",\"\",Table1[[#This Row],[Pupil Name]])","v":""},{"$f":"IF(Table1[[#This Row],[Gender (M/F)]]=\"\",\"\",Table1[[#This Row],[Gender (M/F)]])","v":""},{"$f":"IF(Table1[[#This Row],[DisAdv (Y/N)]]=\"\",\"\",Table1[[#This Row],[DisAdv (Y/N)]])","v":""},{"$f":"IF(Table1[[#This Row],[SEND (E,K,N)]]=\"\",\"\",Table1[[#This Row],[SEND (E,K,N)]])","v":""},"",{"$f":"IF(LEN(Table6[[#This Row],[Pupil Name]])>0,1,0)","v":0}]
[{"$f":"IF(Table1[[#This Row],[School/Group Name]]=\"\",\"\",Table1[[#This Row],[School/Group Name]])","v":""},{"$f":"IF(Table1[[#This Row],[Pupil Name]]=\"\",\"\",Table1[[#This Row],[Pupil Name]])","v":""},{"$f":"IF(Table1[[#This Row],[Gender (M/F)]]=\"\",\"\",Table1[[#This Row],[Gender (M/F)]])","v":""},{"$f":"IF(Table1[[#This Row],[DisAdv (Y/N)]]=\"\",\"\",Table1[[#This Row],[DisAdv (Y/N)]])","v":""},{"$f":"IF(Table1[[#This Row],[SEND (E,K,N)]]=\"\",\"\",Table1[[#This Row],[SEND (E,K,N)]])","v":""},"",{"$f":"IF(LEN(Table6[[#This Row],[Pupil Name]])>0,1,0)","v":0}]
[{"$f":"IF(Table1[[#This Row],[School/Group Name]]=\"\",\"\",Table1[[#This Row],[School/Group Name]])","v":""},{"$f":"IF(Table1[[#This Row],[Pupil Name]]=\"\",\"\",Table1[[#This Row],[Pupil Name]])","v":""},{"$f":"IF(Table1[[#This Row],[Gender (M/F)]]=\"\",\"\",Table1[[#This Row],[Gender (M/F)]])","v":""},{"$f":"IF(Table1[[#This Row],[DisAdv (Y/N)]]=\"\",\"\",Table1[[#This Row],[DisAdv (Y/N)]])","v":""},{"$f":"IF(Table1[[#This Row],[SEND (E,K,N)]]=\"\",\"\",Table1[[#This Row],[SEND (E,K,N)]])","v":""},"",{"$f":"IF(LEN(Table6[[#This Row],[Pupil Name]])>0,1,0)","v":0}]
[{"$f":"IF(Table1[[#This Row],[School/Group Name]]=\"\",\"\",Table1[[#This Row],[School/Group Name]])","v":""},{"$f":"IF(Table1[[#This Row],[Pupil Name]]=\"\",\"\",Table1[[#This Row],[Pupil Name]])","v":""},{"$f":"IF(Table1[[#This Row],[Gender (M/F)]]=\"\",\"\",Table1[[#This Row],[Gender (M/F)]])","v":""},{"$f":"IF(Table1[[#This Row],[DisAdv (Y/N)]]=\"\",\"\",Table1[[#This Row],[DisAdv (Y/N)]])","v":""},{"$f":"IF(Table1[[#This Row],[SEND (E,K,N)]]=\"\",\"\",Table1[[#This Row],[SEND (E,K,N)]])","v":""},"",{"$f":"IF(LEN(Table6[[#This Row],[Pupil Name]])>0,1,0)","v":0}]
[{"$f":"IF(Table1[[#This Row],[School/Group Name]]=\"\",\"\",Table1[[#This Row],[School/Group Name]])","v":""},{"$f":"IF(Table1[[#This Row],[Pupil Name]]=\"\",\"\",Table1[[#This Row],[Pupil Name]])","v":""},{"$f":"IF(Table1[[#This Row],[Gender (M/F)]]=\"\",\"\",Table1[[#This Row],[Gender (M/F)]])","v":""},{"$f":"IF(Table1[[#This Row],[DisAdv (Y/N)]]=\"\",\"\",Table1[[#This Row],[DisAdv (Y/N)]])","v":""},{"$f":"IF(Table1[[#This Row],[SEND (E,K,N)]]=\"\",\"\",Table1[[#This Row],[SEND (E,K,N)]])","v":""},"",{"$f":"IF(LEN(Table6[[#This Row],[Pupil Name]])>0,1,0)","v":0}]
[{"$f":"IF(Table1[[#This Row],[School/Group Name]]=\"\",\"\",Table1[[#This Row],[School/Group Name]])","v":""},{"$f":"IF(Table1[[#This Row],[Pupil Name]]=\"\",\"\",Table1[[#This Row],[Pupil Name]])","v":""},{"$f":"IF(Table1[[#This Row],[Gender (M/F)]]=\"\",\"\",Table1[[#This Row],[Gender (M/F)]])","v":""},{"$f":"IF(Table1[[#This Row],[DisAdv (Y/N)]]=\"\",\"\",Table1[[#This Row],[DisAdv (Y/N)]])","v":""},{"$f":"IF(Table1[[#This Row],[SEND (E,K,N)]]=\"\",\"\",Table1[[#This Row],[SEND (E,K,N)]])","v":""},"",{"$f":"IF(LEN(Table6[[#This Row],[Pupil Name]])>0,1,0)","v":0}]
[{"$f":"IF(Table1[[#This Row],[School/Group Name]]=\"\",\"\",Table1[[#This Row],[School/Group Name]])","v":""},{"$f":"IF(Table1[[#This Row],[Pupil Name]]=\"\",\"\",Table1[[#This Row],[Pupil Name]])","v":""},{"$f":"IF(Table1[[#This Row],[Gender (M/F)]]=\"\",\"\",Table1[[#This Row],[Gender (M/F)]])","v":""},{"$f":"IF(Table1[[#This Row],[DisAdv (Y/N)]]=\"\",\"\",Table1[[#This Row],[DisAdv (Y/N)]])","v":""},{"$f":"IF(Table1[[#This Row],[SEND (E,K,N)]]=\"\",\"\",Table1[[#This Row],[SEND (E,K,N)]])","v":""},"",{"$f":"IF(LEN(Table6[[#This Row],[Pupil Name]])>0,1,0)","v":0}]
[{"$f":"IF(Table1[[#This Row],[School/Group Name]]=\"\",\"\",Table1[[#This Row],[School/Group Name]])","v":""},{"$f":"IF(Table1[[#This Row],[Pupil Name]]=\"\",\"\",Table1[[#This Row],[Pupil Name]])","v":""},{"$f":"IF(Table1[[#This Row],[Gender (M/F)]]=\"\",\"\",Table1[[#This Row],[Gender (M/F)]])","v":""},{"$f":"IF(Table1[[#This Row],[DisAdv (Y/N)]]=\"\",\"\",Table1[[#This Row],[DisAdv (Y/N)]])","v":""},{"$f":"IF(Table1[[#This Row],[SEND (E,K,N)]]=\"\",\"\",Table1[[#This Row],[SEND (E,K,N)]])","v":""},"",{"$f":"IF(LEN(Table6[[#This Row],[Pupil Name]])>0,1,0)","v":0}]
[{"$f":"IF(Table1[[#This Row],[School/Group Name]]=\"\",\"\",Table1[[#This Row],[School/Group Name]])","v":""},{"$f":"IF(Table1[[#This Row],[Pupil Name]]=\"\",\"\",Table1[[#This Row],[Pupil Name]])","v":""},{"$f":"IF(Table1[[#This Row],[Gender (M/F)]]=\"\",\"\",Table1[[#This Row],[Gender (M/F)]])","v":""},{"$f":"IF(Table1[[#This Row],[DisAdv (Y/N)]]=\"\",\"\",Table1[[#This Row],[DisAdv (Y/N)]])","v":""},{"$f":"IF(Table1[[#This Row],[SEND (E,K,N)]]=\"\",\"\",Table1[[#This Row],[SEND (E,K,N)]])","v":""},"",{"$f":"IF(LEN(Table6[[#This Row],[Pupil Name]])>0,1,0)","v":0}]
[{"$f":"IF(Table1[[#This Row],[School/Group Name]]=\"\",\"\",Table1[[#This Row],[School/Group Name]])","v":""},{"$f":"IF(Table1[[#This Row],[Pupil Name]]=\"\",\"\",Table1[[#This Row],[Pupil Name]])","v":""},{"$f":"IF(Table1[[#This Row],[Gender (M/F)]]=\"\",\"\",Table1[[#This Row],[Gender (M/F)]])","v":""},{"$f":"IF(Table1[[#This Row],[DisAdv (Y/N)]]=\"\",\"\",Table1[[#This Row],[DisAdv (Y/N)]])","v":""},{"$f":"IF(Table1[[#This Row],[SEND (E,K,N)]]=\"\",\"\",Table1[[#This Row],[SEND (E,K,N)]])","v":""},"",{"$f":"IF(LEN(Table6[[#This Row],[Pupil Name]])>0,1,0)","v":0}]
[{"$f":"IF(Table1[[#This Row],[School/Group Name]]=\"\",\"\",Table1[[#This Row],[School/Group Name]])","v":""},{"$f":"IF(Table1[[#This Row],[Pupil Name]]=\"\",\"\",Table1[[#This Row],[Pupil Name]])","v":""},{"$f":"IF(Table1[[#This Row],[Gender (M/F)]]=\"\",\"\",Table1[[#This Row],[Gender (M/F)]])","v":""},{"$f":"IF(Table1[[#This Row],[DisAdv (Y/N)]]=\"\",\"\",Table1[[#This Row],[DisAdv (Y/N)]])","v":""},{"$f":"IF(Table1[[#This Row],[SEND (E,K,N)]]=\"\",\"\",Table1[[#This Row],[SEND (E,K,N)]])","v":""},"",{"$f":"IF(LEN(Table6[[#This Row],[Pupil Name]])>0,1,0)","v":0}]
[{"$f":"IF(Table1[[#This Row],[School/Group Name]]=\"\",\"\",Table1[[#This Row],[School/Group Name]])","v":""},{"$f":"IF(Table1[[#This Row],[Pupil Name]]=\"\",\"\",Table1[[#This Row],[Pupil Name]])","v":""},{"$f":"IF(Table1[[#This Row],[Gender (M/F)]]=\"\",\"\",Table1[[#This Row],[Gender (M/F)]])","v":""},{"$f":"IF(Table1[[#This Row],[DisAdv (Y/N)]]=\"\",\"\",Table1[[#This Row],[DisAdv (Y/N)]])","v":""},{"$f":"IF(Table1[[#This Row],[SEND (E,K,N)]]=\"\",\"\",Table1[[#This Row],[SEND (E,K,N)]])","v":""},"",{"$f":"IF(LEN(Table6[[#This Row],[Pupil Name]])>0,1,0)","v":0}]
[{"$f":"IF(Table1[[#This Row],[School/Group Name]]=\"\",\"\",Table1[[#This Row],[School/Group Name]])","v":""},{"$f":"IF(Table1[[#This Row],[Pupil Name]]=\"\",\"\",Table1[[#This Row],[Pupil Name]])","v":""},{"$f":"IF(Table1[[#This Row],[Gender (M/F)]]=\"\",\"\",Table1[[#This Row],[Gender (M/F)]])","v":""},{"$f":"IF(Table1[[#This Row],[DisAdv (Y/N)]]=\"\",\"\",Table1[[#This Row],[DisAdv (Y/N)]])","v":""},{"$f":"IF(Table1[[#This Row],[SEND (E,K,N)]]=\"\",\"\",Table1[[#This Row],[SEND (E,K,N)]])","v":""},"",{"$f":"IF(LEN(Table6[[#This Row],[Pupil Name]])>0,1,0)","v":0}]
[{"$f":"IF(Table1[[#This Row],[School/Group Name]]=\"\",\"\",Table1[[#This Row],[School/Group Name]])","v":""},{"$f":"IF(Table1[[#This Row],[Pupil Name]]=\"\",\"\",Table1[[#This Row],[Pupil Name]])","v":""},{"$f":"IF(Table1[[#This Row],[Gender (M/F)]]=\"\",\"\",Table1[[#This Row],[Gender (M/F)]])","v":""},{"$f":"IF(Table1[[#This Row],[DisAdv (Y/N)]]=\"\",\"\",Table1[[#This Row],[DisAdv (Y/N)]])","v":""},{"$f":"IF(Table1[[#This Row],[SEND (E,K,N)]]=\"\",\"\",Table1[[#This Row],[SEND (E,K,N)]])","v":""},"",{"$f":"IF(LEN(Table6[[#This Row],[Pupil Name]])>0,1,0)","v":0}]
[{"$f":"IF(Table1[[#This Row],[School/Group Name]]=\"\",\"\",Table1[[#This Row],[School/Group Name]])","v":""},{"$f":"IF(Table1[[#This Row],[Pupil Name]]=\"\",\"\",Table1[[#This Row],[Pupil Name]])","v":""},{"$f":"IF(Table1[[#This Row],[Gender (M/F)]]=\"\",\"\",Table1[[#This Row],[Gender (M/F)]])","v":""},{"$f":"IF(Table1[[#This Row],[DisAdv (Y/N)]]=\"\",\"\",Table1[[#This Row],[DisAdv (Y/N)]])","v":""},{"$f":"IF(Table1[[#This Row],[SEND (E,K,N)]]=\"\",\"\",Table1[[#This Row],[SEND (E,K,N)]])","v":""},"",{"$f":"IF(LEN(Table6[[#This Row],[Pupil Name]])>0,1,0)","v":0}]
[{"$f":"IF(Table1[[#This Row],[School/Group Name]]=\"\",\"\",Table1[[#This Row],[School/Group Name]])","v":""},{"$f":"IF(Table1[[#This Row],[Pupil Name]]=\"\",\"\",Table1[[#This Row],[Pupil Name]])","v":""},{"$f":"IF(Table1[[#This Row],[Gender (M/F)]]=\"\",\"\",Table1[[#This Row],[Gender (M/F)]])","v":""},{"$f":"IF(Table1[[#This Row],[DisAdv (Y/N)]]=\"\",\"\",Table1[[#This Row],[DisAdv (Y/N)]])","v":""},{"$f":"IF(Table1[[#This Row],[SEND (E,K,N)]]=\"\",\"\",Table1[[#This Row],[SEND (E,K,N)]])","v":""},"",{"$f":"IF(LEN(Table6[[#This Row],[Pupil Name]])>0,1,0)","v":0}]
[{"$f":"IF(Table1[[#This Row],[School/Group Name]]=\"\",\"\",Table1[[#This Row],[School/Group Name]])","v":""},{"$f":"IF(Table1[[#This Row],[Pupil Name]]=\"\",\"\",Table1[[#This Row],[Pupil Name]])","v":""},{"$f":"IF(Table1[[#This Row],[Gender (M/F)]]=\"\",\"\",Table1[[#This Row],[Gender (M/F)]])","v":""},{"$f":"IF(Table1[[#This Row],[DisAdv (Y/N)]]=\"\",\"\",Table1[[#This Row],[DisAdv (Y/N)]])","v":""},{"$f":"IF(Table1[[#This Row],[SEND (E,K,N)]]=\"\",\"\",Table1[[#This Row],[SEND (E,K,N)]])","v":""},"",{"$f":"IF(LEN(Table6[[#This Row],[Pupil Name]])>0,1,0)","v":0}]
[{"$f":"IF(Table1[[#This Row],[School/Group Name]]=\"\",\"\",Table1[[#This Row],[School/Group Name]])","v":""},{"$f":"IF(Table1[[#This Row],[Pupil Name]]=\"\",\"\",Table1[[#This Row],[Pupil Name]])","v":""},{"$f":"IF(Table1[[#This Row],[Gender (M/F)]]=\"\",\"\",Table1[[#This Row],[Gender (M/F)]])","v":""},{"$f":"IF(Table1[[#This Row],[DisAdv (Y/N)]]=\"\",\"\",Table1[[#This Row],[DisAdv (Y/N)]])","v":""},{"$f":"IF(Table1[[#This Row],[SEND (E,K,N)]]=\"\",\"\",Table1[[#This Row],[SEND (E,K,N)]])","v":""},"",{"$f":"IF(LEN(Table6[[#This Row],[Pupil Name]])>0,1,0)","v":0}]
[{"$f":"IF(Table1[[#This Row],[School/Group Name]]=\"\",\"\",Table1[[#This Row],[School/Group Name]])","v":""},{"$f":"IF(Table1[[#This Row],[Pupil Name]]=\"\",\"\",Table1[[#This Row],[Pupil Name]])","v":""},{"$f":"IF(Table1[[#This Row],[Gender (M/F)]]=\"\",\"\",Table1[[#This Row],[Gender (M/F)]])","v":""},{"$f":"IF(Table1[[#This Row],[DisAdv (Y/N)]]=\"\",\"\",Table1[[#This Row],[DisAdv (Y/N)]])","v":""},{"$f":"IF(Table1[[#This Row],[SEND (E,K,N)]]=\"\",\"\",Table1[[#This Row],[SEND (E,K,N)]])","v":""},"",{"$f":"IF(LEN(Table6[[#This Row],[Pupil Name]])>0,1,0)","v":0}]
[{"$f":"IF(Table1[[#This Row],[School/Group Name]]=\"\",\"\",Table1[[#This Row],[School/Group Name]])","v":""},{"$f":"IF(Table1[[#This Row],[Pupil Name]]=\"\",\"\",Table1[[#This Row],[Pupil Name]])","v":""},{"$f":"IF(Table1[[#This Row],[Gender (M/F)]]=\"\",\"\",Table1[[#This Row],[Gender (M/F)]])","v":""},{"$f":"IF(Table1[[#This Row],[DisAdv (Y/N)]]=\"\",\"\",Table1[[#This Row],[DisAdv (Y/N)]])","v":""},{"$f":"IF(Table1[[#This Row],[SEND (E,K,N)]]=\"\",\"\",Table1[[#This Row],[SEND (E,K,N)]])","v":""},"",{"$f":"IF(LEN(Table6[[#This Row],[Pupil Name]])>0,1,0)","v":0}]
[{"$f":"IF(Table1[[#This Row],[School/Group Name]]=\"\",\"\",Table1[[#This Row],[School/Group Name]])","v":""},{"$f":"IF(Table1[[#This Row],[Pupil Name]]=\"\",\"\",Table1[[#This Row],[Pupil Name]])","v":""},{"$f":"IF(Table1[[#This Row],[Gender (M/F)]]=\"\",\"\",Table1[[#This Row],[Gender (M/F)]])","v":""},{"$f":"IF(Table1[[#This Row],[DisAdv (Y/N)]]=\"\",\"\",Table1[[#This Row],[DisAdv (Y/N)]])","v":""},{"$f":"IF(Table1[[#This Row],[SEND (E,K,N)]]=\"\",\"\",Table1[[#This Row],[SEND (E,K,N)]])","v":""},"",{"$f":"IF(LEN(Table6[[#This Row],[Pupil Name]])>0,1,0)","v":0}]
[{"$f":"IF(Table1[[#This Row],[School/Group Name]]=\"\",\"\",Table1[[#This Row],[School/Group Name]])","v":""},{"$f":"IF(Table1[[#This Row],[Pupil Name]]=\"\",\"\",Table1[[#This Row],[Pupil Name]])","v":""},{"$f":"IF(Table1[[#This Row],[Gender (M/F)]]=\"\",\"\",Table1[[#This Row],[Gender (M/F)]])","v":""},{"$f":"IF(Table1[[#This Row],[DisAdv (Y/N)]]=\"\",\"\",Table1[[#This Row],[DisAdv (Y/N)]])","v":""},{"$f":"IF(Table1[[#This Row],[SEND (E,K,N)]]=\"\",\"\",Table1[[#This Row],[SEND (E,K,N)]])","v":""},"",{"$f":"IF(LEN(Table6[[#This Row],[Pupil Name]])>0,1,0)","v":0}]
[{"$f":"IF(Table1[[#This Row],[School/Group Name]]=\"\",\"\",Table1[[#This Row],[School/Group Name]])","v":""},{"$f":"IF(Table1[[#This Row],[Pupil Name]]=\"\",\"\",Table1[[#This Row],[Pupil Name]])","v":""},{"$f":"IF(Table1[[#This Row],[Gender (M/F)]]=\"\",\"\",Table1[[#This Row],[Gender (M/F)]])","v":""},{"$f":"IF(Table1[[#This Row],[DisAdv (Y/N)]]=\"\",\"\",Table1[[#This Row],[DisAdv (Y/N)]])","v":""},{"$f":"IF(Table1[[#This Row],[SEND (E,K,N)]]=\"\",\"\",Table1[[#This Row],[SEND (E,K,N)]])","v":""},"",{"$f":"IF(LEN(Table6[[#This Row],[Pupil Name]])>0,1,0)","v":0}]
[{"$f":"IF(Table1[[#This Row],[School/Group Name]]=\"\",\"\",Table1[[#This Row],[School/Group Name]])","v":""},{"$f":"IF(Table1[[#This Row],[Pupil Name]]=\"\",\"\",Table1[[#This Row],[Pupil Name]])","v":""},{"$f":"IF(Table1[[#This Row],[Gender (M/F)]]=\"\",\"\",Table1[[#This Row],[Gender (M/F)]])","v":""},{"$f":"IF(Table1[[#This Row],[DisAdv (Y/N)]]=\"\",\"\",Table1[[#This Row],[DisAdv (Y/N)]])","v":""},{"$f":"IF(Table1[[#This Row],[SEND (E,K,N)]]=\"\",\"\",Table1[[#This Row],[SEND (E,K,N)]])","v":""},"",{"$f":"IF(LEN(Table6[[#This Row],[Pupil Name]])>0,1,0)","v":0}]
[{"$f":"IF(Table1[[#This Row],[School/Group Name]]=\"\",\"\",Table1[[#This Row],[School/Group Name]])","v":""},{"$f":"IF(Table1[[#This Row],[Pupil Name]]=\"\",\"\",Table1[[#This Row],[Pupil Name]])","v":""},{"$f":"IF(Table1[[#This Row],[Gender (M/F)]]=\"\",\"\",Table1[[#This Row],[Gender (M/F)]])","v":""},{"$f":"IF(Table1[[#This Row],[DisAdv (Y/N)]]=\"\",\"\",Table1[[#This Row],[DisAdv (Y/N)]])","v":""},{"$f":"IF(Table1[[#This Row],[SEND (E,K,N)]]=\"\",\"\",Table1[[#This Row],[SEND (E,K,N)]])","v":""},"",{"$f":"IF(LEN(Table6[[#This Row],[Pupil Name]])>0,1,0)","v":0}]
[{"$f":"IF(Table1[[#This Row],[School/Group Name]]=\"\",\"\",Table1[[#This Row],[School/Group Name]])","v":""},{"$f":"IF(Table1[[#This Row],[Pupil Name]]=\"\",\"\",Table1[[#This Row],[Pupil Name]])","v":""},{"$f":"IF(Table1[[#This Row],[Gender (M/F)]]=\"\",\"\",Table1[[#This Row],[Gender (M/F)]])","v":""},{"$f":"IF(Table1[[#This Row],[DisAdv (Y/N)]]=\"\",\"\",Table1[[#This Row],[DisAdv (Y/N)]])","v":""},{"$f":"IF(Table1[[#This Row],[SEND (E,K,N)]]=\"\",\"\",Table1[[#This Row],[SEND (E,K,N)]])","v":""},"",{"$f":"IF(LEN(Table6[[#This Row],[Pupil Name]])>0,1,0)","v":0}]
[{"$f":"IF(Table1[[#This Row],[School/Group Name]]=\"\",\"\",Table1[[#This Row],[School/Group Name]])","v":""},{"$f":"IF(Table1[[#This Row],[Pupil Name]]=\"\",\"\",Table1[[#This Row],[Pupil Name]])","v":""},{"$f":"IF(Table1[[#This Row],[Gender (M/F)]]=\"\",\"\",Table1[[#This Row],[Gender (M/F)]])","v":""},{"$f":"IF(Table1[[#This Row],[DisAdv (Y/N)]]=\"\",\"\",Table1[[#This Row],[DisAdv (Y/N)]])","v":""},{"$f":"IF(Table1[[#This Row],[SEND (E,K,N)]]=\"\",\"\",Table1[[#This Row],[SEND (E,K,N)]])","v":""},"",{"$f":"IF(LEN(Table6[[#This Row],[Pupil Name]])>0,1,0)","v":0}]
[{"$f":"IF(Table1[[#This Row],[School/Group Name]]=\"\",\"\",Table1[[#This Row],[School/Group Name]])","v":""},{"$f":"IF(Table1[[#This Row],[Pupil Name]]=\"\",\"\",Table1[[#This Row],[Pupil Name]])","v":""},{"$f":"IF(Table1[[#This Row],[Gender (M/F)]]=\"\",\"\",Table1[[#This Row],[Gender (M/F)]])","v":""},{"$f":"IF(Table1[[#This Row],[DisAdv (Y/N)]]=\"\",\"\",Table1[[#This Row],[DisAdv (Y/N)]])","v":""},{"$f":"IF(Table1[[#This Row],[SEND (E,K,N)]]=\"\",\"\",Table1[[#This Row],[SEND (E,K,N)]])","v":""},"",{"$f":"IF(LEN(Table6[[#This Row],[Pupil Name]])>0,1,0)","v":0}]
[{"$f":"IF(Table1[[#This Row],[School/Group Name]]=\"\",\"\",Table1[[#This Row],[School/Group Name]])","v":""},{"$f":"IF(Table1[[#This Row],[Pupil Name]]=\"\",\"\",Table1[[#This Row],[Pupil Name]])","v":""},{"$f":"IF(Table1[[#This Row],[Gender (M/F)]]=\"\",\"\",Table1[[#This Row],[Gender (M/F)]])","v":""},{"$f":"IF(Table1[[#This Row],[DisAdv (Y/N)]]=\"\",\"\",Table1[[#This Row],[DisAdv (Y/N)]])","v":""},{"$f":"IF(Table1[[#This Row],[SEND (E,K,N)]]=\"\",\"\",Table1[[#This Row],[SEND (E,K,N)]])","v":""},"",{"$f":"IF(LEN(Table6[[#This Row],[Pupil Name]])>0,1,0)","v":0}]
[{"$f":"IF(Table1[[#This Row],[School/Group Name]]=\"\",\"\",Table1[[#This Row],[School/Group Name]])","v":""},{"$f":"IF(Table1[[#This Row],[Pupil Name]]=\"\",\"\",Table1[[#This Row],[Pupil Name]])","v":""},{"$f":"IF(Table1[[#This Row],[Gender (M/F)]]=\"\",\"\",Table1[[#This Row],[Gender (M/F)]])","v":""},{"$f":"IF(Table1[[#This Row],[DisAdv (Y/N)]]=\"\",\"\",Table1[[#This Row],[DisAdv (Y/N)]])","v":""},{"$f":"IF(Table1[[#This Row],[SEND (E,K,N)]]=\"\",\"\",Table1[[#This Row],[SEND (E,K,N)]])","v":""},"",{"$f":"IF(LEN(Table6[[#This Row],[Pupil Name]])>0,1,0)","v":0}]
[{"$f":"IF(Table1[[#This Row],[School/Group Name]]=\"\",\"\",Table1[[#This Row],[School/Group Name]])","v":""},{"$f":"IF(Table1[[#This Row],[Pupil Name]]=\"\",\"\",Table1[[#This Row],[Pupil Name]])","v":""},{"$f":"IF(Table1[[#This Row],[Gender (M/F)]]=\"\",\"\",Table1[[#This Row],[Gender (M/F)]])","v":""},{"$f":"IF(Table1[[#This Row],[DisAdv (Y/N)]]=\"\",\"\",Table1[[#This Row],[DisAdv (Y/N)]])","v":""},{"$f":"IF(Table1[[#This Row],[SEND (E,K,N)]]=\"\",\"\",Table1[[#This Row],[SEND (E,K,N)]])","v":""},"",{"$f":"IF(LEN(Table6[[#This Row],[Pupil Name]])>0,1,0)","v":0}]
[{"$f":"IF(Table1[[#This Row],[School/Group Name]]=\"\",\"\",Table1[[#This Row],[School/Group Name]])","v":""},{"$f":"IF(Table1[[#This Row],[Pupil Name]]=\"\",\"\",Table1[[#This Row],[Pupil Name]])","v":""},{"$f":"IF(Table1[[#This Row],[Gender (M/F)]]=\"\",\"\",Table1[[#This Row],[Gender (M/F)]])","v":""},{"$f":"IF(Table1[[#This Row],[DisAdv (Y/N)]]=\"\",\"\",Table1[[#This Row],[DisAdv (Y/N)]])","v":""},{"$f":"IF(Table1[[#This Row],[SEND (E,K,N)]]=\"\",\"\",Table1[[#This Row],[SEND (E,K,N)]])","v":""},"",{"$f":"IF(LEN(Table6[[#This Row],[Pupil Name]])>0,1,0)","v":0}]
[{"$f":"IF(Table1[[#This Row],[School/Group Name]]=\"\",\"\",Table1[[#This Row],[School/Group Name]])","v":""},{"$f":"IF(Table1[[#This Row],[Pupil Name]]=\"\",\"\",Table1[[#This Row],[Pupil Name]])","v":""},{"$f":"IF(Table1[[#This Row],[Gender (M/F)]]=\"\",\"\",Table1[[#This Row],[Gender (M/F)]])","v":""},{"$f":"IF(Table1[[#This Row],[DisAdv (Y/N)]]=\"\",\"\",Table1[[#This Row],[DisAdv (Y/N)]])","v":""},{"$f":"IF(Table1[[#This Row],[SEND (E,K,N)]]=\"\",\"\",Table1[[#This Row],[SEND (E,K,N)]])","v":""},"",{"$f":"IF(LEN(Table6[[#This Row],[Pupil Name]])>0,1,0)","v":0}]
[{"$f":"IF(Table1[[#This Row],[School/Group Name]]=\"\",\"\",Table1[[#This Row],[School/Group Name]])","v":""},{"$f":"IF(Table1[[#This Row],[Pupil Name]]=\"\",\"\",Table1[[#This Row],[Pupil Name]])","v":""},{"$f":"IF(Table1[[#This Row],[Gender (M/F)]]=\"\",\"\",Table1[[#This Row],[Gender (M/F)]])","v":""},{"$f":"IF(Table1[[#This Row],[DisAdv (Y/N)]]=\"\",\"\",Table1[[#This Row],[DisAdv (Y/N)]])","v":""},{"$f":"IF(Table1[[#This Row],[SEND (E,K,N)]]=\"\",\"\",Table1[[#This Row],[SEND (E,K,N)]])","v":""},"",{"$f":"IF(LEN(Table6[[#This Row],[Pupil Name]])>0,1,0)","v":0}]
[{"$f":"IF(Table1[[#This Row],[School/Group Name]]=\"\",\"\",Table1[[#This Row],[School/Group Name]])","v":""},{"$f":"IF(Table1[[#This Row],[Pupil Name]]=\"\",\"\",Table1[[#This Row],[Pupil Name]])","v":""},{"$f":"IF(Table1[[#This Row],[Gender (M/F)]]=\"\",\"\",Table1[[#This Row],[Gender (M/F)]])","v":""},{"$f":"IF(Table1[[#This Row],[DisAdv (Y/N)]]=\"\",\"\",Table1[[#This Row],[DisAdv (Y/N)]])","v":""},{"$f":"IF(Table1[[#This Row],[SEND (E,K,N)]]=\"\",\"\",Table1[[#This Row],[SEND (E,K,N)]])","v":""},"",{"$f":"IF(LEN(Table6[[#This Row],[Pupil Name]])>0,1,0)","v":0}]
[{"$f":"IF(Table1[[#This Row],[School/Group Name]]=\"\",\"\",Table1[[#This Row],[School/Group Name]])","v":""},{"$f":"IF(Table1[[#This Row],[Pupil Name]]=\"\",\"\",Table1[[#This Row],[Pupil Name]])","v":""},{"$f":"IF(Table1[[#This Row],[Gender (M/F)]]=\"\",\"\",Table1[[#This Row],[Gender (M/F)]])","v":""},{"$f":"IF(Table1[[#This Row],[DisAdv (Y/N)]]=\"\",\"\",Table1[[#This Row],[DisAdv (Y/N)]])","v":""},{"$f":"IF(Table1[[#This Row],[SEND (E,K,N)]]=\"\",\"\",Table1[[#This Row],[SEND (E,K,N)]])","v":""},"",{"$f":"IF(LEN(Table6[[#This Row],[Pupil Name]])>0,1,0)","v":0}]
[{"$f":"IF(Table1[[#This Row],[School/Group Name]]=\"\",\"\",Table1[[#This Row],[School/Group Name]])","v":""},{"$f":"IF(Table1[[#This Row],[Pupil Name]]=\"\",\"\",Table1[[#This Row],[Pupil Name]])","v":""},{"$f":"IF(Table1[[#This Row],[Gender (M/F)]]=\"\",\"\",Table1[[#This Row],[Gender (M/F)]])","v":""},{"$f":"IF(Table1[[#This Row],[DisAdv (Y/N)]]=\"\",\"\",Table1[[#This Row],[DisAdv (Y/N)]])","v":""},{"$f":"IF(Table1[[#This Row],[SEND (E,K,N)]]=\"\",\"\",Table1[[#This Row],[SEND (E,K,N)]])","v":""},"",{"$f":"IF(LEN(Table6[[#This Row],[Pupil Name]])>0,1,0)","v":0}]
[{"$f":"IF(Table1[[#This Row],[School/Group Name]]=\"\",\"\",Table1[[#This Row],[School/Group Name]])","v":""},{"$f":"IF(Table1[[#This Row],[Pupil Name]]=\"\",\"\",Table1[[#This Row],[Pupil Name]])","v":""},{"$f":"IF(Table1[[#This Row],[Gender (M/F)]]=\"\",\"\",Table1[[#This Row],[Gender (M/F)]])","v":""},{"$f":"IF(Table1[[#This Row],[DisAdv (Y/N)]]=\"\",\"\",Table1[[#This Row],[DisAdv (Y/N)]])","v":""},{"$f":"IF(Table1[[#This Row],[SEND (E,K,N)]]=\"\",\"\",Table1[[#This Row],[SEND (E,K,N)]])","v":""},"",{"$f":"IF(LEN(Table6[[#This Row],[Pupil Name]])>0,1,0)","v":0}]
[{"$f":"IF(Table1[[#This Row],[School/Group Name]]=\"\",\"\",Table1[[#This Row],[School/Group Name]])","v":""},{"$f":"IF(Table1[[#This Row],[Pupil Name]]=\"\",\"\",Table1[[#This Row],[Pupil Name]])","v":""},{"$f":"IF(Table1[[#This Row],[Gender (M/F)]]=\"\",\"\",Table1[[#This Row],[Gender (M/F)]])","v":""},{"$f":"IF(Table1[[#This Row],[DisAdv (Y/N)]]=\"\",\"\",Table1[[#This Row],[DisAdv (Y/N)]])","v":""},{"$f":"IF(Table1[[#This Row],[SEND (E,K,N)]]=\"\",\"\",Table1[[#This Row],[SEND (E,K,N)]])","v":""},"",{"$f":"IF(LEN(Table6[[#This Row],[Pupil Name]])>0,1,0)","v":0}]
[{"$f":"IF(Table1[[#This Row],[School/Group Name]]=\"\",\"\",Table1[[#This Row],[School/Group Name]])","v":""},{"$f":"IF(Table1[[#This Row],[Pupil Name]]=\"\",\"\",Table1[[#This Row],[Pupil Name]])","v":""},{"$f":"IF(Table1[[#This Row],[Gender (M/F)]]=\"\",\"\",Table1[[#This Row],[Gender (M/F)]])","v":""},{"$f":"IF(Table1[[#This Row],[DisAdv (Y/N)]]=\"\",\"\",Table1[[#This Row],[DisAdv (Y/N)]])","v":""},{"$f":"IF(Table1[[#This Row],[SEND (E,K,N)]]=\"\",\"\",Table1[[#This Row],[SEND (E,K,N)]])","v":""},"",{"$f":"IF(LEN(Table6[[#This Row],[Pupil Name]])>0,1,0)","v":0}]
[{"$f":"IF(Table1[[#This Row],[School/Group Name]]=\"\",\"\",Table1[[#This Row],[School/Group Name]])","v":""},{"$f":"IF(Table1[[#This Row],[Pupil Name]]=\"\",\"\",Table1[[#This Row],[Pupil Name]])","v":""},{"$f":"IF(Table1[[#This Row],[Gender (M/F)]]=\"\",\"\",Table1[[#This Row],[Gender (M/F)]])","v":""},{"$f":"IF(Table1[[#This Row],[DisAdv (Y/N)]]=\"\",\"\",Table1[[#This Row],[DisAdv (Y/N)]])","v":""},{"$f":"IF(Table1[[#This Row],[SEND (E,K,N)]]=\"\",\"\",Table1[[#This Row],[SEND (E,K,N)]])","v":""},"",{"$f":"IF(LEN(Table6[[#This Row],[Pupil Name]])>0,1,0)","v":0}]
[{"$f":"IF(Table1[[#This Row],[School/Group Name]]=\"\",\"\",Table1[[#This Row],[School/Group Name]])","v":""},{"$f":"IF(Table1[[#This Row],[Pupil Name]]=\"\",\"\",Table1[[#This Row],[Pupil Name]])","v":""},{"$f":"IF(Table1[[#This Row],[Gender (M/F)]]=\"\",\"\",Table1[[#This Row],[Gender (M/F)]])","v":""},{"$f":"IF(Table1[[#This Row],[DisAdv (Y/N)]]=\"\",\"\",Table1[[#This Row],[DisAdv (Y/N)]])","v":""},{"$f":"IF(Table1[[#This Row],[SEND (E,K,N)]]=\"\",\"\",Table1[[#This Row],[SEND (E,K,N)]])","v":""},"",{"$f":"IF(LEN(Table6[[#This Row],[Pupil Name]])>0,1,0)","v":0}]
[{"$f":"IF(Table1[[#This Row],[School/Group Name]]=\"\",\"\",Table1[[#This Row],[School/Group Name]])","v":""},{"$f":"IF(Table1[[#This Row],[Pupil Name]]=\"\",\"\",Table1[[#This Row],[Pupil Name]])","v":""},{"$f":"IF(Table1[[#This Row],[Gender (M/F)]]=\"\",\"\",Table1[[#This Row],[Gender (M/F)]])","v":""},{"$f":"IF(Table1[[#This Row],[DisAdv (Y/N)]]=\"\",\"\",Table1[[#This Row],[DisAdv (Y/N)]])","v":""},{"$f":"IF(Table1[[#This Row],[SEND (E,K,N)]]=\"\",\"\",Table1[[#This Row],[SEND (E,K,N)]])","v":""},"",{"$f":"IF(LEN(Table6[[#This Row],[Pupil Name]])>0,1,0)","v":0}]
[{"$f":"IF(Table1[[#This Row],[School/Group Name]]=\"\",\"\",Table1[[#This Row],[School/Group Name]])","v":""},{"$f":"IF(Table1[[#This Row],[Pupil Name]]=\"\",\"\",Table1[[#This Row],[Pupil Name]])","v":""},{"$f":"IF(Table1[[#This Row],[Gender (M/F)]]=\"\",\"\",Table1[[#This Row],[Gender (M/F)]])","v":""},{"$f":"IF(Table1[[#This Row],[DisAdv (Y/N)]]=\"\",\"\",Table1[[#This Row],[DisAdv (Y/N)]])","v":""},{"$f":"IF(Table1[[#This Row],[SEND (E,K,N)]]=\"\",\"\",Table1[[#This Row],[SEND (E,K,N)]])","v":""},"",{"$f":"IF(LEN(Table6[[#This Row],[Pupil Name]])>0,1,0)","v":0}]
[{"$f":"IF(Table1[[#This Row],[School/Group Name]]=\"\",\"\",Table1[[#This Row],[School/Group Name]])","v":""},{"$f":"IF(Table1[[#This Row],[Pupil Name]]=\"\",\"\",Table1[[#This Row],[Pupil Name]])","v":""},{"$f":"IF(Table1[[#This Row],[Gender (M/F)]]=\"\",\"\",Table1[[#This Row],[Gender (M/F)]])","v":""},{"$f":"IF(Table1[[#This Row],[DisAdv (Y/N)]]=\"\",\"\",Table1[[#This Row],[DisAdv (Y/N)]])","v":""},{"$f":"IF(Table1[[#This Row],[SEND (E,K,N)]]=\"\",\"\",Table1[[#This Row],[SEND (E,K,N)]])","v":""},"",{"$f":"IF(LEN(Table6[[#This Row],[Pupil Name]])>0,1,0)","v":0}]
[{"$f":"IF(Table1[[#This Row],[School/Group Name]]=\"\",\"\",Table1[[#This Row],[School/Group Name]])","v":""},{"$f":"IF(Table1[[#This Row],[Pupil Name]]=\"\",\"\",Table1[[#This Row],[Pupil Name]])","v":""},{"$f":"IF(Table1[[#This Row],[Gender (M/F)]]=\"\",\"\",Table1[[#This Row],[Gender (M/F)]])","v":""},{"$f":"IF(Table1[[#This Row],[DisAdv (Y/N)]]=\"\",\"\",Table1[[#This Row],[DisAdv (Y/N)]])","v":""},{"$f":"IF(Table1[[#This Row],[SEND (E,K,N)]]=\"\",\"\",Table1[[#This Row],[SEND (E,K,N)]])","v":""},"",{"$f":"IF(LEN(Table6[[#This Row],[Pupil Name]])>0,1,0)","v":0}]
[{"$f":"IF(Table1[[#This Row],[School/Group Name]]=\"\",\"\",Table1[[#This Row],[School/Group Name]])","v":""},{"$f":"IF(Table1[[#This Row],[Pupil Name]]=\"\",\"\",Table1[[#This Row],[Pupil Name]])","v":""},{"$f":"IF(Table1[[#This Row],[Gender (M/F)]]=\"\",\"\",Table1[[#This Row],[Gender (M/F)]])","v":""},{"$f":"IF(Table1[[#This Row],[DisAdv (Y/N)]]=\"\",\"\",Table1[[#This Row],[DisAdv (Y/N)]])","v":""},{"$f":"IF(Table1[[#This Row],[SEND (E,K,N)]]=\"\",\"\",Table1[[#This Row],[SEND (E,K,N)]])","v":""},"",{"$f":"IF(LEN(Table6[[#This Row],[Pupil Name]])>0,1,0)","v":0}]
[{"$f":"IF(Table1[[#This Row],[School/Group Name]]=\"\",\"\",Table1[[#This Row],[School/Group Name]])","v":""},{"$f":"IF(Table1[[#This Row],[Pupil Name]]=\"\",\"\",Table1[[#This Row],[Pupil Name]])","v":""},{"$f":"IF(Table1[[#This Row],[Gender (M/F)]]=\"\",\"\",Table1[[#This Row],[Gender (M/F)]])","v":""},{"$f":"IF(Table1[[#This Row],[DisAdv (Y/N)]]=\"\",\"\",Table1[[#This Row],[DisAdv (Y/N)]])","v":""},{"$f":"IF(Table1[[#This Row],[SEND (E,K,N)]]=\"\",\"\",Table1[[#This Row],[SEND (E,K,N)]])","v":""},"",{"$f":"IF(LEN(Table6[[#This Row],[Pupil Name]])>0,1,0)","v":0}]
[{"$f":"IF(Table1[[#This Row],[School/Group Name]]=\"\",\"\",Table1[[#This Row],[School/Group Name]])","v":""},{"$f":"IF(Table1[[#This Row],[Pupil Name]]=\"\",\"\",Table1[[#This Row],[Pupil Name]])","v":""},{"$f":"IF(Table1[[#This Row],[Gender (M/F)]]=\"\",\"\",Table1[[#This Row],[Gender (M/F)]])","v":""},{"$f":"IF(Table1[[#This Row],[DisAdv (Y/N)]]=\"\",\"\",Table1[[#This Row],[DisAdv (Y/N)]])","v":""},{"$f":"IF(Table1[[#This Row],[SEND (E,K,N)]]=\"\",\"\",Table1[[#This Row],[SEND (E,K,N)]])","v":""},"",{"$f":"IF(LEN(Table6[[#This Row],[Pupil Name]])>0,1,0)","v":0}]
[{"$f":"IF(Table1[[#This Row],[School/Group Name]]=\"\",\"\",Table1[[#This Row],[School/Group Name]])","v":""},{"$f":"IF(Table1[[#This Row],[Pupil Name]]=\"\",\"\",Table1[[#This Row],[Pupil Name]])","v":""},{"$f":"IF(Table1[[#This Row],[Gender (M/F)]]=\"\",\"\",Table1[[#This Row],[Gender (M/F)]])","v":""},{"$f":"IF(Table1[[#This Row],[DisAdv (Y/N)]]=\"\",\"\",Table1[[#This Row],[DisAdv (Y/N)]])","v":""},{"$f":"IF(Table1[[#This Row],[SEND (E,K,N)]]=\"\",\"\",Table1[[#This Row],[SEND (E,K,N)]])","v":""},"",{"$f":"IF(LEN(Table6[[#This Row],[Pupil Name]])>0,1,0)","v":0}]
[{"$f":"IF(Table1[[#This Row],[School/Group Name]]=\"\",\"\",Table1[[#This Row],[School/Group Name]])","v":""},{"$f":"IF(Table1[[#This Row],[Pupil Name]]=\"\",\"\",Table1[[#This Row],[Pupil Name]])","v":""},{"$f":"IF(Table1[[#This Row],[Gender (M/F)]]=\"\",\"\",Table1[[#This Row],[Gender (M/F)]])","v":""},{"$f":"IF(Table1[[#This Row],[DisAdv (Y/N)]]=\"\",\"\",Table1[[#This Row],[DisAdv (Y/N)]])","v":""},{"$f":"IF(Table1[[#This Row],[SEND (E,K,N)]]=\"\",\"\",Table1[[#This Row],[SEND (E,K,N)]])","v":""},"",{"$f":"IF(LEN(Table6[[#This Row],[Pupil Name]])>0,1,0)","v":0}]
[{"$f":"IF(Table1[[#This Row],[School/Group Name]]=\"\",\"\",Table1[[#This Row],[School/Group Name]])","v":""},{"$f":"IF(Table1[[#This Row],[Pupil Name]]=\"\",\"\",Table1[[#This Row],[Pupil Name]])","v":""},{"$f":"IF(Table1[[#This Row],[Gender (M/F)]]=\"\",\"\",Table1[[#This Row],[Gender (M/F)]])","v":""},{"$f":"IF(Table1[[#This Row],[DisAdv (Y/N)]]=\"\",\"\",Table1[[#This Row],[DisAdv (Y/N)]])","v":""},{"$f":"IF(Table1[[#This Row],[SEND (E,K,N)]]=\"\",\"\",Table1[[#This Row],[SEND (E,K,N)]])","v":""},"",{"$f":"IF(LEN(Table6[[#This Row],[Pupil Name]])>0,1,0)","v":0}]
[{"$f":"IF(Table1[[#This Row],[School/Group Name]]=\"\",\"\",Table1[[#This Row],[School/Group Name]])","v":""},{"$f":"IF(Table1[[#This Row],[Pupil Name]]=\"\",\"\",Table1[[#This Row],[Pupil Name]])","v":""},{"$f":"IF(Table1[[#This Row],[Gender (M/F)]]=\"\",\"\",Table1[[#This Row],[Gender (M/F)]])","v":""},{"$f":"IF(Table1[[#This Row],[DisAdv (Y/N)]]=\"\",\"\",Table1[[#This Row],[DisAdv (Y/N)]])","v":""},{"$f":"IF(Table1[[#This Row],[SEND (E,K,N)]]=\"\",\"\",Table1[[#This Row],[SEND (E,K,N)]])","v":""},"",{"$f":"IF(LEN(Table6[[#This Row],[Pupil Name]])>0,1,0)","v":0}]
[{"$f":"IF(Table1[[#This Row],[School/Group Name]]=\"\",\"\",Table1[[#This Row],[School/Group Name]])","v":""},{"$f":"IF(Table1[[#This Row],[Pupil Name]]=\"\",\"\",Table1[[#This Row],[Pupil Name]])","v":""},{"$f":"IF(Table1[[#This Row],[Gender (M/F)]]=\"\",\"\",Table1[[#This Row],[Gender (M/F)]])","v":""},{"$f":"IF(Table1[[#This Row],[DisAdv (Y/N)]]=\"\",\"\",Table1[[#This Row],[DisAdv (Y/N)]])","v":""},{"$f":"IF(Table1[[#This Row],[SEND (E,K,N)]]=\"\",\"\",Table1[[#This Row],[SEND (E,K,N)]])","v":""},"",{"$f":"IF(LEN(Table6[[#This Row],[Pupil Name]])>0,1,0)","v":0}]
[{"$f":"IF(Table1[[#This Row],[School/Group Name]]=\"\",\"\",Table1[[#This Row],[School/Group Name]])","v":""},{"$f":"IF(Table1[[#This Row],[Pupil Name]]=\"\",\"\",Table1[[#This Row],[Pupil Name]])","v":""},{"$f":"IF(Table1[[#This Row],[Gender (M/F)]]=\"\",\"\",Table1[[#This Row],[Gender (M/F)]])","v":""},{"$f":"IF(Table1[[#This Row],[DisAdv (Y/N)]]=\"\",\"\",Table1[[#This Row],[DisAdv (Y/N)]])","v":""},{"$f":"IF(Table1[[#This Row],[SEND (E,K,N)]]=\"\",\"\",Table1[[#This Row],[SEND (E,K,N)]])","v":""},"",{"$f":"IF(LEN(Table6[[#This Row],[Pupil Name]])>0,1,0)","v":0}]
[{"$f":"IF(Table1[[#This Row],[School/Group Name]]=\"\",\"\",Table1[[#This Row],[School/Group Name]])","v":""},{"$f":"IF(Table1[[#This Row],[Pupil Name]]=\"\",\"\",Table1[[#This Row],[Pupil Name]])","v":""},{"$f":"IF(Table1[[#This Row],[Gender (M/F)]]=\"\",\"\",Table1[[#This Row],[Gender (M/F)]])","v":""},{"$f":"IF(Table1[[#This Row],[DisAdv (Y/N)]]=\"\",\"\",Table1[[#This Row],[DisAdv (Y/N)]])","v":""},{"$f":"IF(Table1[[#This Row],[SEND (E,K,N)]]=\"\",\"\",Table1[[#This Row],[SEND (E,K,N)]])","v":""},"",{"$f":"IF(LEN(Table6[[#This Row],[Pupil Name]])>0,1,0)","v":0}]
[{"$f":"IF(Table1[[#This Row],[School/Group Name]]=\"\",\"\",Table1[[#This Row],[School/Group Name]])","v":""},{"$f":"IF(Table1[[#This Row],[Pupil Name]]=\"\",\"\",Table1[[#This Row],[Pupil Name]])","v":""},{"$f":"IF(Table1[[#This Row],[Gender (M/F)]]=\"\",\"\",Table1[[#This Row],[Gender (M/F)]])","v":""},{"$f":"IF(Table1[[#This Row],[DisAdv (Y/N)]]=\"\",\"\",Table1[[#This Row],[DisAdv (Y/N)]])","v":""},{"$f":"IF(Table1[[#This Row],[SEND (E,K,N)]]=\"\",\"\",Table1[[#This Row],[SEND (E,K,N)]])","v":""},"",{"$f":"IF(LEN(Table6[[#This Row],[Pupil Name]])>0,1,0)","v":0}]
[{"$f":"IF(Table1[[#This Row],[School/Group Name]]=\"\",\"\",Table1[[#This Row],[School/Group Name]])","v":""},{"$f":"IF(Table1[[#This Row],[Pupil Name]]=\"\",\"\",Table1[[#This Row],[Pupil Name]])","v":""},{"$f":"IF(Table1[[#This Row],[Gender (M/F)]]=\"\",\"\",Table1[[#This Row],[Gender (M/F)]])","v":""},{"$f":"IF(Table1[[#This Row],[DisAdv (Y/N)]]=\"\",\"\",Table1[[#This Row],[DisAdv (Y/N)]])","v":""},{"$f":"IF(Table1[[#This Row],[SEND (E,K,N)]]=\"\",\"\",Table1[[#This Row],[SEND (E,K,N)]])","v":""},"",{"$f":"IF(LEN(Table6[[#This Row],[Pupil Name]])>0,1,0)","v":0}]
[{"$f":"IF(Table1[[#This Row],[School/Group Name]]=\"\",\"\",Table1[[#This Row],[School/Group Name]])","v":""},{"$f":"IF(Table1[[#This Row],[Pupil Name]]=\"\",\"\",Table1[[#This Row],[Pupil Name]])","v":""},{"$f":"IF(Table1[[#This Row],[Gender (M/F)]]=\"\",\"\",Table1[[#This Row],[Gender (M/F)]])","v":""},{"$f":"IF(Table1[[#This Row],[DisAdv (Y/N)]]=\"\",\"\",Table1[[#This Row],[DisAdv (Y/N)]])","v":""},{"$f":"IF(Table1[[#This Row],[SEND (E,K,N)]]=\"\",\"\",Table1[[#This Row],[SEND (E,K,N)]])","v":""},"",{"$f":"IF(LEN(Table6[[#This Row],[Pupil Name]])>0,1,0)","v":0}]
[{"$f":"IF(Table1[[#This Row],[School/Group Name]]=\"\",\"\",Table1[[#This Row],[School/Group Name]])","v":""},{"$f":"IF(Table1[[#This Row],[Pupil Name]]=\"\",\"\",Table1[[#This Row],[Pupil Name]])","v":""},{"$f":"IF(Table1[[#This Row],[Gender (M/F)]]=\"\",\"\",Table1[[#This Row],[Gender (M/F)]])","v":""},{"$f":"IF(Table1[[#This Row],[DisAdv (Y/N)]]=\"\",\"\",Table1[[#This Row],[DisAdv (Y/N)]])","v":""},{"$f":"IF(Table1[[#This Row],[SEND (E,K,N)]]=\"\",\"\",Table1[[#This Row],[SEND (E,K,N)]])","v":""},"",{"$f":"IF(LEN(Table6[[#This Row],[Pupil Name]])>0,1,0)","v":0}]
[{"$f":"IF(Table1[[#This Row],[School/Group Name]]=\"\",\"\",Table1[[#This Row],[School/Group Name]])","v":""},{"$f":"IF(Table1[[#This Row],[Pupil Name]]=\"\",\"\",Table1[[#This Row],[Pupil Name]])","v":""},{"$f":"IF(Table1[[#This Row],[Gender (M/F)]]=\"\",\"\",Table1[[#This Row],[Gender (M/F)]])","v":""},{"$f":"IF(Table1[[#This Row],[DisAdv (Y/N)]]=\"\",\"\",Table1[[#This Row],[DisAdv (Y/N)]])","v":""},{"$f":"IF(Table1[[#This Row],[SEND (E,K,N)]]=\"\",\"\",Table1[[#This Row],[SEND (E,K,N)]])","v":""},"",{"$f":"IF(LEN(Table6[[#This Row],[Pupil Name]])>0,1,0)","v":0}]
[{"$f":"IF(Table1[[#This Row],[School/Group Name]]=\"\",\"\",Table1[[#This Row],[School/Group Name]])","v":""},{"$f":"IF(Table1[[#This Row],[Pupil Name]]=\"\",\"\",Table1[[#This Row],[Pupil Name]])","v":""},{"$f":"IF(Table1[[#This Row],[Gender (M/F)]]=\"\",\"\",Table1[[#This Row],[Gender (M/F)]])","v":""},{"$f":"IF(Table1[[#This Row],[DisAdv (Y/N)]]=\"\",\"\",Table1[[#This Row],[DisAdv (Y/N)]])","v":""},{"$f":"IF(Table1[[#This Row],[SEND (E,K,N)]]=\"\",\"\",Table1[[#This Row],[SEND (E,K,N)]])","v":""},{"$f":"IF(H455=\"\",\"\",(SUM(H455:BE455)))","v":""},{"$f":"IF(LEN(Table6[[#This Row],[Pupil Name]])>0,1,0)","v":0}]
[{"$f":"IF(Table1[[#This Row],[School/Group Name]]=\"\",\"\",Table1[[#This Row],[School/Group Name]])","v":""},{"$f":"IF(Table1[[#This Row],[Pupil Name]]=\"\",\"\",Table1[[#This Row],[Pupil Name]])","v":""},{"$f":"IF(Table1[[#This Row],[Gender (M/F)]]=\"\",\"\",Table1[[#This Row],[Gender (M/F)]])","v":""},{"$f":"IF(Table1[[#This Row],[DisAdv (Y/N)]]=\"\",\"\",Table1[[#This Row],[DisAdv (Y/N)]])","v":""},{"$f":"IF(Table1[[#This Row],[SEND (E,K,N)]]=\"\",\"\",Table1[[#This Row],[SEND (E,K,N)]])","v":""},"",{"$f":"IF(LEN(Table6[[#This Row],[Pupil Name]])>0,1,0)","v":0}]
[{"$f":"IF(Table1[[#This Row],[School/Group Name]]=\"\",\"\",Table1[[#This Row],[School/Group Name]])","v":""},{"$f":"IF(Table1[[#This Row],[Pupil Name]]=\"\",\"\",Table1[[#This Row],[Pupil Name]])","v":""},{"$f":"IF(Table1[[#This Row],[Gender (M/F)]]=\"\",\"\",Table1[[#This Row],[Gender (M/F)]])","v":""},{"$f":"IF(Table1[[#This Row],[DisAdv (Y/N)]]=\"\",\"\",Table1[[#This Row],[DisAdv (Y/N)]])","v":""},{"$f":"IF(Table1[[#This Row],[SEND (E,K,N)]]=\"\",\"\",Table1[[#This Row],[SEND (E,K,N)]])","v":""},"",{"$f":"IF(LEN(Table6[[#This Row],[Pupil Name]])>0,1,0)","v":0}]
[{"$f":"IF(Table1[[#This Row],[School/Group Name]]=\"\",\"\",Table1[[#This Row],[School/Group Name]])","v":""},{"$f":"IF(Table1[[#This Row],[Pupil Name]]=\"\",\"\",Table1[[#This Row],[Pupil Name]])","v":""},{"$f":"IF(Table1[[#This Row],[Gender (M/F)]]=\"\",\"\",Table1[[#This Row],[Gender (M/F)]])","v":""},{"$f":"IF(Table1[[#This Row],[DisAdv (Y/N)]]=\"\",\"\",Table1[[#This Row],[DisAdv (Y/N)]])","v":""},{"$f":"IF(Table1[[#This Row],[SEND (E,K,N)]]=\"\",\"\",Table1[[#This Row],[SEND (E,K,N)]])","v":""},"",{"$f":"IF(LEN(Table6[[#This Row],[Pupil Name]])>0,1,0)","v":0}]
[{"$f":"IF(Table1[[#This Row],[School/Group Name]]=\"\",\"\",Table1[[#This Row],[School/Group Name]])","v":""},{"$f":"IF(Table1[[#This Row],[Pupil Name]]=\"\",\"\",Table1[[#This Row],[Pupil Name]])","v":""},{"$f":"IF(Table1[[#This Row],[Gender (M/F)]]=\"\",\"\",Table1[[#This Row],[Gender (M/F)]])","v":""},{"$f":"IF(Table1[[#This Row],[DisAdv (Y/N)]]=\"\",\"\",Table1[[#This Row],[DisAdv (Y/N)]])","v":""},{"$f":"IF(Table1[[#This Row],[SEND (E,K,N)]]=\"\",\"\",Table1[[#This Row],[SEND (E,K,N)]])","v":""},"",{"$f":"IF(LEN(Table6[[#This Row],[Pupil Name]])>0,1,0)","v":0}]
[{"$f":"IF(Table1[[#This Row],[School/Group Name]]=\"\",\"\",Table1[[#This Row],[School/Group Name]])","v":""},{"$f":"IF(Table1[[#This Row],[Pupil Name]]=\"\",\"\",Table1[[#This Row],[Pupil Name]])","v":""},{"$f":"IF(Table1[[#This Row],[Gender (M/F)]]=\"\",\"\",Table1[[#This Row],[Gender (M/F)]])","v":""},{"$f":"IF(Table1[[#This Row],[DisAdv (Y/N)]]=\"\",\"\",Table1[[#This Row],[DisAdv (Y/N)]])","v":""},{"$f":"IF(Table1[[#This Row],[SEND (E,K,N)]]=\"\",\"\",Table1[[#This Row],[SEND (E,K,N)]])","v":""},"",{"$f":"IF(LEN(Table6[[#This Row],[Pupil Name]])>0,1,0)","v":0}]
[{"$f":"IF(Table1[[#This Row],[School/Group Name]]=\"\",\"\",Table1[[#This Row],[School/Group Name]])","v":""},{"$f":"IF(Table1[[#This Row],[Pupil Name]]=\"\",\"\",Table1[[#This Row],[Pupil Name]])","v":""},{"$f":"IF(Table1[[#This Row],[Gender (M/F)]]=\"\",\"\",Table1[[#This Row],[Gender (M/F)]])","v":""},{"$f":"IF(Table1[[#This Row],[DisAdv (Y/N)]]=\"\",\"\",Table1[[#This Row],[DisAdv (Y/N)]])","v":""},{"$f":"IF(Table1[[#This Row],[SEND (E,K,N)]]=\"\",\"\",Table1[[#This Row],[SEND (E,K,N)]])","v":""},"",{"$f":"IF(LEN(Table6[[#This Row],[Pupil Name]])>0,1,0)","v":0}]
[{"$f":"IF(Table1[[#This Row],[School/Group Name]]=\"\",\"\",Table1[[#This Row],[School/Group Name]])","v":""},{"$f":"IF(Table1[[#This Row],[Pupil Name]]=\"\",\"\",Table1[[#This Row],[Pupil Name]])","v":""},{"$f":"IF(Table1[[#This Row],[Gender (M/F)]]=\"\",\"\",Table1[[#This Row],[Gender (M/F)]])","v":""},{"$f":"IF(Table1[[#This Row],[DisAdv (Y/N)]]=\"\",\"\",Table1[[#This Row],[DisAdv (Y/N)]])","v":""},{"$f":"IF(Table1[[#This Row],[SEND (E,K,N)]]=\"\",\"\",Table1[[#This Row],[SEND (E,K,N)]])","v":""},"",{"$f":"IF(LEN(Table6[[#This Row],[Pupil Name]])>0,1,0)","v":0}]
[{"$f":"IF(Table1[[#This Row],[School/Group Name]]=\"\",\"\",Table1[[#This Row],[School/Group Name]])","v":""},{"$f":"IF(Table1[[#This Row],[Pupil Name]]=\"\",\"\",Table1[[#This Row],[Pupil Name]])","v":""},{"$f":"IF(Table1[[#This Row],[Gender (M/F)]]=\"\",\"\",Table1[[#This Row],[Gender (M/F)]])","v":""},{"$f":"IF(Table1[[#This Row],[DisAdv (Y/N)]]=\"\",\"\",Table1[[#This Row],[DisAdv (Y/N)]])","v":""},{"$f":"IF(Table1[[#This Row],[SEND (E,K,N)]]=\"\",\"\",Table1[[#This Row],[SEND (E,K,N)]])","v":""},"",{"$f":"IF(LEN(Table6[[#This Row],[Pupil Name]])>0,1,0)","v":0}]
[{"$f":"IF(Table1[[#This Row],[School/Group Name]]=\"\",\"\",Table1[[#This Row],[School/Group Name]])","v":""},{"$f":"IF(Table1[[#This Row],[Pupil Name]]=\"\",\"\",Table1[[#This Row],[Pupil Name]])","v":""},{"$f":"IF(Table1[[#This Row],[Gender (M/F)]]=\"\",\"\",Table1[[#This Row],[Gender (M/F)]])","v":""},{"$f":"IF(Table1[[#This Row],[DisAdv (Y/N)]]=\"\",\"\",Table1[[#This Row],[DisAdv (Y/N)]])","v":""},{"$f":"IF(Table1[[#This Row],[SEND (E,K,N)]]=\"\",\"\",Table1[[#This Row],[SEND (E,K,N)]])","v":""},"",{"$f":"IF(LEN(Table6[[#This Row],[Pupil Name]])>0,1,0)","v":0}]
[{"$f":"IF(Table1[[#This Row],[School/Group Name]]=\"\",\"\",Table1[[#This Row],[School/Group Name]])","v":""},{"$f":"IF(Table1[[#This Row],[Pupil Name]]=\"\",\"\",Table1[[#This Row],[Pupil Name]])","v":""},{"$f":"IF(Table1[[#This Row],[Gender (M/F)]]=\"\",\"\",Table1[[#This Row],[Gender (M/F)]])","v":""},{"$f":"IF(Table1[[#This Row],[DisAdv (Y/N)]]=\"\",\"\",Table1[[#This Row],[DisAdv (Y/N)]])","v":""},{"$f":"IF(Table1[[#This Row],[SEND (E,K,N)]]=\"\",\"\",Table1[[#This Row],[SEND (E,K,N)]])","v":""},"",{"$f":"IF(LEN(Table6[[#This Row],[Pupil Name]])>0,1,0)","v":0}]
[{"$f":"IF(Table1[[#This Row],[School/Group Name]]=\"\",\"\",Table1[[#This Row],[School/Group Name]])","v":""},{"$f":"IF(Table1[[#This Row],[Pupil Name]]=\"\",\"\",Table1[[#This Row],[Pupil Name]])","v":""},{"$f":"IF(Table1[[#This Row],[Gender (M/F)]]=\"\",\"\",Table1[[#This Row],[Gender (M/F)]])","v":""},{"$f":"IF(Table1[[#This Row],[DisAdv (Y/N)]]=\"\",\"\",Table1[[#This Row],[DisAdv (Y/N)]])","v":""},{"$f":"IF(Table1[[#This Row],[SEND (E,K,N)]]=\"\",\"\",Table1[[#This Row],[SEND (E,K,N)]])","v":""},"",{"$f":"IF(LEN(Table6[[#This Row],[Pupil Name]])>0,1,0)","v":0}]
[{"$f":"IF(Table1[[#This Row],[School/Group Name]]=\"\",\"\",Table1[[#This Row],[School/Group Name]])","v":""},{"$f":"IF(Table1[[#This Row],[Pupil Name]]=\"\",\"\",Table1[[#This Row],[Pupil Name]])","v":""},{"$f":"IF(Table1[[#This Row],[Gender (M/F)]]=\"\",\"\",Table1[[#This Row],[Gender (M/F)]])","v":""},{"$f":"IF(Table1[[#This Row],[DisAdv (Y/N)]]=\"\",\"\",Table1[[#This Row],[DisAdv (Y/N)]])","v":""},{"$f":"IF(Table1[[#This Row],[SEND (E,K,N)]]=\"\",\"\",Table1[[#This Row],[SEND (E,K,N)]])","v":""},"",{"$f":"IF(LEN(Table6[[#This Row],[Pupil Name]])>0,1,0)","v":0}]
[{"$f":"IF(Table1[[#This Row],[School/Group Name]]=\"\",\"\",Table1[[#This Row],[School/Group Name]])","v":""},{"$f":"IF(Table1[[#This Row],[Pupil Name]]=\"\",\"\",Table1[[#This Row],[Pupil Name]])","v":""},{"$f":"IF(Table1[[#This Row],[Gender (M/F)]]=\"\",\"\",Table1[[#This Row],[Gender (M/F)]])","v":""},{"$f":"IF(Table1[[#This Row],[DisAdv (Y/N)]]=\"\",\"\",Table1[[#This Row],[DisAdv (Y/N)]])","v":""},{"$f":"IF(Table1[[#This Row],[SEND (E,K,N)]]=\"\",\"\",Table1[[#This Row],[SEND (E,K,N)]])","v":""},"",{"$f":"IF(LEN(Table6[[#This Row],[Pupil Name]])>0,1,0)","v":0}]
[{"$f":"IF(Table1[[#This Row],[School/Group Name]]=\"\",\"\",Table1[[#This Row],[School/Group Name]])","v":""},{"$f":"IF(Table1[[#This Row],[Pupil Name]]=\"\",\"\",Table1[[#This Row],[Pupil Name]])","v":""},{"$f":"IF(Table1[[#This Row],[Gender (M/F)]]=\"\",\"\",Table1[[#This Row],[Gender (M/F)]])","v":""},{"$f":"IF(Table1[[#This Row],[DisAdv (Y/N)]]=\"\",\"\",Table1[[#This Row],[DisAdv (Y/N)]])","v":""},{"$f":"IF(Table1[[#This Row],[SEND (E,K,N)]]=\"\",\"\",Table1[[#This Row],[SEND (E,K,N)]])","v":""},"",{"$f":"IF(LEN(Table6[[#This Row],[Pupil Name]])>0,1,0)","v":0}]
[{"$f":"IF(Table1[[#This Row],[School/Group Name]]=\"\",\"\",Table1[[#This Row],[School/Group Name]])","v":""},{"$f":"IF(Table1[[#This Row],[Pupil Name]]=\"\",\"\",Table1[[#This Row],[Pupil Name]])","v":""},{"$f":"IF(Table1[[#This Row],[Gender (M/F)]]=\"\",\"\",Table1[[#This Row],[Gender (M/F)]])","v":""},{"$f":"IF(Table1[[#This Row],[DisAdv (Y/N)]]=\"\",\"\",Table1[[#This Row],[DisAdv (Y/N)]])","v":""},{"$f":"IF(Table1[[#This Row],[SEND (E,K,N)]]=\"\",\"\",Table1[[#This Row],[SEND (E,K,N)]])","v":""},"",{"$f":"IF(LEN(Table6[[#This Row],[Pupil Name]])>0,1,0)","v":0}]
[{"$f":"IF(Table1[[#This Row],[School/Group Name]]=\"\",\"\",Table1[[#This Row],[School/Group Name]])","v":""},{"$f":"IF(Table1[[#This Row],[Pupil Name]]=\"\",\"\",Table1[[#This Row],[Pupil Name]])","v":""},{"$f":"IF(Table1[[#This Row],[Gender (M/F)]]=\"\",\"\",Table1[[#This Row],[Gender (M/F)]])","v":""},{"$f":"IF(Table1[[#This Row],[DisAdv (Y/N)]]=\"\",\"\",Table1[[#This Row],[DisAdv (Y/N)]])","v":""},{"$f":"IF(Table1[[#This Row],[SEND (E,K,N)]]=\"\",\"\",Table1[[#This Row],[SEND (E,K,N)]])","v":""},"",{"$f":"IF(LEN(Table6[[#This Row],[Pupil Name]])>0,1,0)","v":0}]
[{"$f":"IF(Table1[[#This Row],[School/Group Name]]=\"\",\"\",Table1[[#This Row],[School/Group Name]])","v":""},{"$f":"IF(Table1[[#This Row],[Pupil Name]]=\"\",\"\",Table1[[#This Row],[Pupil Name]])","v":""},{"$f":"IF(Table1[[#This Row],[Gender (M/F)]]=\"\",\"\",Table1[[#This Row],[Gender (M/F)]])","v":""},{"$f":"IF(Table1[[#This Row],[DisAdv (Y/N)]]=\"\",\"\",Table1[[#This Row],[DisAdv (Y/N)]])","v":""},{"$f":"IF(Table1[[#This Row],[SEND (E,K,N)]]=\"\",\"\",Table1[[#This Row],[SEND (E,K,N)]])","v":""},"",{"$f":"IF(LEN(Table6[[#This Row],[Pupil Name]])>0,1,0)","v":0}]
[{"$f":"IF(Table1[[#This Row],[School/Group Name]]=\"\",\"\",Table1[[#This Row],[School/Group Name]])","v":""},{"$f":"IF(Table1[[#This Row],[Pupil Name]]=\"\",\"\",Table1[[#This Row],[Pupil Name]])","v":""},{"$f":"IF(Table1[[#This Row],[Gender (M/F)]]=\"\",\"\",Table1[[#This Row],[Gender (M/F)]])","v":""},{"$f":"IF(Table1[[#This Row],[DisAdv (Y/N)]]=\"\",\"\",Table1[[#This Row],[DisAdv (Y/N)]])","v":""},{"$f":"IF(Table1[[#This Row],[SEND (E,K,N)]]=\"\",\"\",Table1[[#This Row],[SEND (E,K,N)]])","v":""},"",{"$f":"IF(LEN(Table6[[#This Row],[Pupil Name]])>0,1,0)","v":0}]
[{"$f":"IF(Table1[[#This Row],[School/Group Name]]=\"\",\"\",Table1[[#This Row],[School/Group Name]])","v":""},{"$f":"IF(Table1[[#This Row],[Pupil Name]]=\"\",\"\",Table1[[#This Row],[Pupil Name]])","v":""},{"$f":"IF(Table1[[#This Row],[Gender (M/F)]]=\"\",\"\",Table1[[#This Row],[Gender (M/F)]])","v":""},{"$f":"IF(Table1[[#This Row],[DisAdv (Y/N)]]=\"\",\"\",Table1[[#This Row],[DisAdv (Y/N)]])","v":""},{"$f":"IF(Table1[[#This Row],[SEND (E,K,N)]]=\"\",\"\",Table1[[#This Row],[SEND (E,K,N)]])","v":""},"",{"$f":"IF(LEN(Table6[[#This Row],[Pupil Name]])>0,1,0)","v":0}]
[{"$f":"IF(Table1[[#This Row],[School/Group Name]]=\"\",\"\",Table1[[#This Row],[School/Group Name]])","v":""},{"$f":"IF(Table1[[#This Row],[Pupil Name]]=\"\",\"\",Table1[[#This Row],[Pupil Name]])","v":""},{"$f":"IF(Table1[[#This Row],[Gender (M/F)]]=\"\",\"\",Table1[[#This Row],[Gender (M/F)]])","v":""},{"$f":"IF(Table1[[#This Row],[DisAdv (Y/N)]]=\"\",\"\",Table1[[#This Row],[DisAdv (Y/N)]])","v":""},{"$f":"IF(Table1[[#This Row],[SEND (E,K,N)]]=\"\",\"\",Table1[[#This Row],[SEND (E,K,N)]])","v":""},"",{"$f":"IF(LEN(Table6[[#This Row],[Pupil Name]])>0,1,0)","v":0}]
[{"$f":"IF(Table1[[#This Row],[School/Group Name]]=\"\",\"\",Table1[[#This Row],[School/Group Name]])","v":""},{"$f":"IF(Table1[[#This Row],[Pupil Name]]=\"\",\"\",Table1[[#This Row],[Pupil Name]])","v":""},{"$f":"IF(Table1[[#This Row],[Gender (M/F)]]=\"\",\"\",Table1[[#This Row],[Gender (M/F)]])","v":""},{"$f":"IF(Table1[[#This Row],[DisAdv (Y/N)]]=\"\",\"\",Table1[[#This Row],[DisAdv (Y/N)]])","v":""},{"$f":"IF(Table1[[#This Row],[SEND (E,K,N)]]=\"\",\"\",Table1[[#This Row],[SEND (E,K,N)]])","v":""},"",{"$f":"IF(LEN(Table6[[#This Row],[Pupil Name]])>0,1,0)","v":0}]
[{"$f":"IF(Table1[[#This Row],[School/Group Name]]=\"\",\"\",Table1[[#This Row],[School/Group Name]])","v":""},{"$f":"IF(Table1[[#This Row],[Pupil Name]]=\"\",\"\",Table1[[#This Row],[Pupil Name]])","v":""},{"$f":"IF(Table1[[#This Row],[Gender (M/F)]]=\"\",\"\",Table1[[#This Row],[Gender (M/F)]])","v":""},{"$f":"IF(Table1[[#This Row],[DisAdv (Y/N)]]=\"\",\"\",Table1[[#This Row],[DisAdv (Y/N)]])","v":""},{"$f":"IF(Table1[[#This Row],[SEND (E,K,N)]]=\"\",\"\",Table1[[#This Row],[SEND (E,K,N)]])","v":""},"",{"$f":"IF(LEN(Table6[[#This Row],[Pupil Name]])>0,1,0)","v":0}]
[{"$f":"IF(Table1[[#This Row],[School/Group Name]]=\"\",\"\",Table1[[#This Row],[School/Group Name]])","v":""},{"$f":"IF(Table1[[#This Row],[Pupil Name]]=\"\",\"\",Table1[[#This Row],[Pupil Name]])","v":""},{"$f":"IF(Table1[[#This Row],[Gender (M/F)]]=\"\",\"\",Table1[[#This Row],[Gender (M/F)]])","v":""},{"$f":"IF(Table1[[#This Row],[DisAdv (Y/N)]]=\"\",\"\",Table1[[#This Row],[DisAdv (Y/N)]])","v":""},{"$f":"IF(Table1[[#This Row],[SEND (E,K,N)]]=\"\",\"\",Table1[[#This Row],[SEND (E,K,N)]])","v":""},"",{"$f":"IF(LEN(Table6[[#This Row],[Pupil Name]])>0,1,0)","v":0}]
[{"$f":"IF(Table1[[#This Row],[School/Group Name]]=\"\",\"\",Table1[[#This Row],[School/Group Name]])","v":""},{"$f":"IF(Table1[[#This Row],[Pupil Name]]=\"\",\"\",Table1[[#This Row],[Pupil Name]])","v":""},{"$f":"IF(Table1[[#This Row],[Gender (M/F)]]=\"\",\"\",Table1[[#This Row],[Gender (M/F)]])","v":""},{"$f":"IF(Table1[[#This Row],[DisAdv (Y/N)]]=\"\",\"\",Table1[[#This Row],[DisAdv (Y/N)]])","v":""},{"$f":"IF(Table1[[#This Row],[SEND (E,K,N)]]=\"\",\"\",Table1[[#This Row],[SEND (E,K,N)]])","v":""},"",{"$f":"IF(LEN(Table6[[#This Row],[Pupil Name]])>0,1,0)","v":0}]
[{"$f":"IF(Table1[[#This Row],[School/Group Name]]=\"\",\"\",Table1[[#This Row],[School/Group Name]])","v":""},{"$f":"IF(Table1[[#This Row],[Pupil Name]]=\"\",\"\",Table1[[#This Row],[Pupil Name]])","v":""},{"$f":"IF(Table1[[#This Row],[Gender (M/F)]]=\"\",\"\",Table1[[#This Row],[Gender (M/F)]])","v":""},{"$f":"IF(Table1[[#This Row],[DisAdv (Y/N)]]=\"\",\"\",Table1[[#This Row],[DisAdv (Y/N)]])","v":""},{"$f":"IF(Table1[[#This Row],[SEND (E,K,N)]]=\"\",\"\",Table1[[#This Row],[SEND (E,K,N)]])","v":""},"",{"$f":"IF(LEN(Table6[[#This Row],[Pupil Name]])>0,1,0)","v":0}]
[{"$f":"IF(Table1[[#This Row],[School/Group Name]]=\"\",\"\",Table1[[#This Row],[School/Group Name]])","v":""},{"$f":"IF(Table1[[#This Row],[Pupil Name]]=\"\",\"\",Table1[[#This Row],[Pupil Name]])","v":""},{"$f":"IF(Table1[[#This Row],[Gender (M/F)]]=\"\",\"\",Table1[[#This Row],[Gender (M/F)]])","v":""},{"$f":"IF(Table1[[#This Row],[DisAdv (Y/N)]]=\"\",\"\",Table1[[#This Row],[DisAdv (Y/N)]])","v":""},{"$f":"IF(Table1[[#This Row],[SEND (E,K,N)]]=\"\",\"\",Table1[[#This Row],[SEND (E,K,N)]])","v":""},"",{"$f":"IF(LEN(Table6[[#This Row],[Pupil Name]])>0,1,0)","v":0}]
[{"$f":"IF(Table1[[#This Row],[School/Group Name]]=\"\",\"\",Table1[[#This Row],[School/Group Name]])","v":""},{"$f":"IF(Table1[[#This Row],[Pupil Name]]=\"\",\"\",Table1[[#This Row],[Pupil Name]])","v":""},{"$f":"IF(Table1[[#This Row],[Gender (M/F)]]=\"\",\"\",Table1[[#This Row],[Gender (M/F)]])","v":""},{"$f":"IF(Table1[[#This Row],[DisAdv (Y/N)]]=\"\",\"\",Table1[[#This Row],[DisAdv (Y/N)]])","v":""},{"$f":"IF(Table1[[#This Row],[SEND (E,K,N)]]=\"\",\"\",Table1[[#This Row],[SEND (E,K,N)]])","v":""},"",{"$f":"IF(LEN(Table6[[#This Row],[Pupil Name]])>0,1,0)","v":0}]
[{"$f":"IF(Table1[[#This Row],[School/Group Name]]=\"\",\"\",Table1[[#This Row],[School/Group Name]])","v":""},{"$f":"IF(Table1[[#This Row],[Pupil Name]]=\"\",\"\",Table1[[#This Row],[Pupil Name]])","v":""},{"$f":"IF(Table1[[#This Row],[Gender (M/F)]]=\"\",\"\",Table1[[#This Row],[Gender (M/F)]])","v":""},{"$f":"IF(Table1[[#This Row],[DisAdv (Y/N)]]=\"\",\"\",Table1[[#This Row],[DisAdv (Y/N)]])","v":""},{"$f":"IF(Table1[[#This Row],[SEND (E,K,N)]]=\"\",\"\",Table1[[#This Row],[SEND (E,K,N)]])","v":""},"",{"$f":"IF(LEN(Table6[[#This Row],[Pupil Name]])>0,1,0)","v":0}]
[{"$f":"IF(Table1[[#This Row],[School/Group Name]]=\"\",\"\",Table1[[#This Row],[School/Group Name]])","v":""},{"$f":"IF(Table1[[#This Row],[Pupil Name]]=\"\",\"\",Table1[[#This Row],[Pupil Name]])","v":""},{"$f":"IF(Table1[[#This Row],[Gender (M/F)]]=\"\",\"\",Table1[[#This Row],[Gender (M/F)]])","v":""},{"$f":"IF(Table1[[#This Row],[DisAdv (Y/N)]]=\"\",\"\",Table1[[#This Row],[DisAdv (Y/N)]])","v":""},{"$f":"IF(Table1[[#This Row],[SEND (E,K,N)]]=\"\",\"\",Table1[[#This Row],[SEND (E,K,N)]])","v":""},"",{"$f":"IF(LEN(Table6[[#This Row],[Pupil Name]])>0,1,0)","v":0}]
[{"$f":"IF(Table1[[#This Row],[School/Group Name]]=\"\",\"\",Table1[[#This Row],[School/Group Name]])","v":""},{"$f":"IF(Table1[[#This Row],[Pupil Name]]=\"\",\"\",Table1[[#This Row],[Pupil Name]])","v":""},{"$f":"IF(Table1[[#This Row],[Gender (M/F)]]=\"\",\"\",Table1[[#This Row],[Gender (M/F)]])","v":""},{"$f":"IF(Table1[[#This Row],[DisAdv (Y/N)]]=\"\",\"\",Table1[[#This Row],[DisAdv (Y/N)]])","v":""},{"$f":"IF(Table1[[#This Row],[SEND (E,K,N)]]=\"\",\"\",Table1[[#This Row],[SEND (E,K,N)]])","v":""},"",{"$f":"IF(LEN(Table6[[#This Row],[Pupil Name]])>0,1,0)","v":0}]
[{"$f":"IF(Table1[[#This Row],[School/Group Name]]=\"\",\"\",Table1[[#This Row],[School/Group Name]])","v":""},{"$f":"IF(Table1[[#This Row],[Pupil Name]]=\"\",\"\",Table1[[#This Row],[Pupil Name]])","v":""},{"$f":"IF(Table1[[#This Row],[Gender (M/F)]]=\"\",\"\",Table1[[#This Row],[Gender (M/F)]])","v":""},{"$f":"IF(Table1[[#This Row],[DisAdv (Y/N)]]=\"\",\"\",Table1[[#This Row],[DisAdv (Y/N)]])","v":""},{"$f":"IF(Table1[[#This Row],[SEND (E,K,N)]]=\"\",\"\",Table1[[#This Row],[SEND (E,K,N)]])","v":""},"",{"$f":"IF(LEN(Table6[[#This Row],[Pupil Name]])>0,1,0)","v":0}]
[{"$f":"IF(Table1[[#This Row],[School/Group Name]]=\"\",\"\",Table1[[#This Row],[School/Group Name]])","v":""},{"$f":"IF(Table1[[#This Row],[Pupil Name]]=\"\",\"\",Table1[[#This Row],[Pupil Name]])","v":""},{"$f":"IF(Table1[[#This Row],[Gender (M/F)]]=\"\",\"\",Table1[[#This Row],[Gender (M/F)]])","v":""},{"$f":"IF(Table1[[#This Row],[DisAdv (Y/N)]]=\"\",\"\",Table1[[#This Row],[DisAdv (Y/N)]])","v":""},{"$f":"IF(Table1[[#This Row],[SEND (E,K,N)]]=\"\",\"\",Table1[[#This Row],[SEND (E,K,N)]])","v":""},"",{"$f":"IF(LEN(Table6[[#This Row],[Pupil Name]])>0,1,0)","v":0}]
[{"$f":"IF(Table1[[#This Row],[School/Group Name]]=\"\",\"\",Table1[[#This Row],[School/Group Name]])","v":""},{"$f":"IF(Table1[[#This Row],[Pupil Name]]=\"\",\"\",Table1[[#This Row],[Pupil Name]])","v":""},{"$f":"IF(Table1[[#This Row],[Gender (M/F)]]=\"\",\"\",Table1[[#This Row],[Gender (M/F)]])","v":""},{"$f":"IF(Table1[[#This Row],[DisAdv (Y/N)]]=\"\",\"\",Table1[[#This Row],[DisAdv (Y/N)]])","v":""},{"$f":"IF(Table1[[#This Row],[SEND (E,K,N)]]=\"\",\"\",Table1[[#This Row],[SEND (E,K,N)]])","v":""},"",{"$f":"IF(LEN(Table6[[#This Row],[Pupil Name]])>0,1,0)","v":0}]
[{"$f":"IF(Table1[[#This Row],[School/Group Name]]=\"\",\"\",Table1[[#This Row],[School/Group Name]])","v":""},{"$f":"IF(Table1[[#This Row],[Pupil Name]]=\"\",\"\",Table1[[#This Row],[Pupil Name]])","v":""},{"$f":"IF(Table1[[#This Row],[Gender (M/F)]]=\"\",\"\",Table1[[#This Row],[Gender (M/F)]])","v":""},{"$f":"IF(Table1[[#This Row],[DisAdv (Y/N)]]=\"\",\"\",Table1[[#This Row],[DisAdv (Y/N)]])","v":""},{"$f":"IF(Table1[[#This Row],[SEND (E,K,N)]]=\"\",\"\",Table1[[#This Row],[SEND (E,K,N)]])","v":""},"",{"$f":"IF(LEN(Table6[[#This Row],[Pupil Name]])>0,1,0)","v":0}]
[{"$f":"IF(Table1[[#This Row],[School/Group Name]]=\"\",\"\",Table1[[#This Row],[School/Group Name]])","v":""},{"$f":"IF(Table1[[#This Row],[Pupil Name]]=\"\",\"\",Table1[[#This Row],[Pupil Name]])","v":""},{"$f":"IF(Table1[[#This Row],[Gender (M/F)]]=\"\",\"\",Table1[[#This Row],[Gender (M/F)]])","v":""},{"$f":"IF(Table1[[#This Row],[DisAdv (Y/N)]]=\"\",\"\",Table1[[#This Row],[DisAdv (Y/N)]])","v":""},{"$f":"IF(Table1[[#This Row],[SEND (E,K,N)]]=\"\",\"\",Table1[[#This Row],[SEND (E,K,N)]])","v":""},"",{"$f":"IF(LEN(Table6[[#This Row],[Pupil Name]])>0,1,0)","v":0}]
[{"$f":"IF(Table1[[#This Row],[School/Group Name]]=\"\",\"\",Table1[[#This Row],[School/Group Name]])","v":""},{"$f":"IF(Table1[[#This Row],[Pupil Name]]=\"\",\"\",Table1[[#This Row],[Pupil Name]])","v":""},{"$f":"IF(Table1[[#This Row],[Gender (M/F)]]=\"\",\"\",Table1[[#This Row],[Gender (M/F)]])","v":""},{"$f":"IF(Table1[[#This Row],[DisAdv (Y/N)]]=\"\",\"\",Table1[[#This Row],[DisAdv (Y/N)]])","v":""},{"$f":"IF(Table1[[#This Row],[SEND (E,K,N)]]=\"\",\"\",Table1[[#This Row],[SEND (E,K,N)]])","v":""},"",{"$f":"IF(LEN(Table6[[#This Row],[Pupil Name]])>0,1,0)","v":0}]
[{"$f":"IF(Table1[[#This Row],[School/Group Name]]=\"\",\"\",Table1[[#This Row],[School/Group Name]])","v":""},{"$f":"IF(Table1[[#This Row],[Pupil Name]]=\"\",\"\",Table1[[#This Row],[Pupil Name]])","v":""},{"$f":"IF(Table1[[#This Row],[Gender (M/F)]]=\"\",\"\",Table1[[#This Row],[Gender (M/F)]])","v":""},{"$f":"IF(Table1[[#This Row],[DisAdv (Y/N)]]=\"\",\"\",Table1[[#This Row],[DisAdv (Y/N)]])","v":""},{"$f":"IF(Table1[[#This Row],[SEND (E,K,N)]]=\"\",\"\",Table1[[#This Row],[SEND (E,K,N)]])","v":""},"",{"$f":"IF(LEN(Table6[[#This Row],[Pupil Name]])>0,1,0)","v":0}]
[{"$f":"IF(Table1[[#This Row],[School/Group Name]]=\"\",\"\",Table1[[#This Row],[School/Group Name]])","v":""},{"$f":"IF(Table1[[#This Row],[Pupil Name]]=\"\",\"\",Table1[[#This Row],[Pupil Name]])","v":""},{"$f":"IF(Table1[[#This Row],[Gender (M/F)]]=\"\",\"\",Table1[[#This Row],[Gender (M/F)]])","v":""},{"$f":"IF(Table1[[#This Row],[DisAdv (Y/N)]]=\"\",\"\",Table1[[#This Row],[DisAdv (Y/N)]])","v":""},{"$f":"IF(Table1[[#This Row],[SEND (E,K,N)]]=\"\",\"\",Table1[[#This Row],[SEND (E,K,N)]])","v":""},"",{"$f":"IF(LEN(Table6[[#This Row],[Pupil Name]])>0,1,0)","v":0}]
[{"$f":"IF(Table1[[#This Row],[School/Group Name]]=\"\",\"\",Table1[[#This Row],[School/Group Name]])","v":""},{"$f":"IF(Table1[[#This Row],[Pupil Name]]=\"\",\"\",Table1[[#This Row],[Pupil Name]])","v":""},{"$f":"IF(Table1[[#This Row],[Gender (M/F)]]=\"\",\"\",Table1[[#This Row],[Gender (M/F)]])","v":""},{"$f":"IF(Table1[[#This Row],[DisAdv (Y/N)]]=\"\",\"\",Table1[[#This Row],[DisAdv (Y/N)]])","v":""},{"$f":"IF(Table1[[#This Row],[SEND (E,K,N)]]=\"\",\"\",Table1[[#This Row],[SEND (E,K,N)]])","v":""},"",{"$f":"IF(LEN(Table6[[#This Row],[Pupil Name]])>0,1,0)","v":0}]
[{"$f":"IF(Table1[[#This Row],[School/Group Name]]=\"\",\"\",Table1[[#This Row],[School/Group Name]])","v":""},{"$f":"IF(Table1[[#This Row],[Pupil Name]]=\"\",\"\",Table1[[#This Row],[Pupil Name]])","v":""},{"$f":"IF(Table1[[#This Row],[Gender (M/F)]]=\"\",\"\",Table1[[#This Row],[Gender (M/F)]])","v":""},{"$f":"IF(Table1[[#This Row],[DisAdv (Y/N)]]=\"\",\"\",Table1[[#This Row],[DisAdv (Y/N)]])","v":""},{"$f":"IF(Table1[[#This Row],[SEND (E,K,N)]]=\"\",\"\",Table1[[#This Row],[SEND (E,K,N)]])","v":""},"",{"$f":"IF(LEN(Table6[[#This Row],[Pupil Name]])>0,1,0)","v":0}]
[{"$f":"IF(Table1[[#This Row],[School/Group Name]]=\"\",\"\",Table1[[#This Row],[School/Group Name]])","v":""},{"$f":"IF(Table1[[#This Row],[Pupil Name]]=\"\",\"\",Table1[[#This Row],[Pupil Name]])","v":""},{"$f":"IF(Table1[[#This Row],[Gender (M/F)]]=\"\",\"\",Table1[[#This Row],[Gender (M/F)]])","v":""},{"$f":"IF(Table1[[#This Row],[DisAdv (Y/N)]]=\"\",\"\",Table1[[#This Row],[DisAdv (Y/N)]])","v":""},{"$f":"IF(Table1[[#This Row],[SEND (E,K,N)]]=\"\",\"\",Table1[[#This Row],[SEND (E,K,N)]])","v":""},"",{"$f":"IF(LEN(Table6[[#This Row],[Pupil Name]])>0,1,0)","v":0}]
[{"$f":"IF(Table1[[#This Row],[School/Group Name]]=\"\",\"\",Table1[[#This Row],[School/Group Name]])","v":""},{"$f":"IF(Table1[[#This Row],[Pupil Name]]=\"\",\"\",Table1[[#This Row],[Pupil Name]])","v":""},{"$f":"IF(Table1[[#This Row],[Gender (M/F)]]=\"\",\"\",Table1[[#This Row],[Gender (M/F)]])","v":""},{"$f":"IF(Table1[[#This Row],[DisAdv (Y/N)]]=\"\",\"\",Table1[[#This Row],[DisAdv (Y/N)]])","v":""},{"$f":"IF(Table1[[#This Row],[SEND (E,K,N)]]=\"\",\"\",Table1[[#This Row],[SEND (E,K,N)]])","v":""},"",{"$f":"IF(LEN(Table6[[#This Row],[Pupil Name]])>0,1,0)","v":0}]
[{"$f":"IF(Table1[[#This Row],[School/Group Name]]=\"\",\"\",Table1[[#This Row],[School/Group Name]])","v":""},{"$f":"IF(Table1[[#This Row],[Pupil Name]]=\"\",\"\",Table1[[#This Row],[Pupil Name]])","v":""},{"$f":"IF(Table1[[#This Row],[Gender (M/F)]]=\"\",\"\",Table1[[#This Row],[Gender (M/F)]])","v":""},{"$f":"IF(Table1[[#This Row],[DisAdv (Y/N)]]=\"\",\"\",Table1[[#This Row],[DisAdv (Y/N)]])","v":""},{"$f":"IF(Table1[[#This Row],[SEND (E,K,N)]]=\"\",\"\",Table1[[#This Row],[SEND (E,K,N)]])","v":""},"",{"$f":"IF(LEN(Table6[[#This Row],[Pupil Name]])>0,1,0)","v":0}]
[{"$f":"IF(Table1[[#This Row],[School/Group Name]]=\"\",\"\",Table1[[#This Row],[School/Group Name]])","v":""},{"$f":"IF(Table1[[#This Row],[Pupil Name]]=\"\",\"\",Table1[[#This Row],[Pupil Name]])","v":""},{"$f":"IF(Table1[[#This Row],[Gender (M/F)]]=\"\",\"\",Table1[[#This Row],[Gender (M/F)]])","v":""},{"$f":"IF(Table1[[#This Row],[DisAdv (Y/N)]]=\"\",\"\",Table1[[#This Row],[DisAdv (Y/N)]])","v":""},{"$f":"IF(Table1[[#This Row],[SEND (E,K,N)]]=\"\",\"\",Table1[[#This Row],[SEND (E,K,N)]])","v":""},"",{"$f":"IF(LEN(Table6[[#This Row],[Pupil Name]])>0,1,0)","v":0}]
[{"$f":"IF(Table1[[#This Row],[School/Group Name]]=\"\",\"\",Table1[[#This Row],[School/Group Name]])","v":""},{"$f":"IF(Table1[[#This Row],[Pupil Name]]=\"\",\"\",Table1[[#This Row],[Pupil Name]])","v":""},{"$f":"IF(Table1[[#This Row],[Gender (M/F)]]=\"\",\"\",Table1[[#This Row],[Gender (M/F)]])","v":""},{"$f":"IF(Table1[[#This Row],[DisAdv (Y/N)]]=\"\",\"\",Table1[[#This Row],[DisAdv (Y/N)]])","v":""},{"$f":"IF(Table1[[#This Row],[SEND (E,K,N)]]=\"\",\"\",Table1[[#This Row],[SEND (E,K,N)]])","v":""},"",{"$f":"IF(LEN(Table6[[#This Row],[Pupil Name]])>0,1,0)","v":0}]

{"sheet":"Spell Summary","index":11,"n_rows":21,"n_cols":11,"rows_kept":21,"cut":false,"hidden":false,"merged":[]}
["Correct Count","Possible","Ques","Domain","Year","Marks","Your Correct","Nat Domain","Nat Correct","Gap to Nat","LO"]
[{"$f":"SUM(B2*G2%)","v":1},{"$f":"'Spell Data'!$F$4*F2","v":1},1,"creature","3or4",1,{"$f":"'Spell Data'!$H$4","v":100},89.2,89.2,{"$f":"G2-I2","v":10.799999999999997},"S44— words with endings sounding like /ʒə/ or /tʃə/"]
[{"$f":"SUM(B3*G3%)","v":1},{"$f":"'Spell Data'!$F$4*F3","v":1},2,"enough","5or6",1,{"$f":"'Spell Data'!$I$4","v":100},87.1,87.1,12.900000000000006,"S59— words containing the letter string ough"]
[1,{"$f":"'Spell Data'!$F$4*F4","v":1},3,"reception","3or4",1,{"$f":"'Spell Data'!$J$4","v":100},78.3,78.3,21.700000000000003,"S47 – Endings which sound like /ʃən/, spelt –tion, –sion, –ssion, –cian"]
[1,{"$f":"'Spell Data'!$F$4*F5","v":1},4,"numb","5or6",1,{"$f":"'Spell Data'!$K$4","v":100},84.6,84.6,15.400000000000006,"S60— words with ‘silent’ letters (i.e. letters whose presence cannot be predicted from the pronunciation of the word)"]
[0,{"$f":"'Spell Data'!$F$4*F6","v":1},5,"division","3or4",1,{"$f":"'Spell Data'!$L$4","v":0},79.5,79.5,-79.5,"S45 – endings that sound like /ʒən/"]
[1,{"$f":"'Spell Data'!$F$4*F7","v":1},6,"sighed","3or4",1,{"$f":"'Spell Data'!$M$4","v":100},80.099999999999994,80.099999999999994,19.900000000000006,"S61 – homophones and near homophones (Years 3 and 4) homophones and other words that are often confused (Years 5 and 6)"]
[0,{"$f":"'Spell Data'!$F$4*F8","v":1},7,"navigation","3or4",1,{"$f":"'Spell Data'!$N$4","v":0},77,77,-77,"S47— endings that sound like /ʃən/, spelt –tion, –sion, –ssion, –cian"]
[1,{"$f":"'Spell Data'!$F$4*F9","v":1},8,"thoughtful","5or6",1,{"$f":"'Spell Data'!$O$4","v":100},76.400000000000006,76.400000000000006,23.599999999999994,"S59 – words containing the letter string ough"]
[1,{"$f":"'Spell Data'!$F$4*F10","v":1},9,"offered","3or4",1,{"$f":"'Spell Data'!$P$4","v":100},78.5,78.5,21.5,"S38— adding suffxes beginning with vowel letters to words of more than one syllable "]
[1,{"$f":"'Spell Data'!$F$4*F11","v":1},10,"muscle","3or4",1,{"$f":"'Spell Data'!$Q$4","v":100},77.8,77.8,22.200000000000003," S51— words with the /s/ sound spelt sc"]
[0,{"$f":"'Spell Data'!$F$4*F12","v":1},11,"curiously","3or4",1,{"$f":"'Spell Data'!$R$4","v":0},69.3,69.3,-69.3,"S46 – the suffx -ous S43 – the suffx -ly"]
[1,{"$f":"'Spell Data'!$F$4*F13","v":1},12,"courage","3or4",1,{"$f":"'Spell Data'!$S$4","v":100},73,73,27,"S40— the /ʌ/ sound spelt ou"]
[1,{"$f":"'Spell Data'!$F$4*F14","v":1},13,"disagreement","3or4",1,{"$f":"'Spell Data'!$T$4","v":100},63.4,63.4,36.6,"S41 – prefxes"]
[1,{"$f":"'Spell Data'!$F$4*F15","v":1},14,"pyramid","3or4",1,{"$f":"'Spell Data'!$U$4","v":100},61.2,61.2,38.799999999999997,"S39 – the /i/ sound spelt y other than at the end of words"]
[0,{"$f":"'Spell Data'!$F$4*F16","v":1},15,"excellent","5or6",1,{"$f":"'Spell Data'!$V$4","v":0},55.6,55.6,-55.6,"S55— words ending in –ant, –ance, –ancy, –ent, –ence, –ency"]
[1,{"$f":"'Spell Data'!$F$4*F17","v":1},16,"generous","3or4",1,{"$f":"'Spell Data'!$W$4","v":100},57.1,57.1,42.9,"S46— the suffx –ous"]
[0,{"$f":"'Spell Data'!$F$4*F18","v":1},17,"chorus","3or4",1,{"$f":"'Spell Data'!$X$4","v":0},48.9,48.9,-48.9,"S48— words with the /k/ sound spelt ch"]
[1,{"$f":"'Spell Data'!$F$4*F19","v":1},18,"tongue","3or4",1,{"$f":"'Spell Data'!$Y$4","v":100},43,43,57,"S50— words ending with the /g/ sound spelt –gue and the /k/ sound spelt –que"]
[0,{"$f":"'Spell Data'!$F$4*F20","v":1},19,"accidentally","3or4",1,{"$f":"'Spell Data'!$Z$4","v":0},36,36,-36,"S43— the suffx –ly"]
[1,{"$f":"'Spell Data'!$F$4*F21","v":1},20,"deceive","5or6",1,{"$f":"'Spell Data'!$AA$4","v":100},20.9,20.9,79.099999999999994,"S58— words with the /i:/ sound spelt ei after c"]

{"sheet":"Spell Data","index":12,"n_rows":500,"n_cols":27,"rows_kept":500,"cut":false,"hidden":false,"merged":[]}
["Spelling 2019",null,null,null,"Link to GPS Papers",null,"Domain","creature","enough","reception","numb","division","sighed","navigation","thoughtful","offered","muscle","curiously","courage","disagreement","pyramid","excellent","generous","chorus","tongue","accidentally","deceive"]
[null,null,null,null,null,{"$f":"IF(H2=\"\",\"\",(SUM(H2:AA2)))","v":20},"Marks",1,1,1,1,1,1,1,1,1,1,1,1,1,1,1,1,1,1,1,1]
[null,null,null,null,null,null,"Nat Correct",89.2,87.1,78.3,84.6,79.5,80.099999999999994,77,76.400000000000006,78.5,77.8,69.3,73,63.4,61.2,55.6,57.1,48.9,43,36,20.9]
[null,null,null,null,"Pupil Count",{"$f":"SUBTOTAL(9,Table7[Question])","v":1},"Filtered Correct",{"$f":"SUM(SUBTOTAL(9,H6:H500)/SUM(H2*$F$4))*100","v":100},{"$f":"SUM(SUBTOTAL(9,I6:I500)/SUM(I2*$F$4))*100","v":100},100,100,0,100,0,100,100,100,0,100,100,100,0,100,0,100,0,100]
["School Name","Pupil Name","Gender (M/F)","DisAdv (Y/N)","SEND (E,K,N)","Marks scored","Question","1","2","3","4","5","6","7","8","9","10","11","12","13","14","15","16","17","18","19","20"]
[{"$f":"IF(Table1[[#This Row],[School/Group Name]]=\"\",\"\",Table1[[#This Row],[School/Group Name]])","v":"Hogwarts"},{"$f":"IF(Table1[[#This Row],[Pupil Name]]=\"\",\"\",Table1[[#This Row],[Pupil Name]])","v":"Harry"},{"$f":"IF(Table1[[#This Row],[Gender (M/F)]]=\"\",\"\",Table1[[#This Row],[Gender (M/F)]])","v":"M"},{"$f":"IF(Table1[[#This Row],[DisAdv (Y/N)]]=\"\",\"\",Table1[[#This Row],[DisAdv (Y/N)]])","v":"Y"},{"$f":"IF(Table1[[#This Row],[SEND (E,K,N)]]=\"\",\"\",Table1[[#This Row],[SEND (E,K,N)]])","v":"K"},{"$f":"IF(H6=\"\",\"\",(SUM(H6:AA6)))","v":14},{"$f":"IF(LEN(Table7[[#This Row],[Pupil Name]])>0,1,0)","v":1},1,1,1,1,0,1,0,1,1,1,0,1,1,1,0,1,0,1,0,1]
[{"$f":"IF(Table1[[#This Row],[School/Group Name]]=\"\",\"\",Table1[[#This Row],[School/Group Name]])","v":""},null,{"$f":"IF(Table1[[#This Row],[Gender (M/F)]]=\"\",\"\",Table1[[#This Row],[Gender (M/F)]])","v":""},{"$f":"IF(Table1[[#This Row],[DisAdv (Y/N)]]=\"\",\"\",Table1[[#This Row],[DisAdv (Y/N)]])","v":""},{"$f":"IF(Table1[[#This Row],[SEND (E,K,N)]]=\"\",\"\",Table1[[#This Row],[SEND (E,K,N)]])","v":""},{"$f":"IF(H7=\"\",\"\",(SUM(H7:AA7)))","v":""},{"$f":"IF(LEN(Table7[[#This Row],[Pupil Name]])>0,1,0)","v":0}]
[{"$f":"IF(Table1[[#This Row],[School/Group Name]]=\"\",\"\",Table1[[#This Row],[School/Group Name]])","v":""},null,{"$f":"IF(Table1[[#This Row],[Gender (M/F)]]=\"\",\"\",Table1[[#This Row],[Gender (M/F)]])","v":""},{"$f":"IF(Table1[[#This Row],[DisAdv (Y/N)]]=\"\",\"\",Table1[[#This Row],[DisAdv (Y/N)]])","v":""},{"$f":"IF(Table1[[#This Row],[SEND (E,K,N)]]=\"\",\"\",Table1[[#This Row],[SEND (E,K,N)]])","v":""},"",{"$f":"IF(LEN(Table7[[#This Row],[Pupil Name]])>0,1,0)","v":0}]
[{"$f":"IF(Table1[[#This Row],[School/Group Name]]=\"\",\"\",Table1[[#This Row],[School/Group Name]])","v":""},null,{"$f":"IF(Table1[[#This Row],[Gender (M/F)]]=\"\",\"\",Table1[[#This Row],[Gender (M/F)]])","v":""},{"$f":"IF(Table1[[#This Row],[DisAdv (Y/N)]]=\"\",\"\",Table1[[#This Row],[DisAdv (Y/N)]])","v":""},{"$f":"IF(Table1[[#This Row],[SEND (E,K,N)]]=\"\",\"\",Table1[[#This Row],[SEND (E,K,N)]])","v":""},"",{"$f":"IF(LEN(Table7[[#This Row],[Pupil Name]])>0,1,0)","v":0}]
[{"$f":"IF(Table1[[#This Row],[School/Group Name]]=\"\",\"\",Table1[[#This Row],[School/Group Name]])","v":""},null,{"$f":"IF(Table1[[#This Row],[Gender (M/F)]]=\"\",\"\",Table1[[#This Row],[Gender (M/F)]])","v":""},{"$f":"IF(Table1[[#This Row],[DisAdv (Y/N)]]=\"\",\"\",Table1[[#This Row],[DisAdv (Y/N)]])","v":""},{"$f":"IF(Table1[[#This Row],[SEND (E,K,N)]]=\"\",\"\",Table1[[#This Row],[SEND (E,K,N)]])","v":""},{"$f":"IF(H10=\"\",\"\",(SUM(H10:AA10)))","v":""},{"$f":"IF(LEN(Table7[[#This Row],[Pupil Name]])>0,1,0)","v":0}]
[{"$f":"IF(Table1[[#This Row],[School/Group Name]]=\"\",\"\",Table1[[#This Row],[School/Group Name]])","v":""},null,{"$f":"IF(Table1[[#This Row],[Gender (M/F)]]=\"\",\"\",Table1[[#This Row],[Gender (M/F)]])","v":""},{"$f":"IF(Table1[[#This Row],[DisAdv (Y/N)]]=\"\",\"\",Table1[[#This Row],[DisAdv (Y/N)]])","v":""},{"$f":"IF(Table1[[#This Row],[SEND (E,K,N)]]=\"\",\"\",Table1[[#This Row],[SEND (E,K,N)]])","v":""},"",{"$f":"IF(LEN(Table7[[#This Row],[Pupil Name]])>0,1,0)","v":0}]
[{"$f":"IF(Table1[[#This Row],[School/Group Name]]=\"\",\"\",Table1[[#This Row],[School/Group Name]])","v":""},null,{"$f":"IF(Table1[[#This Row],[Gender (M/F)]]=\"\",\"\",Table1[[#This Row],[Gender (M/F)]])","v":""},{"$f":"IF(Table1[[#This Row],[DisAdv (Y/N)]]=\"\",\"\",Table1[[#This Row],[DisAdv (Y/N)]])","v":""},{"$f":"IF(Table1[[#This Row],[SEND (E,K,N)]]=\"\",\"\",Table1[[#This Row],[SEND (E,K,N)]])","v":""},"",{"$f":"IF(LEN(Table7[[#This Row],[Pupil Name]])>0,1,0)","v":0}]
[{"$f":"IF(Table1[[#This Row],[School/Group Name]]=\"\",\"\",Table1[[#This Row],[School/Group Name]])","v":""},null,{"$f":"IF(Table1[[#This Row],[Gender (M/F)]]=\"\",\"\",Table1[[#This Row],[Gender (M/F)]])","v":""},{"$f":"IF(Table1[[#This Row],[DisAdv (Y/N)]]=\"\",\"\",Table1[[#This Row],[DisAdv (Y/N)]])","v":""},{"$f":"IF(Table1[[#This Row],[SEND (E,K,N)]]=\"\",\"\",Table1[[#This Row],[SEND (E,K,N)]])","v":""},"",{"$f":"IF(LEN(Table7[[#This Row],[Pupil Name]])>0,1,0)","v":0}]
[{"$f":"IF(Table1[[#This Row],[School/Group Name]]=\"\",\"\",Table1[[#This Row],[School/Group Name]])","v":""},null,{"$f":"IF(Table1[[#This Row],[Gender (M/F)]]=\"\",\"\",Table1[[#This Row],[Gender (M/F)]])","v":""},{"$f":"IF(Table1[[#This Row],[DisAdv (Y/N)]]=\"\",\"\",Table1[[#This Row],[DisAdv (Y/N)]])","v":""},{"$f":"IF(Table1[[#This Row],[SEND (E,K,N)]]=\"\",\"\",Table1[[#This Row],[SEND (E,K,N)]])","v":""},"",{"$f":"IF(LEN(Table7[[#This Row],[Pupil Name]])>0,1,0)","v":0}]
[{"$f":"IF(Table1[[#This Row],[School/Group Name]]=\"\",\"\",Table1[[#This Row],[School/Group Name]])","v":""},{"$f":"IF(Table1[[#This Row],[Pupil Name]]=\"\",\"\",Table1[[#This Row],[Pupil Name]])","v":""},{"$f":"IF(Table1[[#This Row],[Gender (M/F)]]=\"\",\"\",Table1[[#This Row],[Gender (M/F)]])","v":""},{"$f":"IF(Table1[[#This Row],[DisAdv (Y/N)]]=\"\",\"\",Table1[[#This Row],[DisAdv (Y/N)]])","v":""},{"$f":"IF(Table1[[#This Row],[SEND (E,K,N)]]=\"\",\"\",Table1[[#This Row],[SEND (E,K,N)]])","v":""},"",{"$f":"IF(LEN(Table7[[#This Row],[Pupil Name]])>0,1,0)","v":0}]
[{"$f":"IF(Table1[[#This Row],[School/Group Name]]=\"\",\"\",Table1[[#This Row],[School/Group Name]])","v":""},{"$f":"IF(Table1[[#This Row],[Pupil Name]]=\"\",\"\",Table1[[#This Row],[Pupil Name]])","v":""},{"$f":"IF(Table1[[#This Row],[Gender (M/F)]]=\"\",\"\",Table1[[#This Row],[Gender (M/F)]])","v":""},{"$f":"IF(Table1[[#This Row],[DisAdv (Y/N)]]=\"\",\"\",Table1[[#This Row],[DisAdv (Y/N)]])","v":""},{"$f":"IF(Table1[[#This Row],[SEND (E,K,N)]]=\"\",\"\",Table1[[#This Row],[SEND (E,K,N)]])","v":""},"",{"$f":"IF(LEN(Table7[[#This Row],[Pupil Name]])>0,1,0)","v":0}]
[{"$f":"IF(Table1[[#This Row],[School/Group Name]]=\"\",\"\",Table1[[#This Row],[School/Group Name]])","v":""},{"$f":"IF(Table1[[#This Row],[Pupil Name]]=\"\",\"\",Table1[[#This Row],[Pupil Name]])","v":""},{"$f":"IF(Table1[[#This Row],[Gender (M/F)]]=\"\",\"\",Table1[[#This Row],[Gender (M/F)]])","v":""},{"$f":"IF(Table1[[#This Row],[DisAdv (Y/N)]]=\"\",\"\",Table1[[#This Row],[DisAdv (Y/N)]])","v":""},{"$f":"IF(Table1[[#This Row],[SEND (E,K,N)]]=\"\",\"\",Table1[[#This Row],[SEND (E,K,N)]])","v":""},"",{"$f":"IF(LEN(Table7[[#This Row],[Pupil Name]])>0,1,0)","v":0}]
[{"$f":"IF(Table1[[#This Row],[School/Group Name]]=\"\",\"\",Table1[[#This Row],[School/Group Name]])","v":""},{"$f":"IF(Table1[[#This Row],[Pupil Name]]=\"\",\"\",Table1[[#This Row],[Pupil Name]])","v":""},{"$f":"IF(Table1[[#This Row],[Gender (M/F)]]=\"\",\"\",Table1[[#This Row],[Gender (M/F)]])","v":""},{"$f":"IF(Table1[[#This Row],[DisAdv (Y/N)]]=\"\",\"\",Table1[[#This Row],[DisAdv (Y/N)]])","v":""},{"$f":"IF(Table1[[#This Row],[SEND (E,K,N)]]=\"\",\"\",Table1[[#This Row],[SEND (E,K,N)]])","v":""},"",{"$f":"IF(LEN(Table7[[#This Row],[Pupil Name]])>0,1,0)","v":0}]
[{"$f":"IF(Table1[[#This Row],[School/Group Name]]=\"\",\"\",Table1[[#This Row],[School/Group Name]])","v":""},{"$f":"IF(Table1[[#This Row],[Pupil Name]]=\"\",\"\",Table1[[#This Row],[Pupil Name]])","v":""},{"$f":"IF(Table1[[#This Row],[Gender (M/F)]]=\"\",\"\",Table1[[#This Row],[Gender (M/F)]])","v":""},{"$f":"IF(Table1[[#This Row],[DisAdv (Y/N)]]=\"\",\"\",Table1[[#This Row],[DisAdv (Y/N)]])","v":""},{"$f":"IF(Table1[[#This Row],[SEND (E,K,N)]]=\"\",\"\",Table1[[#This Row],[SEND (E,K,N)]])","v":""},"",{"$f":"IF(LEN(Table7[[#This Row],[Pupil Name]])>0,1,0)","v":0}]
[{"$f":"IF(Table1[[#This Row],[School/Group Name]]=\"\",\"\",Table1[[#This Row],[School/Group Name]])","v":""},{"$f":"IF(Table1[[#This Row],[Pupil Name]]=\"\",\"\",Table1[[#This Row],[Pupil Name]])","v":""},{"$f":"IF(Table1[[#This Row],[Gender (M/F)]]=\"\",\"\",Table1[[#This Row],[Gender (M/F)]])","v":""},{"$f":"IF(Table1[[#This Row],[DisAdv (Y/N)]]=\"\",\"\",Table1[[#This Row],[DisAdv (Y/N)]])","v":""},{"$f":"IF(Table1[[#This Row],[SEND (E,K,N)]]=\"\",\"\",Table1[[#This Row],[SEND (E,K,N)]])","v":""},"",{"$f":"IF(LEN(Table7[[#This Row],[Pupil Name]])>0,1,0)","v":0}]
[{"$f":"IF(Table1[[#This Row],[School/Group Name]]=\"\",\"\",Table1[[#This Row],[School/Group Name]])","v":""},{"$f":"IF(Table1[[#This Row],[Pupil Name]]=\"\",\"\",Table1[[#This Row],[Pupil Name]])","v":""},{"$f":"IF(Table1[[#This Row],[Gender (M/F)]]=\"\",\"\",Table1[[#This Row],[Gender (M/F)]])","v":""},{"$f":"IF(Table1[[#This Row],[DisAdv (Y/N)]]=\"\",\"\",Table1[[#This Row],[DisAdv (Y/N)]])","v":""},{"$f":"IF(Table1[[#This Row],[SEND (E,K,N)]]=\"\",\"\",Table1[[#This Row],[SEND (E,K,N)]])","v":""},"",{"$f":"IF(LEN(Table7[[#This Row],[Pupil Name]])>0,1,0)","v":0}]
[{"$f":"IF(Table1[[#This Row],[School/Group Name]]=\"\",\"\",Table1[[#This Row],[School/Group Name]])","v":""},{"$f":"IF(Table1[[#This Row],[Pupil Name]]=\"\",\"\",Table1[[#This Row],[Pupil Name]])","v":""},{"$f":"IF(Table1[[#This Row],[Gender (M/F)]]=\"\",\"\",Table1[[#This Row],[Gender (M/F)]])","v":""},{"$f":"IF(Table1[[#This Row],[DisAdv (Y/N)]]=\"\",\"\",Table1[[#This Row],[DisAdv (Y/N)]])","v":""},{"$f":"IF(Table1[[#This Row],[SEND (E,K,N)]]=\"\",\"\",Table1[[#This Row],[SEND (E,K,N)]])","v":""},"",{"$f":"IF(LEN(Table7[[#This Row],[Pupil Name]])>0,1,0)","v":0}]
[{"$f":"IF(Table1[[#This Row],[School/Group Name]]=\"\",\"\",Table1[[#This Row],[School/Group Name]])","v":""},{"$f":"IF(Table1[[#This Row],[Pupil Name]]=\"\",\"\",Table1[[#This Row],[Pupil Name]])","v":""},{"$f":"IF(Table1[[#This Row],[Gender (M/F)]]=\"\",\"\",Table1[[#This Row],[Gender (M/F)]])","v":""},{"$f":"IF(Table1[[#This Row],[DisAdv (Y/N)]]=\"\",\"\",Table1[[#This Row],[DisAdv (Y/N)]])","v":""},{"$f":"IF(Table1[[#This Row],[SEND (E,K,N)]]=\"\",\"\",Table1[[#This Row],[SEND (E,K,N)]])","v":""},"",{"$f":"IF(LEN(Table7[[#This Row],[Pupil Name]])>0,1,0)","v":0}]
[{"$f":"IF(Table1[[#This Row],[School/Group Name]]=\"\",\"\",Table1[[#This Row],[School/Group Name]])","v":""},{"$f":"IF(Table1[[#This Row],[Pupil Name]]=\"\",\"\",Table1[[#This Row],[Pupil Name]])","v":""},{"$f":"IF(Table1[[#This Row],[Gender (M/F)]]=\"\",\"\",Table1[[#This Row],[Gender (M/F)]])","v":""},{"$f":"IF(Table1[[#This Row],[DisAdv (Y/N)]]=\"\",\"\",Table1[[#This Row],[DisAdv (Y/N)]])","v":""},{"$f":"IF(Table1[[#This Row],[SEND (E,K,N)]]=\"\",\"\",Table1[[#This Row],[SEND (E,K,N)]])","v":""},"",{"$f":"IF(LEN(Table7[[#This Row],[Pupil Name]])>0,1,0)","v":0}]
[{"$f":"IF(Table1[[#This Row],[School/Group Name]]=\"\",\"\",Table1[[#This Row],[School/Group Name]])","v":""},{"$f":"IF(Table1[[#This Row],[Pupil Name]]=\"\",\"\",Table1[[#This Row],[Pupil Name]])","v":""},{"$f":"IF(Table1[[#This Row],[Gender (M/F)]]=\"\",\"\",Table1[[#This Row],[Gender (M/F)]])","v":""},{"$f":"IF(Table1[[#This Row],[DisAdv (Y/N)]]=\"\",\"\",Table1[[#This Row],[DisAdv (Y/N)]])","v":""},{"$f":"IF(Table1[[#This Row],[SEND (E,K,N)]]=\"\",\"\",Table1[[#This Row],[SEND (E,K,N)]])","v":""},"",{"$f":"IF(LEN(Table7[[#This Row],[Pupil Name]])>0,1,0)","v":0}]
[{"$f":"IF(Table1[[#This Row],[School/Group Name]]=\"\",\"\",Table1[[#This Row],[School/Group Name]])","v":""},{"$f":"IF(Table1[[#This Row],[Pupil Name]]=\"\",\"\",Table1[[#This Row],[Pupil Name]])","v":""},{"$f":"IF(Table1[[#This Row],[Gender (M/F)]]=\"\",\"\",Table1[[#This Row],[Gender (M/F)]])","v":""},{"$f":"IF(Table1[[#This Row],[DisAdv (Y/N)]]=\"\",\"\",Table1[[#This Row],[DisAdv (Y/N)]])","v":""},{"$f":"IF(Table1[[#This Row],[SEND (E,K,N)]]=\"\",\"\",Table1[[#This Row],[SEND (E,K,N)]])","v":""},"",{"$f":"IF(LEN(Table7[[#This Row],[Pupil Name]])>0,1,0)","v":0}]
[{"$f":"IF(Table1[[#This Row],[School/Group Name]]=\"\",\"\",Table1[[#This Row],[School/Group Name]])","v":""},{"$f":"IF(Table1[[#This Row],[Pupil Name]]=\"\",\"\",Table1[[#This Row],[Pupil Name]])","v":""},{"$f":"IF(Table1[[#This Row],[Gender (M/F)]]=\"\",\"\",Table1[[#This Row],[Gender (M/F)]])","v":""},{"$f":"IF(Table1[[#This Row],[DisAdv (Y/N)]]=\"\",\"\",Table1[[#This Row],[DisAdv (Y/N)]])","v":""},{"$f":"IF(Table1[[#This Row],[SEND (E,K,N)]]=\"\",\"\",Table1[[#This Row],[SEND (E,K,N)]])","v":""},"",{"$f":"IF(LEN(Table7[[#This Row],[Pupil Name]])>0,1,0)","v":0}]
[{"$f":"IF(Table1[[#This Row],[School/Group Name]]=\"\",\"\",Table1[[#This Row],[School/Group Name]])","v":""},{"$f":"IF(Table1[[#This Row],[Pupil Name]]=\"\",\"\",Table1[[#This Row],[Pupil Name]])","v":""},{"$f":"IF(Table1[[#This Row],[Gender (M/F)]]=\"\",\"\",Table1[[#This Row],[Gender (M/F)]])","v":""},{"$f":"IF(Table1[[#This Row],[DisAdv (Y/N)]]=\"\",\"\",Table1[[#This Row],[DisAdv (Y/N)]])","v":""},{"$f":"IF(Table1[[#This Row],[SEND (E,K,N)]]=\"\",\"\",Table1[[#This Row],[SEND (E,K,N)]])","v":""},"",{"$f":"IF(LEN(Table7[[#This Row],[Pupil Name]])>0,1,0)","v":0}]
[{"$f":"IF(Table1[[#This Row],[School/Group Name]]=\"\",\"\",Table1[[#This Row],[School/Group Name]])","v":""},{"$f":"IF(Table1[[#This Row],[Pupil Name]]=\"\",\"\",Table1[[#This Row],[Pupil Name]])","v":""},{"$f":"IF(Table1[[#This Row],[Gender (M/F)]]=\"\",\"\",Table1[[#This Row],[Gender (M/F)]])","v":""},{"$f":"IF(Table1[[#This Row],[DisAdv (Y/N)]]=\"\",\"\",Table1[[#This Row],[DisAdv (Y/N)]])","v":""},{"$f":"IF(Table1[[#This Row],[SEND (E,K,N)]]=\"\",\"\",Table1[[#This Row],[SEND (E,K,N)]])","v":""},"",{"$f":"IF(LEN(Table7[[#This Row],[Pupil Name]])>0,1,0)","v":0}]
[{"$f":"IF(Table1[[#This Row],[School/Group Name]]=\"\",\"\",Table1[[#This Row],[School/Group Name]])","v":""},{"$f":"IF(Table1[[#This Row],[Pupil Name]]=\"\",\"\",Table1[[#This Row],[Pupil Name]])","v":""},{"$f":"IF(Table1[[#This Row],[Gender (M/F)]]=\"\",\"\",Table1[[#This Row],[Gender (M/F)]])","v":""},{"$f":"IF(Table1[[#This Row],[DisAdv (Y/N)]]=\"\",\"\",Table1[[#This Row],[DisAdv (Y/N)]])","v":""},{"$f":"IF(Table1[[#This Row],[SEND (E,K,N)]]=\"\",\"\",Table1[[#This Row],[SEND (E,K,N)]])","v":""},"",{"$f":"IF(LEN(Table7[[#This Row],[Pupil Name]])>0,1,0)","v":0}]
[{"$f":"IF(Table1[[#This Row],[School/Group Name]]=\"\",\"\",Table1[[#This Row],[School/Group Name]])","v":""},{"$f":"IF(Table1[[#This Row],[Pupil Name]]=\"\",\"\",Table1[[#This Row],[Pupil Name]])","v":""},{"$f":"IF(Table1[[#This Row],[Gender (M/F)]]=\"\",\"\",Table1[[#This Row],[Gender (M/F)]])","v":""},{"$f":"IF(Table1[[#This Row],[DisAdv (Y/N)]]=\"\",\"\",Table1[[#This Row],[DisAdv (Y/N)]])","v":""},{"$f":"IF(Table1[[#This Row],[SEND (E,K,N)]]=\"\",\"\",Table1[[#This Row],[SEND (E,K,N)]])","v":""},"",{"$f":"IF(LEN(Table7[[#This Row],[Pupil Name]])>0,1,0)","v":0}]
[{"$f":"IF(Table1[[#This Row],[School/Group Name]]=\"\",\"\",Table1[[#This Row],[School/Group Name]])","v":""},{"$f":"IF(Table1[[#This Row],[Pupil Name]]=\"\",\"\",Table1[[#This Row],[Pupil Name]])","v":""},{"$f":"IF(Table1[[#This Row],[Gender (M/F)]]=\"\",\"\",Table1[[#This Row],[Gender (M/F)]])","v":""},{"$f":"IF(Table1[[#This Row],[DisAdv (Y/N)]]=\"\",\"\",Table1[[#This Row],[DisAdv (Y/N)]])","v":""},{"$f":"IF(Table1[[#This Row],[SEND (E,K,N)]]=\"\",\"\",Table1[[#This Row],[SEND (E,K,N)]])","v":""},"",{"$f":"IF(LEN(Table7[[#This Row],[Pupil Name]])>0,1,0)","v":0}]
[{"$f":"IF(Table1[[#This Row],[School/Group Name]]=\"\",\"\",Table1[[#This Row],[School/Group Name]])","v":""},{"$f":"IF(Table1[[#This Row],[Pupil Name]]=\"\",\"\",Table1[[#This Row],[Pupil Name]])","v":""},{"$f":"IF(Table1[[#This Row],[Gender (M/F)]]=\"\",\"\",Table1[[#This Row],[Gender (M/F)]])","v":""},{"$f":"IF(Table1[[#This Row],[DisAdv (Y/N)]]=\"\",\"\",Table1[[#This Row],[DisAdv (Y/N)]])","v":""},{"$f":"IF(Table1[[#This Row],[SEND (E,K,N)]]=\"\",\"\",Table1[[#This Row],[SEND (E,K,N)]])","v":""},"",{"$f":"IF(LEN(Table7[[#This Row],[Pupil Name]])>0,1,0)","v":0}]
[{"$f":"IF(Table1[[#This Row],[School/Group Name]]=\"\",\"\",Table1[[#This Row],[School/Group Name]])","v":""},{"$f":"IF(Table1[[#This Row],[Pupil Name]]=\"\",\"\",Table1[[#This Row],[Pupil Name]])","v":""},{"$f":"IF(Table1[[#This Row],[Gender (M/F)]]=\"\",\"\",Table1[[#This Row],[Gender (M/F)]])","v":""},{"$f":"IF(Table1[[#This Row],[DisAdv (Y/N)]]=\"\",\"\",Table1[[#This Row],[DisAdv (Y/N)]])","v":""},{"$f":"IF(Table1[[#This Row],[SEND (E,K,N)]]=\"\",\"\",Table1[[#This Row],[SEND (E,K,N)]])","v":""},"",{"$f":"IF(LEN(Table7[[#This Row],[Pupil Name]])>0,1,0)","v":0}]
[{"$f":"IF(Table1[[#This Row],[School/Group Name]]=\"\",\"\",Table1[[#This Row],[School/Group Name]])","v":""},{"$f":"IF(Table1[[#This Row],[Pupil Name]]=\"\",\"\",Table1[[#This Row],[Pupil Name]])","v":""},{"$f":"IF(Table1[[#This Row],[Gender (M/F)]]=\"\",\"\",Table1[[#This Row],[Gender (M/F)]])","v":""},{"$f":"IF(Table1[[#This Row],[DisAdv (Y/N)]]=\"\",\"\",Table1[[#This Row],[DisAdv (Y/N)]])","v":""},{"$f":"IF(Table1[[#This Row],[SEND (E,K,N)]]=\"\",\"\",Table1[[#This Row],[SEND (E,K,N)]])","v":""},"",{"$f":"IF(LEN(Table7[[#This Row],[Pupil Name]])>0,1,0)","v":0}]
[{"$f":"IF(Table1[[#This Row],[School/Group Name]]=\"\",\"\",Table1[[#This Row],[School/Group Name]])","v":""},{"$f":"IF(Table1[[#This Row],[Pupil Name]]=\"\",\"\",Table1[[#This Row],[Pupil Name]])","v":""},{"$f":"IF(Table1[[#This Row],[Gender (M/F)]]=\"\",\"\",Table1[[#This Row],[Gender (M/F)]])","v":""},{"$f":"IF(Table1[[#This Row],[DisAdv (Y/N)]]=\"\",\"\",Table1[[#This Row],[DisAdv (Y/N)]])","v":""},{"$f":"IF(Table1[[#This Row],[SEND (E,K,N)]]=\"\",\"\",Table1[[#This Row],[SEND (E,K,N)]])","v":""},"",{"$f":"IF(LEN(Table7[[#This Row],[Pupil Name]])>0,1,0)","v":0}]
[{"$f":"IF(Table1[[#This Row],[School/Group Name]]=\"\",\"\",Table1[[#This Row],[School/Group Name]])","v":""},{"$f":"IF(Table1[[#This Row],[Pupil Name]]=\"\",\"\",Table1[[#This Row],[Pupil Name]])","v":""},{"$f":"IF(Table1[[#This Row],[Gender (M/F)]]=\"\",\"\",Table1[[#This Row],[Gender (M/F)]])","v":""},{"$f":"IF(Table1[[#This Row],[DisAdv (Y/N)]]=\"\",\"\",Table1[[#This Row],[DisAdv (Y/N)]])","v":""},{"$f":"IF(Table1[[#This Row],[SEND (E,K,N)]]=\"\",\"\",Table1[[#This Row],[SEND (E,K,N)]])","v":""},"",{"$f":"IF(LEN(Table7[[#This Row],[Pupil Name]])>0,1,0)","v":0}]
[{"$f":"IF(Table1[[#This Row],[School/Group Name]]=\"\",\"\",Table1[[#This Row],[School/Group Name]])","v":""},{"$f":"IF(Table1[[#This Row],[Pupil Name]]=\"\",\"\",Table1[[#This Row],[Pupil Name]])","v":""},{"$f":"IF(Table1[[#This Row],[Gender (M/F)]]=\"\",\"\",Table1[[#This Row],[Gender (M/F)]])","v":""},{"$f":"IF(Table1[[#This Row],[DisAdv (Y/N)]]=\"\",\"\",Table1[[#This Row],[DisAdv (Y/N)]])","v":""},{"$f":"IF(Table1[[#This Row],[SEND (E,K,N)]]=\"\",\"\",Table1[[#This Row],[SEND (E,K,N)]])","v":""},"",{"$f":"IF(LEN(Table7[[#This Row],[Pupil Name]])>0,1,0)","v":0}]
[{"$f":"IF(Table1[[#This Row],[School/Group Name]]=\"\",\"\",Table1[[#This Row],[School/Group Name]])","v":""},{"$f":"IF(Table1[[#This Row],[Pupil Name]]=\"\",\"\",Table1[[#This Row],[Pupil Name]])","v":""},{"$f":"IF(Table1[[#This Row],[Gender (M/F)]]=\"\",\"\",Table1[[#This Row],[Gender (M/F)]])","v":""},{"$f":"IF(Table1[[#This Row],[DisAdv (Y/N)]]=\"\",\"\",Table1[[#This Row],[DisAdv (Y/N)]])","v":""},{"$f":"IF(Table1[[#This Row],[SEND (E,K,N)]]=\"\",\"\",Table1[[#This Row],[SEND (E,K,N)]])","v":""},"",{"$f":"IF(LEN(Table7[[#This Row],[Pupil Name]])>0,1,0)","v":0}]
[{"$f":"IF(Table1[[#This Row],[School/Group Name]]=\"\",\"\",Table1[[#This Row],[School/Group Name]])","v":""},{"$f":"IF(Table1[[#This Row],[Pupil Name]]=\"\",\"\",Table1[[#This Row],[Pupil Name]])","v":""},{"$f":"IF(Table1[[#This Row],[Gender (M/F)]]=\"\",\"\",Table1[[#This Row],[Gender (M/F)]])","v":""},{"$f":"IF(Table1[[#This Row],[DisAdv (Y/N)]]=\"\",\"\",Table1[[#This Row],[DisAdv (Y/N)]])","v":""},{"$f":"IF(Table1[[#This Row],[SEND (E,K,N)]]=\"\",\"\",Table1[[#This Row],[SEND (E,K,N)]])","v":""},"",{"$f":"IF(LEN(Table7[[#This Row],[Pupil Name]])>0,1,0)","v":0}]
[{"$f":"IF(Table1[[#This Row],[School/Group Name]]=\"\",\"\",Table1[[#This Row],[School/Group Name]])","v":""},{"$f":"IF(Table1[[#This Row],[Pupil Name]]=\"\",\"\",Table1[[#This Row],[Pupil Name]])","v":""},{"$f":"IF(Table1[[#This Row],[Gender (M/F)]]=\"\",\"\",Table1[[#This Row],[Gender (M/F)]])","v":""},{"$f":"IF(Table1[[#This Row],[DisAdv (Y/N)]]=\"\",\"\",Table1[[#This Row],[DisAdv (Y/N)]])","v":""},{"$f":"IF(Table1[[#This Row],[SEND (E,K,N)]]=\"\",\"\",Table1[[#This Row],[SEND (E,K,N)]])","v":""},"",{"$f":"IF(LEN(Table7[[#This Row],[Pupil Name]])>0,1,0)","v":0}]
[{"$f":"IF(Table1[[#This Row],[School/Group Name]]=\"\",\"\",Table1[[#This Row],[School/Group Name]])","v":""},{"$f":"IF(Table1[[#This Row],[Pupil Name]]=\"\",\"\",Table1[[#This Row],[Pupil Name]])","v":""},{"$f":"IF(Table1[[#This Row],[Gender (M/F)]]=\"\",\"\",Table1[[#This Row],[Gender (M/F)]])","v":""},{"$f":"IF(Table1[[#This Row],[DisAdv (Y/N)]]=\"\",\"\",Table1[[#This Row],[DisAdv (Y/N)]])","v":""},{"$f":"IF(Table1[[#This Row],[SEND (E,K,N)]]=\"\",\"\",Table1[[#This Row],[SEND (E,K,N)]])","v":""},"",{"$f":"IF(LEN(Table7[[#This Row],[Pupil Name]])>0,1,0)","v":0}]
[{"$f":"IF(Table1[[#This Row],[School/Group Name]]=\"\",\"\",Table1[[#This Row],[School/Group Name]])","v":""},{"$f":"IF(Table1[[#This Row],[Pupil Name]]=\"\",\"\",Table1[[#This Row],[Pupil Name]])","v":""},{"$f":"IF(Table1[[#This Row],[Gender (M/F)]]=\"\",\"\",Table1[[#This Row],[Gender (M/F)]])","v":""},{"$f":"IF(Table1[[#This Row],[DisAdv (Y/N)]]=\"\",\"\",Table1[[#This Row],[DisAdv (Y/N)]])","v":""},{"$f":"IF(Table1[[#This Row],[SEND (E,K,N)]]=\"\",\"\",Table1[[#This Row],[SEND (E,K,N)]])","v":""},"",{"$f":"IF(LEN(Table7[[#This Row],[Pupil Name]])>0,1,0)","v":0}]
[{"$f":"IF(Table1[[#This Row],[School/Group Name]]=\"\",\"\",Table1[[#This Row],[School/Group Name]])","v":""},{"$f":"IF(Table1[[#This Row],[Pupil Name]]=\"\",\"\",Table1[[#This Row],[Pupil Name]])","v":""},{"$f":"IF(Table1[[#This Row],[Gender (M/F)]]=\"\",\"\",Table1[[#This Row],[Gender (M/F)]])","v":""},{"$f":"IF(Table1[[#This Row],[DisAdv (Y/N)]]=\"\",\"\",Table1[[#This Row],[DisAdv (Y/N)]])","v":""},{"$f":"IF(Table1[[#This Row],[SEND (E,K,N)]]=\"\",\"\",Table1[[#This Row],[SEND (E,K,N)]])","v":""},"",{"$f":"IF(LEN(Table7[[#This Row],[Pupil Name]])>0,1,0)","v":0}]
[{"$f":"IF(Table1[[#This Row],[School/Group Name]]=\"\",\"\",Table1[[#This Row],[School/Group Name]])","v":""},{"$f":"IF(Table1[[#This Row],[Pupil Name]]=\"\",\"\",Table1[[#This Row],[Pupil Name]])","v":""},{"$f":"IF(Table1[[#This Row],[Gender (M/F)]]=\"\",\"\",Table1[[#This Row],[Gender (M/F)]])","v":""},{"$f":"IF(Table1[[#This Row],[DisAdv (Y/N)]]=\"\",\"\",Table1[[#This Row],[DisAdv (Y/N)]])","v":""},{"$f":"IF(Table1[[#This Row],[SEND (E,K,N)]]=\"\",\"\",Table1[[#This Row],[SEND (E,K,N)]])","v":""},"",{"$f":"IF(LEN(Table7[[#This Row],[Pupil Name]])>0,1,0)","v":0}]
[{"$f":"IF(Table1[[#This Row],[School/Group Name]]=\"\",\"\",Table1[[#This Row],[School/Group Name]])","v":""},{"$f":"IF(Table1[[#This Row],[Pupil Name]]=\"\",\"\",Table1[[#This Row],[Pupil Name]])","v":""},{"$f":"IF(Table1[[#This Row],[Gender (M/F)]]=\"\",\"\",Table1[[#This Row],[Gender (M/F)]])","v":""},{"$f":"IF(Table1[[#This Row],[DisAdv (Y/N)]]=\"\",\"\",Table1[[#This Row],[DisAdv (Y/N)]])","v":""},{"$f":"IF(Table1[[#This Row],[SEND (E,K,N)]]=\"\",\"\",Table1[[#This Row],[SEND (E,K,N)]])","v":""},"",{"$f":"IF(LEN(Table7[[#This Row],[Pupil Name]])>0,1,0)","v":0}]
[{"$f":"IF(Table1[[#This Row],[School/Group Name]]=\"\",\"\",Table1[[#This Row],[School/Group Name]])","v":""},{"$f":"IF(Table1[[#This Row],[Pupil Name]]=\"\",\"\",Table1[[#This Row],[Pupil Name]])","v":""},{"$f":"IF(Table1[[#This Row],[Gender (M/F)]]=\"\",\"\",Table1[[#This Row],[Gender (M/F)]])","v":""},{"$f":"IF(Table1[[#This Row],[DisAdv (Y/N)]]=\"\",\"\",Table1[[#This Row],[DisAdv (Y/N)]])","v":""},{"$f":"IF(Table1[[#This Row],[SEND (E,K,N)]]=\"\",\"\",Table1[[#This Row],[SEND (E,K,N)]])","v":""},"",{"$f":"IF(LEN(Table7[[#This Row],[Pupil Name]])>0,1,0)","v":0}]
[{"$f":"IF(Table1[[#This Row],[School/Group Name]]=\"\",\"\",Table1[[#This Row],[School/Group Name]])","v":""},{"$f":"IF(Table1[[#This Row],[Pupil Name]]=\"\",\"\",Table1[[#This Row],[Pupil Name]])","v":""},{"$f":"IF(Table1[[#This Row],[Gender (M/F)]]=\"\",\"\",Table1[[#This Row],[Gender (M/F)]])","v":""},{"$f":"IF(Table1[[#This Row],[DisAdv (Y/N)]]=\"\",\"\",Table1[[#This Row],[DisAdv (Y/N)]])","v":""},{"$f":"IF(Table1[[#This Row],[SEND (E,K,N)]]=\"\",\"\",Table1[[#This Row],[SEND (E,K,N)]])","v":""},"",{"$f":"IF(LEN(Table7[[#This Row],[Pupil Name]])>0,1,0)","v":0}]
[{"$f":"IF(Table1[[#This Row],[School/Group Name]]=\"\",\"\",Table1[[#This Row],[School/Group Name]])","v":""},{"$f":"IF(Table1[[#This Row],[Pupil Name]]=\"\",\"\",Table1[[#This Row],[Pupil Name]])","v":""},{"$f":"IF(Table1[[#This Row],[Gender (M/F)]]=\"\",\"\",Table1[[#This Row],[Gender (M/F)]])","v":""},{"$f":"IF(Table1[[#This Row],[DisAdv (Y/N)]]=\"\",\"\",Table1[[#This Row],[DisAdv (Y/N)]])","v":""},{"$f":"IF(Table1[[#This Row],[SEND (E,K,N)]]=\"\",\"\",Table1[[#This Row],[SEND (E,K,N)]])","v":""},"",{"$f":"IF(LEN(Table7[[#This Row],[Pupil Name]])>0,1,0)","v":0}]
[{"$f":"IF(Table1[[#This Row],[School/Group Name]]=\"\",\"\",Table1[[#This Row],[School/Group Name]])","v":""},{"$f":"IF(Table1[[#This Row],[Pupil Name]]=\"\",\"\",Table1[[#This Row],[Pupil Name]])","v":""},{"$f":"IF(Table1[[#This Row],[Gender (M/F)]]=\"\",\"\",Table1[[#This Row],[Gender (M/F)]])","v":""},{"$f":"IF(Table1[[#This Row],[DisAdv (Y/N)]]=\"\",\"\",Table1[[#This Row],[DisAdv (Y/N)]])","v":""},{"$f":"IF(Table1[[#This Row],[SEND (E,K,N)]]=\"\",\"\",Table1[[#This Row],[SEND (E,K,N)]])","v":""},"",{"$f":"IF(LEN(Table7[[#This Row],[Pupil Name]])>0,1,0)","v":0}]
[{"$f":"IF(Table1[[#This Row],[School/Group Name]]=\"\",\"\",Table1[[#This Row],[School/Group Name]])","v":""},{"$f":"IF(Table1[[#This Row],[Pupil Name]]=\"\",\"\",Table1[[#This Row],[Pupil Name]])","v":""},{"$f":"IF(Table1[[#This Row],[Gender (M/F)]]=\"\",\"\",Table1[[#This Row],[Gender (M/F)]])","v":""},{"$f":"IF(Table1[[#This Row],[DisAdv (Y/N)]]=\"\",\"\",Table1[[#This Row],[DisAdv (Y/N)]])","v":""},{"$f":"IF(Table1[[#This Row],[SEND (E,K,N)]]=\"\",\"\",Table1[[#This Row],[SEND (E,K,N)]])","v":""},"",{"$f":"IF(LEN(Table7[[#This Row],[Pupil Name]])>0,1,0)","v":0}]
[{"$f":"IF(Table1[[#This Row],[School/Group Name]]=\"\",\"\",Table1[[#This Row],[School/Group Name]])","v":""},{"$f":"IF(Table1[[#This Row],[Pupil Name]]=\"\",\"\",Table1[[#This Row],[Pupil Name]])","v":""},{"$f":"IF(Table1[[#This Row],[Gender (M/F)]]=\"\",\"\",Table1[[#This Row],[Gender (M/F)]])","v":""},{"$f":"IF(Table1[[#This Row],[DisAdv (Y/N)]]=\"\",\"\",Table1[[#This Row],[DisAdv (Y/N)]])","v":""},{"$f":"IF(Table1[[#This Row],[SEND (E,K,N)]]=\"\",\"\",Table1[[#This Row],[SEND (E,K,N)]])","v":""},"",{"$f":"IF(LEN(Table7[[#This Row],[Pupil Name]])>0,1,0)","v":0}]
[{"$f":"IF(Table1[[#This Row],[School/Group Name]]=\"\",\"\",Table1[[#This Row],[School/Group Name]])","v":""},{"$f":"IF(Table1[[#This Row],[Pupil Name]]=\"\",\"\",Table1[[#This Row],[Pupil Name]])","v":""},{"$f":"IF(Table1[[#This Row],[Gender (M/F)]]=\"\",\"\",Table1[[#This Row],[Gender (M/F)]])","v":""},{"$f":"IF(Table1[[#This Row],[DisAdv (Y/N)]]=\"\",\"\",Table1[[#This Row],[DisAdv (Y/N)]])","v":""},{"$f":"IF(Table1[[#This Row],[SEND (E,K,N)]]=\"\",\"\",Table1[[#This Row],[SEND (E,K,N)]])","v":""},"",{"$f":"IF(LEN(Table7[[#This Row],[Pupil Name]])>0,1,0)","v":0}]
[{"$f":"IF(Table1[[#This Row],[School/Group Name]]=\"\",\"\",Table1[[#This Row],[School/Group Name]])","v":""},{"$f":"IF(Table1[[#This Row],[Pupil Name]]=\"\",\"\",Table1[[#This Row],[Pupil Name]])","v":""},{"$f":"IF(Table1[[#This Row],[Gender (M/F)]]=\"\",\"\",Table1[[#This Row],[Gender (M/F)]])","v":""},{"$f":"IF(Table1[[#This Row],[DisAdv (Y/N)]]=\"\",\"\",Table1[[#This Row],[DisAdv (Y/N)]])","v":""},{"$f":"IF(Table1[[#This Row],[SEND (E,K,N)]]=\"\",\"\",Table1[[#This Row],[SEND (E,K,N)]])","v":""},"",{"$f":"IF(LEN(Table7[[#This Row],[Pupil Name]])>0,1,0)","v":0}]
[{"$f":"IF(Table1[[#This Row],[School/Group Name]]=\"\",\"\",Table1[[#This Row],[School/Group Name]])","v":""},{"$f":"IF(Table1[[#This Row],[Pupil Name]]=\"\",\"\",Table1[[#This Row],[Pupil Name]])","v":""},{"$f":"IF(Table1[[#This Row],[Gender (M/F)]]=\"\",\"\",Table1[[#This Row],[Gender (M/F)]])","v":""},{"$f":"IF(Table1[[#This Row],[DisAdv (Y/N)]]=\"\",\"\",Table1[[#This Row],[DisAdv (Y/N)]])","v":""},{"$f":"IF(Table1[[#This Row],[SEND (E,K,N)]]=\"\",\"\",Table1[[#This Row],[SEND (E,K,N)]])","v":""},"",{"$f":"IF(LEN(Table7[[#This Row],[Pupil Name]])>0,1,0)","v":0}]
[{"$f":"IF(Table1[[#This Row],[School/Group Name]]=\"\",\"\",Table1[[#This Row],[School/Group Name]])","v":""},{"$f":"IF(Table1[[#This Row],[Pupil Name]]=\"\",\"\",Table1[[#This Row],[Pupil Name]])","v":""},{"$f":"IF(Table1[[#This Row],[Gender (M/F)]]=\"\",\"\",Table1[[#This Row],[Gender (M/F)]])","v":""},{"$f":"IF(Table1[[#This Row],[DisAdv (Y/N)]]=\"\",\"\",Table1[[#This Row],[DisAdv (Y/N)]])","v":""},{"$f":"IF(Table1[[#This Row],[SEND (E,K,N)]]=\"\",\"\",Table1[[#This Row],[SEND (E,K,N)]])","v":""},"",{"$f":"IF(LEN(Table7[[#This Row],[Pupil Name]])>0,1,0)","v":0}]
[{"$f":"IF(Table1[[#This Row],[School/Group Name]]=\"\",\"\",Table1[[#This Row],[School/Group Name]])","v":""},{"$f":"IF(Table1[[#This Row],[Pupil Name]]=\"\",\"\",Table1[[#This Row],[Pupil Name]])","v":""},{"$f":"IF(Table1[[#This Row],[Gender (M/F)]]=\"\",\"\",Table1[[#This Row],[Gender (M/F)]])","v":""},{"$f":"IF(Table1[[#This Row],[DisAdv (Y/N)]]=\"\",\"\",Table1[[#This Row],[DisAdv (Y/N)]])","v":""},{"$f":"IF(Table1[[#This Row],[SEND (E,K,N)]]=\"\",\"\",Table1[[#This Row],[SEND (E,K,N)]])","v":""},"",{"$f":"IF(LEN(Table7[[#This Row],[Pupil Name]])>0,1,0)","v":0}]
[{"$f":"IF(Table1[[#This Row],[School/Group Name]]=\"\",\"\",Table1[[#This Row],[School/Group Name]])","v":""},{"$f":"IF(Table1[[#This Row],[Pupil Name]]=\"\",\"\",Table1[[#This Row],[Pupil Name]])","v":""},{"$f":"IF(Table1[[#This Row],[Gender (M/F)]]=\"\",\"\",Table1[[#This Row],[Gender (M/F)]])","v":""},{"$f":"IF(Table1[[#This Row],[DisAdv (Y/N)]]=\"\",\"\",Table1[[#This Row],[DisAdv (Y/N)]])","v":""},{"$f":"IF(Table1[[#This Row],[SEND (E,K,N)]]=\"\",\"\",Table1[[#This Row],[SEND (E,K,N)]])","v":""},"",{"$f":"IF(LEN(Table7[[#This Row],[Pupil Name]])>0,1,0)","v":0}]
[{"$f":"IF(Table1[[#This Row],[School/Group Name]]=\"\",\"\",Table1[[#This Row],[School/Group Name]])","v":""},{"$f":"IF(Table1[[#This Row],[Pupil Name]]=\"\",\"\",Table1[[#This Row],[Pupil Name]])","v":""},{"$f":"IF(Table1[[#This Row],[Gender (M/F)]]=\"\",\"\",Table1[[#This Row],[Gender (M/F)]])","v":""},{"$f":"IF(Table1[[#This Row],[DisAdv (Y/N)]]=\"\",\"\",Table1[[#This Row],[DisAdv (Y/N)]])","v":""},{"$f":"IF(Table1[[#This Row],[SEND (E,K,N)]]=\"\",\"\",Table1[[#This Row],[SEND (E,K,N)]])","v":""},"",{"$f":"IF(LEN(Table7[[#This Row],[Pupil Name]])>0,1,0)","v":0}]
[{"$f":"IF(Table1[[#This Row],[School/Group Name]]=\"\",\"\",Table1[[#This Row],[School/Group Name]])","v":""},{"$f":"IF(Table1[[#This Row],[Pupil Name]]=\"\",\"\",Table1[[#This Row],[Pupil Name]])","v":""},{"$f":"IF(Table1[[#This Row],[Gender (M/F)]]=\"\",\"\",Table1[[#This Row],[Gender (M/F)]])","v":""},{"$f":"IF(Table1[[#This Row],[DisAdv (Y/N)]]=\"\",\"\",Table1[[#This Row],[DisAdv (Y/N)]])","v":""},{"$f":"IF(Table1[[#This Row],[SEND (E,K,N)]]=\"\",\"\",Table1[[#This Row],[SEND (E,K,N)]])","v":""},"",{"$f":"IF(LEN(Table7[[#This Row],[Pupil Name]])>0,1,0)","v":0}]
[{"$f":"IF(Table1[[#This Row],[School/Group Name]]=\"\",\"\",Table1[[#This Row],[School/Group Name]])","v":""},{"$f":"IF(Table1[[#This Row],[Pupil Name]]=\"\",\"\",Table1[[#This Row],[Pupil Name]])","v":""},{"$f":"IF(Table1[[#This Row],[Gender (M/F)]]=\"\",\"\",Table1[[#This Row],[Gender (M/F)]])","v":""},{"$f":"IF(Table1[[#This Row],[DisAdv (Y/N)]]=\"\",\"\",Table1[[#This Row],[DisAdv (Y/N)]])","v":""},{"$f":"IF(Table1[[#This Row],[SEND (E,K,N)]]=\"\",\"\",Table1[[#This Row],[SEND (E,K,N)]])","v":""},"",{"$f":"IF(LEN(Table7[[#This Row],[Pupil Name]])>0,1,0)","v":0}]
[{"$f":"IF(Table1[[#This Row],[School/Group Name]]=\"\",\"\",Table1[[#This Row],[School/Group Name]])","v":""},{"$f":"IF(Table1[[#This Row],[Pupil Name]]=\"\",\"\",Table1[[#This Row],[Pupil Name]])","v":""},{"$f":"IF(Table1[[#This Row],[Gender (M/F)]]=\"\",\"\",Table1[[#This Row],[Gender (M/F)]])","v":""},{"$f":"IF(Table1[[#This Row],[DisAdv (Y/N)]]=\"\",\"\",Table1[[#This Row],[DisAdv (Y/N)]])","v":""},{"$f":"IF(Table1[[#This Row],[SEND (E,K,N)]]=\"\",\"\",Table1[[#This Row],[SEND (E,K,N)]])","v":""},"",{"$f":"IF(LEN(Table7[[#This Row],[Pupil Name]])>0,1,0)","v":0}]
[{"$f":"IF(Table1[[#This Row],[School/Group Name]]=\"\",\"\",Table1[[#This Row],[School/Group Name]])","v":""},{"$f":"IF(Table1[[#This Row],[Pupil Name]]=\"\",\"\",Table1[[#This Row],[Pupil Name]])","v":""},{"$f":"IF(Table1[[#This Row],[Gender (M/F)]]=\"\",\"\",Table1[[#This Row],[Gender (M/F)]])","v":""},{"$f":"IF(Table1[[#This Row],[DisAdv (Y/N)]]=\"\",\"\",Table1[[#This Row],[DisAdv (Y/N)]])","v":""},{"$f":"IF(Table1[[#This Row],[SEND (E,K,N)]]=\"\",\"\",Table1[[#This Row],[SEND (E,K,N)]])","v":""},"",{"$f":"IF(LEN(Table7[[#This Row],[Pupil Name]])>0,1,0)","v":0}]
[{"$f":"IF(Table1[[#This Row],[School/Group Name]]=\"\",\"\",Table1[[#This Row],[School/Group Name]])","v":""},{"$f":"IF(Table1[[#This Row],[Pupil Name]]=\"\",\"\",Table1[[#This Row],[Pupil Name]])","v":""},{"$f":"IF(Table1[[#This Row],[Gender (M/F)]]=\"\",\"\",Table1[[#This Row],[Gender (M/F)]])","v":""},{"$f":"IF(Table1[[#This Row],[DisAdv (Y/N)]]=\"\",\"\",Table1[[#This Row],[DisAdv (Y/N)]])","v":""},{"$f":"IF(Table1[[#This Row],[SEND (E,K,N)]]=\"\",\"\",Table1[[#This Row],[SEND (E,K,N)]])","v":""},"",{"$f":"IF(LEN(Table7[[#This Row],[Pupil Name]])>0,1,0)","v":0}]
[{"$f":"IF(Table1[[#This Row],[School/Group Name]]=\"\",\"\",Table1[[#This Row],[School/Group Name]])","v":""},{"$f":"IF(Table1[[#This Row],[Pupil Name]]=\"\",\"\",Table1[[#This Row],[Pupil Name]])","v":""},{"$f":"IF(Table1[[#This Row],[Gender (M/F)]]=\"\",\"\",Table1[[#This Row],[Gender (M/F)]])","v":""},{"$f":"IF(Table1[[#This Row],[DisAdv (Y/N)]]=\"\",\"\",Table1[[#This Row],[DisAdv (Y/N)]])","v":""},{"$f":"IF(Table1[[#This Row],[SEND (E,K,N)]]=\"\",\"\",Table1[[#This Row],[SEND (E,K,N)]])","v":""},"",{"$f":"IF(LEN(Table7[[#This Row],[Pupil Name]])>0,1,0)","v":0}]
[{"$f":"IF(Table1[[#This Row],[School/Group Name]]=\"\",\"\",Table1[[#This Row],[School/Group Name]])","v":""},{"$f":"IF(Table1[[#This Row],[Pupil Name]]=\"\",\"\",Table1[[#This Row],[Pupil Name]])","v":""},{"$f":"IF(Table1[[#This Row],[Gender (M/F)]]=\"\",\"\",Table1[[#This Row],[Gender (M/F)]])","v":""},{"$f":"IF(Table1[[#This Row],[DisAdv (Y/N)]]=\"\",\"\",Table1[[#This Row],[DisAdv (Y/N)]])","v":""},{"$f":"IF(Table1[[#This Row],[SEND (E,K,N)]]=\"\",\"\",Table1[[#This Row],[SEND (E,K,N)]])","v":""},"",{"$f":"IF(LEN(Table7[[#This Row],[Pupil Name]])>0,1,0)","v":0}]
[{"$f":"IF(Table1[[#This Row],[School/Group Name]]=\"\",\"\",Table1[[#This Row],[School/Group Name]])","v":""},{"$f":"IF(Table1[[#This Row],[Pupil Name]]=\"\",\"\",Table1[[#This Row],[Pupil Name]])","v":""},{"$f":"IF(Table1[[#This Row],[Gender (M/F)]]=\"\",\"\",Table1[[#This Row],[Gender (M/F)]])","v":""},{"$f":"IF(Table1[[#This Row],[DisAdv (Y/N)]]=\"\",\"\",Table1[[#This Row],[DisAdv (Y/N)]])","v":""},{"$f":"IF(Table1[[#This Row],[SEND (E,K,N)]]=\"\",\"\",Table1[[#This Row],[SEND (E,K,N)]])","v":""},"",{"$f":"IF(LEN(Table7[[#This Row],[Pupil Name]])>0,1,0)","v":0}]
[{"$f":"IF(Table1[[#This Row],[School/Group Name]]=\"\",\"\",Table1[[#This Row],[School/Group Name]])","v":""},{"$f":"IF(Table1[[#This Row],[Pupil Name]]=\"\",\"\",Table1[[#This Row],[Pupil Name]])","v":""},{"$f":"IF(Table1[[#This Row],[Gender (M/F)]]=\"\",\"\",Table1[[#This Row],[Gender (M/F)]])","v":""},{"$f":"IF(Table1[[#This Row],[DisAdv (Y/N)]]=\"\",\"\",Table1[[#This Row],[DisAdv (Y/N)]])","v":""},{"$f":"IF(Table1[[#This Row],[SEND (E,K,N)]]=\"\",\"\",Table1[[#This Row],[SEND (E,K,N)]])","v":""},"",{"$f":"IF(LEN(Table7[[#This Row],[Pupil Name]])>0,1,0)","v":0}]
[{"$f":"IF(Table1[[#This Row],[School/Group Name]]=\"\",\"\",Table1[[#This Row],[School/Group Name]])","v":""},{"$f":"IF(Table1[[#This Row],[Pupil Name]]=\"\",\"\",Table1[[#This Row],[Pupil Name]])","v":""},{"$f":"IF(Table1[[#This Row],[Gender (M/F)]]=\"\",\"\",Table1[[#This Row],[Gender (M/F)]])","v":""},{"$f":"IF(Table1[[#This Row],[DisAdv (Y/N)]]=\"\",\"\",Table1[[#This Row],[DisAdv (Y/N)]])","v":""},{"$f":"IF(Table1[[#This Row],[SEND (E,K,N)]]=\"\",\"\",Table1[[#This Row],[SEND (E,K,N)]])","v":""},"",{"$f":"IF(LEN(Table7[[#This Row],[Pupil Name]])>0,1,0)","v":0}]
[{"$f":"IF(Table1[[#This Row],[School/Group Name]]=\"\",\"\",Table1[[#This Row],[School/Group Name]])","v":""},{"$f":"IF(Table1[[#This Row],[Pupil Name]]=\"\",\"\",Table1[[#This Row],[Pupil Name]])","v":""},{"$f":"IF(Table1[[#This Row],[Gender (M/F)]]=\"\",\"\",Table1[[#This Row],[Gender (M/F)]])","v":""},{"$f":"IF(Table1[[#This Row],[DisAdv (Y/N)]]=\"\",\"\",Table1[[#This Row],[DisAdv (Y/N)]])","v":""},{"$f":"IF(Table1[[#This Row],[SEND (E,K,N)]]=\"\",\"\",Table1[[#This Row],[SEND (E,K,N)]])","v":""},"",{"$f":"IF(LEN(Table7[[#This Row],[Pupil Name]])>0,1,0)","v":0}]
[{"$f":"IF(Table1[[#This Row],[School/Group Name]]=\"\",\"\",Table1[[#This Row],[School/Group Name]])","v":""},{"$f":"IF(Table1[[#This Row],[Pupil Name]]=\"\",\"\",Table1[[#This Row],[Pupil Name]])","v":""},{"$f":"IF(Table1[[#This Row],[Gender (M/F)]]=\"\",\"\",Table1[[#This Row],[Gender (M/F)]])","v":""},{"$f":"IF(Table1[[#This Row],[DisAdv (Y/N)]]=\"\",\"\",Table1[[#This Row],[DisAdv (Y/N)]])","v":""},{"$f":"IF(Table1[[#This Row],[SEND (E,K,N)]]=\"\",\"\",Table1[[#This Row],[SEND (E,K,N)]])","v":""},{"$f":"IF(H71=\"\",\"\",(SUM(H71:AA71)))","v":""},{"$f":"IF(LEN(Table7[[#This Row],[Pupil Name]])>0,1,0)","v":0}]
[{"$f":"IF(Table1[[#This Row],[School/Group Name]]=\"\",\"\",Table1[[#This Row],[School/Group Name]])","v":""},{"$f":"IF(Table1[[#This Row],[Pupil Name]]=\"\",\"\",Table1[[#This Row],[Pupil Name]])","v":""},{"$f":"IF(Table1[[#This Row],[Gender (M/F)]]=\"\",\"\",Table1[[#This Row],[Gender (M/F)]])","v":""},{"$f":"IF(Table1[[#This Row],[DisAdv (Y/N)]]=\"\",\"\",Table1[[#This Row],[DisAdv (Y/N)]])","v":""},{"$f":"IF(Table1[[#This Row],[SEND (E,K,N)]]=\"\",\"\",Table1[[#This Row],[SEND (E,K,N)]])","v":""},"",{"$f":"IF(LEN(Table7[[#This Row],[Pupil Name]])>0,1,0)","v":0}]
[{"$f":"IF(Table1[[#This Row],[School/Group Name]]=\"\",\"\",Table1[[#This Row],[School/Group Name]])","v":""},{"$f":"IF(Table1[[#This Row],[Pupil Name]]=\"\",\"\",Table1[[#This Row],[Pupil Name]])","v":""},{"$f":"IF(Table1[[#This Row],[Gender (M/F)]]=\"\",\"\",Table1[[#This Row],[Gender (M/F)]])","v":""},{"$f":"IF(Table1[[#This Row],[DisAdv (Y/N)]]=\"\",\"\",Table1[[#This Row],[DisAdv (Y/N)]])","v":""},{"$f":"IF(Table1[[#This Row],[SEND (E,K,N)]]=\"\",\"\",Table1[[#This Row],[SEND (E,K,N)]])","v":""},"",{"$f":"IF(LEN(Table7[[#This Row],[Pupil Name]])>0,1,0)","v":0}]
[{"$f":"IF(Table1[[#This Row],[School/Group Name]]=\"\",\"\",Table1[[#This Row],[School/Group Name]])","v":""},{"$f":"IF(Table1[[#This Row],[Pupil Name]]=\"\",\"\",Table1[[#This Row],[Pupil Name]])","v":""},{"$f":"IF(Table1[[#This Row],[Gender (M/F)]]=\"\",\"\",Table1[[#This Row],[Gender (M/F)]])","v":""},{"$f":"IF(Table1[[#This Row],[DisAdv (Y/N)]]=\"\",\"\",Table1[[#This Row],[DisAdv (Y/N)]])","v":""},{"$f":"IF(Table1[[#This Row],[SEND (E,K,N)]]=\"\",\"\",Table1[[#This Row],[SEND (E,K,N)]])","v":""},"",{"$f":"IF(LEN(Table7[[#This Row],[Pupil Name]])>0,1,0)","v":0}]
[{"$f":"IF(Table1[[#This Row],[School/Group Name]]=\"\",\"\",Table1[[#This Row],[School/Group Name]])","v":""},{"$f":"IF(Table1[[#This Row],[Pupil Name]]=\"\",\"\",Table1[[#This Row],[Pupil Name]])","v":""},{"$f":"IF(Table1[[#This Row],[Gender (M/F)]]=\"\",\"\",Table1[[#This Row],[Gender (M/F)]])","v":""},{"$f":"IF(Table1[[#This Row],[DisAdv (Y/N)]]=\"\",\"\",Table1[[#This Row],[DisAdv (Y/N)]])","v":""},{"$f":"IF(Table1[[#This Row],[SEND (E,K,N)]]=\"\",\"\",Table1[[#This Row],[SEND (E,K,N)]])","v":""},"",{"$f":"IF(LEN(Table7[[#This Row],[Pupil Name]])>0,1,0)","v":0}]
[{"$f":"IF(Table1[[#This Row],[School/Group Name]]=\"\",\"\",Table1[[#This Row],[School/Group Name]])","v":""},{"$f":"IF(Table1[[#This Row],[Pupil Name]]=\"\",\"\",Table1[[#This Row],[Pupil Name]])","v":""},{"$f":"IF(Table1[[#This Row],[Gender (M/F)]]=\"\",\"\",Table1[[#This Row],[Gender (M/F)]])","v":""},{"$f":"IF(Table1[[#This Row],[DisAdv (Y/N)]]=\"\",\"\",Table1[[#This Row],[DisAdv (Y/N)]])","v":""},{"$f":"IF(Table1[[#This Row],[SEND (E,K,N)]]=\"\",\"\",Table1[[#This Row],[SEND (E,K,N)]])","v":""},"",{"$f":"IF(LEN(Table7[[#This Row],[Pupil Name]])>0,1,0)","v":0}]
[{"$f":"IF(Table1[[#This Row],[School/Group Name]]=\"\",\"\",Table1[[#This Row],[School/Group Name]])","v":""},{"$f":"IF(Table1[[#This Row],[Pupil Name]]=\"\",\"\",Table1[[#This Row],[Pupil Name]])","v":""},{"$f":"IF(Table1[[#This Row],[Gender (M/F)]]=\"\",\"\",Table1[[#This Row],[Gender (M/F)]])","v":""},{"$f":"IF(Table1[[#This Row],[DisAdv (Y/N)]]=\"\",\"\",Table1[[#This Row],[DisAdv (Y/N)]])","v":""},{"$f":"IF(Table1[[#This Row],[SEND (E,K,N)]]=\"\",\"\",Table1[[#This Row],[SEND (E,K,N)]])","v":""},"",{"$f":"IF(LEN(Table7[[#This Row],[Pupil Name]])>0,1,0)","v":0}]
[{"$f":"IF(Table1[[#This Row],[School/Group Name]]=\"\",\"\",Table1[[#This Row],[School/Group Name]])","v":""},{"$f":"IF(Table1[[#This Row],[Pupil Name]]=\"\",\"\",Table1[[#This Row],[Pupil Name]])","v":""},{"$f":"IF(Table1[[#This Row],[Gender (M/F)]]=\"\",\"\",Table1[[#This Row],[Gender (M/F)]])","v":""},{"$f":"IF(Table1[[#This Row],[DisAdv (Y/N)]]=\"\",\"\",Table1[[#This Row],[DisAdv (Y/N)]])","v":""},{"$f":"IF(Table1[[#This Row],[SEND (E,K,N)]]=\"\",\"\",Table1[[#This Row],[SEND (E,K,N)]])","v":""},"",{"$f":"IF(LEN(Table7[[#This Row],[Pupil Name]])>0,1,0)","v":0}]
[{"$f":"IF(Table1[[#This Row],[School/Group Name]]=\"\",\"\",Table1[[#This Row],[School/Group Name]])","v":""},{"$f":"IF(Table1[[#This Row],[Pupil Name]]=\"\",\"\",Table1[[#This Row],[Pupil Name]])","v":""},{"$f":"IF(Table1[[#This Row],[Gender (M/F)]]=\"\",\"\",Table1[[#This Row],[Gender (M/F)]])","v":""},{"$f":"IF(Table1[[#This Row],[DisAdv (Y/N)]]=\"\",\"\",Table1[[#This Row],[DisAdv (Y/N)]])","v":""},{"$f":"IF(Table1[[#This Row],[SEND (E,K,N)]]=\"\",\"\",Table1[[#This Row],[SEND (E,K,N)]])","v":""},"",{"$f":"IF(LEN(Table7[[#This Row],[Pupil Name]])>0,1,0)","v":0}]
[{"$f":"IF(Table1[[#This Row],[School/Group Name]]=\"\",\"\",Table1[[#This Row],[School/Group Name]])","v":""},{"$f":"IF(Table1[[#This Row],[Pupil Name]]=\"\",\"\",Table1[[#This Row],[Pupil Name]])","v":""},{"$f":"IF(Table1[[#This Row],[Gender (M/F)]]=\"\",\"\",Table1[[#This Row],[Gender (M/F)]])","v":""},{"$f":"IF(Table1[[#This Row],[DisAdv (Y/N)]]=\"\",\"\",Table1[[#This Row],[DisAdv (Y/N)]])","v":""},{"$f":"IF(Table1[[#This Row],[SEND (E,K,N)]]=\"\",\"\",Table1[[#This Row],[SEND (E,K,N)]])","v":""},"",{"$f":"IF(LEN(Table7[[#This Row],[Pupil Name]])>0,1,0)","v":0}]
[{"$f":"IF(Table1[[#This Row],[School/Group Name]]=\"\",\"\",Table1[[#This Row],[School/Group Name]])","v":""},{"$f":"IF(Table1[[#This Row],[Pupil Name]]=\"\",\"\",Table1[[#This Row],[Pupil Name]])","v":""},{"$f":"IF(Table1[[#This Row],[Gender (M/F)]]=\"\",\"\",Table1[[#This Row],[Gender (M/F)]])","v":""},{"$f":"IF(Table1[[#This Row],[DisAdv (Y/N)]]=\"\",\"\",Table1[[#This Row],[DisAdv (Y/N)]])","v":""},{"$f":"IF(Table1[[#This Row],[SEND (E,K,N)]]=\"\",\"\",Table1[[#This Row],[SEND (E,K,N)]])","v":""},"",{"$f":"IF(LEN(Table7[[#This Row],[Pupil Name]])>0,1,0)","v":0}]
[{"$f":"IF(Table1[[#This Row],[School/Group Name]]=\"\",\"\",Table1[[#This Row],[School/Group Name]])","v":""},{"$f":"IF(Table1[[#This Row],[Pupil Name]]=\"\",\"\",Table1[[#This Row],[Pupil Name]])","v":""},{"$f":"IF(Table1[[#This Row],[Gender (M/F)]]=\"\",\"\",Table1[[#This Row],[Gender (M/F)]])","v":""},{"$f":"IF(Table1[[#This Row],[DisAdv (Y/N)]]=\"\",\"\",Table1[[#This Row],[DisAdv (Y/N)]])","v":""},{"$f":"IF(Table1[[#This Row],[SEND (E,K,N)]]=\"\",\"\",Table1[[#This Row],[SEND (E,K,N)]])","v":""},"",{"$f":"IF(LEN(Table7[[#This Row],[Pupil Name]])>0,1,0)","v":0}]
[{"$f":"IF(Table1[[#This Row],[School/Group Name]]=\"\",\"\",Table1[[#This Row],[School/Group Name]])","v":""},{"$f":"IF(Table1[[#This Row],[Pupil Name]]=\"\",\"\",Table1[[#This Row],[Pupil Name]])","v":""},{"$f":"IF(Table1[[#This Row],[Gender (M/F)]]=\"\",\"\",Table1[[#This Row],[Gender (M/F)]])","v":""},{"$f":"IF(Table1[[#This Row],[DisAdv (Y/N)]]=\"\",\"\",Table1[[#This Row],[DisAdv (Y/N)]])","v":""},{"$f":"IF(Table1[[#This Row],[SEND (E,K,N)]]=\"\",\"\",Table1[[#This Row],[SEND (E,K,N)]])","v":""},"",{"$f":"IF(LEN(Table7[[#This Row],[Pupil Name]])>0,1,0)","v":0}]
[{"$f":"IF(Table1[[#This Row],[School/Group Name]]=\"\",\"\",Table1[[#This Row],[School/Group Name]])","v":""},{"$f":"IF(Table1[[#This Row],[Pupil Name]]=\"\",\"\",Table1[[#This Row],[Pupil Name]])","v":""},{"$f":"IF(Table1[[#This Row],[Gender (M/F)]]=\"\",\"\",Table1[[#This Row],[Gender (M/F)]])","v":""},{"$f":"IF(Table1[[#This Row],[DisAdv (Y/N)]]=\"\",\"\",Table1[[#This Row],[DisAdv (Y/N)]])","v":""},{"$f":"IF(Table1[[#This Row],[SEND (E,K,N)]]=\"\",\"\",Table1[[#This Row],[SEND (E,K,N)]])","v":""},"",{"$f":"IF(LEN(Table7[[#This Row],[Pupil Name]])>0,1,0)","v":0}]
[{"$f":"IF(Table1[[#This Row],[School/Group Name]]=\"\",\"\",Table1[[#This Row],[School/Group Name]])","v":""},{"$f":"IF(Table1[[#This Row],[Pupil Name]]=\"\",\"\",Table1[[#This Row],[Pupil Name]])","v":""},{"$f":"IF(Table1[[#This Row],[Gender (M/F)]]=\"\",\"\",Table1[[#This Row],[Gender (M/F)]])","v":""},{"$f":"IF(Table1[[#This Row],[DisAdv (Y/N)]]=\"\",\"\",Table1[[#This Row],[DisAdv (Y/N)]])","v":""},{"$f":"IF(Table1[[#This Row],[SEND (E,K,N)]]=\"\",\"\",Table1[[#This Row],[SEND (E,K,N)]])","v":""},"",{"$f":"IF(LEN(Table7[[#This Row],[Pupil Name]])>0,1,0)","v":0}]
[{"$f":"IF(Table1[[#This Row],[School/Group Name]]=\"\",\"\",Table1[[#This Row],[School/Group Name]])","v":""},{"$f":"IF(Table1[[#This Row],[Pupil Name]]=\"\",\"\",Table1[[#This Row],[Pupil Name]])","v":""},{"$f":"IF(Table1[[#This Row],[Gender (M/F)]]=\"\",\"\",Table1[[#This Row],[Gender (M/F)]])","v":""},{"$f":"IF(Table1[[#This Row],[DisAdv (Y/N)]]=\"\",\"\",Table1[[#This Row],[DisAdv (Y/N)]])","v":""},{"$f":"IF(Table1[[#This Row],[SEND (E,K,N)]]=\"\",\"\",Table1[[#This Row],[SEND (E,K,N)]])","v":""},"",{"$f":"IF(LEN(Table7[[#This Row],[Pupil Name]])>0,1,0)","v":0}]
[{"$f":"IF(Table1[[#This Row],[School/Group Name]]=\"\",\"\",Table1[[#This Row],[School/Group Name]])","v":""},{"$f":"IF(Table1[[#This Row],[Pupil Name]]=\"\",\"\",Table1[[#This Row],[Pupil Name]])","v":""},{"$f":"IF(Table1[[#This Row],[Gender (M/F)]]=\"\",\"\",Table1[[#This Row],[Gender (M/F)]])","v":""},{"$f":"IF(Table1[[#This Row],[DisAdv (Y/N)]]=\"\",\"\",Table1[[#This Row],[DisAdv (Y/N)]])","v":""},{"$f":"IF(Table1[[#This Row],[SEND (E,K,N)]]=\"\",\"\",Table1[[#This Row],[SEND (E,K,N)]])","v":""},"",{"$f":"IF(LEN(Table7[[#This Row],[Pupil Name]])>0,1,0)","v":0}]
[{"$f":"IF(Table1[[#This Row],[School/Group Name]]=\"\",\"\",Table1[[#This Row],[School/Group Name]])","v":""},{"$f":"IF(Table1[[#This Row],[Pupil Name]]=\"\",\"\",Table1[[#This Row],[Pupil Name]])","v":""},{"$f":"IF(Table1[[#This Row],[Gender (M/F)]]=\"\",\"\",Table1[[#This Row],[Gender (M/F)]])","v":""},{"$f":"IF(Table1[[#This Row],[DisAdv (Y/N)]]=\"\",\"\",Table1[[#This Row],[DisAdv (Y/N)]])","v":""},{"$f":"IF(Table1[[#This Row],[SEND (E,K,N)]]=\"\",\"\",Table1[[#This Row],[SEND (E,K,N)]])","v":""},"",{"$f":"IF(LEN(Table7[[#This Row],[Pupil Name]])>0,1,0)","v":0}]
[{"$f":"IF(Table1[[#This Row],[School/Group Name]]=\"\",\"\",Table1[[#This Row],[School/Group Name]])","v":""},{"$f":"IF(Table1[[#This Row],[Pupil Name]]=\"\",\"\",Table1[[#This Row],[Pupil Name]])","v":""},{"$f":"IF(Table1[[#This Row],[Gender (M/F)]]=\"\",\"\",Table1[[#This Row],[Gender (M/F)]])","v":""},{"$f":"IF(Table1[[#This Row],[DisAdv (Y/N)]]=\"\",\"\",Table1[[#This Row],[DisAdv (Y/N)]])","v":""},{"$f":"IF(Table1[[#This Row],[SEND (E,K,N)]]=\"\",\"\",Table1[[#This Row],[SEND (E,K,N)]])","v":""},"",{"$f":"IF(LEN(Table7[[#This Row],[Pupil Name]])>0,1,0)","v":0}]
[{"$f":"IF(Table1[[#This Row],[School/Group Name]]=\"\",\"\",Table1[[#This Row],[School/Group Name]])","v":""},{"$f":"IF(Table1[[#This Row],[Pupil Name]]=\"\",\"\",Table1[[#This Row],[Pupil Name]])","v":""},{"$f":"IF(Table1[[#This Row],[Gender (M/F)]]=\"\",\"\",Table1[[#This Row],[Gender (M/F)]])","v":""},{"$f":"IF(Table1[[#This Row],[DisAdv (Y/N)]]=\"\",\"\",Table1[[#This Row],[DisAdv (Y/N)]])","v":""},{"$f":"IF(Table1[[#This Row],[SEND (E,K,N)]]=\"\",\"\",Table1[[#This Row],[SEND (E,K,N)]])","v":""},"",{"$f":"IF(LEN(Table7[[#This Row],[Pupil Name]])>0,1,0)","v":0}]
[{"$f":"IF(Table1[[#This Row],[School/Group Name]]=\"\",\"\",Table1[[#This Row],[School/Group Name]])","v":""},{"$f":"IF(Table1[[#This Row],[Pupil Name]]=\"\",\"\",Table1[[#This Row],[Pupil Name]])","v":""},{"$f":"IF(Table1[[#This Row],[Gender (M/F)]]=\"\",\"\",Table1[[#This Row],[Gender (M/F)]])","v":""},{"$f":"IF(Table1[[#This Row],[DisAdv (Y/N)]]=\"\",\"\",Table1[[#This Row],[DisAdv (Y/N)]])","v":""},{"$f":"IF(Table1[[#This Row],[SEND (E,K,N)]]=\"\",\"\",Table1[[#This Row],[SEND (E,K,N)]])","v":""},"",{"$f":"IF(LEN(Table7[[#This Row],[Pupil Name]])>0,1,0)","v":0}]
[{"$f":"IF(Table1[[#This Row],[School/Group Name]]=\"\",\"\",Table1[[#This Row],[School/Group Name]])","v":""},{"$f":"IF(Table1[[#This Row],[Pupil Name]]=\"\",\"\",Table1[[#This Row],[Pupil Name]])","v":""},{"$f":"IF(Table1[[#This Row],[Gender (M/F)]]=\"\",\"\",Table1[[#This Row],[Gender (M/F)]])","v":""},{"$f":"IF(Table1[[#This Row],[DisAdv (Y/N)]]=\"\",\"\",Table1[[#This Row],[DisAdv (Y/N)]])","v":""},{"$f":"IF(Table1[[#This Row],[SEND (E,K,N)]]=\"\",\"\",Table1[[#This Row],[SEND (E,K,N)]])","v":""},"",{"$f":"IF(LEN(Table7[[#This Row],[Pupil Name]])>0,1,0)","v":0}]
[{"$f":"IF(Table1[[#This Row],[School/Group Name]]=\"\",\"\",Table1[[#This Row],[School/Group Name]])","v":""},{"$f":"IF(Table1[[#This Row],[Pupil Name]]=\"\",\"\",Table1[[#This Row],[Pupil Name]])","v":""},{"$f":"IF(Table1[[#This Row],[Gender (M/F)]]=\"\",\"\",Table1[[#This Row],[Gender (M/F)]])","v":""},{"$f":"IF(Table1[[#This Row],[DisAdv (Y/N)]]=\"\",\"\",Table1[[#This Row],[DisAdv (Y/N)]])","v":""},{"$f":"IF(Table1[[#This Row],[SEND (E,K,N)]]=\"\",\"\",Table1[[#This Row],[SEND (E,K,N)]])","v":""},"",{"$f":"IF(LEN(Table7[[#This Row],[Pupil Name]])>0,1,0)","v":0}]
[{"$f":"IF(Table1[[#This Row],[School/Group Name]]=\"\",\"\",Table1[[#This Row],[School/Group Name]])","v":""},{"$f":"IF(Table1[[#This Row],[Pupil Name]]=\"\",\"\",Table1[[#This Row],[Pupil Name]])","v":""},{"$f":"IF(Table1[[#This Row],[Gender (M/F)]]=\"\",\"\",Table1[[#This Row],[Gender (M/F)]])","v":""},{"$f":"IF(Table1[[#This Row],[DisAdv (Y/N)]]=\"\",\"\",Table1[[#This Row],[DisAdv (Y/N)]])","v":""},{"$f":"IF(Table1[[#This Row],[SEND (E,K,N)]]=\"\",\"\",Table1[[#This Row],[SEND (E,K,N)]])","v":""},"",{"$f":"IF(LEN(Table7[[#This Row],[Pupil Name]])>0,1,0)","v":0}]
[{"$f":"IF(Table1[[#This Row],[School/Group Name]]=\"\",\"\",Table1[[#This Row],[School/Group Name]])","v":""},{"$f":"IF(Table1[[#This Row],[Pupil Name]]=\"\",\"\",Table1[[#This Row],[Pupil Name]])","v":""},{"$f":"IF(Table1[[#This Row],[Gender (M/F)]]=\"\",\"\",Table1[[#This Row],[Gender (M/F)]])","v":""},{"$f":"IF(Table1[[#This Row],[DisAdv (Y/N)]]=\"\",\"\",Table1[[#This Row],[DisAdv (Y/N)]])","v":""},{"$f":"IF(Table1[[#This Row],[SEND (E,K,N)]]=\"\",\"\",Table1[[#This Row],[SEND (E,K,N)]])","v":""},"",{"$f":"IF(LEN(Table7[[#This Row],[Pupil Name]])>0,1,0)","v":0}]
[{"$f":"IF(Table1[[#This Row],[School/Group Name]]=\"\",\"\",Table1[[#This Row],[School/Group Name]])","v":""},{"$f":"IF(Table1[[#This Row],[Pupil Name]]=\"\",\"\",Table1[[#This Row],[Pupil Name]])","v":""},{"$f":"IF(Table1[[#This Row],[Gender (M/F)]]=\"\",\"\",Table1[[#This Row],[Gender (M/F)]])","v":""},{"$f":"IF(Table1[[#This Row],[DisAdv (Y/N)]]=\"\",\"\",Table1[[#This Row],[DisAdv (Y/N)]])","v":""},{"$f":"IF(Table1[[#This Row],[SEND (E,K,N)]]=\"\",\"\",Table1[[#This Row],[SEND (E,K,N)]])","v":""},"",{"$f":"IF(LEN(Table7[[#This Row],[Pupil Name]])>0,1,0)","v":0}]
[{"$f":"IF(Table1[[#This Row],[School/Group Name]]=\"\",\"\",Table1[[#This Row],[School/Group Name]])","v":""},{"$f":"IF(Table1[[#This Row],[Pupil Name]]=\"\",\"\",Table1[[#This Row],[Pupil Name]])","v":""},{"$f":"IF(Table1[[#This Row],[Gender (M/F)]]=\"\",\"\",Table1[[#This Row],[Gender (M/F)]])","v":""},{"$f":"IF(Table1[[#This Row],[DisAdv (Y/N)]]=\"\",\"\",Table1[[#This Row],[DisAdv (Y/N)]])","v":""},{"$f":"IF(Table1[[#This Row],[SEND (E,K,N)]]=\"\",\"\",Table1[[#This Row],[SEND (E,K,N)]])","v":""},"",{"$f":"IF(LEN(Table7[[#This Row],[Pupil Name]])>0,1,0)","v":0}]
[{"$f":"IF(Table1[[#This Row],[School/Group Name]]=\"\",\"\",Table1[[#This Row],[School/Group Name]])","v":""},{"$f":"IF(Table1[[#This Row],[Pupil Name]]=\"\",\"\",Table1[[#This Row],[Pupil Name]])","v":""},{"$f":"IF(Table1[[#This Row],[Gender (M/F)]]=\"\",\"\",Table1[[#This Row],[Gender (M/F)]])","v":""},{"$f":"IF(Table1[[#This Row],[DisAdv (Y/N)]]=\"\",\"\",Table1[[#This Row],[DisAdv (Y/N)]])","v":""},{"$f":"IF(Table1[[#This Row],[SEND (E,K,N)]]=\"\",\"\",Table1[[#This Row],[SEND (E,K,N)]])","v":""},"",{"$f":"IF(LEN(Table7[[#This Row],[Pupil Name]])>0,1,0)","v":0}]
[{"$f":"IF(Table1[[#This Row],[School/Group Name]]=\"\",\"\",Table1[[#This Row],[School/Group Name]])","v":""},{"$f":"IF(Table1[[#This Row],[Pupil Name]]=\"\",\"\",Table1[[#This Row],[Pupil Name]])","v":""},{"$f":"IF(Table1[[#This Row],[Gender (M/F)]]=\"\",\"\",Table1[[#This Row],[Gender (M/F)]])","v":""},{"$f":"IF(Table1[[#This Row],[DisAdv (Y/N)]]=\"\",\"\",Table1[[#This Row],[DisAdv (Y/N)]])","v":""},{"$f":"IF(Table1[[#This Row],[SEND (E,K,N)]]=\"\",\"\",Table1[[#This Row],[SEND (E,K,N)]])","v":""},"",{"$f":"IF(LEN(Table7[[#This Row],[Pupil Name]])>0,1,0)","v":0}]
[{"$f":"IF(Table1[[#This Row],[School/Group Name]]=\"\",\"\",Table1[[#This Row],[School/Group Name]])","v":""},{"$f":"IF(Table1[[#This Row],[Pupil Name]]=\"\",\"\",Table1[[#This Row],[Pupil Name]])","v":""},{"$f":"IF(Table1[[#This Row],[Gender (M/F)]]=\"\",\"\",Table1[[#This Row],[Gender (M/F)]])","v":""},{"$f":"IF(Table1[[#This Row],[DisAdv (Y/N)]]=\"\",\"\",Table1[[#This Row],[DisAdv (Y/N)]])","v":""},{"$f":"IF(Table1[[#This Row],[SEND (E,K,N)]]=\"\",\"\",Table1[[#This Row],[SEND (E,K,N)]])","v":""},"",{"$f":"IF(LEN(Table7[[#This Row],[Pupil Name]])>0,1,0)","v":0}]
[{"$f":"IF(Table1[[#This Row],[School/Group Name]]=\"\",\"\",Table1[[#This Row],[School/Group Name]])","v":""},{"$f":"IF(Table1[[#This Row],[Pupil Name]]=\"\",\"\",Table1[[#This Row],[Pupil Name]])","v":""},{"$f":"IF(Table1[[#This Row],[Gender (M/F)]]=\"\",\"\",Table1[[#This Row],[Gender (M/F)]])","v":""},{"$f":"IF(Table1[[#This Row],[DisAdv (Y/N)]]=\"\",\"\",Table1[[#This Row],[DisAdv (Y/N)]])","v":""},{"$f":"IF(Table1[[#This Row],[SEND (E,K,N)]]=\"\",\"\",Table1[[#This Row],[SEND (E,K,N)]])","v":""},"",{"$f":"IF(LEN(Table7[[#This Row],[Pupil Name]])>0,1,0)","v":0}]
[{"$f":"IF(Table1[[#This Row],[School/Group Name]]=\"\",\"\",Table1[[#This Row],[School/Group Name]])","v":""},{"$f":"IF(Table1[[#This Row],[Pupil Name]]=\"\",\"\",Table1[[#This Row],[Pupil Name]])","v":""},{"$f":"IF(Table1[[#This Row],[Gender (M/F)]]=\"\",\"\",Table1[[#This Row],[Gender (M/F)]])","v":""},{"$f":"IF(Table1[[#This Row],[DisAdv (Y/N)]]=\"\",\"\",Table1[[#This Row],[DisAdv (Y/N)]])","v":""},{"$f":"IF(Table1[[#This Row],[SEND (E,K,N)]]=\"\",\"\",Table1[[#This Row],[SEND (E,K,N)]])","v":""},"",{"$f":"IF(LEN(Table7[[#This Row],[Pupil Name]])>0,1,0)","v":0}]
[{"$f":"IF(Table1[[#This Row],[School/Group Name]]=\"\",\"\",Table1[[#This Row],[School/Group Name]])","v":""},{"$f":"IF(Table1[[#This Row],[Pupil Name]]=\"\",\"\",Table1[[#This Row],[Pupil Name]])","v":""},{"$f":"IF(Table1[[#This Row],[Gender (M/F)]]=\"\",\"\",Table1[[#This Row],[Gender (M/F)]])","v":""},{"$f":"IF(Table1[[#This Row],[DisAdv (Y/N)]]=\"\",\"\",Table1[[#This Row],[DisAdv (Y/N)]])","v":""},{"$f":"IF(Table1[[#This Row],[SEND (E,K,N)]]=\"\",\"\",Table1[[#This Row],[SEND (E,K,N)]])","v":""},"",{"$f":"IF(LEN(Table7[[#This Row],[Pupil Name]])>0,1,0)","v":0}]
[{"$f":"IF(Table1[[#This Row],[School/Group Name]]=\"\",\"\",Table1[[#This Row],[School/Group Name]])","v":""},{"$f":"IF(Table1[[#This Row],[Pupil Name]]=\"\",\"\",Table1[[#This Row],[Pupil Name]])","v":""},{"$f":"IF(Table1[[#This Row],[Gender (M/F)]]=\"\",\"\",Table1[[#This Row],[Gender (M/F)]])","v":""},{"$f":"IF(Table1[[#This Row],[DisAdv (Y/N)]]=\"\",\"\",Table1[[#This Row],[DisAdv (Y/N)]])","v":""},{"$f":"IF(Table1[[#This Row],[SEND (E,K,N)]]=\"\",\"\",Table1[[#This Row],[SEND (E,K,N)]])","v":""},"",{"$f":"IF(LEN(Table7[[#This Row],[Pupil Name]])>0,1,0)","v":0}]
[{"$f":"IF(Table1[[#This Row],[School/Group Name]]=\"\",\"\",Table1[[#This Row],[School/Group Name]])","v":""},{"$f":"IF(Table1[[#This Row],[Pupil Name]]=\"\",\"\",Table1[[#This Row],[Pupil Name]])","v":""},{"$f":"IF(Table1[[#This Row],[Gender (M/F)]]=\"\",\"\",Table1[[#This Row],[Gender (M/F)]])","v":""},{"$f":"IF(Table1[[#This Row],[DisAdv (Y/N)]]=\"\",\"\",Table1[[#This Row],[DisAdv (Y/N)]])","v":""},{"$f":"IF(Table1[[#This Row],[SEND (E,K,N)]]=\"\",\"\",Table1[[#This Row],[SEND (E,K,N)]])","v":""},"",{"$f":"IF(LEN(Table7[[#This Row],[Pupil Name]])>0,1,0)","v":0}]
[{"$f":"IF(Table1[[#This Row],[School/Group Name]]=\"\",\"\",Table1[[#This Row],[School/Group Name]])","v":""},{"$f":"IF(Table1[[#This Row],[Pupil Name]]=\"\",\"\",Table1[[#This Row],[Pupil Name]])","v":""},{"$f":"IF(Table1[[#This Row],[Gender (M/F)]]=\"\",\"\",Table1[[#This Row],[Gender (M/F)]])","v":""},{"$f":"IF(Table1[[#This Row],[DisAdv (Y/N)]]=\"\",\"\",Table1[[#This Row],[DisAdv (Y/N)]])","v":""},{"$f":"IF(Table1[[#This Row],[SEND (E,K,N)]]=\"\",\"\",Table1[[#This Row],[SEND (E,K,N)]])","v":""},"",{"$f":"IF(LEN(Table7[[#This Row],[Pupil Name]])>0,1,0)","v":0}]
[{"$f":"IF(Table1[[#This Row],[School/Group Name]]=\"\",\"\",Table1[[#This Row],[School/Group Name]])","v":""},{"$f":"IF(Table1[[#This Row],[Pupil Name]]=\"\",\"\",Table1[[#This Row],[Pupil Name]])","v":""},{"$f":"IF(Table1[[#This Row],[Gender (M/F)]]=\"\",\"\",Table1[[#This Row],[Gender (M/F)]])","v":""},{"$f":"IF(Table1[[#This Row],[DisAdv (Y/N)]]=\"\",\"\",Table1[[#This Row],[DisAdv (Y/N)]])","v":""},{"$f":"IF(Table1[[#This Row],[SEND (E,K,N)]]=\"\",\"\",Table1[[#This Row],[SEND (E,K,N)]])","v":""},"",{"$f":"IF(LEN(Table7[[#This Row],[Pupil Name]])>0,1,0)","v":0}]
[{"$f":"IF(Table1[[#This Row],[School/Group Name]]=\"\",\"\",Table1[[#This Row],[School/Group Name]])","v":""},{"$f":"IF(Table1[[#This Row],[Pupil Name]]=\"\",\"\",Table1[[#This Row],[Pupil Name]])","v":""},{"$f":"IF(Table1[[#This Row],[Gender (M/F)]]=\"\",\"\",Table1[[#This Row],[Gender (M/F)]])","v":""},{"$f":"IF(Table1[[#This Row],[DisAdv (Y/N)]]=\"\",\"\",Table1[[#This Row],[DisAdv (Y/N)]])","v":""},{"$f":"IF(Table1[[#This Row],[SEND (E,K,N)]]=\"\",\"\",Table1[[#This Row],[SEND (E,K,N)]])","v":""},"",{"$f":"IF(LEN(Table7[[#This Row],[Pupil Name]])>0,1,0)","v":0}]
[{"$f":"IF(Table1[[#This Row],[School/Group Name]]=\"\",\"\",Table1[[#This Row],[School/Group Name]])","v":""},{"$f":"IF(Table1[[#This Row],[Pupil Name]]=\"\",\"\",Table1[[#This Row],[Pupil Name]])","v":""},{"$f":"IF(Table1[[#This Row],[Gender (M/F)]]=\"\",\"\",Table1[[#This Row],[Gender (M/F)]])","v":""},{"$f":"IF(Table1[[#This Row],[DisAdv (Y/N)]]=\"\",\"\",Table1[[#This Row],[DisAdv (Y/N)]])","v":""},{"$f":"IF(Table1[[#This Row],[SEND (E,K,N)]]=\"\",\"\",Table1[[#This Row],[SEND (E,K,N)]])","v":""},"",{"$f":"IF(LEN(Table7[[#This Row],[Pupil Name]])>0,1,0)","v":0}]
[{"$f":"IF(Table1[[#This Row],[School/Group Name]]=\"\",\"\",Table1[[#This Row],[School/Group Name]])","v":""},{"$f":"IF(Table1[[#This Row],[Pupil Name]]=\"\",\"\",Table1[[#This Row],[Pupil Name]])","v":""},{"$f":"IF(Table1[[#This Row],[Gender (M/F)]]=\"\",\"\",Table1[[#This Row],[Gender (M/F)]])","v":""},{"$f":"IF(Table1[[#This Row],[DisAdv (Y/N)]]=\"\",\"\",Table1[[#This Row],[DisAdv (Y/N)]])","v":""},{"$f":"IF(Table1[[#This Row],[SEND (E,K,N)]]=\"\",\"\",Table1[[#This Row],[SEND (E,K,N)]])","v":""},"",{"$f":"IF(LEN(Table7[[#This Row],[Pupil Name]])>0,1,0)","v":0}]
[{"$f":"IF(Table1[[#This Row],[School/Group Name]]=\"\",\"\",Table1[[#This Row],[School/Group Name]])","v":""},{"$f":"IF(Table1[[#This Row],[Pupil Name]]=\"\",\"\",Table1[[#This Row],[Pupil Name]])","v":""},{"$f":"IF(Table1[[#This Row],[Gender (M/F)]]=\"\",\"\",Table1[[#This Row],[Gender (M/F)]])","v":""},{"$f":"IF(Table1[[#This Row],[DisAdv (Y/N)]]=\"\",\"\",Table1[[#This Row],[DisAdv (Y/N)]])","v":""},{"$f":"IF(Table1[[#This Row],[SEND (E,K,N)]]=\"\",\"\",Table1[[#This Row],[SEND (E,K,N)]])","v":""},"",{"$f":"IF(LEN(Table7[[#This Row],[Pupil Name]])>0,1,0)","v":0}]
[{"$f":"IF(Table1[[#This Row],[School/Group Name]]=\"\",\"\",Table1[[#This Row],[School/Group Name]])","v":""},{"$f":"IF(Table1[[#This Row],[Pupil Name]]=\"\",\"\",Table1[[#This Row],[Pupil Name]])","v":""},{"$f":"IF(Table1[[#This Row],[Gender (M/F)]]=\"\",\"\",Table1[[#This Row],[Gender (M/F)]])","v":""},{"$f":"IF(Table1[[#This Row],[DisAdv (Y/N)]]=\"\",\"\",Table1[[#This Row],[DisAdv (Y/N)]])","v":""},{"$f":"IF(Table1[[#This Row],[SEND (E,K,N)]]=\"\",\"\",Table1[[#This Row],[SEND (E,K,N)]])","v":""},"",{"$f":"IF(LEN(Table7[[#This Row],[Pupil Name]])>0,1,0)","v":0}]
[{"$f":"IF(Table1[[#This Row],[School/Group Name]]=\"\",\"\",Table1[[#This Row],[School/Group Name]])","v":""},{"$f":"IF(Table1[[#This Row],[Pupil Name]]=\"\",\"\",Table1[[#This Row],[Pupil Name]])","v":""},{"$f":"IF(Table1[[#This Row],[Gender (M/F)]]=\"\",\"\",Table1[[#This Row],[Gender (M/F)]])","v":""},{"$f":"IF(Table1[[#This Row],[DisAdv (Y/N)]]=\"\",\"\",Table1[[#This Row],[DisAdv (Y/N)]])","v":""},{"$f":"IF(Table1[[#This Row],[SEND (E,K,N)]]=\"\",\"\",Table1[[#This Row],[SEND (E,K,N)]])","v":""},"",{"$f":"IF(LEN(Table7[[#This Row],[Pupil Name]])>0,1,0)","v":0}]
[{"$f":"IF(Table1[[#This Row],[School/Group Name]]=\"\",\"\",Table1[[#This Row],[School/Group Name]])","v":""},{"$f":"IF(Table1[[#This Row],[Pupil Name]]=\"\",\"\",Table1[[#This Row],[Pupil Name]])","v":""},{"$f":"IF(Table1[[#This Row],[Gender (M/F)]]=\"\",\"\",Table1[[#This Row],[Gender (M/F)]])","v":""},{"$f":"IF(Table1[[#This Row],[DisAdv (Y/N)]]=\"\",\"\",Table1[[#This Row],[DisAdv (Y/N)]])","v":""},{"$f":"IF(Table1[[#This Row],[SEND (E,K,N)]]=\"\",\"\",Table1[[#This Row],[SEND (E,K,N)]])","v":""},"",{"$f":"IF(LEN(Table7[[#This Row],[Pupil Name]])>0,1,0)","v":0}]
[{"$f":"IF(Table1[[#This Row],[School/Group Name]]=\"\",\"\",Table1[[#This Row],[School/Group Name]])","v":""},{"$f":"IF(Table1[[#This Row],[Pupil Name]]=\"\",\"\",Table1[[#This Row],[Pupil Name]])","v":""},{"$f":"IF(Table1[[#This Row],[Gender (M/F)]]=\"\",\"\",Table1[[#This Row],[Gender (M/F)]])","v":""},{"$f":"IF(Table1[[#This Row],[DisAdv (Y/N)]]=\"\",\"\",Table1[[#This Row],[DisAdv (Y/N)]])","v":""},{"$f":"IF(Table1[[#This Row],[SEND (E,K,N)]]=\"\",\"\",Table1[[#This Row],[SEND (E,K,N)]])","v":""},"",{"$f":"IF(LEN(Table7[[#This Row],[Pupil Name]])>0,1,0)","v":0}]
[{"$f":"IF(Table1[[#This Row],[School/Group Name]]=\"\",\"\",Table1[[#This Row],[School/Group Name]])","v":""},{"$f":"IF(Table1[[#This Row],[Pupil Name]]=\"\",\"\",Table1[[#This Row],[Pupil Name]])","v":""},{"$f":"IF(Table1[[#This Row],[Gender (M/F)]]=\"\",\"\",Table1[[#This Row],[Gender (M/F)]])","v":""},{"$f":"IF(Table1[[#This Row],[DisAdv (Y/N)]]=\"\",\"\",Table1[[#This Row],[DisAdv (Y/N)]])","v":""},{"$f":"IF(Table1[[#This Row],[SEND (E,K,N)]]=\"\",\"\",Table1[[#This Row],[SEND (E,K,N)]])","v":""},"",{"$f":"IF(LEN(Table7[[#This Row],[Pupil Name]])>0,1,0)","v":0}]
[{"$f":"IF(Table1[[#This Row],[School/Group Name]]=\"\",\"\",Table1[[#This Row],[School/Group Name]])","v":""},{"$f":"IF(Table1[[#This Row],[Pupil Name]]=\"\",\"\",Table1[[#This Row],[Pupil Name]])","v":""},{"$f":"IF(Table1[[#This Row],[Gender (M/F)]]=\"\",\"\",Table1[[#This Row],[Gender (M/F)]])","v":""},{"$f":"IF(Table1[[#This Row],[DisAdv (Y/N)]]=\"\",\"\",Table1[[#This Row],[DisAdv (Y/N)]])","v":""},{"$f":"IF(Table1[[#This Row],[SEND (E,K,N)]]=\"\",\"\",Table1[[#This Row],[SEND (E,K,N)]])","v":""},"",{"$f":"IF(LEN(Table7[[#This Row],[Pupil Name]])>0,1,0)","v":0}]
[{"$f":"IF(Table1[[#This Row],[School/Group Name]]=\"\",\"\",Table1[[#This Row],[School/Group Name]])","v":""},{"$f":"IF(Table1[[#This Row],[Pupil Name]]=\"\",\"\",Table1[[#This Row],[Pupil Name]])","v":""},{"$f":"IF(Table1[[#This Row],[Gender (M/F)]]=\"\",\"\",Table1[[#This Row],[Gender (M/F)]])","v":""},{"$f":"IF(Table1[[#This Row],[DisAdv (Y/N)]]=\"\",\"\",Table1[[#This Row],[DisAdv (Y/N)]])","v":""},{"$f":"IF(Table1[[#This Row],[SEND (E,K,N)]]=\"\",\"\",Table1[[#This Row],[SEND (E,K,N)]])","v":""},"",{"$f":"IF(LEN(Table7[[#This Row],[Pupil Name]])>0,1,0)","v":0}]
[{"$f":"IF(Table1[[#This Row],[School/Group Name]]=\"\",\"\",Table1[[#This Row],[School/Group Name]])","v":""},{"$f":"IF(Table1[[#This Row],[Pupil Name]]=\"\",\"\",Table1[[#This Row],[Pupil Name]])","v":""},{"$f":"IF(Table1[[#This Row],[Gender (M/F)]]=\"\",\"\",Table1[[#This Row],[Gender (M/F)]])","v":""},{"$f":"IF(Table1[[#This Row],[DisAdv (Y/N)]]=\"\",\"\",Table1[[#This Row],[DisAdv (Y/N)]])","v":""},{"$f":"IF(Table1[[#This Row],[SEND (E,K,N)]]=\"\",\"\",Table1[[#This Row],[SEND (E,K,N)]])","v":""},"",{"$f":"IF(LEN(Table7[[#This Row],[Pupil Name]])>0,1,0)","v":0}]
[{"$f":"IF(Table1[[#This Row],[School/Group Name]]=\"\",\"\",Table1[[#This Row],[School/Group Name]])","v":""},{"$f":"IF(Table1[[#This Row],[Pupil Name]]=\"\",\"\",Table1[[#This Row],[Pupil Name]])","v":""},{"$f":"IF(Table1[[#This Row],[Gender (M/F)]]=\"\",\"\",Table1[[#This Row],[Gender (M/F)]])","v":""},{"$f":"IF(Table1[[#This Row],[DisAdv (Y/N)]]=\"\",\"\",Table1[[#This Row],[DisAdv (Y/N)]])","v":""},{"$f":"IF(Table1[[#This Row],[SEND (E,K,N)]]=\"\",\"\",Table1[[#This Row],[SEND (E,K,N)]])","v":""},"",{"$f":"IF(LEN(Table7[[#This Row],[Pupil Name]])>0,1,0)","v":0}]
[{"$f":"IF(Table1[[#This Row],[School/Group Name]]=\"\",\"\",Table1[[#This Row],[School/Group Name]])","v":""},{"$f":"IF(Table1[[#This Row],[Pupil Name]]=\"\",\"\",Table1[[#This Row],[Pupil Name]])","v":""},{"$f":"IF(Table1[[#This Row],[Gender (M/F)]]=\"\",\"\",Table1[[#This Row],[Gender (M/F)]])","v":""},{"$f":"IF(Table1[[#This Row],[DisAdv (Y/N)]]=\"\",\"\",Table1[[#This Row],[DisAdv (Y/N)]])","v":""},{"$f":"IF(Table1[[#This Row],[SEND (E,K,N)]]=\"\",\"\",Table1[[#This Row],[SEND (E,K,N)]])","v":""},"",{"$f":"IF(LEN(Table7[[#This Row],[Pupil Name]])>0,1,0)","v":0}]
[{"$f":"IF(Table1[[#This Row],[School/Group Name]]=\"\",\"\",Table1[[#This Row],[School/Group Name]])","v":""},{"$f":"IF(Table1[[#This Row],[Pupil Name]]=\"\",\"\",Table1[[#This Row],[Pupil Name]])","v":""},{"$f":"IF(Table1[[#This Row],[Gender (M/F)]]=\"\",\"\",Table1[[#This Row],[Gender (M/F)]])","v":""},{"$f":"IF(Table1[[#This Row],[DisAdv (Y/N)]]=\"\",\"\",Table1[[#This Row],[DisAdv (Y/N)]])","v":""},{"$f":"IF(Table1[[#This Row],[SEND (E,K,N)]]=\"\",\"\",Table1[[#This Row],[SEND (E,K,N)]])","v":""},"",{"$f":"IF(LEN(Table7[[#This Row],[Pupil Name]])>0,1,0)","v":0}]
[{"$f":"IF(Table1[[#This Row],[School/Group Name]]=\"\",\"\",Table1[[#This Row],[School/Group Name]])","v":""},{"$f":"IF(Table1[[#This Row],[Pupil Name]]=\"\",\"\",Table1[[#This Row],[Pupil Name]])","v":""},{"$f":"IF(Table1[[#This Row],[Gender (M/F)]]=\"\",\"\",Table1[[#This Row],[Gender (M/F)]])","v":""},{"$f":"IF(Table1[[#This Row],[DisAdv (Y/N)]]=\"\",\"\",Table1[[#This Row],[DisAdv (Y/N)]])","v":""},{"$f":"IF(Table1[[#This Row],[SEND (E,K,N)]]=\"\",\"\",Table1[[#This Row],[SEND (E,K,N)]])","v":""},"",{"$f":"IF(LEN(Table7[[#This Row],[Pupil Name]])>0,1,0)","v":0}]
[{"$f":"IF(Table1[[#This Row],[School/Group Name]]=\"\",\"\",Table1[[#This Row],[School/Group Name]])","v":""},{"$f":"IF(Table1[[#This Row],[Pupil Name]]=\"\",\"\",Table1[[#This Row],[Pupil Name]])","v":""},{"$f":"IF(Table1[[#This Row],[Gender (M/F)]]=\"\",\"\",Table1[[#This Row],[Gender (M/F)]])","v":""},{"$f":"IF(Table1[[#This Row],[DisAdv (Y/N)]]=\"\",\"\",Table1[[#This Row],[DisAdv (Y/N)]])","v":""},{"$f":"IF(Table1[[#This Row],[SEND (E,K,N)]]=\"\",\"\",Table1[[#This Row],[SEND (E,K,N)]])","v":""},"",{"$f":"IF(LEN(Table7[[#This Row],[Pupil Name]])>0,1,0)","v":0}]
[{"$f":"IF(Table1[[#This Row],[School/Group Name]]=\"\",\"\",Table1[[#This Row],[School/Group Name]])","v":""},{"$f":"IF(Table1[[#This Row],[Pupil Name]]=\"\",\"\",Table1[[#This Row],[Pupil Name]])","v":""},{"$f":"IF(Table1[[#This Row],[Gender (M/F)]]=\"\",\"\",Table1[[#This Row],[Gender (M/F)]])","v":""},{"$f":"IF(Table1[[#This Row],[DisAdv (Y/N)]]=\"\",\"\",Table1[[#This Row],[DisAdv (Y/N)]])","v":""},{"$f":"IF(Table1[[#This Row],[SEND (E,K,N)]]=\"\",\"\",Table1[[#This Row],[SEND (E,K,N)]])","v":""},"",{"$f":"IF(LEN(Table7[[#This Row],[Pupil Name]])>0,1,0)","v":0}]
[{"$f":"IF(Table1[[#This Row],[School/Group Name]]=\"\",\"\",Table1[[#This Row],[School/Group Name]])","v":""},{"$f":"IF(Table1[[#This Row],[Pupil Name]]=\"\",\"\",Table1[[#This Row],[Pupil Name]])","v":""},{"$f":"IF(Table1[[#This Row],[Gender (M/F)]]=\"\",\"\",Table1[[#This Row],[Gender (M/F)]])","v":""},{"$f":"IF(Table1[[#This Row],[DisAdv (Y/N)]]=\"\",\"\",Table1[[#This Row],[DisAdv (Y/N)]])","v":""},{"$f":"IF(Table1[[#This Row],[SEND (E,K,N)]]=\"\",\"\",Table1[[#This Row],[SEND (E,K,N)]])","v":""},"",{"$f":"IF(LEN(Table7[[#This Row],[Pupil Name]])>0,1,0)","v":0}]
[{"$f":"IF(Table1[[#This Row],[School/Group Name]]=\"\",\"\",Table1[[#This Row],[School/Group Name]])","v":""},{"$f":"IF(Table1[[#This Row],[Pupil Name]]=\"\",\"\",Table1[[#This Row],[Pupil Name]])","v":""},{"$f":"IF(Table1[[#This Row],[Gender (M/F)]]=\"\",\"\",Table1[[#This Row],[Gender (M/F)]])","v":""},{"$f":"IF(Table1[[#This Row],[DisAdv (Y/N)]]=\"\",\"\",Table1[[#This Row],[DisAdv (Y/N)]])","v":""},{"$f":"IF(Table1[[#This Row],[SEND (E,K,N)]]=\"\",\"\",Table1[[#This Row],[SEND (E,K,N)]])","v":""},"",{"$f":"IF(LEN(Table7[[#This Row],[Pupil Name]])>0,1,0)","v":0}]
[{"$f":"IF(Table1[[#This Row],[School/Group Name]]=\"\",\"\",Table1[[#This Row],[School/Group Name]])","v":""},{"$f":"IF(Table1[[#This Row],[Pupil Name]]=\"\",\"\",Table1[[#This Row],[Pupil Name]])","v":""},{"$f":"IF(Table1[[#This Row],[Gender (M/F)]]=\"\",\"\",Table1[[#This Row],[Gender (M/F)]])","v":""},{"$f":"IF(Table1[[#This Row],[DisAdv (Y/N)]]=\"\",\"\",Table1[[#This Row],[DisAdv (Y/N)]])","v":""},{"$f":"IF(Table1[[#This Row],[SEND (E,K,N)]]=\"\",\"\",Table1[[#This Row],[SEND (E,K,N)]])","v":""},"",{"$f":"IF(LEN(Table7[[#This Row],[Pupil Name]])>0,1,0)","v":0}]
[{"$f":"IF(Table1[[#This Row],[School/Group Name]]=\"\",\"\",Table1[[#This Row],[School/Group Name]])","v":""},{"$f":"IF(Table1[[#This Row],[Pupil Name]]=\"\",\"\",Table1[[#This Row],[Pupil Name]])","v":""},{"$f":"IF(Table1[[#This Row],[Gender (M/F)]]=\"\",\"\",Table1[[#This Row],[Gender (M/F)]])","v":""},{"$f":"IF(Table1[[#This Row],[DisAdv (Y/N)]]=\"\",\"\",Table1[[#This Row],[DisAdv (Y/N)]])","v":""},{"$f":"IF(Table1[[#This Row],[SEND (E,K,N)]]=\"\",\"\",Table1[[#This Row],[SEND (E,K,N)]])","v":""},"",{"$f":"IF(LEN(Table7[[#This Row],[Pupil Name]])>0,1,0)","v":0}]
[{"$f":"IF(Table1[[#This Row],[School/Group Name]]=\"\",\"\",Table1[[#This Row],[School/Group Name]])","v":""},{"$f":"IF(Table1[[#This Row],[Pupil Name]]=\"\",\"\",Table1[[#This Row],[Pupil Name]])","v":""},{"$f":"IF(Table1[[#This Row],[Gender (M/F)]]=\"\",\"\",Table1[[#This Row],[Gender (M/F)]])","v":""},{"$f":"IF(Table1[[#This Row],[DisAdv (Y/N)]]=\"\",\"\",Table1[[#This Row],[DisAdv (Y/N)]])","v":""},{"$f":"IF(Table1[[#This Row],[SEND (E,K,N)]]=\"\",\"\",Table1[[#This Row],[SEND (E,K,N)]])","v":""},"",{"$f":"IF(LEN(Table7[[#This Row],[Pupil Name]])>0,1,0)","v":0}]
[{"$f":"IF(Table1[[#This Row],[School/Group Name]]=\"\",\"\",Table1[[#This Row],[School/Group Name]])","v":""},{"$f":"IF(Table1[[#This Row],[Pupil Name]]=\"\",\"\",Table1[[#This Row],[Pupil Name]])","v":""},{"$f":"IF(Table1[[#This Row],[Gender (M/F)]]=\"\",\"\",Table1[[#This Row],[Gender (M/F)]])","v":""},{"$f":"IF(Table1[[#This Row],[DisAdv (Y/N)]]=\"\",\"\",Table1[[#This Row],[DisAdv (Y/N)]])","v":""},{"$f":"IF(Table1[[#This Row],[SEND (E,K,N)]]=\"\",\"\",Table1[[#This Row],[SEND (E,K,N)]])","v":""},"",{"$f":"IF(LEN(Table7[[#This Row],[Pupil Name]])>0,1,0)","v":0}]
[{"$f":"IF(Table1[[#This Row],[School/Group Name]]=\"\",\"\",Table1[[#This Row],[School/Group Name]])","v":""},{"$f":"IF(Table1[[#This Row],[Pupil Name]]=\"\",\"\",Table1[[#This Row],[Pupil Name]])","v":""},{"$f":"IF(Table1[[#This Row],[Gender (M/F)]]=\"\",\"\",Table1[[#This Row],[Gender (M/F)]])","v":""},{"$f":"IF(Table1[[#This Row],[DisAdv (Y/N)]]=\"\",\"\",Table1[[#This Row],[DisAdv (Y/N)]])","v":""},{"$f":"IF(Table1[[#This Row],[SEND (E,K,N)]]=\"\",\"\",Table1[[#This Row],[SEND (E,K,N)]])","v":""},"",{"$f":"IF(LEN(Table7[[#This Row],[Pupil Name]])>0,1,0)","v":0}]
[{"$f":"IF(Table1[[#This Row],[School/Group Name]]=\"\",\"\",Table1[[#This Row],[School/Group Name]])","v":""},{"$f":"IF(Table1[[#This Row],[Pupil Name]]=\"\",\"\",Table1[[#This Row],[Pupil Name]])","v":""},{"$f":"IF(Table1[[#This Row],[Gender (M/F)]]=\"\",\"\",Table1[[#This Row],[Gender (M/F)]])","v":""},{"$f":"IF(Table1[[#This Row],[DisAdv (Y/N)]]=\"\",\"\",Table1[[#This Row],[DisAdv (Y/N)]])","v":""},{"$f":"IF(Table1[[#This Row],[SEND (E,K,N)]]=\"\",\"\",Table1[[#This Row],[SEND (E,K,N)]])","v":""},"",{"$f":"IF(LEN(Table7[[#This Row],[Pupil Name]])>0,1,0)","v":0}]
[{"$f":"IF(Table1[[#This Row],[School/Group Name]]=\"\",\"\",Table1[[#This Row],[School/Group Name]])","v":""},{"$f":"IF(Table1[[#This Row],[Pupil Name]]=\"\",\"\",Table1[[#This Row],[Pupil Name]])","v":""},{"$f":"IF(Table1[[#This Row],[Gender (M/F)]]=\"\",\"\",Table1[[#This Row],[Gender (M/F)]])","v":""},{"$f":"IF(Table1[[#This Row],[DisAdv (Y/N)]]=\"\",\"\",Table1[[#This Row],[DisAdv (Y/N)]])","v":""},{"$f":"IF(Table1[[#This Row],[SEND (E,K,N)]]=\"\",\"\",Table1[[#This Row],[SEND (E,K,N)]])","v":""},"",{"$f":"IF(LEN(Table7[[#This Row],[Pupil Name]])>0,1,0)","v":0}]
[{"$f":"IF(Table1[[#This Row],[School/Group Name]]=\"\",\"\",Table1[[#This Row],[School/Group Name]])","v":""},{"$f":"IF(Table1[[#This Row],[Pupil Name]]=\"\",\"\",Table1[[#This Row],[Pupil Name]])","v":""},{"$f":"IF(Table1[[#This Row],[Gender (M/F)]]=\"\",\"\",Table1[[#This Row],[Gender (M/F)]])","v":""},{"$f":"IF(Table1[[#This Row],[DisAdv (Y/N)]]=\"\",\"\",Table1[[#This Row],[DisAdv (Y/N)]])","v":""},{"$f":"IF(Table1[[#This Row],[SEND (E,K,N)]]=\"\",\"\",Table1[[#This Row],[SEND (E,K,N)]])","v":""},{"$f":"IF(H135=\"\",\"\",(SUM(H135:AA135)))","v":""},{"$f":"IF(LEN(Table7[[#This Row],[Pupil Name]])>0,1,0)","v":0}]
[{"$f":"IF(Table1[[#This Row],[School/Group Name]]=\"\",\"\",Table1[[#This Row],[School/Group Name]])","v":""},{"$f":"IF(Table1[[#This Row],[Pupil Name]]=\"\",\"\",Table1[[#This Row],[Pupil Name]])","v":""},{"$f":"IF(Table1[[#This Row],[Gender (M/F)]]=\"\",\"\",Table1[[#This Row],[Gender (M/F)]])","v":""},{"$f":"IF(Table1[[#This Row],[DisAdv (Y/N)]]=\"\",\"\",Table1[[#This Row],[DisAdv (Y/N)]])","v":""},{"$f":"IF(Table1[[#This Row],[SEND (E,K,N)]]=\"\",\"\",Table1[[#This Row],[SEND (E,K,N)]])","v":""},"",{"$f":"IF(LEN(Table7[[#This Row],[Pupil Name]])>0,1,0)","v":0}]
[{"$f":"IF(Table1[[#This Row],[School/Group Name]]=\"\",\"\",Table1[[#This Row],[School/Group Name]])","v":""},{"$f":"IF(Table1[[#This Row],[Pupil Name]]=\"\",\"\",Table1[[#This Row],[Pupil Name]])","v":""},{"$f":"IF(Table1[[#This Row],[Gender (M/F)]]=\"\",\"\",Table1[[#This Row],[Gender (M/F)]])","v":""},{"$f":"IF(Table1[[#This Row],[DisAdv (Y/N)]]=\"\",\"\",Table1[[#This Row],[DisAdv (Y/N)]])","v":""},{"$f":"IF(Table1[[#This Row],[SEND (E,K,N)]]=\"\",\"\",Table1[[#This Row],[SEND (E,K,N)]])","v":""},"",{"$f":"IF(LEN(Table7[[#This Row],[Pupil Name]])>0,1,0)","v":0}]
[{"$f":"IF(Table1[[#This Row],[School/Group Name]]=\"\",\"\",Table1[[#This Row],[School/Group Name]])","v":""},{"$f":"IF(Table1[[#This Row],[Pupil Name]]=\"\",\"\",Table1[[#This Row],[Pupil Name]])","v":""},{"$f":"IF(Table1[[#This Row],[Gender (M/F)]]=\"\",\"\",Table1[[#This Row],[Gender (M/F)]])","v":""},{"$f":"IF(Table1[[#This Row],[DisAdv (Y/N)]]=\"\",\"\",Table1[[#This Row],[DisAdv (Y/N)]])","v":""},{"$f":"IF(Table1[[#This Row],[SEND (E,K,N)]]=\"\",\"\",Table1[[#This Row],[SEND (E,K,N)]])","v":""},"",{"$f":"IF(LEN(Table7[[#This Row],[Pupil Name]])>0,1,0)","v":0}]
[{"$f":"IF(Table1[[#This Row],[School/Group Name]]=\"\",\"\",Table1[[#This Row],[School/Group Name]])","v":""},{"$f":"IF(Table1[[#This Row],[Pupil Name]]=\"\",\"\",Table1[[#This Row],[Pupil Name]])","v":""},{"$f":"IF(Table1[[#This Row],[Gender (M/F)]]=\"\",\"\",Table1[[#This Row],[Gender (M/F)]])","v":""},{"$f":"IF(Table1[[#This Row],[DisAdv (Y/N)]]=\"\",\"\",Table1[[#This Row],[DisAdv (Y/N)]])","v":""},{"$f":"IF(Table1[[#This Row],[SEND (E,K,N)]]=\"\",\"\",Table1[[#This Row],[SEND (E,K,N)]])","v":""},"",{"$f":"IF(LEN(Table7[[#This Row],[Pupil Name]])>0,1,0)","v":0}]
[{"$f":"IF(Table1[[#This Row],[School/Group Name]]=\"\",\"\",Table1[[#This Row],[School/Group Name]])","v":""},{"$f":"IF(Table1[[#This Row],[Pupil Name]]=\"\",\"\",Table1[[#This Row],[Pupil Name]])","v":""},{"$f":"IF(Table1[[#This Row],[Gender (M/F)]]=\"\",\"\",Table1[[#This Row],[Gender (M/F)]])","v":""},{"$f":"IF(Table1[[#This Row],[DisAdv (Y/N)]]=\"\",\"\",Table1[[#This Row],[DisAdv (Y/N)]])","v":""},{"$f":"IF(Table1[[#This Row],[SEND (E,K,N)]]=\"\",\"\",Table1[[#This Row],[SEND (E,K,N)]])","v":""},"",{"$f":"IF(LEN(Table7[[#This Row],[Pupil Name]])>0,1,0)","v":0}]
[{"$f":"IF(Table1[[#This Row],[School/Group Name]]=\"\",\"\",Table1[[#This Row],[School/Group Name]])","v":""},{"$f":"IF(Table1[[#This Row],[Pupil Name]]=\"\",\"\",Table1[[#This Row],[Pupil Name]])","v":""},{"$f":"IF(Table1[[#This Row],[Gender (M/F)]]=\"\",\"\",Table1[[#This Row],[Gender (M/F)]])","v":""},{"$f":"IF(Table1[[#This Row],[DisAdv (Y/N)]]=\"\",\"\",Table1[[#This Row],[DisAdv (Y/N)]])","v":""},{"$f":"IF(Table1[[#This Row],[SEND (E,K,N)]]=\"\",\"\",Table1[[#This Row],[SEND (E,K,N)]])","v":""},"",{"$f":"IF(LEN(Table7[[#This Row],[Pupil Name]])>0,1,0)","v":0}]
[{"$f":"IF(Table1[[#This Row],[School/Group Name]]=\"\",\"\",Table1[[#This Row],[School/Group Name]])","v":""},{"$f":"IF(Table1[[#This Row],[Pupil Name]]=\"\",\"\",Table1[[#This Row],[Pupil Name]])","v":""},{"$f":"IF(Table1[[#This Row],[Gender (M/F)]]=\"\",\"\",Table1[[#This Row],[Gender (M/F)]])","v":""},{"$f":"IF(Table1[[#This Row],[DisAdv (Y/N)]]=\"\",\"\",Table1[[#This Row],[DisAdv (Y/N)]])","v":""},{"$f":"IF(Table1[[#This Row],[SEND (E,K,N)]]=\"\",\"\",Table1[[#This Row],[SEND (E,K,N)]])","v":""},"",{"$f":"IF(LEN(Table7[[#This Row],[Pupil Name]])>0,1,0)","v":0}]
[{"$f":"IF(Table1[[#This Row],[School/Group Name]]=\"\",\"\",Table1[[#This Row],[School/Group Name]])","v":""},{"$f":"IF(Table1[[#This Row],[Pupil Name]]=\"\",\"\",Table1[[#This Row],[Pupil Name]])","v":""},{"$f":"IF(Table1[[#This Row],[Gender (M/F)]]=\"\",\"\",Table1[[#This Row],[Gender (M/F)]])","v":""},{"$f":"IF(Table1[[#This Row],[DisAdv (Y/N)]]=\"\",\"\",Table1[[#This Row],[DisAdv (Y/N)]])","v":""},{"$f":"IF(Table1[[#This Row],[SEND (E,K,N)]]=\"\",\"\",Table1[[#This Row],[SEND (E,K,N)]])","v":""},"",{"$f":"IF(LEN(Table7[[#This Row],[Pupil Name]])>0,1,0)","v":0}]
[{"$f":"IF(Table1[[#This Row],[School/Group Name]]=\"\",\"\",Table1[[#This Row],[School/Group Name]])","v":""},{"$f":"IF(Table1[[#This Row],[Pupil Name]]=\"\",\"\",Table1[[#This Row],[Pupil Name]])","v":""},{"$f":"IF(Table1[[#This Row],[Gender (M/F)]]=\"\",\"\",Table1[[#This Row],[Gender (M/F)]])","v":""},{"$f":"IF(Table1[[#This Row],[DisAdv (Y/N)]]=\"\",\"\",Table1[[#This Row],[DisAdv (Y/N)]])","v":""},{"$f":"IF(Table1[[#This Row],[SEND (E,K,N)]]=\"\",\"\",Table1[[#This Row],[SEND (E,K,N)]])","v":""},"",{"$f":"IF(LEN(Table7[[#This Row],[Pupil Name]])>0,1,0)","v":0}]
[{"$f":"IF(Table1[[#This Row],[School/Group Name]]=\"\",\"\",Table1[[#This Row],[School/Group Name]])","v":""},{"$f":"IF(Table1[[#This Row],[Pupil Name]]=\"\",\"\",Table1[[#This Row],[Pupil Name]])","v":""},{"$f":"IF(Table1[[#This Row],[Gender (M/F)]]=\"\",\"\",Table1[[#This Row],[Gender (M/F)]])","v":""},{"$f":"IF(Table1[[#This Row],[DisAdv (Y/N)]]=\"\",\"\",Table1[[#This Row],[DisAdv (Y/N)]])","v":""},{"$f":"IF(Table1[[#This Row],[SEND (E,K,N)]]=\"\",\"\",Table1[[#This Row],[SEND (E,K,N)]])","v":""},"",{"$f":"IF(LEN(Table7[[#This Row],[Pupil Name]])>0,1,0)","v":0}]
[{"$f":"IF(Table1[[#This Row],[School/Group Name]]=\"\",\"\",Table1[[#This Row],[School/Group Name]])","v":""},{"$f":"IF(Table1[[#This Row],[Pupil Name]]=\"\",\"\",Table1[[#This Row],[Pupil Name]])","v":""},{"$f":"IF(Table1[[#This Row],[Gender (M/F)]]=\"\",\"\",Table1[[#This Row],[Gender (M/F)]])","v":""},{"$f":"IF(Table1[[#This Row],[DisAdv (Y/N)]]=\"\",\"\",Table1[[#This Row],[DisAdv (Y/N)]])","v":""},{"$f":"IF(Table1[[#This Row],[SEND (E,K,N)]]=\"\",\"\",Table1[[#This Row],[SEND (E,K,N)]])","v":""},"",{"$f":"IF(LEN(Table7[[#This Row],[Pupil Name]])>0,1,0)","v":0}]
[{"$f":"IF(Table1[[#This Row],[School/Group Name]]=\"\",\"\",Table1[[#This Row],[School/Group Name]])","v":""},{"$f":"IF(Table1[[#This Row],[Pupil Name]]=\"\",\"\",Table1[[#This Row],[Pupil Name]])","v":""},{"$f":"IF(Table1[[#This Row],[Gender (M/F)]]=\"\",\"\",Table1[[#This Row],[Gender (M/F)]])","v":""},{"$f":"IF(Table1[[#This Row],[DisAdv (Y/N)]]=\"\",\"\",Table1[[#This Row],[DisAdv (Y/N)]])","v":""},{"$f":"IF(Table1[[#This Row],[SEND (E,K,N)]]=\"\",\"\",Table1[[#This Row],[SEND (E,K,N)]])","v":""},"",{"$f":"IF(LEN(Table7[[#This Row],[Pupil Name]])>0,1,0)","v":0}]
[{"$f":"IF(Table1[[#This Row],[School/Group Name]]=\"\",\"\",Table1[[#This Row],[School/Group Name]])","v":""},{"$f":"IF(Table1[[#This Row],[Pupil Name]]=\"\",\"\",Table1[[#This Row],[Pupil Name]])","v":""},{"$f":"IF(Table1[[#This Row],[Gender (M/F)]]=\"\",\"\",Table1[[#This Row],[Gender (M/F)]])","v":""},{"$f":"IF(Table1[[#This Row],[DisAdv (Y/N)]]=\"\",\"\",Table1[[#This Row],[DisAdv (Y/N)]])","v":""},{"$f":"IF(Table1[[#This Row],[SEND (E,K,N)]]=\"\",\"\",Table1[[#This Row],[SEND (E,K,N)]])","v":""},"",{"$f":"IF(LEN(Table7[[#This Row],[Pupil Name]])>0,1,0)","v":0}]
[{"$f":"IF(Table1[[#This Row],[School/Group Name]]=\"\",\"\",Table1[[#This Row],[School/Group Name]])","v":""},{"$f":"IF(Table1[[#This Row],[Pupil Name]]=\"\",\"\",Table1[[#This Row],[Pupil Name]])","v":""},{"$f":"IF(Table1[[#This Row],[Gender (M/F)]]=\"\",\"\",Table1[[#This Row],[Gender (M/F)]])","v":""},{"$f":"IF(Table1[[#This Row],[DisAdv (Y/N)]]=\"\",\"\",Table1[[#This Row],[DisAdv (Y/N)]])","v":""},{"$f":"IF(Table1[[#This Row],[SEND (E,K,N)]]=\"\",\"\",Table1[[#This Row],[SEND (E,K,N)]])","v":""},"",{"$f":"IF(LEN(Table7[[#This Row],[Pupil Name]])>0,1,0)","v":0}]
[{"$f":"IF(Table1[[#This Row],[School/Group Name]]=\"\",\"\",Table1[[#This Row],[School/Group Name]])","v":""},{"$f":"IF(Table1[[#This Row],[Pupil Name]]=\"\",\"\",Table1[[#This Row],[Pupil Name]])","v":""},{"$f":"IF(Table1[[#This Row],[Gender (M/F)]]=\"\",\"\",Table1[[#This Row],[Gender (M/F)]])","v":""},{"$f":"IF(Table1[[#This Row],[DisAdv (Y/N)]]=\"\",\"\",Table1[[#This Row],[DisAdv (Y/N)]])","v":""},{"$f":"IF(Table1[[#This Row],[SEND (E,K,N)]]=\"\",\"\",Table1[[#This Row],[SEND (E,K,N)]])","v":""},"",{"$f":"IF(LEN(Table7[[#This Row],[Pupil Name]])>0,1,0)","v":0}]
[{"$f":"IF(Table1[[#This Row],[School/Group Name]]=\"\",\"\",Table1[[#This Row],[School/Group Name]])","v":""},{"$f":"IF(Table1[[#This Row],[Pupil Name]]=\"\",\"\",Table1[[#This Row],[Pupil Name]])","v":""},{"$f":"IF(Table1[[#This Row],[Gender (M/F)]]=\"\",\"\",Table1[[#This Row],[Gender (M/F)]])","v":""},{"$f":"IF(Table1[[#This Row],[DisAdv (Y/N)]]=\"\",\"\",Table1[[#This Row],[DisAdv (Y/N)]])","v":""},{"$f":"IF(Table1[[#This Row],[SEND (E,K,N)]]=\"\",\"\",Table1[[#This Row],[SEND (E,K,N)]])","v":""},"",{"$f":"IF(LEN(Table7[[#This Row],[Pupil Name]])>0,1,0)","v":0}]
[{"$f":"IF(Table1[[#This Row],[School/Group Name]]=\"\",\"\",Table1[[#This Row],[School/Group Name]])","v":""},{"$f":"IF(Table1[[#This Row],[Pupil Name]]=\"\",\"\",Table1[[#This Row],[Pupil Name]])","v":""},{"$f":"IF(Table1[[#This Row],[Gender (M/F)]]=\"\",\"\",Table1[[#This Row],[Gender (M/F)]])","v":""},{"$f":"IF(Table1[[#This Row],[DisAdv (Y/N)]]=\"\",\"\",Table1[[#This Row],[DisAdv (Y/N)]])","v":""},{"$f":"IF(Table1[[#This Row],[SEND (E,K,N)]]=\"\",\"\",Table1[[#This Row],[SEND (E,K,N)]])","v":""},"",{"$f":"IF(LEN(Table7[[#This Row],[Pupil Name]])>0,1,0)","v":0}]
[{"$f":"IF(Table1[[#This Row],[School/Group Name]]=\"\",\"\",Table1[[#This Row],[School/Group Name]])","v":""},{"$f":"IF(Table1[[#This Row],[Pupil Name]]=\"\",\"\",Table1[[#This Row],[Pupil Name]])","v":""},{"$f":"IF(Table1[[#This Row],[Gender (M/F)]]=\"\",\"\",Table1[[#This Row],[Gender (M/F)]])","v":""},{"$f":"IF(Table1[[#This Row],[DisAdv (Y/N)]]=\"\",\"\",Table1[[#This Row],[DisAdv (Y/N)]])","v":""},{"$f":"IF(Table1[[#This Row],[SEND (E,K,N)]]=\"\",\"\",Table1[[#This Row],[SEND (E,K,N)]])","v":""},"",{"$f":"IF(LEN(Table7[[#This Row],[Pupil Name]])>0,1,0)","v":0}]
[{"$f":"IF(Table1[[#This Row],[School/Group Name]]=\"\",\"\",Table1[[#This Row],[School/Group Name]])","v":""},{"$f":"IF(Table1[[#This Row],[Pupil Name]]=\"\",\"\",Table1[[#This Row],[Pupil Name]])","v":""},{"$f":"IF(Table1[[#This Row],[Gender (M/F)]]=\"\",\"\",Table1[[#This Row],[Gender (M/F)]])","v":""},{"$f":"IF(Table1[[#This Row],[DisAdv (Y/N)]]=\"\",\"\",Table1[[#This Row],[DisAdv (Y/N)]])","v":""},{"$f":"IF(Table1[[#This Row],[SEND (E,K,N)]]=\"\",\"\",Table1[[#This Row],[SEND (E,K,N)]])","v":""},"",{"$f":"IF(LEN(Table7[[#This Row],[Pupil Name]])>0,1,0)","v":0}]
[{"$f":"IF(Table1[[#This Row],[School/Group Name]]=\"\",\"\",Table1[[#This Row],[School/Group Name]])","v":""},{"$f":"IF(Table1[[#This Row],[Pupil Name]]=\"\",\"\",Table1[[#This Row],[Pupil Name]])","v":""},{"$f":"IF(Table1[[#This Row],[Gender (M/F)]]=\"\",\"\",Table1[[#This Row],[Gender (M/F)]])","v":""},{"$f":"IF(Table1[[#This Row],[DisAdv (Y/N)]]=\"\",\"\",Table1[[#This Row],[DisAdv (Y/N)]])","v":""},{"$f":"IF(Table1[[#This Row],[SEND (E,K,N)]]=\"\",\"\",Table1[[#This Row],[SEND (E,K,N)]])","v":""},"",{"$f":"IF(LEN(Table7[[#This Row],[Pupil Name]])>0,1,0)","v":0}]
[{"$f":"IF(Table1[[#This Row],[School/Group Name]]=\"\",\"\",Table1[[#This Row],[School/Group Name]])","v":""},{"$f":"IF(Table1[[#This Row],[Pupil Name]]=\"\",\"\",Table1[[#This Row],[Pupil Name]])","v":""},{"$f":"IF(Table1[[#This Row],[Gender (M/F)]]=\"\",\"\",Table1[[#This Row],[Gender (M/F)]])","v":""},{"$f":"IF(Table1[[#This Row],[DisAdv (Y/N)]]=\"\",\"\",Table1[[#This Row],[DisAdv (Y/N)]])","v":""},{"$f":"IF(Table1[[#This Row],[SEND (E,K,N)]]=\"\",\"\",Table1[[#This Row],[SEND (E,K,N)]])","v":""},"",{"$f":"IF(LEN(Table7[[#This Row],[Pupil Name]])>0,1,0)","v":0}]
[{"$f":"IF(Table1[[#This Row],[School/Group Name]]=\"\",\"\",Table1[[#This Row],[School/Group Name]])","v":""},{"$f":"IF(Table1[[#This Row],[Pupil Name]]=\"\",\"\",Table1[[#This Row],[Pupil Name]])","v":""},{"$f":"IF(Table1[[#This Row],[Gender (M/F)]]=\"\",\"\",Table1[[#This Row],[Gender (M/F)]])","v":""},{"$f":"IF(Table1[[#This Row],[DisAdv (Y/N)]]=\"\",\"\",Table1[[#This Row],[DisAdv (Y/N)]])","v":""},{"$f":"IF(Table1[[#This Row],[SEND (E,K,N)]]=\"\",\"\",Table1[[#This Row],[SEND (E,K,N)]])","v":""},"",{"$f":"IF(LEN(Table7[[#This Row],[Pupil Name]])>0,1,0)","v":0}]
[{"$f":"IF(Table1[[#This Row],[School/Group Name]]=\"\",\"\",Table1[[#This Row],[School/Group Name]])","v":""},{"$f":"IF(Table1[[#This Row],[Pupil Name]]=\"\",\"\",Table1[[#This Row],[Pupil Name]])","v":""},{"$f":"IF(Table1[[#This Row],[Gender (M/F)]]=\"\",\"\",Table1[[#This Row],[Gender (M/F)]])","v":""},{"$f":"IF(Table1[[#This Row],[DisAdv (Y/N)]]=\"\",\"\",Table1[[#This Row],[DisAdv (Y/N)]])","v":""},{"$f":"IF(Table1[[#This Row],[SEND (E,K,N)]]=\"\",\"\",Table1[[#This Row],[SEND (E,K,N)]])","v":""},"",{"$f":"IF(LEN(Table7[[#This Row],[Pupil Name]])>0,1,0)","v":0}]
[{"$f":"IF(Table1[[#This Row],[School/Group Name]]=\"\",\"\",Table1[[#This Row],[School/Group Name]])","v":""},{"$f":"IF(Table1[[#This Row],[Pupil Name]]=\"\",\"\",Table1[[#This Row],[Pupil Name]])","v":""},{"$f":"IF(Table1[[#This Row],[Gender (M/F)]]=\"\",\"\",Table1[[#This Row],[Gender (M/F)]])","v":""},{"$f":"IF(Table1[[#This Row],[DisAdv (Y/N)]]=\"\",\"\",Table1[[#This Row],[DisAdv (Y/N)]])","v":""},{"$f":"IF(Table1[[#This Row],[SEND (E,K,N)]]=\"\",\"\",Table1[[#This Row],[SEND (E,K,N)]])","v":""},"",{"$f":"IF(LEN(Table7[[#This Row],[Pupil Name]])>0,1,0)","v":0}]
[{"$f":"IF(Table1[[#This Row],[School/Group Name]]=\"\",\"\",Table1[[#This Row],[School/Group Name]])","v":""},{"$f":"IF(Table1[[#This Row],[Pupil Name]]=\"\",\"\",Table1[[#This Row],[Pupil Name]])","v":""},{"$f":"IF(Table1[[#This Row],[Gender (M/F)]]=\"\",\"\",Table1[[#This Row],[Gender (M/F)]])","v":""},{"$f":"IF(Table1[[#This Row],[DisAdv (Y/N)]]=\"\",\"\",Table1[[#This Row],[DisAdv (Y/N)]])","v":""},{"$f":"IF(Table1[[#This Row],[SEND (E,K,N)]]=\"\",\"\",Table1[[#This Row],[SEND (E,K,N)]])","v":""},"",{"$f":"IF(LEN(Table7[[#This Row],[Pupil Name]])>0,1,0)","v":0}]
[{"$f":"IF(Table1[[#This Row],[School/Group Name]]=\"\",\"\",Table1[[#This Row],[School/Group Name]])","v":""},{"$f":"IF(Table1[[#This Row],[Pupil Name]]=\"\",\"\",Table1[[#This Row],[Pupil Name]])","v":""},{"$f":"IF(Table1[[#This Row],[Gender (M/F)]]=\"\",\"\",Table1[[#This Row],[Gender (M/F)]])","v":""},{"$f":"IF(Table1[[#This Row],[DisAdv (Y/N)]]=\"\",\"\",Table1[[#This Row],[DisAdv (Y/N)]])","v":""},{"$f":"IF(Table1[[#This Row],[SEND (E,K,N)]]=\"\",\"\",Table1[[#This Row],[SEND (E,K,N)]])","v":""},"",{"$f":"IF(LEN(Table7[[#This Row],[Pupil Name]])>0,1,0)","v":0}]
[{"$f":"IF(Table1[[#This Row],[School/Group Name]]=\"\",\"\",Table1[[#This Row],[School/Group Name]])","v":""},{"$f":"IF(Table1[[#This Row],[Pupil Name]]=\"\",\"\",Table1[[#This Row],[Pupil Name]])","v":""},{"$f":"IF(Table1[[#This Row],[Gender (M/F)]]=\"\",\"\",Table1[[#This Row],[Gender (M/F)]])","v":""},{"$f":"IF(Table1[[#This Row],[DisAdv (Y/N)]]=\"\",\"\",Table1[[#This Row],[DisAdv (Y/N)]])","v":""},{"$f":"IF(Table1[[#This Row],[SEND (E,K,N)]]=\"\",\"\",Table1[[#This Row],[SEND (E,K,N)]])","v":""},"",{"$f":"IF(LEN(Table7[[#This Row],[Pupil Name]])>0,1,0)","v":0}]
[{"$f":"IF(Table1[[#This Row],[School/Group Name]]=\"\",\"\",Table1[[#This Row],[School/Group Name]])","v":""},{"$f":"IF(Table1[[#This Row],[Pupil Name]]=\"\",\"\",Table1[[#This Row],[Pupil Name]])","v":""},{"$f":"IF(Table1[[#This Row],[Gender (M/F)]]=\"\",\"\",Table1[[#This Row],[Gender (M/F)]])","v":""},{"$f":"IF(Table1[[#This Row],[DisAdv (Y/N)]]=\"\",\"\",Table1[[#This Row],[DisAdv (Y/N)]])","v":""},{"$f":"IF(Table1[[#This Row],[SEND (E,K,N)]]=\"\",\"\",Table1[[#This Row],[SEND (E,K,N)]])","v":""},"",{"$f":"IF(LEN(Table7[[#This Row],[Pupil Name]])>0,1,0)","v":0}]
[{"$f":"IF(Table1[[#This Row],[School/Group Name]]=\"\",\"\",Table1[[#This Row],[School/Group Name]])","v":""},{"$f":"IF(Table1[[#This Row],[Pupil Name]]=\"\",\"\",Table1[[#This Row],[Pupil Name]])","v":""},{"$f":"IF(Table1[[#This Row],[Gender (M/F)]]=\"\",\"\",Table1[[#This Row],[Gender (M/F)]])","v":""},{"$f":"IF(Table1[[#This Row],[DisAdv (Y/N)]]=\"\",\"\",Table1[[#This Row],[DisAdv (Y/N)]])","v":""},{"$f":"IF(Table1[[#This Row],[SEND (E,K,N)]]=\"\",\"\",Table1[[#This Row],[SEND (E,K,N)]])","v":""},"",{"$f":"IF(LEN(Table7[[#This Row],[Pupil Name]])>0,1,0)","v":0}]
[{"$f":"IF(Table1[[#This Row],[School/Group Name]]=\"\",\"\",Table1[[#This Row],[School/Group Name]])","v":""},{"$f":"IF(Table1[[#This Row],[Pupil Name]]=\"\",\"\",Table1[[#This Row],[Pupil Name]])","v":""},{"$f":"IF(Table1[[#This Row],[Gender (M/F)]]=\"\",\"\",Table1[[#This Row],[Gender (M/F)]])","v":""},{"$f":"IF(Table1[[#This Row],[DisAdv (Y/N)]]=\"\",\"\",Table1[[#This Row],[DisAdv (Y/N)]])","v":""},{"$f":"IF(Table1[[#This Row],[SEND (E,K,N)]]=\"\",\"\",Table1[[#This Row],[SEND (E,K,N)]])","v":""},"",{"$f":"IF(LEN(Table7[[#This Row],[Pupil Name]])>0,1,0)","v":0}]
[{"$f":"IF(Table1[[#This Row],[School/Group Name]]=\"\",\"\",Table1[[#This Row],[School/Group Name]])","v":""},{"$f":"IF(Table1[[#This Row],[Pupil Name]]=\"\",\"\",Table1[[#This Row],[Pupil Name]])","v":""},{"$f":"IF(Table1[[#This Row],[Gender (M/F)]]=\"\",\"\",Table1[[#This Row],[Gender (M/F)]])","v":""},{"$f":"IF(Table1[[#This Row],[DisAdv (Y/N)]]=\"\",\"\",Table1[[#This Row],[DisAdv (Y/N)]])","v":""},{"$f":"IF(Table1[[#This Row],[SEND (E,K,N)]]=\"\",\"\",Table1[[#This Row],[SEND (E,K,N)]])","v":""},"",{"$f":"IF(LEN(Table7[[#This Row],[Pupil Name]])>0,1,0)","v":0}]
[{"$f":"IF(Table1[[#This Row],[School/Group Name]]=\"\",\"\",Table1[[#This Row],[School/Group Name]])","v":""},{"$f":"IF(Table1[[#This Row],[Pupil Name]]=\"\",\"\",Table1[[#This Row],[Pupil Name]])","v":""},{"$f":"IF(Table1[[#This Row],[Gender (M/F)]]=\"\",\"\",Table1[[#This Row],[Gender (M/F)]])","v":""},{"$f":"IF(Table1[[#This Row],[DisAdv (Y/N)]]=\"\",\"\",Table1[[#This Row],[DisAdv (Y/N)]])","v":""},{"$f":"IF(Table1[[#This Row],[SEND (E,K,N)]]=\"\",\"\",Table1[[#This Row],[SEND (E,K,N)]])","v":""},"",{"$f":"IF(LEN(Table7[[#This Row],[Pupil Name]])>0,1,0)","v":0}]
[{"$f":"IF(Table1[[#This Row],[School/Group Name]]=\"\",\"\",Table1[[#This Row],[School/Group Name]])","v":""},{"$f":"IF(Table1[[#This Row],[Pupil Name]]=\"\",\"\",Table1[[#This Row],[Pupil Name]])","v":""},{"$f":"IF(Table1[[#This Row],[Gender (M/F)]]=\"\",\"\",Table1[[#This Row],[Gender (M/F)]])","v":""},{"$f":"IF(Table1[[#This Row],[DisAdv (Y/N)]]=\"\",\"\",Table1[[#This Row],[DisAdv (Y/N)]])","v":""},{"$f":"IF(Table1[[#This Row],[SEND (E,K,N)]]=\"\",\"\",Table1[[#This Row],[SEND (E,K,N)]])","v":""},"",{"$f":"IF(LEN(Table7[[#This Row],[Pupil Name]])>0,1,0)","v":0}]
[{"$f":"IF(Table1[[#This Row],[School/Group Name]]=\"\",\"\",Table1[[#This Row],[School/Group Name]])","v":""},{"$f":"IF(Table1[[#This Row],[Pupil Name]]=\"\",\"\",Table1[[#This Row],[Pupil Name]])","v":""},{"$f":"IF(Table1[[#This Row],[Gender (M/F)]]=\"\",\"\",Table1[[#This Row],[Gender (M/F)]])","v":""},{"$f":"IF(Table1[[#This Row],[DisAdv (Y/N)]]=\"\",\"\",Table1[[#This Row],[DisAdv (Y/N)]])","v":""},{"$f":"IF(Table1[[#This Row],[SEND (E,K,N)]]=\"\",\"\",Table1[[#This Row],[SEND (E,K,N)]])","v":""},"",{"$f":"IF(LEN(Table7[[#This Row],[Pupil Name]])>0,1,0)","v":0}]
[{"$f":"IF(Table1[[#This Row],[School/Group Name]]=\"\",\"\",Table1[[#This Row],[School/Group Name]])","v":""},{"$f":"IF(Table1[[#This Row],[Pupil Name]]=\"\",\"\",Table1[[#This Row],[Pupil Name]])","v":""},{"$f":"IF(Table1[[#This Row],[Gender (M/F)]]=\"\",\"\",Table1[[#This Row],[Gender (M/F)]])","v":""},{"$f":"IF(Table1[[#This Row],[DisAdv (Y/N)]]=\"\",\"\",Table1[[#This Row],[DisAdv (Y/N)]])","v":""},{"$f":"IF(Table1[[#This Row],[SEND (E,K,N)]]=\"\",\"\",Table1[[#This Row],[SEND (E,K,N)]])","v":""},"",{"$f":"IF(LEN(Table7[[#This Row],[Pupil Name]])>0,1,0)","v":0}]
[{"$f":"IF(Table1[[#This Row],[School/Group Name]]=\"\",\"\",Table1[[#This Row],[School/Group Name]])","v":""},{"$f":"IF(Table1[[#This Row],[Pupil Name]]=\"\",\"\",Table1[[#This Row],[Pupil Name]])","v":""},{"$f":"IF(Table1[[#This Row],[Gender (M/F)]]=\"\",\"\",Table1[[#This Row],[Gender (M/F)]])","v":""},{"$f":"IF(Table1[[#This Row],[DisAdv (Y/N)]]=\"\",\"\",Table1[[#This Row],[DisAdv (Y/N)]])","v":""},{"$f":"IF(Table1[[#This Row],[SEND (E,K,N)]]=\"\",\"\",Table1[[#This Row],[SEND (E,K,N)]])","v":""},"",{"$f":"IF(LEN(Table7[[#This Row],[Pupil Name]])>0,1,0)","v":0}]
[{"$f":"IF(Table1[[#This Row],[School/Group Name]]=\"\",\"\",Table1[[#This Row],[School/Group Name]])","v":""},{"$f":"IF(Table1[[#This Row],[Pupil Name]]=\"\",\"\",Table1[[#This Row],[Pupil Name]])","v":""},{"$f":"IF(Table1[[#This Row],[Gender (M/F)]]=\"\",\"\",Table1[[#This Row],[Gender (M/F)]])","v":""},{"$f":"IF(Table1[[#This Row],[DisAdv (Y/N)]]=\"\",\"\",Table1[[#This Row],[DisAdv (Y/N)]])","v":""},{"$f":"IF(Table1[[#This Row],[SEND (E,K,N)]]=\"\",\"\",Table1[[#This Row],[SEND (E,K,N)]])","v":""},"",{"$f":"IF(LEN(Table7[[#This Row],[Pupil Name]])>0,1,0)","v":0}]
[{"$f":"IF(Table1[[#This Row],[School/Group Name]]=\"\",\"\",Table1[[#This Row],[School/Group Name]])","v":""},{"$f":"IF(Table1[[#This Row],[Pupil Name]]=\"\",\"\",Table1[[#This Row],[Pupil Name]])","v":""},{"$f":"IF(Table1[[#This Row],[Gender (M/F)]]=\"\",\"\",Table1[[#This Row],[Gender (M/F)]])","v":""},{"$f":"IF(Table1[[#This Row],[DisAdv (Y/N)]]=\"\",\"\",Table1[[#This Row],[DisAdv (Y/N)]])","v":""},{"$f":"IF(Table1[[#This Row],[SEND (E,K,N)]]=\"\",\"\",Table1[[#This Row],[SEND (E,K,N)]])","v":""},"",{"$f":"IF(LEN(Table7[[#This Row],[Pupil Name]])>0,1,0)","v":0}]
[{"$f":"IF(Table1[[#This Row],[School/Group Name]]=\"\",\"\",Table1[[#This Row],[School/Group Name]])","v":""},{"$f":"IF(Table1[[#This Row],[Pupil Name]]=\"\",\"\",Table1[[#This Row],[Pupil Name]])","v":""},{"$f":"IF(Table1[[#This Row],[Gender (M/F)]]=\"\",\"\",Table1[[#This Row],[Gender (M/F)]])","v":""},{"$f":"IF(Table1[[#This Row],[DisAdv (Y/N)]]=\"\",\"\",Table1[[#This Row],[DisAdv (Y/N)]])","v":""},{"$f":"IF(Table1[[#This Row],[SEND (E,K,N)]]=\"\",\"\",Table1[[#This Row],[SEND (E,K,N)]])","v":""},"",{"$f":"IF(LEN(Table7[[#This Row],[Pupil Name]])>0,1,0)","v":0}]
[{"$f":"IF(Table1[[#This Row],[School/Group Name]]=\"\",\"\",Table1[[#This Row],[School/Group Name]])","v":""},{"$f":"IF(Table1[[#This Row],[Pupil Name]]=\"\",\"\",Table1[[#This Row],[Pupil Name]])","v":""},{"$f":"IF(Table1[[#This Row],[Gender (M/F)]]=\"\",\"\",Table1[[#This Row],[Gender (M/F)]])","v":""},{"$f":"IF(Table1[[#This Row],[DisAdv (Y/N)]]=\"\",\"\",Table1[[#This Row],[DisAdv (Y/N)]])","v":""},{"$f":"IF(Table1[[#This Row],[SEND (E,K,N)]]=\"\",\"\",Table1[[#This Row],[SEND (E,K,N)]])","v":""},"",{"$f":"IF(LEN(Table7[[#This Row],[Pupil Name]])>0,1,0)","v":0}]
[{"$f":"IF(Table1[[#This Row],[School/Group Name]]=\"\",\"\",Table1[[#This Row],[School/Group Name]])","v":""},{"$f":"IF(Table1[[#This Row],[Pupil Name]]=\"\",\"\",Table1[[#This Row],[Pupil Name]])","v":""},{"$f":"IF(Table1[[#This Row],[Gender (M/F)]]=\"\",\"\",Table1[[#This Row],[Gender (M/F)]])","v":""},{"$f":"IF(Table1[[#This Row],[DisAdv (Y/N)]]=\"\",\"\",Table1[[#This Row],[DisAdv (Y/N)]])","v":""},{"$f":"IF(Table1[[#This Row],[SEND (E,K,N)]]=\"\",\"\",Table1[[#This Row],[SEND (E,K,N)]])","v":""},"",{"$f":"IF(LEN(Table7[[#This Row],[Pupil Name]])>0,1,0)","v":0}]
[{"$f":"IF(Table1[[#This Row],[School/Group Name]]=\"\",\"\",Table1[[#This Row],[School/Group Name]])","v":""},{"$f":"IF(Table1[[#This Row],[Pupil Name]]=\"\",\"\",Table1[[#This Row],[Pupil Name]])","v":""},{"$f":"IF(Table1[[#This Row],[Gender (M/F)]]=\"\",\"\",Table1[[#This Row],[Gender (M/F)]])","v":""},{"$f":"IF(Table1[[#This Row],[DisAdv (Y/N)]]=\"\",\"\",Table1[[#This Row],[DisAdv (Y/N)]])","v":""},{"$f":"IF(Table1[[#This Row],[SEND (E,K,N)]]=\"\",\"\",Table1[[#This Row],[SEND (E,K,N)]])","v":""},"",{"$f":"IF(LEN(Table7[[#This Row],[Pupil Name]])>0,1,0)","v":0}]
[{"$f":"IF(Table1[[#This Row],[School/Group Name]]=\"\",\"\",Table1[[#This Row],[School/Group Name]])","v":""},{"$f":"IF(Table1[[#This Row],[Pupil Name]]=\"\",\"\",Table1[[#This Row],[Pupil Name]])","v":""},{"$f":"IF(Table1[[#This Row],[Gender (M/F)]]=\"\",\"\",Table1[[#This Row],[Gender (M/F)]])","v":""},{"$f":"IF(Table1[[#This Row],[DisAdv (Y/N)]]=\"\",\"\",Table1[[#This Row],[DisAdv (Y/N)]])","v":""},{"$f":"IF(Table1[[#This Row],[SEND (E,K,N)]]=\"\",\"\",Table1[[#This Row],[SEND (E,K,N)]])","v":""},"",{"$f":"IF(LEN(Table7[[#This Row],[Pupil Name]])>0,1,0)","v":0}]
[{"$f":"IF(Table1[[#This Row],[School/Group Name]]=\"\",\"\",Table1[[#This Row],[School/Group Name]])","v":""},{"$f":"IF(Table1[[#This Row],[Pupil Name]]=\"\",\"\",Table1[[#This Row],[Pupil Name]])","v":""},{"$f":"IF(Table1[[#This Row],[Gender (M/F)]]=\"\",\"\",Table1[[#This Row],[Gender (M/F)]])","v":""},{"$f":"IF(Table1[[#This Row],[DisAdv (Y/N)]]=\"\",\"\",Table1[[#This Row],[DisAdv (Y/N)]])","v":""},{"$f":"IF(Table1[[#This Row],[SEND (E,K,N)]]=\"\",\"\",Table1[[#This Row],[SEND (E,K,N)]])","v":""},"",{"$f":"IF(LEN(Table7[[#This Row],[Pupil Name]])>0,1,0)","v":0}]
[{"$f":"IF(Table1[[#This Row],[School/Group Name]]=\"\",\"\",Table1[[#This Row],[School/Group Name]])","v":""},{"$f":"IF(Table1[[#This Row],[Pupil Name]]=\"\",\"\",Table1[[#This Row],[Pupil Name]])","v":""},{"$f":"IF(Table1[[#This Row],[Gender (M/F)]]=\"\",\"\",Table1[[#This Row],[Gender (M/F)]])","v":""},{"$f":"IF(Table1[[#This Row],[DisAdv (Y/N)]]=\"\",\"\",Table1[[#This Row],[DisAdv (Y/N)]])","v":""},{"$f":"IF(Table1[[#This Row],[SEND (E,K,N)]]=\"\",\"\",Table1[[#This Row],[SEND (E,K,N)]])","v":""},"",{"$f":"IF(LEN(Table7[[#This Row],[Pupil Name]])>0,1,0)","v":0}]
[{"$f":"IF(Table1[[#This Row],[School/Group Name]]=\"\",\"\",Table1[[#This Row],[School/Group Name]])","v":""},{"$f":"IF(Table1[[#This Row],[Pupil Name]]=\"\",\"\",Table1[[#This Row],[Pupil Name]])","v":""},{"$f":"IF(Table1[[#This Row],[Gender (M/F)]]=\"\",\"\",Table1[[#This Row],[Gender (M/F)]])","v":""},{"$f":"IF(Table1[[#This Row],[DisAdv (Y/N)]]=\"\",\"\",Table1[[#This Row],[DisAdv (Y/N)]])","v":""},{"$f":"IF(Table1[[#This Row],[SEND (E,K,N)]]=\"\",\"\",Table1[[#This Row],[SEND (E,K,N)]])","v":""},"",{"$f":"IF(LEN(Table7[[#This Row],[Pupil Name]])>0,1,0)","v":0}]
[{"$f":"IF(Table1[[#This Row],[School/Group Name]]=\"\",\"\",Table1[[#This Row],[School/Group Name]])","v":""},{"$f":"IF(Table1[[#This Row],[Pupil Name]]=\"\",\"\",Table1[[#This Row],[Pupil Name]])","v":""},{"$f":"IF(Table1[[#This Row],[Gender (M/F)]]=\"\",\"\",Table1[[#This Row],[Gender (M/F)]])","v":""},{"$f":"IF(Table1[[#This Row],[DisAdv (Y/N)]]=\"\",\"\",Table1[[#This Row],[DisAdv (Y/N)]])","v":""},{"$f":"IF(Table1[[#This Row],[SEND (E,K,N)]]=\"\",\"\",Table1[[#This Row],[SEND (E,K,N)]])","v":""},"",{"$f":"IF(LEN(Table7[[#This Row],[Pupil Name]])>0,1,0)","v":0}]
[{"$f":"IF(Table1[[#This Row],[School/Group Name]]=\"\",\"\",Table1[[#This Row],[School/Group Name]])","v":""},{"$f":"IF(Table1[[#This Row],[Pupil Name]]=\"\",\"\",Table1[[#This Row],[Pupil Name]])","v":""},{"$f":"IF(Table1[[#This Row],[Gender (M/F)]]=\"\",\"\",Table1[[#This Row],[Gender (M/F)]])","v":""},{"$f":"IF(Table1[[#This Row],[DisAdv (Y/N)]]=\"\",\"\",Table1[[#This Row],[DisAdv (Y/N)]])","v":""},{"$f":"IF(Table1[[#This Row],[SEND (E,K,N)]]=\"\",\"\",Table1[[#This Row],[SEND (E,K,N)]])","v":""},"",{"$f":"IF(LEN(Table7[[#This Row],[Pupil Name]])>0,1,0)","v":0}]
[{"$f":"IF(Table1[[#This Row],[School/Group Name]]=\"\",\"\",Table1[[#This Row],[School/Group Name]])","v":""},{"$f":"IF(Table1[[#This Row],[Pupil Name]]=\"\",\"\",Table1[[#This Row],[Pupil Name]])","v":""},{"$f":"IF(Table1[[#This Row],[Gender (M/F)]]=\"\",\"\",Table1[[#This Row],[Gender (M/F)]])","v":""},{"$f":"IF(Table1[[#This Row],[DisAdv (Y/N)]]=\"\",\"\",Table1[[#This Row],[DisAdv (Y/N)]])","v":""},{"$f":"IF(Table1[[#This Row],[SEND (E,K,N)]]=\"\",\"\",Table1[[#This Row],[SEND (E,K,N)]])","v":""},"",{"$f":"IF(LEN(Table7[[#This Row],[Pupil Name]])>0,1,0)","v":0}]
[{"$f":"IF(Table1[[#This Row],[School/Group Name]]=\"\",\"\",Table1[[#This Row],[School/Group Name]])","v":""},{"$f":"IF(Table1[[#This Row],[Pupil Name]]=\"\",\"\",Table1[[#This Row],[Pupil Name]])","v":""},{"$f":"IF(Table1[[#This Row],[Gender (M/F)]]=\"\",\"\",Table1[[#This Row],[Gender (M/F)]])","v":""},{"$f":"IF(Table1[[#This Row],[DisAdv (Y/N)]]=\"\",\"\",Table1[[#This Row],[DisAdv (Y/N)]])","v":""},{"$f":"IF(Table1[[#This Row],[SEND (E,K,N)]]=\"\",\"\",Table1[[#This Row],[SEND (E,K,N)]])","v":""},"",{"$f":"IF(LEN(Table7[[#This Row],[Pupil Name]])>0,1,0)","v":0}]
[{"$f":"IF(Table1[[#This Row],[School/Group Name]]=\"\",\"\",Table1[[#This Row],[School/Group Name]])","v":""},{"$f":"IF(Table1[[#This Row],[Pupil Name]]=\"\",\"\",Table1[[#This Row],[Pupil Name]])","v":""},{"$f":"IF(Table1[[#This Row],[Gender (M/F)]]=\"\",\"\",Table1[[#This Row],[Gender (M/F)]])","v":""},{"$f":"IF(Table1[[#This Row],[DisAdv (Y/N)]]=\"\",\"\",Table1[[#This Row],[DisAdv (Y/N)]])","v":""},{"$f":"IF(Table1[[#This Row],[SEND (E,K,N)]]=\"\",\"\",Table1[[#This Row],[SEND (E,K,N)]])","v":""},"",{"$f":"IF(LEN(Table7[[#This Row],[Pupil Name]])>0,1,0)","v":0}]
[{"$f":"IF(Table1[[#This Row],[School/Group Name]]=\"\",\"\",Table1[[#This Row],[School/Group Name]])","v":""},{"$f":"IF(Table1[[#This Row],[Pupil Name]]=\"\",\"\",Table1[[#This Row],[Pupil Name]])","v":""},{"$f":"IF(Table1[[#This Row],[Gender (M/F)]]=\"\",\"\",Table1[[#This Row],[Gender (M/F)]])","v":""},{"$f":"IF(Table1[[#This Row],[DisAdv (Y/N)]]=\"\",\"\",Table1[[#This Row],[DisAdv (Y/N)]])","v":""},{"$f":"IF(Table1[[#This Row],[SEND (E,K,N)]]=\"\",\"\",Table1[[#This Row],[SEND (E,K,N)]])","v":""},"",{"$f":"IF(LEN(Table7[[#This Row],[Pupil Name]])>0,1,0)","v":0}]
[{"$f":"IF(Table1[[#This Row],[School/Group Name]]=\"\",\"\",Table1[[#This Row],[School/Group Name]])","v":""},{"$f":"IF(Table1[[#This Row],[Pupil Name]]=\"\",\"\",Table1[[#This Row],[Pupil Name]])","v":""},{"$f":"IF(Table1[[#This Row],[Gender (M/F)]]=\"\",\"\",Table1[[#This Row],[Gender (M/F)]])","v":""},{"$f":"IF(Table1[[#This Row],[DisAdv (Y/N)]]=\"\",\"\",Table1[[#This Row],[DisAdv (Y/N)]])","v":""},{"$f":"IF(Table1[[#This Row],[SEND (E,K,N)]]=\"\",\"\",Table1[[#This Row],[SEND (E,K,N)]])","v":""},"",{"$f":"IF(LEN(Table7[[#This Row],[Pupil Name]])>0,1,0)","v":0}]
[{"$f":"IF(Table1[[#This Row],[School/Group Name]]=\"\",\"\",Table1[[#This Row],[School/Group Name]])","v":""},{"$f":"IF(Table1[[#This Row],[Pupil Name]]=\"\",\"\",Table1[[#This Row],[Pupil Name]])","v":""},{"$f":"IF(Table1[[#This Row],[Gender (M/F)]]=\"\",\"\",Table1[[#This Row],[Gender (M/F)]])","v":""},{"$f":"IF(Table1[[#This Row],[DisAdv (Y/N)]]=\"\",\"\",Table1[[#This Row],[DisAdv (Y/N)]])","v":""},{"$f":"IF(Table1[[#This Row],[SEND (E,K,N)]]=\"\",\"\",Table1[[#This Row],[SEND (E,K,N)]])","v":""},"",{"$f":"IF(LEN(Table7[[#This Row],[Pupil Name]])>0,1,0)","v":0}]
[{"$f":"IF(Table1[[#This Row],[School/Group Name]]=\"\",\"\",Table1[[#This Row],[School/Group Name]])","v":""},{"$f":"IF(Table1[[#This Row],[Pupil Name]]=\"\",\"\",Table1[[#This Row],[Pupil Name]])","v":""},{"$f":"IF(Table1[[#This Row],[Gender (M/F)]]=\"\",\"\",Table1[[#This Row],[Gender (M/F)]])","v":""},{"$f":"IF(Table1[[#This Row],[DisAdv (Y/N)]]=\"\",\"\",Table1[[#This Row],[DisAdv (Y/N)]])","v":""},{"$f":"IF(Table1[[#This Row],[SEND (E,K,N)]]=\"\",\"\",Table1[[#This Row],[SEND (E,K,N)]])","v":""},"",{"$f":"IF(LEN(Table7[[#This Row],[Pupil Name]])>0,1,0)","v":0}]
[{"$f":"IF(Table1[[#This Row],[School/Group Name]]=\"\",\"\",Table1[[#This Row],[School/Group Name]])","v":""},{"$f":"IF(Table1[[#This Row],[Pupil Name]]=\"\",\"\",Table1[[#This Row],[Pupil Name]])","v":""},{"$f":"IF(Table1[[#This Row],[Gender (M/F)]]=\"\",\"\",Table1[[#This Row],[Gender (M/F)]])","v":""},{"$f":"IF(Table1[[#This Row],[DisAdv (Y/N)]]=\"\",\"\",Table1[[#This Row],[DisAdv (Y/N)]])","v":""},{"$f":"IF(Table1[[#This Row],[SEND (E,K,N)]]=\"\",\"\",Table1[[#This Row],[SEND (E,K,N)]])","v":""},"",{"$f":"IF(LEN(Table7[[#This Row],[Pupil Name]])>0,1,0)","v":0}]
[{"$f":"IF(Table1[[#This Row],[School/Group Name]]=\"\",\"\",Table1[[#This Row],[School/Group Name]])","v":""},{"$f":"IF(Table1[[#This Row],[Pupil Name]]=\"\",\"\",Table1[[#This Row],[Pupil Name]])","v":""},{"$f":"IF(Table1[[#This Row],[Gender (M/F)]]=\"\",\"\",Table1[[#This Row],[Gender (M/F)]])","v":""},{"$f":"IF(Table1[[#This Row],[DisAdv (Y/N)]]=\"\",\"\",Table1[[#This Row],[DisAdv (Y/N)]])","v":""},{"$f":"IF(Table1[[#This Row],[SEND (E,K,N)]]=\"\",\"\",Table1[[#This Row],[SEND (E,K,N)]])","v":""},"",{"$f":"IF(LEN(Table7[[#This Row],[Pupil Name]])>0,1,0)","v":0}]
[{"$f":"IF(Table1[[#This Row],[School/Group Name]]=\"\",\"\",Table1[[#This Row],[School/Group Name]])","v":""},{"$f":"IF(Table1[[#This Row],[Pupil Name]]=\"\",\"\",Table1[[#This Row],[Pupil Name]])","v":""},{"$f":"IF(Table1[[#This Row],[Gender (M/F)]]=\"\",\"\",Table1[[#This Row],[Gender (M/F)]])","v":""},{"$f":"IF(Table1[[#This Row],[DisAdv (Y/N)]]=\"\",\"\",Table1[[#This Row],[DisAdv (Y/N)]])","v":""},{"$f":"IF(Table1[[#This Row],[SEND (E,K,N)]]=\"\",\"\",Table1[[#This Row],[SEND (E,K,N)]])","v":""},"",{"$f":"IF(LEN(Table7[[#This Row],[Pupil Name]])>0,1,0)","v":0}]
[{"$f":"IF(Table1[[#This Row],[School/Group Name]]=\"\",\"\",Table1[[#This Row],[School/Group Name]])","v":""},{"$f":"IF(Table1[[#This Row],[Pupil Name]]=\"\",\"\",Table1[[#This Row],[Pupil Name]])","v":""},{"$f":"IF(Table1[[#This Row],[Gender (M/F)]]=\"\",\"\",Table1[[#This Row],[Gender (M/F)]])","v":""},{"$f":"IF(Table1[[#This Row],[DisAdv (Y/N)]]=\"\",\"\",Table1[[#This Row],[DisAdv (Y/N)]])","v":""},{"$f":"IF(Table1[[#This Row],[SEND (E,K,N)]]=\"\",\"\",Table1[[#This Row],[SEND (E,K,N)]])","v":""},"",{"$f":"IF(LEN(Table7[[#This Row],[Pupil Name]])>0,1,0)","v":0}]
[{"$f":"IF(Table1[[#This Row],[School/Group Name]]=\"\",\"\",Table1[[#This Row],[School/Group Name]])","v":""},{"$f":"IF(Table1[[#This Row],[Pupil Name]]=\"\",\"\",Table1[[#This Row],[Pupil Name]])","v":""},{"$f":"IF(Table1[[#This Row],[Gender (M/F)]]=\"\",\"\",Table1[[#This Row],[Gender (M/F)]])","v":""},{"$f":"IF(Table1[[#This Row],[DisAdv (Y/N)]]=\"\",\"\",Table1[[#This Row],[DisAdv (Y/N)]])","v":""},{"$f":"IF(Table1[[#This Row],[SEND (E,K,N)]]=\"\",\"\",Table1[[#This Row],[SEND (E,K,N)]])","v":""},"",{"$f":"IF(LEN(Table7[[#This Row],[Pupil Name]])>0,1,0)","v":0}]
[{"$f":"IF(Table1[[#This Row],[School/Group Name]]=\"\",\"\",Table1[[#This Row],[School/Group Name]])","v":""},{"$f":"IF(Table1[[#This Row],[Pupil Name]]=\"\",\"\",Table1[[#This Row],[Pupil Name]])","v":""},{"$f":"IF(Table1[[#This Row],[Gender (M/F)]]=\"\",\"\",Table1[[#This Row],[Gender (M/F)]])","v":""},{"$f":"IF(Table1[[#This Row],[DisAdv (Y/N)]]=\"\",\"\",Table1[[#This Row],[DisAdv (Y/N)]])","v":""},{"$f":"IF(Table1[[#This Row],[SEND (E,K,N)]]=\"\",\"\",Table1[[#This Row],[SEND (E,K,N)]])","v":""},"",{"$f":"IF(LEN(Table7[[#This Row],[Pupil Name]])>0,1,0)","v":0}]
[{"$f":"IF(Table1[[#This Row],[School/Group Name]]=\"\",\"\",Table1[[#This Row],[School/Group Name]])","v":""},{"$f":"IF(Table1[[#This Row],[Pupil Name]]=\"\",\"\",Table1[[#This Row],[Pupil Name]])","v":""},{"$f":"IF(Table1[[#This Row],[Gender (M/F)]]=\"\",\"\",Table1[[#This Row],[Gender (M/F)]])","v":""},{"$f":"IF(Table1[[#This Row],[DisAdv (Y/N)]]=\"\",\"\",Table1[[#This Row],[DisAdv (Y/N)]])","v":""},{"$f":"IF(Table1[[#This Row],[SEND (E,K,N)]]=\"\",\"\",Table1[[#This Row],[SEND (E,K,N)]])","v":""},"",{"$f":"IF(LEN(Table7[[#This Row],[Pupil Name]])>0,1,0)","v":0}]
[{"$f":"IF(Table1[[#This Row],[School/Group Name]]=\"\",\"\",Table1[[#This Row],[School/Group Name]])","v":""},{"$f":"IF(Table1[[#This Row],[Pupil Name]]=\"\",\"\",Table1[[#This Row],[Pupil Name]])","v":""},{"$f":"IF(Table1[[#This Row],[Gender (M/F)]]=\"\",\"\",Table1[[#This Row],[Gender (M/F)]])","v":""},{"$f":"IF(Table1[[#This Row],[DisAdv (Y/N)]]=\"\",\"\",Table1[[#This Row],[DisAdv (Y/N)]])","v":""},{"$f":"IF(Table1[[#This Row],[SEND (E,K,N)]]=\"\",\"\",Table1[[#This Row],[SEND (E,K,N)]])","v":""},"",{"$f":"IF(LEN(Table7[[#This Row],[Pupil Name]])>0,1,0)","v":0}]
[{"$f":"IF(Table1[[#This Row],[School/Group Name]]=\"\",\"\",Table1[[#This Row],[School/Group Name]])","v":""},{"$f":"IF(Table1[[#This Row],[Pupil Name]]=\"\",\"\",Table1[[#This Row],[Pupil Name]])","v":""},{"$f":"IF(Table1[[#This Row],[Gender (M/F)]]=\"\",\"\",Table1[[#This Row],[Gender (M/F)]])","v":""},{"$f":"IF(Table1[[#This Row],[DisAdv (Y/N)]]=\"\",\"\",Table1[[#This Row],[DisAdv (Y/N)]])","v":""},{"$f":"IF(Table1[[#This Row],[SEND (E,K,N)]]=\"\",\"\",Table1[[#This Row],[SEND (E,K,N)]])","v":""},{"$f":"IF(H199=\"\",\"\",(SUM(H199:AA199)))","v":""},{"$f":"IF(LEN(Table7[[#This Row],[Pupil Name]])>0,1,0)","v":0}]
[{"$f":"IF(Table1[[#This Row],[School/Group Name]]=\"\",\"\",Table1[[#This Row],[School/Group Name]])","v":""},{"$f":"IF(Table1[[#This Row],[Pupil Name]]=\"\",\"\",Table1[[#This Row],[Pupil Name]])","v":""},{"$f":"IF(Table1[[#This Row],[Gender (M/F)]]=\"\",\"\",Table1[[#This Row],[Gender (M/F)]])","v":""},{"$f":"IF(Table1[[#This Row],[DisAdv (Y/N)]]=\"\",\"\",Table1[[#This Row],[DisAdv (Y/N)]])","v":""},{"$f":"IF(Table1[[#This Row],[SEND (E,K,N)]]=\"\",\"\",Table1[[#This Row],[SEND (E,K,N)]])","v":""},"",{"$f":"IF(LEN(Table7[[#This Row],[Pupil Name]])>0,1,0)","v":0}]
[{"$f":"IF(Table1[[#This Row],[School/Group Name]]=\"\",\"\",Table1[[#This Row],[School/Group Name]])","v":""},{"$f":"IF(Table1[[#This Row],[Pupil Name]]=\"\",\"\",Table1[[#This Row],[Pupil Name]])","v":""},{"$f":"IF(Table1[[#This Row],[Gender (M/F)]]=\"\",\"\",Table1[[#This Row],[Gender (M/F)]])","v":""},{"$f":"IF(Table1[[#This Row],[DisAdv (Y/N)]]=\"\",\"\",Table1[[#This Row],[DisAdv (Y/N)]])","v":""},{"$f":"IF(Table1[[#This Row],[SEND (E,K,N)]]=\"\",\"\",Table1[[#This Row],[SEND (E,K,N)]])","v":""},"",{"$f":"IF(LEN(Table7[[#This Row],[Pupil Name]])>0,1,0)","v":0}]
[{"$f":"IF(Table1[[#This Row],[School/Group Name]]=\"\",\"\",Table1[[#This Row],[School/Group Name]])","v":""},{"$f":"IF(Table1[[#This Row],[Pupil Name]]=\"\",\"\",Table1[[#This Row],[Pupil Name]])","v":""},{"$f":"IF(Table1[[#This Row],[Gender (M/F)]]=\"\",\"\",Table1[[#This Row],[Gender (M/F)]])","v":""},{"$f":"IF(Table1[[#This Row],[DisAdv (Y/N)]]=\"\",\"\",Table1[[#This Row],[DisAdv (Y/N)]])","v":""},{"$f":"IF(Table1[[#This Row],[SEND (E,K,N)]]=\"\",\"\",Table1[[#This Row],[SEND (E,K,N)]])","v":""},"",{"$f":"IF(LEN(Table7[[#This Row],[Pupil Name]])>0,1,0)","v":0}]
[{"$f":"IF(Table1[[#This Row],[School/Group Name]]=\"\",\"\",Table1[[#This Row],[School/Group Name]])","v":""},{"$f":"IF(Table1[[#This Row],[Pupil Name]]=\"\",\"\",Table1[[#This Row],[Pupil Name]])","v":""},{"$f":"IF(Table1[[#This Row],[Gender (M/F)]]=\"\",\"\",Table1[[#This Row],[Gender (M/F)]])","v":""},{"$f":"IF(Table1[[#This Row],[DisAdv (Y/N)]]=\"\",\"\",Table1[[#This Row],[DisAdv (Y/N)]])","v":""},{"$f":"IF(Table1[[#This Row],[SEND (E,K,N)]]=\"\",\"\",Table1[[#This Row],[SEND (E,K,N)]])","v":""},"",{"$f":"IF(LEN(Table7[[#This Row],[Pupil Name]])>0,1,0)","v":0}]
[{"$f":"IF(Table1[[#This Row],[School/Group Name]]=\"\",\"\",Table1[[#This Row],[School/Group Name]])","v":""},{"$f":"IF(Table1[[#This Row],[Pupil Name]]=\"\",\"\",Table1[[#This Row],[Pupil Name]])","v":""},{"$f":"IF(Table1[[#This Row],[Gender (M/F)]]=\"\",\"\",Table1[[#This Row],[Gender (M/F)]])","v":""},{"$f":"IF(Table1[[#This Row],[DisAdv (Y/N)]]=\"\",\"\",Table1[[#This Row],[DisAdv (Y/N)]])","v":""},{"$f":"IF(Table1[[#This Row],[SEND (E,K,N)]]=\"\",\"\",Table1[[#This Row],[SEND (E,K,N)]])","v":""},"",{"$f":"IF(LEN(Table7[[#This Row],[Pupil Name]])>0,1,0)","v":0}]
[{"$f":"IF(Table1[[#This Row],[School/Group Name]]=\"\",\"\",Table1[[#This Row],[School/Group Name]])","v":""},{"$f":"IF(Table1[[#This Row],[Pupil Name]]=\"\",\"\",Table1[[#This Row],[Pupil Name]])","v":""},{"$f":"IF(Table1[[#This Row],[Gender (M/F)]]=\"\",\"\",Table1[[#This Row],[Gender (M/F)]])","v":""},{"$f":"IF(Table1[[#This Row],[DisAdv (Y/N)]]=\"\",\"\",Table1[[#This Row],[DisAdv (Y/N)]])","v":""},{"$f":"IF(Table1[[#This Row],[SEND (E,K,N)]]=\"\",\"\",Table1[[#This Row],[SEND (E,K,N)]])","v":""},"",{"$f":"IF(LEN(Table7[[#This Row],[Pupil Name]])>0,1,0)","v":0}]
[{"$f":"IF(Table1[[#This Row],[School/Group Name]]=\"\",\"\",Table1[[#This Row],[School/Group Name]])","v":""},{"$f":"IF(Table1[[#This Row],[Pupil Name]]=\"\",\"\",Table1[[#This Row],[Pupil Name]])","v":""},{"$f":"IF(Table1[[#This Row],[Gender (M/F)]]=\"\",\"\",Table1[[#This Row],[Gender (M/F)]])","v":""},{"$f":"IF(Table1[[#This Row],[DisAdv (Y/N)]]=\"\",\"\",Table1[[#This Row],[DisAdv (Y/N)]])","v":""},{"$f":"IF(Table1[[#This Row],[SEND (E,K,N)]]=\"\",\"\",Table1[[#This Row],[SEND (E,K,N)]])","v":""},"",{"$f":"IF(LEN(Table7[[#This Row],[Pupil Name]])>0,1,0)","v":0}]
[{"$f":"IF(Table1[[#This Row],[School/Group Name]]=\"\",\"\",Table1[[#This Row],[School/Group Name]])","v":""},{"$f":"IF(Table1[[#This Row],[Pupil Name]]=\"\",\"\",Table1[[#This Row],[Pupil Name]])","v":""},{"$f":"IF(Table1[[#This Row],[Gender (M/F)]]=\"\",\"\",Table1[[#This Row],[Gender (M/F)]])","v":""},{"$f":"IF(Table1[[#This Row],[DisAdv (Y/N)]]=\"\",\"\",Table1[[#This Row],[DisAdv (Y/N)]])","v":""},{"$f":"IF(Table1[[#This Row],[SEND (E,K,N)]]=\"\",\"\",Table1[[#This Row],[SEND (E,K,N)]])","v":""},"",{"$f":"IF(LEN(Table7[[#This Row],[Pupil Name]])>0,1,0)","v":0}]
[{"$f":"IF(Table1[[#This Row],[School/Group Name]]=\"\",\"\",Table1[[#This Row],[School/Group Name]])","v":""},{"$f":"IF(Table1[[#This Row],[Pupil Name]]=\"\",\"\",Table1[[#This Row],[Pupil Name]])","v":""},{"$f":"IF(Table1[[#This Row],[Gender (M/F)]]=\"\",\"\",Table1[[#This Row],[Gender (M/F)]])","v":""},{"$f":"IF(Table1[[#This Row],[DisAdv (Y/N)]]=\"\",\"\",Table1[[#This Row],[DisAdv (Y/N)]])","v":""},{"$f":"IF(Table1[[#This Row],[SEND (E,K,N)]]=\"\",\"\",Table1[[#This Row],[SEND (E,K,N)]])","v":""},"",{"$f":"IF(LEN(Table7[[#This Row],[Pupil Name]])>0,1,0)","v":0}]
[{"$f":"IF(Table1[[#This Row],[School/Group Name]]=\"\",\"\",Table1[[#This Row],[School/Group Name]])","v":""},{"$f":"IF(Table1[[#This Row],[Pupil Name]]=\"\",\"\",Table1[[#This Row],[Pupil Name]])","v":""},{"$f":"IF(Table1[[#This Row],[Gender (M/F)]]=\"\",\"\",Table1[[#This Row],[Gender (M/F)]])","v":""},{"$f":"IF(Table1[[#This Row],[DisAdv (Y/N)]]=\"\",\"\",Table1[[#This Row],[DisAdv (Y/N)]])","v":""},{"$f":"IF(Table1[[#This Row],[SEND (E,K,N)]]=\"\",\"\",Table1[[#This Row],[SEND (E,K,N)]])","v":""},"",{"$f":"IF(LEN(Table7[[#This Row],[Pupil Name]])>0,1,0)","v":0}]
[{"$f":"IF(Table1[[#This Row],[School/Group Name]]=\"\",\"\",Table1[[#This Row],[School/Group Name]])","v":""},{"$f":"IF(Table1[[#This Row],[Pupil Name]]=\"\",\"\",Table1[[#This Row],[Pupil Name]])","v":""},{"$f":"IF(Table1[[#This Row],[Gender (M/F)]]=\"\",\"\",Table1[[#This Row],[Gender (M/F)]])","v":""},{"$f":"IF(Table1[[#This Row],[DisAdv (Y/N)]]=\"\",\"\",Table1[[#This Row],[DisAdv (Y/N)]])","v":""},{"$f":"IF(Table1[[#This Row],[SEND (E,K,N)]]=\"\",\"\",Table1[[#This Row],[SEND (E,K,N)]])","v":""},"",{"$f":"IF(LEN(Table7[[#This Row],[Pupil Name]])>0,1,0)","v":0}]
[{"$f":"IF(Table1[[#This Row],[School/Group Name]]=\"\",\"\",Table1[[#This Row],[School/Group Name]])","v":""},{"$f":"IF(Table1[[#This Row],[Pupil Name]]=\"\",\"\",Table1[[#This Row],[Pupil Name]])","v":""},{"$f":"IF(Table1[[#This Row],[Gender (M/F)]]=\"\",\"\",Table1[[#This Row],[Gender (M/F)]])","v":""},{"$f":"IF(Table1[[#This Row],[DisAdv (Y/N)]]=\"\",\"\",Table1[[#This Row],[DisAdv (Y/N)]])","v":""},{"$f":"IF(Table1[[#This Row],[SEND (E,K,N)]]=\"\",\"\",Table1[[#This Row],[SEND (E,K,N)]])","v":""},"",{"$f":"IF(LEN(Table7[[#This Row],[Pupil Name]])>0,1,0)","v":0}]
[{"$f":"IF(Table1[[#This Row],[School/Group Name]]=\"\",\"\",Table1[[#This Row],[School/Group Name]])","v":""},{"$f":"IF(Table1[[#This Row],[Pupil Name]]=\"\",\"\",Table1[[#This Row],[Pupil Name]])","v":""},{"$f":"IF(Table1[[#This Row],[Gender (M/F)]]=\"\",\"\",Table1[[#This Row],[Gender (M/F)]])","v":""},{"$f":"IF(Table1[[#This Row],[DisAdv (Y/N)]]=\"\",\"\",Table1[[#This Row],[DisAdv (Y/N)]])","v":""},{"$f":"IF(Table1[[#This Row],[SEND (E,K,N)]]=\"\",\"\",Table1[[#This Row],[SEND (E,K,N)]])","v":""},"",{"$f":"IF(LEN(Table7[[#This Row],[Pupil Name]])>0,1,0)","v":0}]
[{"$f":"IF(Table1[[#This Row],[School/Group Name]]=\"\",\"\",Table1[[#This Row],[School/Group Name]])","v":""},{"$f":"IF(Table1[[#This Row],[Pupil Name]]=\"\",\"\",Table1[[#This Row],[Pupil Name]])","v":""},{"$f":"IF(Table1[[#This Row],[Gender (M/F)]]=\"\",\"\",Table1[[#This Row],[Gender (M/F)]])","v":""},{"$f":"IF(Table1[[#This Row],[DisAdv (Y/N)]]=\"\",\"\",Table1[[#This Row],[DisAdv (Y/N)]])","v":""},{"$f":"IF(Table1[[#This Row],[SEND (E,K,N)]]=\"\",\"\",Table1[[#This Row],[SEND (E,K,N)]])","v":""},"",{"$f":"IF(LEN(Table7[[#This Row],[Pupil Name]])>0,1,0)","v":0}]
[{"$f":"IF(Table1[[#This Row],[School/Group Name]]=\"\",\"\",Table1[[#This Row],[School/Group Name]])","v":""},{"$f":"IF(Table1[[#This Row],[Pupil Name]]=\"\",\"\",Table1[[#This Row],[Pupil Name]])","v":""},{"$f":"IF(Table1[[#This Row],[Gender (M/F)]]=\"\",\"\",Table1[[#This Row],[Gender (M/F)]])","v":""},{"$f":"IF(Table1[[#This Row],[DisAdv (Y/N)]]=\"\",\"\",Table1[[#This Row],[DisAdv (Y/N)]])","v":""},{"$f":"IF(Table1[[#This Row],[SEND (E,K,N)]]=\"\",\"\",Table1[[#This Row],[SEND (E,K,N)]])","v":""},"",{"$f":"IF(LEN(Table7[[#This Row],[Pupil Name]])>0,1,0)","v":0}]
[{"$f":"IF(Table1[[#This Row],[School/Group Name]]=\"\",\"\",Table1[[#This Row],[School/Group Name]])","v":""},{"$f":"IF(Table1[[#This Row],[Pupil Name]]=\"\",\"\",Table1[[#This Row],[Pupil Name]])","v":""},{"$f":"IF(Table1[[#This Row],[Gender (M/F)]]=\"\",\"\",Table1[[#This Row],[Gender (M/F)]])","v":""},{"$f":"IF(Table1[[#This Row],[DisAdv (Y/N)]]=\"\",\"\",Table1[[#This Row],[DisAdv (Y/N)]])","v":""},{"$f":"IF(Table1[[#This Row],[SEND (E,K,N)]]=\"\",\"\",Table1[[#This Row],[SEND (E,K,N)]])","v":""},"",{"$f":"IF(LEN(Table7[[#This Row],[Pupil Name]])>0,1,0)","v":0}]
[{"$f":"IF(Table1[[#This Row],[School/Group Name]]=\"\",\"\",Table1[[#This Row],[School/Group Name]])","v":""},{"$f":"IF(Table1[[#This Row],[Pupil Name]]=\"\",\"\",Table1[[#This Row],[Pupil Name]])","v":""},{"$f":"IF(Table1[[#This Row],[Gender (M/F)]]=\"\",\"\",Table1[[#This Row],[Gender (M/F)]])","v":""},{"$f":"IF(Table1[[#This Row],[DisAdv (Y/N)]]=\"\",\"\",Table1[[#This Row],[DisAdv (Y/N)]])","v":""},{"$f":"IF(Table1[[#This Row],[SEND (E,K,N)]]=\"\",\"\",Table1[[#This Row],[SEND (E,K,N)]])","v":""},"",{"$f":"IF(LEN(Table7[[#This Row],[Pupil Name]])>0,1,0)","v":0}]
[{"$f":"IF(Table1[[#This Row],[School/Group Name]]=\"\",\"\",Table1[[#This Row],[School/Group Name]])","v":""},{"$f":"IF(Table1[[#This Row],[Pupil Name]]=\"\",\"\",Table1[[#This Row],[Pupil Name]])","v":""},{"$f":"IF(Table1[[#This Row],[Gender (M/F)]]=\"\",\"\",Table1[[#This Row],[Gender (M/F)]])","v":""},{"$f":"IF(Table1[[#This Row],[DisAdv (Y/N)]]=\"\",\"\",Table1[[#This Row],[DisAdv (Y/N)]])","v":""},{"$f":"IF(Table1[[#This Row],[SEND (E,K,N)]]=\"\",\"\",Table1[[#This Row],[SEND (E,K,N)]])","v":""},"",{"$f":"IF(LEN(Table7[[#This Row],[Pupil Name]])>0,1,0)","v":0}]
[{"$f":"IF(Table1[[#This Row],[School/Group Name]]=\"\",\"\",Table1[[#This Row],[School/Group Name]])","v":""},{"$f":"IF(Table1[[#This Row],[Pupil Name]]=\"\",\"\",Table1[[#This Row],[Pupil Name]])","v":""},{"$f":"IF(Table1[[#This Row],[Gender (M/F)]]=\"\",\"\",Table1[[#This Row],[Gender (M/F)]])","v":""},{"$f":"IF(Table1[[#This Row],[DisAdv (Y/N)]]=\"\",\"\",Table1[[#This Row],[DisAdv (Y/N)]])","v":""},{"$f":"IF(Table1[[#This Row],[SEND (E,K,N)]]=\"\",\"\",Table1[[#This Row],[SEND (E,K,N)]])","v":""},"",{"$f":"IF(LEN(Table7[[#This Row],[Pupil Name]])>0,1,0)","v":0}]
[{"$f":"IF(Table1[[#This Row],[School/Group Name]]=\"\",\"\",Table1[[#This Row],[School/Group Name]])","v":""},{"$f":"IF(Table1[[#This Row],[Pupil Name]]=\"\",\"\",Table1[[#This Row],[Pupil Name]])","v":""},{"$f":"IF(Table1[[#This Row],[Gender (M/F)]]=\"\",\"\",Table1[[#This Row],[Gender (M/F)]])","v":""},{"$f":"IF(Table1[[#This Row],[DisAdv (Y/N)]]=\"\",\"\",Table1[[#This Row],[DisAdv (Y/N)]])","v":""},{"$f":"IF(Table1[[#This Row],[SEND (E,K,N)]]=\"\",\"\",Table1[[#This Row],[SEND (E,K,N)]])","v":""},"",{"$f":"IF(LEN(Table7[[#This Row],[Pupil Name]])>0,1,0)","v":0}]
[{"$f":"IF(Table1[[#This Row],[School/Group Name]]=\"\",\"\",Table1[[#This Row],[School/Group Name]])","v":""},{"$f":"IF(Table1[[#This Row],[Pupil Name]]=\"\",\"\",Table1[[#This Row],[Pupil Name]])","v":""},{"$f":"IF(Table1[[#This Row],[Gender (M/F)]]=\"\",\"\",Table1[[#This Row],[Gender (M/F)]])","v":""},{"$f":"IF(Table1[[#This Row],[DisAdv (Y/N)]]=\"\",\"\",Table1[[#This Row],[DisAdv (Y/N)]])","v":""},{"$f":"IF(Table1[[#This Row],[SEND (E,K,N)]]=\"\",\"\",Table1[[#This Row],[SEND (E,K,N)]])","v":""},"",{"$f":"IF(LEN(Table7[[#This Row],[Pupil Name]])>0,1,0)","v":0}]
[{"$f":"IF(Table1[[#This Row],[School/Group Name]]=\"\",\"\",Table1[[#This Row],[School/Group Name]])","v":""},{"$f":"IF(Table1[[#This Row],[Pupil Name]]=\"\",\"\",Table1[[#This Row],[Pupil Name]])","v":""},{"$f":"IF(Table1[[#This Row],[Gender (M/F)]]=\"\",\"\",Table1[[#This Row],[Gender (M/F)]])","v":""},{"$f":"IF(Table1[[#This Row],[DisAdv (Y/N)]]=\"\",\"\",Table1[[#This Row],[DisAdv (Y/N)]])","v":""},{"$f":"IF(Table1[[#This Row],[SEND (E,K,N)]]=\"\",\"\",Table1[[#This Row],[SEND (E,K,N)]])","v":""},"",{"$f":"IF(LEN(Table7[[#This Row],[Pupil Name]])>0,1,0)","v":0}]
[{"$f":"IF(Table1[[#This Row],[School/Group Name]]=\"\",\"\",Table1[[#This Row],[School/Group Name]])","v":""},{"$f":"IF(Table1[[#This Row],[Pupil Name]]=\"\",\"\",Table1[[#This Row],[Pupil Name]])","v":""},{"$f":"IF(Table1[[#This Row],[Gender (M/F)]]=\"\",\"\",Table1[[#This Row],[Gender (M/F)]])","v":""},{"$f":"IF(Table1[[#This Row],[DisAdv (Y/N)]]=\"\",\"\",Table1[[#This Row],[DisAdv (Y/N)]])","v":""},{"$f":"IF(Table1[[#This Row],[SEND (E,K,N)]]=\"\",\"\",Table1[[#This Row],[SEND (E,K,N)]])","v":""},"",{"$f":"IF(LEN(Table7[[#This Row],[Pupil Name]])>0,1,0)","v":0}]
[{"$f":"IF(Table1[[#This Row],[School/Group Name]]=\"\",\"\",Table1[[#This Row],[School/Group Name]])","v":""},{"$f":"IF(Table1[[#This Row],[Pupil Name]]=\"\",\"\",Table1[[#This Row],[Pupil Name]])","v":""},{"$f":"IF(Table1[[#This Row],[Gender (M/F)]]=\"\",\"\",Table1[[#This Row],[Gender (M/F)]])","v":""},{"$f":"IF(Table1[[#This Row],[DisAdv (Y/N)]]=\"\",\"\",Table1[[#This Row],[DisAdv (Y/N)]])","v":""},{"$f":"IF(Table1[[#This Row],[SEND (E,K,N)]]=\"\",\"\",Table1[[#This Row],[SEND (E,K,N)]])","v":""},"",{"$f":"IF(LEN(Table7[[#This Row],[Pupil Name]])>0,1,0)","v":0}]
[{"$f":"IF(Table1[[#This Row],[School/Group Name]]=\"\",\"\",Table1[[#This Row],[School/Group Name]])","v":""},{"$f":"IF(Table1[[#This Row],[Pupil Name]]=\"\",\"\",Table1[[#This Row],[Pupil Name]])","v":""},{"$f":"IF(Table1[[#This Row],[Gender (M/F)]]=\"\",\"\",Table1[[#This Row],[Gender (M/F)]])","v":""},{"$f":"IF(Table1[[#This Row],[DisAdv (Y/N)]]=\"\",\"\",Table1[[#This Row],[DisAdv (Y/N)]])","v":""},{"$f":"IF(Table1[[#This Row],[SEND (E,K,N)]]=\"\",\"\",Table1[[#This Row],[SEND (E,K,N)]])","v":""},"",{"$f":"IF(LEN(Table7[[#This Row],[Pupil Name]])>0,1,0)","v":0}]
[{"$f":"IF(Table1[[#This Row],[School/Group Name]]=\"\",\"\",Table1[[#This Row],[School/Group Name]])","v":""},{"$f":"IF(Table1[[#This Row],[Pupil Name]]=\"\",\"\",Table1[[#This Row],[Pupil Name]])","v":""},{"$f":"IF(Table1[[#This Row],[Gender (M/F)]]=\"\",\"\",Table1[[#This Row],[Gender (M/F)]])","v":""},{"$f":"IF(Table1[[#This Row],[DisAdv (Y/N)]]=\"\",\"\",Table1[[#This Row],[DisAdv (Y/N)]])","v":""},{"$f":"IF(Table1[[#This Row],[SEND (E,K,N)]]=\"\",\"\",Table1[[#This Row],[SEND (E,K,N)]])","v":""},"",{"$f":"IF(LEN(Table7[[#This Row],[Pupil Name]])>0,1,0)","v":0}]
[{"$f":"IF(Table1[[#This Row],[School/Group Name]]=\"\",\"\",Table1[[#This Row],[School/Group Name]])","v":""},{"$f":"IF(Table1[[#This Row],[Pupil Name]]=\"\",\"\",Table1[[#This Row],[Pupil Name]])","v":""},{"$f":"IF(Table1[[#This Row],[Gender (M/F)]]=\"\",\"\",Table1[[#This Row],[Gender (M/F)]])","v":""},{"$f":"IF(Table1[[#This Row],[DisAdv (Y/N)]]=\"\",\"\",Table1[[#This Row],[DisAdv (Y/N)]])","v":""},{"$f":"IF(Table1[[#This Row],[SEND (E,K,N)]]=\"\",\"\",Table1[[#This Row],[SEND (E,K,N)]])","v":""},"",{"$f":"IF(LEN(Table7[[#This Row],[Pupil Name]])>0,1,0)","v":0}]
[{"$f":"IF(Table1[[#This Row],[School/Group Name]]=\"\",\"\",Table1[[#This Row],[School/Group Name]])","v":""},{"$f":"IF(Table1[[#This Row],[Pupil Name]]=\"\",\"\",Table1[[#This Row],[Pupil Name]])","v":""},{"$f":"IF(Table1[[#This Row],[Gender (M/F)]]=\"\",\"\",Table1[[#This Row],[Gender (M/F)]])","v":""},{"$f":"IF(Table1[[#This Row],[DisAdv (Y/N)]]=\"\",\"\",Table1[[#This Row],[DisAdv (Y/N)]])","v":""},{"$f":"IF(Table1[[#This Row],[SEND (E,K,N)]]=\"\",\"\",Table1[[#This Row],[SEND (E,K,N)]])","v":""},"",{"$f":"IF(LEN(Table7[[#This Row],[Pupil Name]])>0,1,0)","v":0}]
[{"$f":"IF(Table1[[#This Row],[School/Group Name]]=\"\",\"\",Table1[[#This Row],[School/Group Name]])","v":""},{"$f":"IF(Table1[[#This Row],[Pupil Name]]=\"\",\"\",Table1[[#This Row],[Pupil Name]])","v":""},{"$f":"IF(Table1[[#This Row],[Gender (M/F)]]=\"\",\"\",Table1[[#This Row],[Gender (M/F)]])","v":""},{"$f":"IF(Table1[[#This Row],[DisAdv (Y/N)]]=\"\",\"\",Table1[[#This Row],[DisAdv (Y/N)]])","v":""},{"$f":"IF(Table1[[#This Row],[SEND (E,K,N)]]=\"\",\"\",Table1[[#This Row],[SEND (E,K,N)]])","v":""},"",{"$f":"IF(LEN(Table7[[#This Row],[Pupil Name]])>0,1,0)","v":0}]
[{"$f":"IF(Table1[[#This Row],[School/Group Name]]=\"\",\"\",Table1[[#This Row],[School/Group Name]])","v":""},{"$f":"IF(Table1[[#This Row],[Pupil Name]]=\"\",\"\",Table1[[#This Row],[Pupil Name]])","v":""},{"$f":"IF(Table1[[#This Row],[Gender (M/F)]]=\"\",\"\",Table1[[#This Row],[Gender (M/F)]])","v":""},{"$f":"IF(Table1[[#This Row],[DisAdv (Y/N)]]=\"\",\"\",Table1[[#This Row],[DisAdv (Y/N)]])","v":""},{"$f":"IF(Table1[[#This Row],[SEND (E,K,N)]]=\"\",\"\",Table1[[#This Row],[SEND (E,K,N)]])","v":""},"",{"$f":"IF(LEN(Table7[[#This Row],[Pupil Name]])>0,1,0)","v":0}]
[{"$f":"IF(Table1[[#This Row],[School/Group Name]]=\"\",\"\",Table1[[#This Row],[School/Group Name]])","v":""},{"$f":"IF(Table1[[#This Row],[Pupil Name]]=\"\",\"\",Table1[[#This Row],[Pupil Name]])","v":""},{"$f":"IF(Table1[[#This Row],[Gender (M/F)]]=\"\",\"\",Table1[[#This Row],[Gender (M/F)]])","v":""},{"$f":"IF(Table1[[#This Row],[DisAdv (Y/N)]]=\"\",\"\",Table1[[#This Row],[DisAdv (Y/N)]])","v":""},{"$f":"IF(Table1[[#This Row],[SEND (E,K,N)]]=\"\",\"\",Table1[[#This Row],[SEND (E,K,N)]])","v":""},"",{"$f":"IF(LEN(Table7[[#This Row],[Pupil Name]])>0,1,0)","v":0}]
[{"$f":"IF(Table1[[#This Row],[School/Group Name]]=\"\",\"\",Table1[[#This Row],[School/Group Name]])","v":""},{"$f":"IF(Table1[[#This Row],[Pupil Name]]=\"\",\"\",Table1[[#This Row],[Pupil Name]])","v":""},{"$f":"IF(Table1[[#This Row],[Gender (M/F)]]=\"\",\"\",Table1[[#This Row],[Gender (M/F)]])","v":""},{"$f":"IF(Table1[[#This Row],[DisAdv (Y/N)]]=\"\",\"\",Table1[[#This Row],[DisAdv (Y/N)]])","v":""},{"$f":"IF(Table1[[#This Row],[SEND (E,K,N)]]=\"\",\"\",Table1[[#This Row],[SEND (E,K,N)]])","v":""},"",{"$f":"IF(LEN(Table7[[#This Row],[Pupil Name]])>0,1,0)","v":0}]
[{"$f":"IF(Table1[[#This Row],[School/Group Name]]=\"\",\"\",Table1[[#This Row],[School/Group Name]])","v":""},{"$f":"IF(Table1[[#This Row],[Pupil Name]]=\"\",\"\",Table1[[#This Row],[Pupil Name]])","v":""},{"$f":"IF(Table1[[#This Row],[Gender (M/F)]]=\"\",\"\",Table1[[#This Row],[Gender (M/F)]])","v":""},{"$f":"IF(Table1[[#This Row],[DisAdv (Y/N)]]=\"\",\"\",Table1[[#This Row],[DisAdv (Y/N)]])","v":""},{"$f":"IF(Table1[[#This Row],[SEND (E,K,N)]]=\"\",\"\",Table1[[#This Row],[SEND (E,K,N)]])","v":""},"",{"$f":"IF(LEN(Table7[[#This Row],[Pupil Name]])>0,1,0)","v":0}]
[{"$f":"IF(Table1[[#This Row],[School/Group Name]]=\"\",\"\",Table1[[#This Row],[School/Group Name]])","v":""},{"$f":"IF(Table1[[#This Row],[Pupil Name]]=\"\",\"\",Table1[[#This Row],[Pupil Name]])","v":""},{"$f":"IF(Table1[[#This Row],[Gender (M/F)]]=\"\",\"\",Table1[[#This Row],[Gender (M/F)]])","v":""},{"$f":"IF(Table1[[#This Row],[DisAdv (Y/N)]]=\"\",\"\",Table1[[#This Row],[DisAdv (Y/N)]])","v":""},{"$f":"IF(Table1[[#This Row],[SEND (E,K,N)]]=\"\",\"\",Table1[[#This Row],[SEND (E,K,N)]])","v":""},"",{"$f":"IF(LEN(Table7[[#This Row],[Pupil Name]])>0,1,0)","v":0}]
[{"$f":"IF(Table1[[#This Row],[School/Group Name]]=\"\",\"\",Table1[[#This Row],[School/Group Name]])","v":""},{"$f":"IF(Table1[[#This Row],[Pupil Name]]=\"\",\"\",Table1[[#This Row],[Pupil Name]])","v":""},{"$f":"IF(Table1[[#This Row],[Gender (M/F)]]=\"\",\"\",Table1[[#This Row],[Gender (M/F)]])","v":""},{"$f":"IF(Table1[[#This Row],[DisAdv (Y/N)]]=\"\",\"\",Table1[[#This Row],[DisAdv (Y/N)]])","v":""},{"$f":"IF(Table1[[#This Row],[SEND (E,K,N)]]=\"\",\"\",Table1[[#This Row],[SEND (E,K,N)]])","v":""},"",{"$f":"IF(LEN(Table7[[#This Row],[Pupil Name]])>0,1,0)","v":0}]
[{"$f":"IF(Table1[[#This Row],[School/Group Name]]=\"\",\"\",Table1[[#This Row],[School/Group Name]])","v":""},{"$f":"IF(Table1[[#This Row],[Pupil Name]]=\"\",\"\",Table1[[#This Row],[Pupil Name]])","v":""},{"$f":"IF(Table1[[#This Row],[Gender (M/F)]]=\"\",\"\",Table1[[#This Row],[Gender (M/F)]])","v":""},{"$f":"IF(Table1[[#This Row],[DisAdv (Y/N)]]=\"\",\"\",Table1[[#This Row],[DisAdv (Y/N)]])","v":""},{"$f":"IF(Table1[[#This Row],[SEND (E,K,N)]]=\"\",\"\",Table1[[#This Row],[SEND (E,K,N)]])","v":""},"",{"$f":"IF(LEN(Table7[[#This Row],[Pupil Name]])>0,1,0)","v":0}]
[{"$f":"IF(Table1[[#This Row],[School/Group Name]]=\"\",\"\",Table1[[#This Row],[School/Group Name]])","v":""},{"$f":"IF(Table1[[#This Row],[Pupil Name]]=\"\",\"\",Table1[[#This Row],[Pupil Name]])","v":""},{"$f":"IF(Table1[[#This Row],[Gender (M/F)]]=\"\",\"\",Table1[[#This Row],[Gender (M/F)]])","v":""},{"$f":"IF(Table1[[#This Row],[DisAdv (Y/N)]]=\"\",\"\",Table1[[#This Row],[DisAdv (Y/N)]])","v":""},{"$f":"IF(Table1[[#This Row],[SEND (E,K,N)]]=\"\",\"\",Table1[[#This Row],[SEND (E,K,N)]])","v":""},"",{"$f":"IF(LEN(Table7[[#This Row],[Pupil Name]])>0,1,0)","v":0}]
[{"$f":"IF(Table1[[#This Row],[School/Group Name]]=\"\",\"\",Table1[[#This Row],[School/Group Name]])","v":""},{"$f":"IF(Table1[[#This Row],[Pupil Name]]=\"\",\"\",Table1[[#This Row],[Pupil Name]])","v":""},{"$f":"IF(Table1[[#This Row],[Gender (M/F)]]=\"\",\"\",Table1[[#This Row],[Gender (M/F)]])","v":""},{"$f":"IF(Table1[[#This Row],[DisAdv (Y/N)]]=\"\",\"\",Table1[[#This Row],[DisAdv (Y/N)]])","v":""},{"$f":"IF(Table1[[#This Row],[SEND (E,K,N)]]=\"\",\"\",Table1[[#This Row],[SEND (E,K,N)]])","v":""},"",{"$f":"IF(LEN(Table7[[#This Row],[Pupil Name]])>0,1,0)","v":0}]
[{"$f":"IF(Table1[[#This Row],[School/Group Name]]=\"\",\"\",Table1[[#This Row],[School/Group Name]])","v":""},{"$f":"IF(Table1[[#This Row],[Pupil Name]]=\"\",\"\",Table1[[#This Row],[Pupil Name]])","v":""},{"$f":"IF(Table1[[#This Row],[Gender (M/F)]]=\"\",\"\",Table1[[#This Row],[Gender (M/F)]])","v":""},{"$f":"IF(Table1[[#This Row],[DisAdv (Y/N)]]=\"\",\"\",Table1[[#This Row],[DisAdv (Y/N)]])","v":""},{"$f":"IF(Table1[[#This Row],[SEND (E,K,N)]]=\"\",\"\",Table1[[#This Row],[SEND (E,K,N)]])","v":""},"",{"$f":"IF(LEN(Table7[[#This Row],[Pupil Name]])>0,1,0)","v":0}]
[{"$f":"IF(Table1[[#This Row],[School/Group Name]]=\"\",\"\",Table1[[#This Row],[School/Group Name]])","v":""},{"$f":"IF(Table1[[#This Row],[Pupil Name]]=\"\",\"\",Table1[[#This Row],[Pupil Name]])","v":""},{"$f":"IF(Table1[[#This Row],[Gender (M/F)]]=\"\",\"\",Table1[[#This Row],[Gender (M/F)]])","v":""},{"$f":"IF(Table1[[#This Row],[DisAdv (Y/N)]]=\"\",\"\",Table1[[#This Row],[DisAdv (Y/N)]])","v":""},{"$f":"IF(Table1[[#This Row],[SEND (E,K,N)]]=\"\",\"\",Table1[[#This Row],[SEND (E,K,N)]])","v":""},"",{"$f":"IF(LEN(Table7[[#This Row],[Pupil Name]])>0,1,0)","v":0}]
[{"$f":"IF(Table1[[#This Row],[School/Group Name]]=\"\",\"\",Table1[[#This Row],[School/Group Name]])","v":""},{"$f":"IF(Table1[[#This Row],[Pupil Name]]=\"\",\"\",Table1[[#This Row],[Pupil Name]])","v":""},{"$f":"IF(Table1[[#This Row],[Gender (M/F)]]=\"\",\"\",Table1[[#This Row],[Gender (M/F)]])","v":""},{"$f":"IF(Table1[[#This Row],[DisAdv (Y/N)]]=\"\",\"\",Table1[[#This Row],[DisAdv (Y/N)]])","v":""},{"$f":"IF(Table1[[#This Row],[SEND (E,K,N)]]=\"\",\"\",Table1[[#This Row],[SEND (E,K,N)]])","v":""},"",{"$f":"IF(LEN(Table7[[#This Row],[Pupil Name]])>0,1,0)","v":0}]
[{"$f":"IF(Table1[[#This Row],[School/Group Name]]=\"\",\"\",Table1[[#This Row],[School/Group Name]])","v":""},{"$f":"IF(Table1[[#This Row],[Pupil Name]]=\"\",\"\",Table1[[#This Row],[Pupil Name]])","v":""},{"$f":"IF(Table1[[#This Row],[Gender (M/F)]]=\"\",\"\",Table1[[#This Row],[Gender (M/F)]])","v":""},{"$f":"IF(Table1[[#This Row],[DisAdv (Y/N)]]=\"\",\"\",Table1[[#This Row],[DisAdv (Y/N)]])","v":""},{"$f":"IF(Table1[[#This Row],[SEND (E,K,N)]]=\"\",\"\",Table1[[#This Row],[SEND (E,K,N)]])","v":""},"",{"$f":"IF(LEN(Table7[[#This Row],[Pupil Name]])>0,1,0)","v":0}]
[{"$f":"IF(Table1[[#This Row],[School/Group Name]]=\"\",\"\",Table1[[#This Row],[School/Group Name]])","v":""},{"$f":"IF(Table1[[#This Row],[Pupil Name]]=\"\",\"\",Table1[[#This Row],[Pupil Name]])","v":""},{"$f":"IF(Table1[[#This Row],[Gender (M/F)]]=\"\",\"\",Table1[[#This Row],[Gender (M/F)]])","v":""},{"$f":"IF(Table1[[#This Row],[DisAdv (Y/N)]]=\"\",\"\",Table1[[#This Row],[DisAdv (Y/N)]])","v":""},{"$f":"IF(Table1[[#This Row],[SEND (E,K,N)]]=\"\",\"\",Table1[[#This Row],[SEND (E,K,N)]])","v":""},"",{"$f":"IF(LEN(Table7[[#This Row],[Pupil Name]])>0,1,0)","v":0}]
[{"$f":"IF(Table1[[#This Row],[School/Group Name]]=\"\",\"\",Table1[[#This Row],[School/Group Name]])","v":""},{"$f":"IF(Table1[[#This Row],[Pupil Name]]=\"\",\"\",Table1[[#This Row],[Pupil Name]])","v":""},{"$f":"IF(Table1[[#This Row],[Gender (M/F)]]=\"\",\"\",Table1[[#This Row],[Gender (M/F)]])","v":""},{"$f":"IF(Table1[[#This Row],[DisAdv (Y/N)]]=\"\",\"\",Table1[[#This Row],[DisAdv (Y/N)]])","v":""},{"$f":"IF(Table1[[#This Row],[SEND (E,K,N)]]=\"\",\"\",Table1[[#This Row],[SEND (E,K,N)]])","v":""},"",{"$f":"IF(LEN(Table7[[#This Row],[Pupil Name]])>0,1,0)","v":0}]
[{"$f":"IF(Table1[[#This Row],[School/Group Name]]=\"\",\"\",Table1[[#This Row],[School/Group Name]])","v":""},{"$f":"IF(Table1[[#This Row],[Pupil Name]]=\"\",\"\",Table1[[#This Row],[Pupil Name]])","v":""},{"$f":"IF(Table1[[#This Row],[Gender (M/F)]]=\"\",\"\",Table1[[#This Row],[Gender (M/F)]])","v":""},{"$f":"IF(Table1[[#This Row],[DisAdv (Y/N)]]=\"\",\"\",Table1[[#This Row],[DisAdv (Y/N)]])","v":""},{"$f":"IF(Table1[[#This Row],[SEND (E,K,N)]]=\"\",\"\",Table1[[#This Row],[SEND (E,K,N)]])","v":""},"",{"$f":"IF(LEN(Table7[[#This Row],[Pupil Name]])>0,1,0)","v":0}]
[{"$f":"IF(Table1[[#This Row],[School/Group Name]]=\"\",\"\",Table1[[#This Row],[School/Group Name]])","v":""},{"$f":"IF(Table1[[#This Row],[Pupil Name]]=\"\",\"\",Table1[[#This Row],[Pupil Name]])","v":""},{"$f":"IF(Table1[[#This Row],[Gender (M/F)]]=\"\",\"\",Table1[[#This Row],[Gender (M/F)]])","v":""},{"$f":"IF(Table1[[#This Row],[DisAdv (Y/N)]]=\"\",\"\",Table1[[#This Row],[DisAdv (Y/N)]])","v":""},{"$f":"IF(Table1[[#This Row],[SEND (E,K,N)]]=\"\",\"\",Table1[[#This Row],[SEND (E,K,N)]])","v":""},"",{"$f":"IF(LEN(Table7[[#This Row],[Pupil Name]])>0,1,0)","v":0}]
[{"$f":"IF(Table1[[#This Row],[School/Group Name]]=\"\",\"\",Table1[[#This Row],[School/Group Name]])","v":""},{"$f":"IF(Table1[[#This Row],[Pupil Name]]=\"\",\"\",Table1[[#This Row],[Pupil Name]])","v":""},{"$f":"IF(Table1[[#This Row],[Gender (M/F)]]=\"\",\"\",Table1[[#This Row],[Gender (M/F)]])","v":""},{"$f":"IF(Table1[[#This Row],[DisAdv (Y/N)]]=\"\",\"\",Table1[[#This Row],[DisAdv (Y/N)]])","v":""},{"$f":"IF(Table1[[#This Row],[SEND (E,K,N)]]=\"\",\"\",Table1[[#This Row],[SEND (E,K,N)]])","v":""},"",{"$f":"IF(LEN(Table7[[#This Row],[Pupil Name]])>0,1,0)","v":0}]
[{"$f":"IF(Table1[[#This Row],[School/Group Name]]=\"\",\"\",Table1[[#This Row],[School/Group Name]])","v":""},{"$f":"IF(Table1[[#This Row],[Pupil Name]]=\"\",\"\",Table1[[#This Row],[Pupil Name]])","v":""},{"$f":"IF(Table1[[#This Row],[Gender (M/F)]]=\"\",\"\",Table1[[#This Row],[Gender (M/F)]])","v":""},{"$f":"IF(Table1[[#This Row],[DisAdv (Y/N)]]=\"\",\"\",Table1[[#This Row],[DisAdv (Y/N)]])","v":""},{"$f":"IF(Table1[[#This Row],[SEND (E,K,N)]]=\"\",\"\",Table1[[#This Row],[SEND (E,K,N)]])","v":""},"",{"$f":"IF(LEN(Table7[[#This Row],[Pupil Name]])>0,1,0)","v":0}]
[{"$f":"IF(Table1[[#This Row],[School/Group Name]]=\"\",\"\",Table1[[#This Row],[School/Group Name]])","v":""},{"$f":"IF(Table1[[#This Row],[Pupil Name]]=\"\",\"\",Table1[[#This Row],[Pupil Name]])","v":""},{"$f":"IF(Table1[[#This Row],[Gender (M/F)]]=\"\",\"\",Table1[[#This Row],[Gender (M/F)]])","v":""},{"$f":"IF(Table1[[#This Row],[DisAdv (Y/N)]]=\"\",\"\",Table1[[#This Row],[DisAdv (Y/N)]])","v":""},{"$f":"IF(Table1[[#This Row],[SEND (E,K,N)]]=\"\",\"\",Table1[[#This Row],[SEND (E,K,N)]])","v":""},"",{"$f":"IF(LEN(Table7[[#This Row],[Pupil Name]])>0,1,0)","v":0}]
[{"$f":"IF(Table1[[#This Row],[School/Group Name]]=\"\",\"\",Table1[[#This Row],[School/Group Name]])","v":""},{"$f":"IF(Table1[[#This Row],[Pupil Name]]=\"\",\"\",Table1[[#This Row],[Pupil Name]])","v":""},{"$f":"IF(Table1[[#This Row],[Gender (M/F)]]=\"\",\"\",Table1[[#This Row],[Gender (M/F)]])","v":""},{"$f":"IF(Table1[[#This Row],[DisAdv (Y/N)]]=\"\",\"\",Table1[[#This Row],[DisAdv (Y/N)]])","v":""},{"$f":"IF(Table1[[#This Row],[SEND (E,K,N)]]=\"\",\"\",Table1[[#This Row],[SEND (E,K,N)]])","v":""},"",{"$f":"IF(LEN(Table7[[#This Row],[Pupil Name]])>0,1,0)","v":0}]
[{"$f":"IF(Table1[[#This Row],[School/Group Name]]=\"\",\"\",Table1[[#This Row],[School/Group Name]])","v":""},{"$f":"IF(Table1[[#This Row],[Pupil Name]]=\"\",\"\",Table1[[#This Row],[Pupil Name]])","v":""},{"$f":"IF(Table1[[#This Row],[Gender (M/F)]]=\"\",\"\",Table1[[#This Row],[Gender (M/F)]])","v":""},{"$f":"IF(Table1[[#This Row],[DisAdv (Y/N)]]=\"\",\"\",Table1[[#This Row],[DisAdv (Y/N)]])","v":""},{"$f":"IF(Table1[[#This Row],[SEND (E,K,N)]]=\"\",\"\",Table1[[#This Row],[SEND (E,K,N)]])","v":""},"",{"$f":"IF(LEN(Table7[[#This Row],[Pupil Name]])>0,1,0)","v":0}]
[{"$f":"IF(Table1[[#This Row],[School/Group Name]]=\"\",\"\",Table1[[#This Row],[School/Group Name]])","v":""},{"$f":"IF(Table1[[#This Row],[Pupil Name]]=\"\",\"\",Table1[[#This Row],[Pupil Name]])","v":""},{"$f":"IF(Table1[[#This Row],[Gender (M/F)]]=\"\",\"\",Table1[[#This Row],[Gender (M/F)]])","v":""},{"$f":"IF(Table1[[#This Row],[DisAdv (Y/N)]]=\"\",\"\",Table1[[#This Row],[DisAdv (Y/N)]])","v":""},{"$f":"IF(Table1[[#This Row],[SEND (E,K,N)]]=\"\",\"\",Table1[[#This Row],[SEND (E,K,N)]])","v":""},"",{"$f":"IF(LEN(Table7[[#This Row],[Pupil Name]])>0,1,0)","v":0}]
[{"$f":"IF(Table1[[#This Row],[School/Group Name]]=\"\",\"\",Table1[[#This Row],[School/Group Name]])","v":""},{"$f":"IF(Table1[[#This Row],[Pupil Name]]=\"\",\"\",Table1[[#This Row],[Pupil Name]])","v":""},{"$f":"IF(Table1[[#This Row],[Gender (M/F)]]=\"\",\"\",Table1[[#This Row],[Gender (M/F)]])","v":""},{"$f":"IF(Table1[[#This Row],[DisAdv (Y/N)]]=\"\",\"\",Table1[[#This Row],[DisAdv (Y/N)]])","v":""},{"$f":"IF(Table1[[#This Row],[SEND (E,K,N)]]=\"\",\"\",Table1[[#This Row],[SEND (E,K,N)]])","v":""},"",{"$f":"IF(LEN(Table7[[#This Row],[Pupil Name]])>0,1,0)","v":0}]
[{"$f":"IF(Table1[[#This Row],[School/Group Name]]=\"\",\"\",Table1[[#This Row],[School/Group Name]])","v":""},{"$f":"IF(Table1[[#This Row],[Pupil Name]]=\"\",\"\",Table1[[#This Row],[Pupil Name]])","v":""},{"$f":"IF(Table1[[#This Row],[Gender (M/F)]]=\"\",\"\",Table1[[#This Row],[Gender (M/F)]])","v":""},{"$f":"IF(Table1[[#This Row],[DisAdv (Y/N)]]=\"\",\"\",Table1[[#This Row],[DisAdv (Y/N)]])","v":""},{"$f":"IF(Table1[[#This Row],[SEND (E,K,N)]]=\"\",\"\",Table1[[#This Row],[SEND (E,K,N)]])","v":""},"",{"$f":"IF(LEN(Table7[[#This Row],[Pupil Name]])>0,1,0)","v":0}]
[{"$f":"IF(Table1[[#This Row],[School/Group Name]]=\"\",\"\",Table1[[#This Row],[School/Group Name]])","v":""},{"$f":"IF(Table1[[#This Row],[Pupil Name]]=\"\",\"\",Table1[[#This Row],[Pupil Name]])","v":""},{"$f":"IF(Table1[[#This Row],[Gender (M/F)]]=\"\",\"\",Table1[[#This Row],[Gender (M/F)]])","v":""},{"$f":"IF(Table1[[#This Row],[DisAdv (Y/N)]]=\"\",\"\",Table1[[#This Row],[DisAdv (Y/N)]])","v":""},{"$f":"IF(Table1[[#This Row],[SEND (E,K,N)]]=\"\",\"\",Table1[[#This Row],[SEND (E,K,N)]])","v":""},"",{"$f":"IF(LEN(Table7[[#This Row],[Pupil Name]])>0,1,0)","v":0}]
[{"$f":"IF(Table1[[#This Row],[School/Group Name]]=\"\",\"\",Table1[[#This Row],[School/Group Name]])","v":""},{"$f":"IF(Table1[[#This Row],[Pupil Name]]=\"\",\"\",Table1[[#This Row],[Pupil Name]])","v":""},{"$f":"IF(Table1[[#This Row],[Gender (M/F)]]=\"\",\"\",Table1[[#This Row],[Gender (M/F)]])","v":""},{"$f":"IF(Table1[[#This Row],[DisAdv (Y/N)]]=\"\",\"\",Table1[[#This Row],[DisAdv (Y/N)]])","v":""},{"$f":"IF(Table1[[#This Row],[SEND (E,K,N)]]=\"\",\"\",Table1[[#This Row],[SEND (E,K,N)]])","v":""},"",{"$f":"IF(LEN(Table7[[#This Row],[Pupil Name]])>0,1,0)","v":0}]
[{"$f":"IF(Table1[[#This Row],[School/Group Name]]=\"\",\"\",Table1[[#This Row],[School/Group Name]])","v":""},{"$f":"IF(Table1[[#This Row],[Pupil Name]]=\"\",\"\",Table1[[#This Row],[Pupil Name]])","v":""},{"$f":"IF(Table1[[#This Row],[Gender (M/F)]]=\"\",\"\",Table1[[#This Row],[Gender (M/F)]])","v":""},{"$f":"IF(Table1[[#This Row],[DisAdv (Y/N)]]=\"\",\"\",Table1[[#This Row],[DisAdv (Y/N)]])","v":""},{"$f":"IF(Table1[[#This Row],[SEND (E,K,N)]]=\"\",\"\",Table1[[#This Row],[SEND (E,K,N)]])","v":""},"",{"$f":"IF(LEN(Table7[[#This Row],[Pupil Name]])>0,1,0)","v":0}]
[{"$f":"IF(Table1[[#This Row],[School/Group Name]]=\"\",\"\",Table1[[#This Row],[School/Group Name]])","v":""},{"$f":"IF(Table1[[#This Row],[Pupil Name]]=\"\",\"\",Table1[[#This Row],[Pupil Name]])","v":""},{"$f":"IF(Table1[[#This Row],[Gender (M/F)]]=\"\",\"\",Table1[[#This Row],[Gender (M/F)]])","v":""},{"$f":"IF(Table1[[#This Row],[DisAdv (Y/N)]]=\"\",\"\",Table1[[#This Row],[DisAdv (Y/N)]])","v":""},{"$f":"IF(Table1[[#This Row],[SEND (E,K,N)]]=\"\",\"\",Table1[[#This Row],[SEND (E,K,N)]])","v":""},"",{"$f":"IF(LEN(Table7[[#This Row],[Pupil Name]])>0,1,0)","v":0}]
[{"$f":"IF(Table1[[#This Row],[School/Group Name]]=\"\",\"\",Table1[[#This Row],[School/Group Name]])","v":""},{"$f":"IF(Table1[[#This Row],[Pupil Name]]=\"\",\"\",Table1[[#This Row],[Pupil Name]])","v":""},{"$f":"IF(Table1[[#This Row],[Gender (M/F)]]=\"\",\"\",Table1[[#This Row],[Gender (M/F)]])","v":""},{"$f":"IF(Table1[[#This Row],[DisAdv (Y/N)]]=\"\",\"\",Table1[[#This Row],[DisAdv (Y/N)]])","v":""},{"$f":"IF(Table1[[#This Row],[SEND (E,K,N)]]=\"\",\"\",Table1[[#This Row],[SEND (E,K,N)]])","v":""},"",{"$f":"IF(LEN(Table7[[#This Row],[Pupil Name]])>0,1,0)","v":0}]
[{"$f":"IF(Table1[[#This Row],[School/Group Name]]=\"\",\"\",Table1[[#This Row],[School/Group Name]])","v":""},{"$f":"IF(Table1[[#This Row],[Pupil Name]]=\"\",\"\",Table1[[#This Row],[Pupil Name]])","v":""},{"$f":"IF(Table1[[#This Row],[Gender (M/F)]]=\"\",\"\",Table1[[#This Row],[Gender (M/F)]])","v":""},{"$f":"IF(Table1[[#This Row],[DisAdv (Y/N)]]=\"\",\"\",Table1[[#This Row],[DisAdv (Y/N)]])","v":""},{"$f":"IF(Table1[[#This Row],[SEND (E,K,N)]]=\"\",\"\",Table1[[#This Row],[SEND (E,K,N)]])","v":""},"",{"$f":"IF(LEN(Table7[[#This Row],[Pupil Name]])>0,1,0)","v":0}]
[{"$f":"IF(Table1[[#This Row],[School/Group Name]]=\"\",\"\",Table1[[#This Row],[School/Group Name]])","v":""},{"$f":"IF(Table1[[#This Row],[Pupil Name]]=\"\",\"\",Table1[[#This Row],[Pupil Name]])","v":""},{"$f":"IF(Table1[[#This Row],[Gender (M/F)]]=\"\",\"\",Table1[[#This Row],[Gender (M/F)]])","v":""},{"$f":"IF(Table1[[#This Row],[DisAdv (Y/N)]]=\"\",\"\",Table1[[#This Row],[DisAdv (Y/N)]])","v":""},{"$f":"IF(Table1[[#This Row],[SEND (E,K,N)]]=\"\",\"\",Table1[[#This Row],[SEND (E,K,N)]])","v":""},"",{"$f":"IF(LEN(Table7[[#This Row],[Pupil Name]])>0,1,0)","v":0}]
[{"$f":"IF(Table1[[#This Row],[School/Group Name]]=\"\",\"\",Table1[[#This Row],[School/Group Name]])","v":""},{"$f":"IF(Table1[[#This Row],[Pupil Name]]=\"\",\"\",Table1[[#This Row],[Pupil Name]])","v":""},{"$f":"IF(Table1[[#This Row],[Gender (M/F)]]=\"\",\"\",Table1[[#This Row],[Gender (M/F)]])","v":""},{"$f":"IF(Table1[[#This Row],[DisAdv (Y/N)]]=\"\",\"\",Table1[[#This Row],[DisAdv (Y/N)]])","v":""},{"$f":"IF(Table1[[#This Row],[SEND (E,K,N)]]=\"\",\"\",Table1[[#This Row],[SEND (E,K,N)]])","v":""},"",{"$f":"IF(LEN(Table7[[#This Row],[Pupil Name]])>0,1,0)","v":0}]
[{"$f":"IF(Table1[[#This Row],[School/Group Name]]=\"\",\"\",Table1[[#This Row],[School/Group Name]])","v":""},{"$f":"IF(Table1[[#This Row],[Pupil Name]]=\"\",\"\",Table1[[#This Row],[Pupil Name]])","v":""},{"$f":"IF(Table1[[#This Row],[Gender (M/F)]]=\"\",\"\",Table1[[#This Row],[Gender (M/F)]])","v":""},{"$f":"IF(Table1[[#This Row],[DisAdv (Y/N)]]=\"\",\"\",Table1[[#This Row],[DisAdv (Y/N)]])","v":""},{"$f":"IF(Table1[[#This Row],[SEND (E,K,N)]]=\"\",\"\",Table1[[#This Row],[SEND (E,K,N)]])","v":""},"",{"$f":"IF(LEN(Table7[[#This Row],[Pupil Name]])>0,1,0)","v":0}]
[{"$f":"IF(Table1[[#This Row],[School/Group Name]]=\"\",\"\",Table1[[#This Row],[School/Group Name]])","v":""},{"$f":"IF(Table1[[#This Row],[Pupil Name]]=\"\",\"\",Table1[[#This Row],[Pupil Name]])","v":""},{"$f":"IF(Table1[[#This Row],[Gender (M/F)]]=\"\",\"\",Table1[[#This Row],[Gender (M/F)]])","v":""},{"$f":"IF(Table1[[#This Row],[DisAdv (Y/N)]]=\"\",\"\",Table1[[#This Row],[DisAdv (Y/N)]])","v":""},{"$f":"IF(Table1[[#This Row],[SEND (E,K,N)]]=\"\",\"\",Table1[[#This Row],[SEND (E,K,N)]])","v":""},{"$f":"IF(H263=\"\",\"\",(SUM(H263:AA263)))","v":""},{"$f":"IF(LEN(Table7[[#This Row],[Pupil Name]])>0,1,0)","v":0}]
[{"$f":"IF(Table1[[#This Row],[School/Group Name]]=\"\",\"\",Table1[[#This Row],[School/Group Name]])","v":""},{"$f":"IF(Table1[[#This Row],[Pupil Name]]=\"\",\"\",Table1[[#This Row],[Pupil Name]])","v":""},{"$f":"IF(Table1[[#This Row],[Gender (M/F)]]=\"\",\"\",Table1[[#This Row],[Gender (M/F)]])","v":""},{"$f":"IF(Table1[[#This Row],[DisAdv (Y/N)]]=\"\",\"\",Table1[[#This Row],[DisAdv (Y/N)]])","v":""},{"$f":"IF(Table1[[#This Row],[SEND (E,K,N)]]=\"\",\"\",Table1[[#This Row],[SEND (E,K,N)]])","v":""},"",{"$f":"IF(LEN(Table7[[#This Row],[Pupil Name]])>0,1,0)","v":0}]
[{"$f":"IF(Table1[[#This Row],[School/Group Name]]=\"\",\"\",Table1[[#This Row],[School/Group Name]])","v":""},{"$f":"IF(Table1[[#This Row],[Pupil Name]]=\"\",\"\",Table1[[#This Row],[Pupil Name]])","v":""},{"$f":"IF(Table1[[#This Row],[Gender (M/F)]]=\"\",\"\",Table1[[#This Row],[Gender (M/F)]])","v":""},{"$f":"IF(Table1[[#This Row],[DisAdv (Y/N)]]=\"\",\"\",Table1[[#This Row],[DisAdv (Y/N)]])","v":""},{"$f":"IF(Table1[[#This Row],[SEND (E,K,N)]]=\"\",\"\",Table1[[#This Row],[SEND (E,K,N)]])","v":""},"",{"$f":"IF(LEN(Table7[[#This Row],[Pupil Name]])>0,1,0)","v":0}]
[{"$f":"IF(Table1[[#This Row],[School/Group Name]]=\"\",\"\",Table1[[#This Row],[School/Group Name]])","v":""},{"$f":"IF(Table1[[#This Row],[Pupil Name]]=\"\",\"\",Table1[[#This Row],[Pupil Name]])","v":""},{"$f":"IF(Table1[[#This Row],[Gender (M/F)]]=\"\",\"\",Table1[[#This Row],[Gender (M/F)]])","v":""},{"$f":"IF(Table1[[#This Row],[DisAdv (Y/N)]]=\"\",\"\",Table1[[#This Row],[DisAdv (Y/N)]])","v":""},{"$f":"IF(Table1[[#This Row],[SEND (E,K,N)]]=\"\",\"\",Table1[[#This Row],[SEND (E,K,N)]])","v":""},"",{"$f":"IF(LEN(Table7[[#This Row],[Pupil Name]])>0,1,0)","v":0}]
[{"$f":"IF(Table1[[#This Row],[School/Group Name]]=\"\",\"\",Table1[[#This Row],[School/Group Name]])","v":""},{"$f":"IF(Table1[[#This Row],[Pupil Name]]=\"\",\"\",Table1[[#This Row],[Pupil Name]])","v":""},{"$f":"IF(Table1[[#This Row],[Gender (M/F)]]=\"\",\"\",Table1[[#This Row],[Gender (M/F)]])","v":""},{"$f":"IF(Table1[[#This Row],[DisAdv (Y/N)]]=\"\",\"\",Table1[[#This Row],[DisAdv (Y/N)]])","v":""},{"$f":"IF(Table1[[#This Row],[SEND (E,K,N)]]=\"\",\"\",Table1[[#This Row],[SEND (E,K,N)]])","v":""},"",{"$f":"IF(LEN(Table7[[#This Row],[Pupil Name]])>0,1,0)","v":0}]
[{"$f":"IF(Table1[[#This Row],[School/Group Name]]=\"\",\"\",Table1[[#This Row],[School/Group Name]])","v":""},{"$f":"IF(Table1[[#This Row],[Pupil Name]]=\"\",\"\",Table1[[#This Row],[Pupil Name]])","v":""},{"$f":"IF(Table1[[#This Row],[Gender (M/F)]]=\"\",\"\",Table1[[#This Row],[Gender (M/F)]])","v":""},{"$f":"IF(Table1[[#This Row],[DisAdv (Y/N)]]=\"\",\"\",Table1[[#This Row],[DisAdv (Y/N)]])","v":""},{"$f":"IF(Table1[[#This Row],[SEND (E,K,N)]]=\"\",\"\",Table1[[#This Row],[SEND (E,K,N)]])","v":""},"",{"$f":"IF(LEN(Table7[[#This Row],[Pupil Name]])>0,1,0)","v":0}]
[{"$f":"IF(Table1[[#This Row],[School/Group Name]]=\"\",\"\",Table1[[#This Row],[School/Group Name]])","v":""},{"$f":"IF(Table1[[#This Row],[Pupil Name]]=\"\",\"\",Table1[[#This Row],[Pupil Name]])","v":""},{"$f":"IF(Table1[[#This Row],[Gender (M/F)]]=\"\",\"\",Table1[[#This Row],[Gender (M/F)]])","v":""},{"$f":"IF(Table1[[#This Row],[DisAdv (Y/N)]]=\"\",\"\",Table1[[#This Row],[DisAdv (Y/N)]])","v":""},{"$f":"IF(Table1[[#This Row],[SEND (E,K,N)]]=\"\",\"\",Table1[[#This Row],[SEND (E,K,N)]])","v":""},"",{"$f":"IF(LEN(Table7[[#This Row],[Pupil Name]])>0,1,0)","v":0}]
[{"$f":"IF(Table1[[#This Row],[School/Group Name]]=\"\",\"\",Table1[[#This Row],[School/Group Name]])","v":""},{"$f":"IF(Table1[[#This Row],[Pupil Name]]=\"\",\"\",Table1[[#This Row],[Pupil Name]])","v":""},{"$f":"IF(Table1[[#This Row],[Gender (M/F)]]=\"\",\"\",Table1[[#This Row],[Gender (M/F)]])","v":""},{"$f":"IF(Table1[[#This Row],[DisAdv (Y/N)]]=\"\",\"\",Table1[[#This Row],[DisAdv (Y/N)]])","v":""},{"$f":"IF(Table1[[#This Row],[SEND (E,K,N)]]=\"\",\"\",Table1[[#This Row],[SEND (E,K,N)]])","v":""},"",{"$f":"IF(LEN(Table7[[#This Row],[Pupil Name]])>0,1,0)","v":0}]
[{"$f":"IF(Table1[[#This Row],[School/Group Name]]=\"\",\"\",Table1[[#This Row],[School/Group Name]])","v":""},{"$f":"IF(Table1[[#This Row],[Pupil Name]]=\"\",\"\",Table1[[#This Row],[Pupil Name]])","v":""},{"$f":"IF(Table1[[#This Row],[Gender (M/F)]]=\"\",\"\",Table1[[#This Row],[Gender (M/F)]])","v":""},{"$f":"IF(Table1[[#This Row],[DisAdv (Y/N)]]=\"\",\"\",Table1[[#This Row],[DisAdv (Y/N)]])","v":""},{"$f":"IF(Table1[[#This Row],[SEND (E,K,N)]]=\"\",\"\",Table1[[#This Row],[SEND (E,K,N)]])","v":""},"",{"$f":"IF(LEN(Table7[[#This Row],[Pupil Name]])>0,1,0)","v":0}]
[{"$f":"IF(Table1[[#This Row],[School/Group Name]]=\"\",\"\",Table1[[#This Row],[School/Group Name]])","v":""},{"$f":"IF(Table1[[#This Row],[Pupil Name]]=\"\",\"\",Table1[[#This Row],[Pupil Name]])","v":""},{"$f":"IF(Table1[[#This Row],[Gender (M/F)]]=\"\",\"\",Table1[[#This Row],[Gender (M/F)]])","v":""},{"$f":"IF(Table1[[#This Row],[DisAdv (Y/N)]]=\"\",\"\",Table1[[#This Row],[DisAdv (Y/N)]])","v":""},{"$f":"IF(Table1[[#This Row],[SEND (E,K,N)]]=\"\",\"\",Table1[[#This Row],[SEND (E,K,N)]])","v":""},"",{"$f":"IF(LEN(Table7[[#This Row],[Pupil Name]])>0,1,0)","v":0}]
[{"$f":"IF(Table1[[#This Row],[School/Group Name]]=\"\",\"\",Table1[[#This Row],[School/Group Name]])","v":""},{"$f":"IF(Table1[[#This Row],[Pupil Name]]=\"\",\"\",Table1[[#This Row],[Pupil Name]])","v":""},{"$f":"IF(Table1[[#This Row],[Gender (M/F)]]=\"\",\"\",Table1[[#This Row],[Gender (M/F)]])","v":""},{"$f":"IF(Table1[[#This Row],[DisAdv (Y/N)]]=\"\",\"\",Table1[[#This Row],[DisAdv (Y/N)]])","v":""},{"$f":"IF(Table1[[#This Row],[SEND (E,K,N)]]=\"\",\"\",Table1[[#This Row],[SEND (E,K,N)]])","v":""},"",{"$f":"IF(LEN(Table7[[#This Row],[Pupil Name]])>0,1,0)","v":0}]
[{"$f":"IF(Table1[[#This Row],[School/Group Name]]=\"\",\"\",Table1[[#This Row],[School/Group Name]])","v":""},{"$f":"IF(Table1[[#This Row],[Pupil Name]]=\"\",\"\",Table1[[#This Row],[Pupil Name]])","v":""},{"$f":"IF(Table1[[#This Row],[Gender (M/F)]]=\"\",\"\",Table1[[#This Row],[Gender (M/F)]])","v":""},{"$f":"IF(Table1[[#This Row],[DisAdv (Y/N)]]=\"\",\"\",Table1[[#This Row],[DisAdv (Y/N)]])","v":""},{"$f":"IF(Table1[[#This Row],[SEND (E,K,N)]]=\"\",\"\",Table1[[#This Row],[SEND (E,K,N)]])","v":""},"",{"$f":"IF(LEN(Table7[[#This Row],[Pupil Name]])>0,1,0)","v":0}]
[{"$f":"IF(Table1[[#This Row],[School/Group Name]]=\"\",\"\",Table1[[#This Row],[School/Group Name]])","v":""},{"$f":"IF(Table1[[#This Row],[Pupil Name]]=\"\",\"\",Table1[[#This Row],[Pupil Name]])","v":""},{"$f":"IF(Table1[[#This Row],[Gender (M/F)]]=\"\",\"\",Table1[[#This Row],[Gender (M/F)]])","v":""},{"$f":"IF(Table1[[#This Row],[DisAdv (Y/N)]]=\"\",\"\",Table1[[#This Row],[DisAdv (Y/N)]])","v":""},{"$f":"IF(Table1[[#This Row],[SEND (E,K,N)]]=\"\",\"\",Table1[[#This Row],[SEND (E,K,N)]])","v":""},"",{"$f":"IF(LEN(Table7[[#This Row],[Pupil Name]])>0,1,0)","v":0}]
[{"$f":"IF(Table1[[#This Row],[School/Group Name]]=\"\",\"\",Table1[[#This Row],[School/Group Name]])","v":""},{"$f":"IF(Table1[[#This Row],[Pupil Name]]=\"\",\"\",Table1[[#This Row],[Pupil Name]])","v":""},{"$f":"IF(Table1[[#This Row],[Gender (M/F)]]=\"\",\"\",Table1[[#This Row],[Gender (M/F)]])","v":""},{"$f":"IF(Table1[[#This Row],[DisAdv (Y/N)]]=\"\",\"\",Table1[[#This Row],[DisAdv (Y/N)]])","v":""},{"$f":"IF(Table1[[#This Row],[SEND (E,K,N)]]=\"\",\"\",Table1[[#This Row],[SEND (E,K,N)]])","v":""},"",{"$f":"IF(LEN(Table7[[#This Row],[Pupil Name]])>0,1,0)","v":0}]
[{"$f":"IF(Table1[[#This Row],[School/Group Name]]=\"\",\"\",Table1[[#This Row],[School/Group Name]])","v":""},{"$f":"IF(Table1[[#This Row],[Pupil Name]]=\"\",\"\",Table1[[#This Row],[Pupil Name]])","v":""},{"$f":"IF(Table1[[#This Row],[Gender (M/F)]]=\"\",\"\",Table1[[#This Row],[Gender (M/F)]])","v":""},{"$f":"IF(Table1[[#This Row],[DisAdv (Y/N)]]=\"\",\"\",Table1[[#This Row],[DisAdv (Y/N)]])","v":""},{"$f":"IF(Table1[[#This Row],[SEND (E,K,N)]]=\"\",\"\",Table1[[#This Row],[SEND (E,K,N)]])","v":""},"",{"$f":"IF(LEN(Table7[[#This Row],[Pupil Name]])>0,1,0)","v":0}]
[{"$f":"IF(Table1[[#This Row],[School/Group Name]]=\"\",\"\",Table1[[#This Row],[School/Group Name]])","v":""},{"$f":"IF(Table1[[#This Row],[Pupil Name]]=\"\",\"\",Table1[[#This Row],[Pupil Name]])","v":""},{"$f":"IF(Table1[[#This Row],[Gender (M/F)]]=\"\",\"\",Table1[[#This Row],[Gender (M/F)]])","v":""},{"$f":"IF(Table1[[#This Row],[DisAdv (Y/N)]]=\"\",\"\",Table1[[#This Row],[DisAdv (Y/N)]])","v":""},{"$f":"IF(Table1[[#This Row],[SEND (E,K,N)]]=\"\",\"\",Table1[[#This Row],[SEND (E,K,N)]])","v":""},"",{"$f":"IF(LEN(Table7[[#This Row],[Pupil Name]])>0,1,0)","v":0}]
[{"$f":"IF(Table1[[#This Row],[School/Group Name]]=\"\",\"\",Table1[[#This Row],[School/Group Name]])","v":""},{"$f":"IF(Table1[[#This Row],[Pupil Name]]=\"\",\"\",Table1[[#This Row],[Pupil Name]])","v":""},{"$f":"IF(Table1[[#This Row],[Gender (M/F)]]=\"\",\"\",Table1[[#This Row],[Gender (M/F)]])","v":""},{"$f":"IF(Table1[[#This Row],[DisAdv (Y/N)]]=\"\",\"\",Table1[[#This Row],[DisAdv (Y/N)]])","v":""},{"$f":"IF(Table1[[#This Row],[SEND (E,K,N)]]=\"\",\"\",Table1[[#This Row],[SEND (E,K,N)]])","v":""},"",{"$f":"IF(LEN(Table7[[#This Row],[Pupil Name]])>0,1,0)","v":0}]
[{"$f":"IF(Table1[[#This Row],[School/Group Name]]=\"\",\"\",Table1[[#This Row],[School/Group Name]])","v":""},{"$f":"IF(Table1[[#This Row],[Pupil Name]]=\"\",\"\",Table1[[#This Row],[Pupil Name]])","v":""},{"$f":"IF(Table1[[#This Row],[Gender (M/F)]]=\"\",\"\",Table1[[#This Row],[Gender (M/F)]])","v":""},{"$f":"IF(Table1[[#This Row],[DisAdv (Y/N)]]=\"\",\"\",Table1[[#This Row],[DisAdv (Y/N)]])","v":""},{"$f":"IF(Table1[[#This Row],[SEND (E,K,N)]]=\"\",\"\",Table1[[#This Row],[SEND (E,K,N)]])","v":""},"",{"$f":"IF(LEN(Table7[[#This Row],[Pupil Name]])>0,1,0)","v":0}]
[{"$f":"IF(Table1[[#This Row],[School/Group Name]]=\"\",\"\",Table1[[#This Row],[School/Group Name]])","v":""},{"$f":"IF(Table1[[#This Row],[Pupil Name]]=\"\",\"\",Table1[[#This Row],[Pupil Name]])","v":""},{"$f":"IF(Table1[[#This Row],[Gender (M/F)]]=\"\",\"\",Table1[[#This Row],[Gender (M/F)]])","v":""},{"$f":"IF(Table1[[#This Row],[DisAdv (Y/N)]]=\"\",\"\",Table1[[#This Row],[DisAdv (Y/N)]])","v":""},{"$f":"IF(Table1[[#This Row],[SEND (E,K,N)]]=\"\",\"\",Table1[[#This Row],[SEND (E,K,N)]])","v":""},"",{"$f":"IF(LEN(Table7[[#This Row],[Pupil Name]])>0,1,0)","v":0}]
[{"$f":"IF(Table1[[#This Row],[School/Group Name]]=\"\",\"\",Table1[[#This Row],[School/Group Name]])","v":""},{"$f":"IF(Table1[[#This Row],[Pupil Name]]=\"\",\"\",Table1[[#This Row],[Pupil Name]])","v":""},{"$f":"IF(Table1[[#This Row],[Gender (M/F)]]=\"\",\"\",Table1[[#This Row],[Gender (M/F)]])","v":""},{"$f":"IF(Table1[[#This Row],[DisAdv (Y/N)]]=\"\",\"\",Table1[[#This Row],[DisAdv (Y/N)]])","v":""},{"$f":"IF(Table1[[#This Row],[SEND (E,K,N)]]=\"\",\"\",Table1[[#This Row],[SEND (E,K,N)]])","v":""},"",{"$f":"IF(LEN(Table7[[#This Row],[Pupil Name]])>0,1,0)","v":0}]
[{"$f":"IF(Table1[[#This Row],[School/Group Name]]=\"\",\"\",Table1[[#This Row],[School/Group Name]])","v":""},{"$f":"IF(Table1[[#This Row],[Pupil Name]]=\"\",\"\",Table1[[#This Row],[Pupil Name]])","v":""},{"$f":"IF(Table1[[#This Row],[Gender (M/F)]]=\"\",\"\",Table1[[#This Row],[Gender (M/F)]])","v":""},{"$f":"IF(Table1[[#This Row],[DisAdv (Y/N)]]=\"\",\"\",Table1[[#This Row],[DisAdv (Y/N)]])","v":""},{"$f":"IF(Table1[[#This Row],[SEND (E,K,N)]]=\"\",\"\",Table1[[#This Row],[SEND (E,K,N)]])","v":""},"",{"$f":"IF(LEN(Table7[[#This Row],[Pupil Name]])>0,1,0)","v":0}]
[{"$f":"IF(Table1[[#This Row],[School/Group Name]]=\"\",\"\",Table1[[#This Row],[School/Group Name]])","v":""},{"$f":"IF(Table1[[#This Row],[Pupil Name]]=\"\",\"\",Table1[[#This Row],[Pupil Name]])","v":""},{"$f":"IF(Table1[[#This Row],[Gender (M/F)]]=\"\",\"\",Table1[[#This Row],[Gender (M/F)]])","v":""},{"$f":"IF(Table1[[#This Row],[DisAdv (Y/N)]]=\"\",\"\",Table1[[#This Row],[DisAdv (Y/N)]])","v":""},{"$f":"IF(Table1[[#This Row],[SEND (E,K,N)]]=\"\",\"\",Table1[[#This Row],[SEND (E,K,N)]])","v":""},"",{"$f":"IF(LEN(Table7[[#This Row],[Pupil Name]])>0,1,0)","v":0}]
[{"$f":"IF(Table1[[#This Row],[School/Group Name]]=\"\",\"\",Table1[[#This Row],[School/Group Name]])","v":""},{"$f":"IF(Table1[[#This Row],[Pupil Name]]=\"\",\"\",Table1[[#This Row],[Pupil Name]])","v":""},{"$f":"IF(Table1[[#This Row],[Gender (M/F)]]=\"\",\"\",Table1[[#This Row],[Gender (M/F)]])","v":""},{"$f":"IF(Table1[[#This Row],[DisAdv (Y/N)]]=\"\",\"\",Table1[[#This Row],[DisAdv (Y/N)]])","v":""},{"$f":"IF(Table1[[#This Row],[SEND (E,K,N)]]=\"\",\"\",Table1[[#This Row],[SEND (E,K,N)]])","v":""},"",{"$f":"IF(LEN(Table7[[#This Row],[Pupil Name]])>0,1,0)","v":0}]
[{"$f":"IF(Table1[[#This Row],[School/Group Name]]=\"\",\"\",Table1[[#This Row],[School/Group Name]])","v":""},{"$f":"IF(Table1[[#This Row],[Pupil Name]]=\"\",\"\",Table1[[#This Row],[Pupil Name]])","v":""},{"$f":"IF(Table1[[#This Row],[Gender (M/F)]]=\"\",\"\",Table1[[#This Row],[Gender (M/F)]])","v":""},{"$f":"IF(Table1[[#This Row],[DisAdv (Y/N)]]=\"\",\"\",Table1[[#This Row],[DisAdv (Y/N)]])","v":""},{"$f":"IF(Table1[[#This Row],[SEND (E,K,N)]]=\"\",\"\",Table1[[#This Row],[SEND (E,K,N)]])","v":""},"",{"$f":"IF(LEN(Table7[[#This Row],[Pupil Name]])>0,1,0)","v":0}]
[{"$f":"IF(Table1[[#This Row],[School/Group Name]]=\"\",\"\",Table1[[#This Row],[School/Group Name]])","v":""},{"$f":"IF(Table1[[#This Row],[Pupil Name]]=\"\",\"\",Table1[[#This Row],[Pupil Name]])","v":""},{"$f":"IF(Table1[[#This Row],[Gender (M/F)]]=\"\",\"\",Table1[[#This Row],[Gender (M/F)]])","v":""},{"$f":"IF(Table1[[#This Row],[DisAdv (Y/N)]]=\"\",\"\",Table1[[#This Row],[DisAdv (Y/N)]])","v":""},{"$f":"IF(Table1[[#This Row],[SEND (E,K,N)]]=\"\",\"\",Table1[[#This Row],[SEND (E,K,N)]])","v":""},"",{"$f":"IF(LEN(Table7[[#This Row],[Pupil Name]])>0,1,0)","v":0}]
[{"$f":"IF(Table1[[#This Row],[School/Group Name]]=\"\",\"\",Table1[[#This Row],[School/Group Name]])","v":""},{"$f":"IF(Table1[[#This Row],[Pupil Name]]=\"\",\"\",Table1[[#This Row],[Pupil Name]])","v":""},{"$f":"IF(Table1[[#This Row],[Gender (M/F)]]=\"\",\"\",Table1[[#This Row],[Gender (M/F)]])","v":""},{"$f":"IF(Table1[[#This Row],[DisAdv (Y/N)]]=\"\",\"\",Table1[[#This Row],[DisAdv (Y/N)]])","v":""},{"$f":"IF(Table1[[#This Row],[SEND (E,K,N)]]=\"\",\"\",Table1[[#This Row],[SEND (E,K,N)]])","v":""},"",{"$f":"IF(LEN(Table7[[#This Row],[Pupil Name]])>0,1,0)","v":0}]
[{"$f":"IF(Table1[[#This Row],[School/Group Name]]=\"\",\"\",Table1[[#This Row],[School/Group Name]])","v":""},{"$f":"IF(Table1[[#This Row],[Pupil Name]]=\"\",\"\",Table1[[#This Row],[Pupil Name]])","v":""},{"$f":"IF(Table1[[#This Row],[Gender (M/F)]]=\"\",\"\",Table1[[#This Row],[Gender (M/F)]])","v":""},{"$f":"IF(Table1[[#This Row],[DisAdv (Y/N)]]=\"\",\"\",Table1[[#This Row],[DisAdv (Y/N)]])","v":""},{"$f":"IF(Table1[[#This Row],[SEND (E,K,N)]]=\"\",\"\",Table1[[#This Row],[SEND (E,K,N)]])","v":""},"",{"$f":"IF(LEN(Table7[[#This Row],[Pupil Name]])>0,1,0)","v":0}]
[{"$f":"IF(Table1[[#This Row],[School/Group Name]]=\"\",\"\",Table1[[#This Row],[School/Group Name]])","v":""},{"$f":"IF(Table1[[#This Row],[Pupil Name]]=\"\",\"\",Table1[[#This Row],[Pupil Name]])","v":""},{"$f":"IF(Table1[[#This Row],[Gender (M/F)]]=\"\",\"\",Table1[[#This Row],[Gender (M/F)]])","v":""},{"$f":"IF(Table1[[#This Row],[DisAdv (Y/N)]]=\"\",\"\",Table1[[#This Row],[DisAdv (Y/N)]])","v":""},{"$f":"IF(Table1[[#This Row],[SEND (E,K,N)]]=\"\",\"\",Table1[[#This Row],[SEND (E,K,N)]])","v":""},"",{"$f":"IF(LEN(Table7[[#This Row],[Pupil Name]])>0,1,0)","v":0}]
[{"$f":"IF(Table1[[#This Row],[School/Group Name]]=\"\",\"\",Table1[[#This Row],[School/Group Name]])","v":""},{"$f":"IF(Table1[[#This Row],[Pupil Name]]=\"\",\"\",Table1[[#This Row],[Pupil Name]])","v":""},{"$f":"IF(Table1[[#This Row],[Gender (M/F)]]=\"\",\"\",Table1[[#This Row],[Gender (M/F)]])","v":""},{"$f":"IF(Table1[[#This Row],[DisAdv (Y/N)]]=\"\",\"\",Table1[[#This Row],[DisAdv (Y/N)]])","v":""},{"$f":"IF(Table1[[#This Row],[SEND (E,K,N)]]=\"\",\"\",Table1[[#This Row],[SEND (E,K,N)]])","v":""},"",{"$f":"IF(LEN(Table7[[#This Row],[Pupil Name]])>0,1,0)","v":0}]
[{"$f":"IF(Table1[[#This Row],[School/Group Name]]=\"\",\"\",Table1[[#This Row],[School/Group Name]])","v":""},{"$f":"IF(Table1[[#This Row],[Pupil Name]]=\"\",\"\",Table1[[#This Row],[Pupil Name]])","v":""},{"$f":"IF(Table1[[#This Row],[Gender (M/F)]]=\"\",\"\",Table1[[#This Row],[Gender (M/F)]])","v":""},{"$f":"IF(Table1[[#This Row],[DisAdv (Y/N)]]=\"\",\"\",Table1[[#This Row],[DisAdv (Y/N)]])","v":""},{"$f":"IF(Table1[[#This Row],[SEND (E,K,N)]]=\"\",\"\",Table1[[#This Row],[SEND (E,K,N)]])","v":""},"",{"$f":"IF(LEN(Table7[[#This Row],[Pupil Name]])>0,1,0)","v":0}]
[{"$f":"IF(Table1[[#This Row],[School/Group Name]]=\"\",\"\",Table1[[#This Row],[School/Group Name]])","v":""},{"$f":"IF(Table1[[#This Row],[Pupil Name]]=\"\",\"\",Table1[[#This Row],[Pupil Name]])","v":""},{"$f":"IF(Table1[[#This Row],[Gender (M/F)]]=\"\",\"\",Table1[[#This Row],[Gender (M/F)]])","v":""},{"$f":"IF(Table1[[#This Row],[DisAdv (Y/N)]]=\"\",\"\",Table1[[#This Row],[DisAdv (Y/N)]])","v":""},{"$f":"IF(Table1[[#This Row],[SEND (E,K,N)]]=\"\",\"\",Table1[[#This Row],[SEND (E,K,N)]])","v":""},"",{"$f":"IF(LEN(Table7[[#This Row],[Pupil Name]])>0,1,0)","v":0}]
[{"$f":"IF(Table1[[#This Row],[School/Group Name]]=\"\",\"\",Table1[[#This Row],[School/Group Name]])","v":""},{"$f":"IF(Table1[[#This Row],[Pupil Name]]=\"\",\"\",Table1[[#This Row],[Pupil Name]])","v":""},{"$f":"IF(Table1[[#This Row],[Gender (M/F)]]=\"\",\"\",Table1[[#This Row],[Gender (M/F)]])","v":""},{"$f":"IF(Table1[[#This Row],[DisAdv (Y/N)]]=\"\",\"\",Table1[[#This Row],[DisAdv (Y/N)]])","v":""},{"$f":"IF(Table1[[#This Row],[SEND (E,K,N)]]=\"\",\"\",Table1[[#This Row],[SEND (E,K,N)]])","v":""},"",{"$f":"IF(LEN(Table7[[#This Row],[Pupil Name]])>0,1,0)","v":0}]
[{"$f":"IF(Table1[[#This Row],[School/Group Name]]=\"\",\"\",Table1[[#This Row],[School/Group Name]])","v":""},{"$f":"IF(Table1[[#This Row],[Pupil Name]]=\"\",\"\",Table1[[#This Row],[Pupil Name]])","v":""},{"$f":"IF(Table1[[#This Row],[Gender (M/F)]]=\"\",\"\",Table1[[#This Row],[Gender (M/F)]])","v":""},{"$f":"IF(Table1[[#This Row],[DisAdv (Y/N)]]=\"\",\"\",Table1[[#This Row],[DisAdv (Y/N)]])","v":""},{"$f":"IF(Table1[[#This Row],[SEND (E,K,N)]]=\"\",\"\",Table1[[#This Row],[SEND (E,K,N)]])","v":""},"",{"$f":"IF(LEN(Table7[[#This Row],[Pupil Name]])>0,1,0)","v":0}]
[{"$f":"IF(Table1[[#This Row],[School/Group Name]]=\"\",\"\",Table1[[#This Row],[School/Group Name]])","v":""},{"$f":"IF(Table1[[#This Row],[Pupil Name]]=\"\",\"\",Table1[[#This Row],[Pupil Name]])","v":""},{"$f":"IF(Table1[[#This Row],[Gender (M/F)]]=\"\",\"\",Table1[[#This Row],[Gender (M/F)]])","v":""},{"$f":"IF(Table1[[#This Row],[DisAdv (Y/N)]]=\"\",\"\",Table1[[#This Row],[DisAdv (Y/N)]])","v":""},{"$f":"IF(Table1[[#This Row],[SEND (E,K,N)]]=\"\",\"\",Table1[[#This Row],[SEND (E,K,N)]])","v":""},"",{"$f":"IF(LEN(Table7[[#This Row],[Pupil Name]])>0,1,0)","v":0}]
[{"$f":"IF(Table1[[#This Row],[School/Group Name]]=\"\",\"\",Table1[[#This Row],[School/Group Name]])","v":""},{"$f":"IF(Table1[[#This Row],[Pupil Name]]=\"\",\"\",Table1[[#This Row],[Pupil Name]])","v":""},{"$f":"IF(Table1[[#This Row],[Gender (M/F)]]=\"\",\"\",Table1[[#This Row],[Gender (M/F)]])","v":""},{"$f":"IF(Table1[[#This Row],[DisAdv (Y/N)]]=\"\",\"\",Table1[[#This Row],[DisAdv (Y/N)]])","v":""},{"$f":"IF(Table1[[#This Row],[SEND (E,K,N)]]=\"\",\"\",Table1[[#This Row],[SEND (E,K,N)]])","v":""},"",{"$f":"IF(LEN(Table7[[#This Row],[Pupil Name]])>0,1,0)","v":0}]
[{"$f":"IF(Table1[[#This Row],[School/Group Name]]=\"\",\"\",Table1[[#This Row],[School/Group Name]])","v":""},{"$f":"IF(Table1[[#This Row],[Pupil Name]]=\"\",\"\",Table1[[#This Row],[Pupil Name]])","v":""},{"$f":"IF(Table1[[#This Row],[Gender (M/F)]]=\"\",\"\",Table1[[#This Row],[Gender (M/F)]])","v":""},{"$f":"IF(Table1[[#This Row],[DisAdv (Y/N)]]=\"\",\"\",Table1[[#This Row],[DisAdv (Y/N)]])","v":""},{"$f":"IF(Table1[[#This Row],[SEND (E,K,N)]]=\"\",\"\",Table1[[#This Row],[SEND (E,K,N)]])","v":""},"",{"$f":"IF(LEN(Table7[[#This Row],[Pupil Name]])>0,1,0)","v":0}]
[{"$f":"IF(Table1[[#This Row],[School/Group Name]]=\"\",\"\",Table1[[#This Row],[School/Group Name]])","v":""},{"$f":"IF(Table1[[#This Row],[Pupil Name]]=\"\",\"\",Table1[[#This Row],[Pupil Name]])","v":""},{"$f":"IF(Table1[[#This Row],[Gender (M/F)]]=\"\",\"\",Table1[[#This Row],[Gender (M/F)]])","v":""},{"$f":"IF(Table1[[#This Row],[DisAdv (Y/N)]]=\"\",\"\",Table1[[#This Row],[DisAdv (Y/N)]])","v":""},{"$f":"IF(Table1[[#This Row],[SEND (E,K,N)]]=\"\",\"\",Table1[[#This Row],[SEND (E,K,N)]])","v":""},"",{"$f":"IF(LEN(Table7[[#This Row],[Pupil Name]])>0,1,0)","v":0}]
[{"$f":"IF(Table1[[#This Row],[School/Group Name]]=\"\",\"\",Table1[[#This Row],[School/Group Name]])","v":""},{"$f":"IF(Table1[[#This Row],[Pupil Name]]=\"\",\"\",Table1[[#This Row],[Pupil Name]])","v":""},{"$f":"IF(Table1[[#This Row],[Gender (M/F)]]=\"\",\"\",Table1[[#This Row],[Gender (M/F)]])","v":""},{"$f":"IF(Table1[[#This Row],[DisAdv (Y/N)]]=\"\",\"\",Table1[[#This Row],[DisAdv (Y/N)]])","v":""},{"$f":"IF(Table1[[#This Row],[SEND (E,K,N)]]=\"\",\"\",Table1[[#This Row],[SEND (E,K,N)]])","v":""},"",{"$f":"IF(LEN(Table7[[#This Row],[Pupil Name]])>0,1,0)","v":0}]
[{"$f":"IF(Table1[[#This Row],[School/Group Name]]=\"\",\"\",Table1[[#This Row],[School/Group Name]])","v":""},{"$f":"IF(Table1[[#This Row],[Pupil Name]]=\"\",\"\",Table1[[#This Row],[Pupil Name]])","v":""},{"$f":"IF(Table1[[#This Row],[Gender (M/F)]]=\"\",\"\",Table1[[#This Row],[Gender (M/F)]])","v":""},{"$f":"IF(Table1[[#This Row],[DisAdv (Y/N)]]=\"\",\"\",Table1[[#This Row],[DisAdv (Y/N)]])","v":""},{"$f":"IF(Table1[[#This Row],[SEND (E,K,N)]]=\"\",\"\",Table1[[#This Row],[SEND (E,K,N)]])","v":""},"",{"$f":"IF(LEN(Table7[[#This Row],[Pupil Name]])>0,1,0)","v":0}]
[{"$f":"IF(Table1[[#This Row],[School/Group Name]]=\"\",\"\",Table1[[#This Row],[School/Group Name]])","v":""},{"$f":"IF(Table1[[#This Row],[Pupil Name]]=\"\",\"\",Table1[[#This Row],[Pupil Name]])","v":""},{"$f":"IF(Table1[[#This Row],[Gender (M/F)]]=\"\",\"\",Table1[[#This Row],[Gender (M/F)]])","v":""},{"$f":"IF(Table1[[#This Row],[DisAdv (Y/N)]]=\"\",\"\",Table1[[#This Row],[DisAdv (Y/N)]])","v":""},{"$f":"IF(Table1[[#This Row],[SEND (E,K,N)]]=\"\",\"\",Table1[[#This Row],[SEND (E,K,N)]])","v":""},"",{"$f":"IF(LEN(Table7[[#This Row],[Pupil Name]])>0,1,0)","v":0}]
[{"$f":"IF(Table1[[#This Row],[School/Group Name]]=\"\",\"\",Table1[[#This Row],[School/Group Name]])","v":""},{"$f":"IF(Table1[[#This Row],[Pupil Name]]=\"\",\"\",Table1[[#This Row],[Pupil Name]])","v":""},{"$f":"IF(Table1[[#This Row],[Gender (M/F)]]=\"\",\"\",Table1[[#This Row],[Gender (M/F)]])","v":""},{"$f":"IF(Table1[[#This Row],[DisAdv (Y/N)]]=\"\",\"\",Table1[[#This Row],[DisAdv (Y/N)]])","v":""},{"$f":"IF(Table1[[#This Row],[SEND (E,K,N)]]=\"\",\"\",Table1[[#This Row],[SEND (E,K,N)]])","v":""},"",{"$f":"IF(LEN(Table7[[#This Row],[Pupil Name]])>0,1,0)","v":0}]
[{"$f":"IF(Table1[[#This Row],[School/Group Name]]=\"\",\"\",Table1[[#This Row],[School/Group Name]])","v":""},{"$f":"IF(Table1[[#This Row],[Pupil Name]]=\"\",\"\",Table1[[#This Row],[Pupil Name]])","v":""},{"$f":"IF(Table1[[#This Row],[Gender (M/F)]]=\"\",\"\",Table1[[#This Row],[Gender (M/F)]])","v":""},{"$f":"IF(Table1[[#This Row],[DisAdv (Y/N)]]=\"\",\"\",Table1[[#This Row],[DisAdv (Y/N)]])","v":""},{"$f":"IF(Table1[[#This Row],[SEND (E,K,N)]]=\"\",\"\",Table1[[#This Row],[SEND (E,K,N)]])","v":""},"",{"$f":"IF(LEN(Table7[[#This Row],[Pupil Name]])>0,1,0)","v":0}]
[{"$f":"IF(Table1[[#This Row],[School/Group Name]]=\"\",\"\",Table1[[#This Row],[School/Group Name]])","v":""},{"$f":"IF(Table1[[#This Row],[Pupil Name]]=\"\",\"\",Table1[[#This Row],[Pupil Name]])","v":""},{"$f":"IF(Table1[[#This Row],[Gender (M/F)]]=\"\",\"\",Table1[[#This Row],[Gender (M/F)]])","v":""},{"$f":"IF(Table1[[#This Row],[DisAdv (Y/N)]]=\"\",\"\",Table1[[#This Row],[DisAdv (Y/N)]])","v":""},{"$f":"IF(Table1[[#This Row],[SEND (E,K,N)]]=\"\",\"\",Table1[[#This Row],[SEND (E,K,N)]])","v":""},"",{"$f":"IF(LEN(Table7[[#This Row],[Pupil Name]])>0,1,0)","v":0}]
[{"$f":"IF(Table1[[#This Row],[School/Group Name]]=\"\",\"\",Table1[[#This Row],[School/Group Name]])","v":""},{"$f":"IF(Table1[[#This Row],[Pupil Name]]=\"\",\"\",Table1[[#This Row],[Pupil Name]])","v":""},{"$f":"IF(Table1[[#This Row],[Gender (M/F)]]=\"\",\"\",Table1[[#This Row],[Gender (M/F)]])","v":""},{"$f":"IF(Table1[[#This Row],[DisAdv (Y/N)]]=\"\",\"\",Table1[[#This Row],[DisAdv (Y/N)]])","v":""},{"$f":"IF(Table1[[#This Row],[SEND (E,K,N)]]=\"\",\"\",Table1[[#This Row],[SEND (E,K,N)]])","v":""},"",{"$f":"IF(LEN(Table7[[#This Row],[Pupil Name]])>0,1,0)","v":0}]
[{"$f":"IF(Table1[[#This Row],[School/Group Name]]=\"\",\"\",Table1[[#This Row],[School/Group Name]])","v":""},{"$f":"IF(Table1[[#This Row],[Pupil Name]]=\"\",\"\",Table1[[#This Row],[Pupil Name]])","v":""},{"$f":"IF(Table1[[#This Row],[Gender (M/F)]]=\"\",\"\",Table1[[#This Row],[Gender (M/F)]])","v":""},{"$f":"IF(Table1[[#This Row],[DisAdv (Y/N)]]=\"\",\"\",Table1[[#This Row],[DisAdv (Y/N)]])","v":""},{"$f":"IF(Table1[[#This Row],[SEND (E,K,N)]]=\"\",\"\",Table1[[#This Row],[SEND (E,K,N)]])","v":""},"",{"$f":"IF(LEN(Table7[[#This Row],[Pupil Name]])>0,1,0)","v":0}]
[{"$f":"IF(Table1[[#This Row],[School/Group Name]]=\"\",\"\",Table1[[#This Row],[School/Group Name]])","v":""},{"$f":"IF(Table1[[#This Row],[Pupil Name]]=\"\",\"\",Table1[[#This Row],[Pupil Name]])","v":""},{"$f":"IF(Table1[[#This Row],[Gender (M/F)]]=\"\",\"\",Table1[[#This Row],[Gender (M/F)]])","v":""},{"$f":"IF(Table1[[#This Row],[DisAdv (Y/N)]]=\"\",\"\",Table1[[#This Row],[DisAdv (Y/N)]])","v":""},{"$f":"IF(Table1[[#This Row],[SEND (E,K,N)]]=\"\",\"\",Table1[[#This Row],[SEND (E,K,N)]])","v":""},"",{"$f":"IF(LEN(Table7[[#This Row],[Pupil Name]])>0,1,0)","v":0}]
[{"$f":"IF(Table1[[#This Row],[School/Group Name]]=\"\",\"\",Table1[[#This Row],[School/Group Name]])","v":""},{"$f":"IF(Table1[[#This Row],[Pupil Name]]=\"\",\"\",Table1[[#This Row],[Pupil Name]])","v":""},{"$f":"IF(Table1[[#This Row],[Gender (M/F)]]=\"\",\"\",Table1[[#This Row],[Gender (M/F)]])","v":""},{"$f":"IF(Table1[[#This Row],[DisAdv (Y/N)]]=\"\",\"\",Table1[[#This Row],[DisAdv (Y/N)]])","v":""},{"$f":"IF(Table1[[#This Row],[SEND (E,K,N)]]=\"\",\"\",Table1[[#This Row],[SEND (E,K,N)]])","v":""},"",{"$f":"IF(LEN(Table7[[#This Row],[Pupil Name]])>0,1,0)","v":0}]
[{"$f":"IF(Table1[[#This Row],[School/Group Name]]=\"\",\"\",Table1[[#This Row],[School/Group Name]])","v":""},{"$f":"IF(Table1[[#This Row],[Pupil Name]]=\"\",\"\",Table1[[#This Row],[Pupil Name]])","v":""},{"$f":"IF(Table1[[#This Row],[Gender (M/F)]]=\"\",\"\",Table1[[#This Row],[Gender (M/F)]])","v":""},{"$f":"IF(Table1[[#This Row],[DisAdv (Y/N)]]=\"\",\"\",Table1[[#This Row],[DisAdv (Y/N)]])","v":""},{"$f":"IF(Table1[[#This Row],[SEND (E,K,N)]]=\"\",\"\",Table1[[#This Row],[SEND (E,K,N)]])","v":""},"",{"$f":"IF(LEN(Table7[[#This Row],[Pupil Name]])>0,1,0)","v":0}]
[{"$f":"IF(Table1[[#This Row],[School/Group Name]]=\"\",\"\",Table1[[#This Row],[School/Group Name]])","v":""},{"$f":"IF(Table1[[#This Row],[Pupil Name]]=\"\",\"\",Table1[[#This Row],[Pupil Name]])","v":""},{"$f":"IF(Table1[[#This Row],[Gender (M/F)]]=\"\",\"\",Table1[[#This Row],[Gender (M/F)]])","v":""},{"$f":"IF(Table1[[#This Row],[DisAdv (Y/N)]]=\"\",\"\",Table1[[#This Row],[DisAdv (Y/N)]])","v":""},{"$f":"IF(Table1[[#This Row],[SEND (E,K,N)]]=\"\",\"\",Table1[[#This Row],[SEND (E,K,N)]])","v":""},"",{"$f":"IF(LEN(Table7[[#This Row],[Pupil Name]])>0,1,0)","v":0}]
[{"$f":"IF(Table1[[#This Row],[School/Group Name]]=\"\",\"\",Table1[[#This Row],[School/Group Name]])","v":""},{"$f":"IF(Table1[[#This Row],[Pupil Name]]=\"\",\"\",Table1[[#This Row],[Pupil Name]])","v":""},{"$f":"IF(Table1[[#This Row],[Gender (M/F)]]=\"\",\"\",Table1[[#This Row],[Gender (M/F)]])","v":""},{"$f":"IF(Table1[[#This Row],[DisAdv (Y/N)]]=\"\",\"\",Table1[[#This Row],[DisAdv (Y/N)]])","v":""},{"$f":"IF(Table1[[#This Row],[SEND (E,K,N)]]=\"\",\"\",Table1[[#This Row],[SEND (E,K,N)]])","v":""},"",{"$f":"IF(LEN(Table7[[#This Row],[Pupil Name]])>0,1,0)","v":0}]
[{"$f":"IF(Table1[[#This Row],[School/Group Name]]=\"\",\"\",Table1[[#This Row],[School/Group Name]])","v":""},{"$f":"IF(Table1[[#This Row],[Pupil Name]]=\"\",\"\",Table1[[#This Row],[Pupil Name]])","v":""},{"$f":"IF(Table1[[#This Row],[Gender (M/F)]]=\"\",\"\",Table1[[#This Row],[Gender (M/F)]])","v":""},{"$f":"IF(Table1[[#This Row],[DisAdv (Y/N)]]=\"\",\"\",Table1[[#This Row],[DisAdv (Y/N)]])","v":""},{"$f":"IF(Table1[[#This Row],[SEND (E,K,N)]]=\"\",\"\",Table1[[#This Row],[SEND (E,K,N)]])","v":""},"",{"$f":"IF(LEN(Table7[[#This Row],[Pupil Name]])>0,1,0)","v":0}]
[{"$f":"IF(Table1[[#This Row],[School/Group Name]]=\"\",\"\",Table1[[#This Row],[School/Group Name]])","v":""},{"$f":"IF(Table1[[#This Row],[Pupil Name]]=\"\",\"\",Table1[[#This Row],[Pupil Name]])","v":""},{"$f":"IF(Table1[[#This Row],[Gender (M/F)]]=\"\",\"\",Table1[[#This Row],[Gender (M/F)]])","v":""},{"$f":"IF(Table1[[#This Row],[DisAdv (Y/N)]]=\"\",\"\",Table1[[#This Row],[DisAdv (Y/N)]])","v":""},{"$f":"IF(Table1[[#This Row],[SEND (E,K,N)]]=\"\",\"\",Table1[[#This Row],[SEND (E,K,N)]])","v":""},"",{"$f":"IF(LEN(Table7[[#This Row],[Pupil Name]])>0,1,0)","v":0}]
[{"$f":"IF(Table1[[#This Row],[School/Group Name]]=\"\",\"\",Table1[[#This Row],[School/Group Name]])","v":""},{"$f":"IF(Table1[[#This Row],[Pupil Name]]=\"\",\"\",Table1[[#This Row],[Pupil Name]])","v":""},{"$f":"IF(Table1[[#This Row],[Gender (M/F)]]=\"\",\"\",Table1[[#This Row],[Gender (M/F)]])","v":""},{"$f":"IF(Table1[[#This Row],[DisAdv (Y/N)]]=\"\",\"\",Table1[[#This Row],[DisAdv (Y/N)]])","v":""},{"$f":"IF(Table1[[#This Row],[SEND (E,K,N)]]=\"\",\"\",Table1[[#This Row],[SEND (E,K,N)]])","v":""},"",{"$f":"IF(LEN(Table7[[#This Row],[Pupil Name]])>0,1,0)","v":0}]
[{"$f":"IF(Table1[[#This Row],[School/Group Name]]=\"\",\"\",Table1[[#This Row],[School/Group Name]])","v":""},{"$f":"IF(Table1[[#This Row],[Pupil Name]]=\"\",\"\",Table1[[#This Row],[Pupil Name]])","v":""},{"$f":"IF(Table1[[#This Row],[Gender (M/F)]]=\"\",\"\",Table1[[#This Row],[Gender (M/F)]])","v":""},{"$f":"IF(Table1[[#This Row],[DisAdv (Y/N)]]=\"\",\"\",Table1[[#This Row],[DisAdv (Y/N)]])","v":""},{"$f":"IF(Table1[[#This Row],[SEND (E,K,N)]]=\"\",\"\",Table1[[#This Row],[SEND (E,K,N)]])","v":""},"",{"$f":"IF(LEN(Table7[[#This Row],[Pupil Name]])>0,1,0)","v":0}]
[{"$f":"IF(Table1[[#This Row],[School/Group Name]]=\"\",\"\",Table1[[#This Row],[School/Group Name]])","v":""},{"$f":"IF(Table1[[#This Row],[Pupil Name]]=\"\",\"\",Table1[[#This Row],[Pupil Name]])","v":""},{"$f":"IF(Table1[[#This Row],[Gender (M/F)]]=\"\",\"\",Table1[[#This Row],[Gender (M/F)]])","v":""},{"$f":"IF(Table1[[#This Row],[DisAdv (Y/N)]]=\"\",\"\",Table1[[#This Row],[DisAdv (Y/N)]])","v":""},{"$f":"IF(Table1[[#This Row],[SEND (E,K,N)]]=\"\",\"\",Table1[[#This Row],[SEND (E,K,N)]])","v":""},"",{"$f":"IF(LEN(Table7[[#This Row],[Pupil Name]])>0,1,0)","v":0}]
[{"$f":"IF(Table1[[#This Row],[School/Group Name]]=\"\",\"\",Table1[[#This Row],[School/Group Name]])","v":""},{"$f":"IF(Table1[[#This Row],[Pupil Name]]=\"\",\"\",Table1[[#This Row],[Pupil Name]])","v":""},{"$f":"IF(Table1[[#This Row],[Gender (M/F)]]=\"\",\"\",Table1[[#This Row],[Gender (M/F)]])","v":""},{"$f":"IF(Table1[[#This Row],[DisAdv (Y/N)]]=\"\",\"\",Table1[[#This Row],[DisAdv (Y/N)]])","v":""},{"$f":"IF(Table1[[#This Row],[SEND (E,K,N)]]=\"\",\"\",Table1[[#This Row],[SEND (E,K,N)]])","v":""},"",{"$f":"IF(LEN(Table7[[#This Row],[Pupil Name]])>0,1,0)","v":0}]
[{"$f":"IF(Table1[[#This Row],[School/Group Name]]=\"\",\"\",Table1[[#This Row],[School/Group Name]])","v":""},{"$f":"IF(Table1[[#This Row],[Pupil Name]]=\"\",\"\",Table1[[#This Row],[Pupil Name]])","v":""},{"$f":"IF(Table1[[#This Row],[Gender (M/F)]]=\"\",\"\",Table1[[#This Row],[Gender (M/F)]])","v":""},{"$f":"IF(Table1[[#This Row],[DisAdv (Y/N)]]=\"\",\"\",Table1[[#This Row],[DisAdv (Y/N)]])","v":""},{"$f":"IF(Table1[[#This Row],[SEND (E,K,N)]]=\"\",\"\",Table1[[#This Row],[SEND (E,K,N)]])","v":""},"",{"$f":"IF(LEN(Table7[[#This Row],[Pupil Name]])>0,1,0)","v":0}]
[{"$f":"IF(Table1[[#This Row],[School/Group Name]]=\"\",\"\",Table1[[#This Row],[School/Group Name]])","v":""},{"$f":"IF(Table1[[#This Row],[Pupil Name]]=\"\",\"\",Table1[[#This Row],[Pupil Name]])","v":""},{"$f":"IF(Table1[[#This Row],[Gender (M/F)]]=\"\",\"\",Table1[[#This Row],[Gender (M/F)]])","v":""},{"$f":"IF(Table1[[#This Row],[DisAdv (Y/N)]]=\"\",\"\",Table1[[#This Row],[DisAdv (Y/N)]])","v":""},{"$f":"IF(Table1[[#This Row],[SEND (E,K,N)]]=\"\",\"\",Table1[[#This Row],[SEND (E,K,N)]])","v":""},"",{"$f":"IF(LEN(Table7[[#This Row],[Pupil Name]])>0,1,0)","v":0}]
[{"$f":"IF(Table1[[#This Row],[School/Group Name]]=\"\",\"\",Table1[[#This Row],[School/Group Name]])","v":""},{"$f":"IF(Table1[[#This Row],[Pupil Name]]=\"\",\"\",Table1[[#This Row],[Pupil Name]])","v":""},{"$f":"IF(Table1[[#This Row],[Gender (M/F)]]=\"\",\"\",Table1[[#This Row],[Gender (M/F)]])","v":""},{"$f":"IF(Table1[[#This Row],[DisAdv (Y/N)]]=\"\",\"\",Table1[[#This Row],[DisAdv (Y/N)]])","v":""},{"$f":"IF(Table1[[#This Row],[SEND (E,K,N)]]=\"\",\"\",Table1[[#This Row],[SEND (E,K,N)]])","v":""},"",{"$f":"IF(LEN(Table7[[#This Row],[Pupil Name]])>0,1,0)","v":0}]
[{"$f":"IF(Table1[[#This Row],[School/Group Name]]=\"\",\"\",Table1[[#This Row],[School/Group Name]])","v":""},{"$f":"IF(Table1[[#This Row],[Pupil Name]]=\"\",\"\",Table1[[#This Row],[Pupil Name]])","v":""},{"$f":"IF(Table1[[#This Row],[Gender (M/F)]]=\"\",\"\",Table1[[#This Row],[Gender (M/F)]])","v":""},{"$f":"IF(Table1[[#This Row],[DisAdv (Y/N)]]=\"\",\"\",Table1[[#This Row],[DisAdv (Y/N)]])","v":""},{"$f":"IF(Table1[[#This Row],[SEND (E,K,N)]]=\"\",\"\",Table1[[#This Row],[SEND (E,K,N)]])","v":""},"",{"$f":"IF(LEN(Table7[[#This Row],[Pupil Name]])>0,1,0)","v":0}]
[{"$f":"IF(Table1[[#This Row],[School/Group Name]]=\"\",\"\",Table1[[#This Row],[School/Group Name]])","v":""},{"$f":"IF(Table1[[#This Row],[Pupil Name]]=\"\",\"\",Table1[[#This Row],[Pupil Name]])","v":""},{"$f":"IF(Table1[[#This Row],[Gender (M/F)]]=\"\",\"\",Table1[[#This Row],[Gender (M/F)]])","v":""},{"$f":"IF(Table1[[#This Row],[DisAdv (Y/N)]]=\"\",\"\",Table1[[#This Row],[DisAdv (Y/N)]])","v":""},{"$f":"IF(Table1[[#This Row],[SEND (E,K,N)]]=\"\",\"\",Table1[[#This Row],[SEND (E,K,N)]])","v":""},"",{"$f":"IF(LEN(Table7[[#This Row],[Pupil Name]])>0,1,0)","v":0}]
[{"$f":"IF(Table1[[#This Row],[School/Group Name]]=\"\",\"\",Table1[[#This Row],[School/Group Name]])","v":""},{"$f":"IF(Table1[[#This Row],[Pupil Name]]=\"\",\"\",Table1[[#This Row],[Pupil Name]])","v":""},{"$f":"IF(Table1[[#This Row],[Gender (M/F)]]=\"\",\"\",Table1[[#This Row],[Gender (M/F)]])","v":""},{"$f":"IF(Table1[[#This Row],[DisAdv (Y/N)]]=\"\",\"\",Table1[[#This Row],[DisAdv (Y/N)]])","v":""},{"$f":"IF(Table1[[#This Row],[SEND (E,K,N)]]=\"\",\"\",Table1[[#This Row],[SEND (E,K,N)]])","v":""},"",{"$f":"IF(LEN(Table7[[#This Row],[Pupil Name]])>0,1,0)","v":0}]
[{"$f":"IF(Table1[[#This Row],[School/Group Name]]=\"\",\"\",Table1[[#This Row],[School/Group Name]])","v":""},{"$f":"IF(Table1[[#This Row],[Pupil Name]]=\"\",\"\",Table1[[#This Row],[Pupil Name]])","v":""},{"$f":"IF(Table1[[#This Row],[Gender (M/F)]]=\"\",\"\",Table1[[#This Row],[Gender (M/F)]])","v":""},{"$f":"IF(Table1[[#This Row],[DisAdv (Y/N)]]=\"\",\"\",Table1[[#This Row],[DisAdv (Y/N)]])","v":""},{"$f":"IF(Table1[[#This Row],[SEND (E,K,N)]]=\"\",\"\",Table1[[#This Row],[SEND (E,K,N)]])","v":""},"",{"$f":"IF(LEN(Table7[[#This Row],[Pupil Name]])>0,1,0)","v":0}]
[{"$f":"IF(Table1[[#This Row],[School/Group Name]]=\"\",\"\",Table1[[#This Row],[School/Group Name]])","v":""},{"$f":"IF(Table1[[#This Row],[Pupil Name]]=\"\",\"\",Table1[[#This Row],[Pupil Name]])","v":""},{"$f":"IF(Table1[[#This Row],[Gender (M/F)]]=\"\",\"\",Table1[[#This Row],[Gender (M/F)]])","v":""},{"$f":"IF(Table1[[#This Row],[DisAdv (Y/N)]]=\"\",\"\",Table1[[#This Row],[DisAdv (Y/N)]])","v":""},{"$f":"IF(Table1[[#This Row],[SEND (E,K,N)]]=\"\",\"\",Table1[[#This Row],[SEND (E,K,N)]])","v":""},"",{"$f":"IF(LEN(Table7[[#This Row],[Pupil Name]])>0,1,0)","v":0}]
[{"$f":"IF(Table1[[#This Row],[School/Group Name]]=\"\",\"\",Table1[[#This Row],[School/Group Name]])","v":""},{"$f":"IF(Table1[[#This Row],[Pupil Name]]=\"\",\"\",Table1[[#This Row],[Pupil Name]])","v":""},{"$f":"IF(Table1[[#This Row],[Gender (M/F)]]=\"\",\"\",Table1[[#This Row],[Gender (M/F)]])","v":""},{"$f":"IF(Table1[[#This Row],[DisAdv (Y/N)]]=\"\",\"\",Table1[[#This Row],[DisAdv (Y/N)]])","v":""},{"$f":"IF(Table1[[#This Row],[SEND (E,K,N)]]=\"\",\"\",Table1[[#This Row],[SEND (E,K,N)]])","v":""},{"$f":"IF(H327=\"\",\"\",(SUM(H327:AA327)))","v":""},{"$f":"IF(LEN(Table7[[#This Row],[Pupil Name]])>0,1,0)","v":0}]
[{"$f":"IF(Table1[[#This Row],[School/Group Name]]=\"\",\"\",Table1[[#This Row],[School/Group Name]])","v":""},{"$f":"IF(Table1[[#This Row],[Pupil Name]]=\"\",\"\",Table1[[#This Row],[Pupil Name]])","v":""},{"$f":"IF(Table1[[#This Row],[Gender (M/F)]]=\"\",\"\",Table1[[#This Row],[Gender (M/F)]])","v":""},{"$f":"IF(Table1[[#This Row],[DisAdv (Y/N)]]=\"\",\"\",Table1[[#This Row],[DisAdv (Y/N)]])","v":""},{"$f":"IF(Table1[[#This Row],[SEND (E,K,N)]]=\"\",\"\",Table1[[#This Row],[SEND (E,K,N)]])","v":""},"",{"$f":"IF(LEN(Table7[[#This Row],[Pupil Name]])>0,1,0)","v":0}]
[{"$f":"IF(Table1[[#This Row],[School/Group Name]]=\"\",\"\",Table1[[#This Row],[School/Group Name]])","v":""},{"$f":"IF(Table1[[#This Row],[Pupil Name]]=\"\",\"\",Table1[[#This Row],[Pupil Name]])","v":""},{"$f":"IF(Table1[[#This Row],[Gender (M/F)]]=\"\",\"\",Table1[[#This Row],[Gender (M/F)]])","v":""},{"$f":"IF(Table1[[#This Row],[DisAdv (Y/N)]]=\"\",\"\",Table1[[#This Row],[DisAdv (Y/N)]])","v":""},{"$f":"IF(Table1[[#This Row],[SEND (E,K,N)]]=\"\",\"\",Table1[[#This Row],[SEND (E,K,N)]])","v":""},"",{"$f":"IF(LEN(Table7[[#This Row],[Pupil Name]])>0,1,0)","v":0}]
[{"$f":"IF(Table1[[#This Row],[School/Group Name]]=\"\",\"\",Table1[[#This Row],[School/Group Name]])","v":""},{"$f":"IF(Table1[[#This Row],[Pupil Name]]=\"\",\"\",Table1[[#This Row],[Pupil Name]])","v":""},{"$f":"IF(Table1[[#This Row],[Gender (M/F)]]=\"\",\"\",Table1[[#This Row],[Gender (M/F)]])","v":""},{"$f":"IF(Table1[[#This Row],[DisAdv (Y/N)]]=\"\",\"\",Table1[[#This Row],[DisAdv (Y/N)]])","v":""},{"$f":"IF(Table1[[#This Row],[SEND (E,K,N)]]=\"\",\"\",Table1[[#This Row],[SEND (E,K,N)]])","v":""},"",{"$f":"IF(LEN(Table7[[#This Row],[Pupil Name]])>0,1,0)","v":0}]
[{"$f":"IF(Table1[[#This Row],[School/Group Name]]=\"\",\"\",Table1[[#This Row],[School/Group Name]])","v":""},{"$f":"IF(Table1[[#This Row],[Pupil Name]]=\"\",\"\",Table1[[#This Row],[Pupil Name]])","v":""},{"$f":"IF(Table1[[#This Row],[Gender (M/F)]]=\"\",\"\",Table1[[#This Row],[Gender (M/F)]])","v":""},{"$f":"IF(Table1[[#This Row],[DisAdv (Y/N)]]=\"\",\"\",Table1[[#This Row],[DisAdv (Y/N)]])","v":""},{"$f":"IF(Table1[[#This Row],[SEND (E,K,N)]]=\"\",\"\",Table1[[#This Row],[SEND (E,K,N)]])","v":""},"",{"$f":"IF(LEN(Table7[[#This Row],[Pupil Name]])>0,1,0)","v":0}]
[{"$f":"IF(Table1[[#This Row],[School/Group Name]]=\"\",\"\",Table1[[#This Row],[School/Group Name]])","v":""},{"$f":"IF(Table1[[#This Row],[Pupil Name]]=\"\",\"\",Table1[[#This Row],[Pupil Name]])","v":""},{"$f":"IF(Table1[[#This Row],[Gender (M/F)]]=\"\",\"\",Table1[[#This Row],[Gender (M/F)]])","v":""},{"$f":"IF(Table1[[#This Row],[DisAdv (Y/N)]]=\"\",\"\",Table1[[#This Row],[DisAdv (Y/N)]])","v":""},{"$f":"IF(Table1[[#This Row],[SEND (E,K,N)]]=\"\",\"\",Table1[[#This Row],[SEND (E,K,N)]])","v":""},"",{"$f":"IF(LEN(Table7[[#This Row],[Pupil Name]])>0,1,0)","v":0}]
[{"$f":"IF(Table1[[#This Row],[School/Group Name]]=\"\",\"\",Table1[[#This Row],[School/Group Name]])","v":""},{"$f":"IF(Table1[[#This Row],[Pupil Name]]=\"\",\"\",Table1[[#This Row],[Pupil Name]])","v":""},{"$f":"IF(Table1[[#This Row],[Gender (M/F)]]=\"\",\"\",Table1[[#This Row],[Gender (M/F)]])","v":""},{"$f":"IF(Table1[[#This Row],[DisAdv (Y/N)]]=\"\",\"\",Table1[[#This Row],[DisAdv (Y/N)]])","v":""},{"$f":"IF(Table1[[#This Row],[SEND (E,K,N)]]=\"\",\"\",Table1[[#This Row],[SEND (E,K,N)]])","v":""},"",{"$f":"IF(LEN(Table7[[#This Row],[Pupil Name]])>0,1,0)","v":0}]
[{"$f":"IF(Table1[[#This Row],[School/Group Name]]=\"\",\"\",Table1[[#This Row],[School/Group Name]])","v":""},{"$f":"IF(Table1[[#This Row],[Pupil Name]]=\"\",\"\",Table1[[#This Row],[Pupil Name]])","v":""},{"$f":"IF(Table1[[#This Row],[Gender (M/F)]]=\"\",\"\",Table1[[#This Row],[Gender (M/F)]])","v":""},{"$f":"IF(Table1[[#This Row],[DisAdv (Y/N)]]=\"\",\"\",Table1[[#This Row],[DisAdv (Y/N)]])","v":""},{"$f":"IF(Table1[[#This Row],[SEND (E,K,N)]]=\"\",\"\",Table1[[#This Row],[SEND (E,K,N)]])","v":""},"",{"$f":"IF(LEN(Table7[[#This Row],[Pupil Name]])>0,1,0)","v":0}]
[{"$f":"IF(Table1[[#This Row],[School/Group Name]]=\"\",\"\",Table1[[#This Row],[School/Group Name]])","v":""},{"$f":"IF(Table1[[#This Row],[Pupil Name]]=\"\",\"\",Table1[[#This Row],[Pupil Name]])","v":""},{"$f":"IF(Table1[[#This Row],[Gender (M/F)]]=\"\",\"\",Table1[[#This Row],[Gender (M/F)]])","v":""},{"$f":"IF(Table1[[#This Row],[DisAdv (Y/N)]]=\"\",\"\",Table1[[#This Row],[DisAdv (Y/N)]])","v":""},{"$f":"IF(Table1[[#This Row],[SEND (E,K,N)]]=\"\",\"\",Table1[[#This Row],[SEND (E,K,N)]])","v":""},"",{"$f":"IF(LEN(Table7[[#This Row],[Pupil Name]])>0,1,0)","v":0}]
[{"$f":"IF(Table1[[#This Row],[School/Group Name]]=\"\",\"\",Table1[[#This Row],[School/Group Name]])","v":""},{"$f":"IF(Table1[[#This Row],[Pupil Name]]=\"\",\"\",Table1[[#This Row],[Pupil Name]])","v":""},{"$f":"IF(Table1[[#This Row],[Gender (M/F)]]=\"\",\"\",Table1[[#This Row],[Gender (M/F)]])","v":""},{"$f":"IF(Table1[[#This Row],[DisAdv (Y/N)]]=\"\",\"\",Table1[[#This Row],[DisAdv (Y/N)]])","v":""},{"$f":"IF(Table1[[#This Row],[SEND (E,K,N)]]=\"\",\"\",Table1[[#This Row],[SEND (E,K,N)]])","v":""},"",{"$f":"IF(LEN(Table7[[#This Row],[Pupil Name]])>0,1,0)","v":0}]
[{"$f":"IF(Table1[[#This Row],[School/Group Name]]=\"\",\"\",Table1[[#This Row],[School/Group Name]])","v":""},{"$f":"IF(Table1[[#This Row],[Pupil Name]]=\"\",\"\",Table1[[#This Row],[Pupil Name]])","v":""},{"$f":"IF(Table1[[#This Row],[Gender (M/F)]]=\"\",\"\",Table1[[#This Row],[Gender (M/F)]])","v":""},{"$f":"IF(Table1[[#This Row],[DisAdv (Y/N)]]=\"\",\"\",Table1[[#This Row],[DisAdv (Y/N)]])","v":""},{"$f":"IF(Table1[[#This Row],[SEND (E,K,N)]]=\"\",\"\",Table1[[#This Row],[SEND (E,K,N)]])","v":""},"",{"$f":"IF(LEN(Table7[[#This Row],[Pupil Name]])>0,1,0)","v":0}]
[{"$f":"IF(Table1[[#This Row],[School/Group Name]]=\"\",\"\",Table1[[#This Row],[School/Group Name]])","v":""},{"$f":"IF(Table1[[#This Row],[Pupil Name]]=\"\",\"\",Table1[[#This Row],[Pupil Name]])","v":""},{"$f":"IF(Table1[[#This Row],[Gender (M/F)]]=\"\",\"\",Table1[[#This Row],[Gender (M/F)]])","v":""},{"$f":"IF(Table1[[#This Row],[DisAdv (Y/N)]]=\"\",\"\",Table1[[#This Row],[DisAdv (Y/N)]])","v":""},{"$f":"IF(Table1[[#This Row],[SEND (E,K,N)]]=\"\",\"\",Table1[[#This Row],[SEND (E,K,N)]])","v":""},"",{"$f":"IF(LEN(Table7[[#This Row],[Pupil Name]])>0,1,0)","v":0}]
[{"$f":"IF(Table1[[#This Row],[School/Group Name]]=\"\",\"\",Table1[[#This Row],[School/Group Name]])","v":""},{"$f":"IF(Table1[[#This Row],[Pupil Name]]=\"\",\"\",Table1[[#This Row],[Pupil Name]])","v":""},{"$f":"IF(Table1[[#This Row],[Gender (M/F)]]=\"\",\"\",Table1[[#This Row],[Gender (M/F)]])","v":""},{"$f":"IF(Table1[[#This Row],[DisAdv (Y/N)]]=\"\",\"\",Table1[[#This Row],[DisAdv (Y/N)]])","v":""},{"$f":"IF(Table1[[#This Row],[SEND (E,K,N)]]=\"\",\"\",Table1[[#This Row],[SEND (E,K,N)]])","v":""},"",{"$f":"IF(LEN(Table7[[#This Row],[Pupil Name]])>0,1,0)","v":0}]
[{"$f":"IF(Table1[[#This Row],[School/Group Name]]=\"\",\"\",Table1[[#This Row],[School/Group Name]])","v":""},{"$f":"IF(Table1[[#This Row],[Pupil Name]]=\"\",\"\",Table1[[#This Row],[Pupil Name]])","v":""},{"$f":"IF(Table1[[#This Row],[Gender (M/F)]]=\"\",\"\",Table1[[#This Row],[Gender (M/F)]])","v":""},{"$f":"IF(Table1[[#This Row],[DisAdv (Y/N)]]=\"\",\"\",Table1[[#This Row],[DisAdv (Y/N)]])","v":""},{"$f":"IF(Table1[[#This Row],[SEND (E,K,N)]]=\"\",\"\",Table1[[#This Row],[SEND (E,K,N)]])","v":""},"",{"$f":"IF(LEN(Table7[[#This Row],[Pupil Name]])>0,1,0)","v":0}]
[{"$f":"IF(Table1[[#This Row],[School/Group Name]]=\"\",\"\",Table1[[#This Row],[School/Group Name]])","v":""},{"$f":"IF(Table1[[#This Row],[Pupil Name]]=\"\",\"\",Table1[[#This Row],[Pupil Name]])","v":""},{"$f":"IF(Table1[[#This Row],[Gender (M/F)]]=\"\",\"\",Table1[[#This Row],[Gender (M/F)]])","v":""},{"$f":"IF(Table1[[#This Row],[DisAdv (Y/N)]]=\"\",\"\",Table1[[#This Row],[DisAdv (Y/N)]])","v":""},{"$f":"IF(Table1[[#This Row],[SEND (E,K,N)]]=\"\",\"\",Table1[[#This Row],[SEND (E,K,N)]])","v":""},"",{"$f":"IF(LEN(Table7[[#This Row],[Pupil Name]])>0,1,0)","v":0}]
[{"$f":"IF(Table1[[#This Row],[School/Group Name]]=\"\",\"\",Table1[[#This Row],[School/Group Name]])","v":""},{"$f":"IF(Table1[[#This Row],[Pupil Name]]=\"\",\"\",Table1[[#This Row],[Pupil Name]])","v":""},{"$f":"IF(Table1[[#This Row],[Gender (M/F)]]=\"\",\"\",Table1[[#This Row],[Gender (M/F)]])","v":""},{"$f":"IF(Table1[[#This Row],[DisAdv (Y/N)]]=\"\",\"\",Table1[[#This Row],[DisAdv (Y/N)]])","v":""},{"$f":"IF(Table1[[#This Row],[SEND (E,K,N)]]=\"\",\"\",Table1[[#This Row],[SEND (E,K,N)]])","v":""},"",{"$f":"IF(LEN(Table7[[#This Row],[Pupil Name]])>0,1,0)","v":0}]
[{"$f":"IF(Table1[[#This Row],[School/Group Name]]=\"\",\"\",Table1[[#This Row],[School/Group Name]])","v":""},{"$f":"IF(Table1[[#This Row],[Pupil Name]]=\"\",\"\",Table1[[#This Row],[Pupil Name]])","v":""},{"$f":"IF(Table1[[#This Row],[Gender (M/F)]]=\"\",\"\",Table1[[#This Row],[Gender (M/F)]])","v":""},{"$f":"IF(Table1[[#This Row],[DisAdv (Y/N)]]=\"\",\"\",Table1[[#This Row],[DisAdv (Y/N)]])","v":""},{"$f":"IF(Table1[[#This Row],[SEND (E,K,N)]]=\"\",\"\",Table1[[#This Row],[SEND (E,K,N)]])","v":""},"",{"$f":"IF(LEN(Table7[[#This Row],[Pupil Name]])>0,1,0)","v":0}]
[{"$f":"IF(Table1[[#This Row],[School/Group Name]]=\"\",\"\",Table1[[#This Row],[School/Group Name]])","v":""},{"$f":"IF(Table1[[#This Row],[Pupil Name]]=\"\",\"\",Table1[[#This Row],[Pupil Name]])","v":""},{"$f":"IF(Table1[[#This Row],[Gender (M/F)]]=\"\",\"\",Table1[[#This Row],[Gender (M/F)]])","v":""},{"$f":"IF(Table1[[#This Row],[DisAdv (Y/N)]]=\"\",\"\",Table1[[#This Row],[DisAdv (Y/N)]])","v":""},{"$f":"IF(Table1[[#This Row],[SEND (E,K,N)]]=\"\",\"\",Table1[[#This Row],[SEND (E,K,N)]])","v":""},"",{"$f":"IF(LEN(Table7[[#This Row],[Pupil Name]])>0,1,0)","v":0}]
[{"$f":"IF(Table1[[#This Row],[School/Group Name]]=\"\",\"\",Table1[[#This Row],[School/Group Name]])","v":""},{"$f":"IF(Table1[[#This Row],[Pupil Name]]=\"\",\"\",Table1[[#This Row],[Pupil Name]])","v":""},{"$f":"IF(Table1[[#This Row],[Gender (M/F)]]=\"\",\"\",Table1[[#This Row],[Gender (M/F)]])","v":""},{"$f":"IF(Table1[[#This Row],[DisAdv (Y/N)]]=\"\",\"\",Table1[[#This Row],[DisAdv (Y/N)]])","v":""},{"$f":"IF(Table1[[#This Row],[SEND (E,K,N)]]=\"\",\"\",Table1[[#This Row],[SEND (E,K,N)]])","v":""},"",{"$f":"IF(LEN(Table7[[#This Row],[Pupil Name]])>0,1,0)","v":0}]
[{"$f":"IF(Table1[[#This Row],[School/Group Name]]=\"\",\"\",Table1[[#This Row],[School/Group Name]])","v":""},{"$f":"IF(Table1[[#This Row],[Pupil Name]]=\"\",\"\",Table1[[#This Row],[Pupil Name]])","v":""},{"$f":"IF(Table1[[#This Row],[Gender (M/F)]]=\"\",\"\",Table1[[#This Row],[Gender (M/F)]])","v":""},{"$f":"IF(Table1[[#This Row],[DisAdv (Y/N)]]=\"\",\"\",Table1[[#This Row],[DisAdv (Y/N)]])","v":""},{"$f":"IF(Table1[[#This Row],[SEND (E,K,N)]]=\"\",\"\",Table1[[#This Row],[SEND (E,K,N)]])","v":""},"",{"$f":"IF(LEN(Table7[[#This Row],[Pupil Name]])>0,1,0)","v":0}]
[{"$f":"IF(Table1[[#This Row],[School/Group Name]]=\"\",\"\",Table1[[#This Row],[School/Group Name]])","v":""},{"$f":"IF(Table1[[#This Row],[Pupil Name]]=\"\",\"\",Table1[[#This Row],[Pupil Name]])","v":""},{"$f":"IF(Table1[[#This Row],[Gender (M/F)]]=\"\",\"\",Table1[[#This Row],[Gender (M/F)]])","v":""},{"$f":"IF(Table1[[#This Row],[DisAdv (Y/N)]]=\"\",\"\",Table1[[#This Row],[DisAdv (Y/N)]])","v":""},{"$f":"IF(Table1[[#This Row],[SEND (E,K,N)]]=\"\",\"\",Table1[[#This Row],[SEND (E,K,N)]])","v":""},"",{"$f":"IF(LEN(Table7[[#This Row],[Pupil Name]])>0,1,0)","v":0}]
[{"$f":"IF(Table1[[#This Row],[School/Group Name]]=\"\",\"\",Table1[[#This Row],[School/Group Name]])","v":""},{"$f":"IF(Table1[[#This Row],[Pupil Name]]=\"\",\"\",Table1[[#This Row],[Pupil Name]])","v":""},{"$f":"IF(Table1[[#This Row],[Gender (M/F)]]=\"\",\"\",Table1[[#This Row],[Gender (M/F)]])","v":""},{"$f":"IF(Table1[[#This Row],[DisAdv (Y/N)]]=\"\",\"\",Table1[[#This Row],[DisAdv (Y/N)]])","v":""},{"$f":"IF(Table1[[#This Row],[SEND (E,K,N)]]=\"\",\"\",Table1[[#This Row],[SEND (E,K,N)]])","v":""},"",{"$f":"IF(LEN(Table7[[#This Row],[Pupil Name]])>0,1,0)","v":0}]
[{"$f":"IF(Table1[[#This Row],[School/Group Name]]=\"\",\"\",Table1[[#This Row],[School/Group Name]])","v":""},{"$f":"IF(Table1[[#This Row],[Pupil Name]]=\"\",\"\",Table1[[#This Row],[Pupil Name]])","v":""},{"$f":"IF(Table1[[#This Row],[Gender (M/F)]]=\"\",\"\",Table1[[#This Row],[Gender (M/F)]])","v":""},{"$f":"IF(Table1[[#This Row],[DisAdv (Y/N)]]=\"\",\"\",Table1[[#This Row],[DisAdv (Y/N)]])","v":""},{"$f":"IF(Table1[[#This Row],[SEND (E,K,N)]]=\"\",\"\",Table1[[#This Row],[SEND (E,K,N)]])","v":""},"",{"$f":"IF(LEN(Table7[[#This Row],[Pupil Name]])>0,1,0)","v":0}]
[{"$f":"IF(Table1[[#This Row],[School/Group Name]]=\"\",\"\",Table1[[#This Row],[School/Group Name]])","v":""},{"$f":"IF(Table1[[#This Row],[Pupil Name]]=\"\",\"\",Table1[[#This Row],[Pupil Name]])","v":""},{"$f":"IF(Table1[[#This Row],[Gender (M/F)]]=\"\",\"\",Table1[[#This Row],[Gender (M/F)]])","v":""},{"$f":"IF(Table1[[#This Row],[DisAdv (Y/N)]]=\"\",\"\",Table1[[#This Row],[DisAdv (Y/N)]])","v":""},{"$f":"IF(Table1[[#This Row],[SEND (E,K,N)]]=\"\",\"\",Table1[[#This Row],[SEND (E,K,N)]])","v":""},"",{"$f":"IF(LEN(Table7[[#This Row],[Pupil Name]])>0,1,0)","v":0}]
[{"$f":"IF(Table1[[#This Row],[School/Group Name]]=\"\",\"\",Table1[[#This Row],[School/Group Name]])","v":""},{"$f":"IF(Table1[[#This Row],[Pupil Name]]=\"\",\"\",Table1[[#This Row],[Pupil Name]])","v":""},{"$f":"IF(Table1[[#This Row],[Gender (M/F)]]=\"\",\"\",Table1[[#This Row],[Gender (M/F)]])","v":""},{"$f":"IF(Table1[[#This Row],[DisAdv (Y/N)]]=\"\",\"\",Table1[[#This Row],[DisAdv (Y/N)]])","v":""},{"$f":"IF(Table1[[#This Row],[SEND (E,K,N)]]=\"\",\"\",Table1[[#This Row],[SEND (E,K,N)]])","v":""},"",{"$f":"IF(LEN(Table7[[#This Row],[Pupil Name]])>0,1,0)","v":0}]
[{"$f":"IF(Table1[[#This Row],[School/Group Name]]=\"\",\"\",Table1[[#This Row],[School/Group Name]])","v":""},{"$f":"IF(Table1[[#This Row],[Pupil Name]]=\"\",\"\",Table1[[#This Row],[Pupil Name]])","v":""},{"$f":"IF(Table1[[#This Row],[Gender (M/F)]]=\"\",\"\",Table1[[#This Row],[Gender (M/F)]])","v":""},{"$f":"IF(Table1[[#This Row],[DisAdv (Y/N)]]=\"\",\"\",Table1[[#This Row],[DisAdv (Y/N)]])","v":""},{"$f":"IF(Table1[[#This Row],[SEND (E,K,N)]]=\"\",\"\",Table1[[#This Row],[SEND (E,K,N)]])","v":""},"",{"$f":"IF(LEN(Table7[[#This Row],[Pupil Name]])>0,1,0)","v":0}]
[{"$f":"IF(Table1[[#This Row],[School/Group Name]]=\"\",\"\",Table1[[#This Row],[School/Group Name]])","v":""},{"$f":"IF(Table1[[#This Row],[Pupil Name]]=\"\",\"\",Table1[[#This Row],[Pupil Name]])","v":""},{"$f":"IF(Table1[[#This Row],[Gender (M/F)]]=\"\",\"\",Table1[[#This Row],[Gender (M/F)]])","v":""},{"$f":"IF(Table1[[#This Row],[DisAdv (Y/N)]]=\"\",\"\",Table1[[#This Row],[DisAdv (Y/N)]])","v":""},{"$f":"IF(Table1[[#This Row],[SEND (E,K,N)]]=\"\",\"\",Table1[[#This Row],[SEND (E,K,N)]])","v":""},"",{"$f":"IF(LEN(Table7[[#This Row],[Pupil Name]])>0,1,0)","v":0}]
[{"$f":"IF(Table1[[#This Row],[School/Group Name]]=\"\",\"\",Table1[[#This Row],[School/Group Name]])","v":""},{"$f":"IF(Table1[[#This Row],[Pupil Name]]=\"\",\"\",Table1[[#This Row],[Pupil Name]])","v":""},{"$f":"IF(Table1[[#This Row],[Gender (M/F)]]=\"\",\"\",Table1[[#This Row],[Gender (M/F)]])","v":""},{"$f":"IF(Table1[[#This Row],[DisAdv (Y/N)]]=\"\",\"\",Table1[[#This Row],[DisAdv (Y/N)]])","v":""},{"$f":"IF(Table1[[#This Row],[SEND (E,K,N)]]=\"\",\"\",Table1[[#This Row],[SEND (E,K,N)]])","v":""},"",{"$f":"IF(LEN(Table7[[#This Row],[Pupil Name]])>0,1,0)","v":0}]
[{"$f":"IF(Table1[[#This Row],[School/Group Name]]=\"\",\"\",Table1[[#This Row],[School/Group Name]])","v":""},{"$f":"IF(Table1[[#This Row],[Pupil Name]]=\"\",\"\",Table1[[#This Row],[Pupil Name]])","v":""},{"$f":"IF(Table1[[#This Row],[Gender (M/F)]]=\"\",\"\",Table1[[#This Row],[Gender (M/F)]])","v":""},{"$f":"IF(Table1[[#This Row],[DisAdv (Y/N)]]=\"\",\"\",Table1[[#This Row],[DisAdv (Y/N)]])","v":""},{"$f":"IF(Table1[[#This Row],[SEND (E,K,N)]]=\"\",\"\",Table1[[#This Row],[SEND (E,K,N)]])","v":""},"",{"$f":"IF(LEN(Table7[[#This Row],[Pupil Name]])>0,1,0)","v":0}]
[{"$f":"IF(Table1[[#This Row],[School/Group Name]]=\"\",\"\",Table1[[#This Row],[School/Group Name]])","v":""},{"$f":"IF(Table1[[#This Row],[Pupil Name]]=\"\",\"\",Table1[[#This Row],[Pupil Name]])","v":""},{"$f":"IF(Table1[[#This Row],[Gender (M/F)]]=\"\",\"\",Table1[[#This Row],[Gender (M/F)]])","v":""},{"$f":"IF(Table1[[#This Row],[DisAdv (Y/N)]]=\"\",\"\",Table1[[#This Row],[DisAdv (Y/N)]])","v":""},{"$f":"IF(Table1[[#This Row],[SEND (E,K,N)]]=\"\",\"\",Table1[[#This Row],[SEND (E,K,N)]])","v":""},"",{"$f":"IF(LEN(Table7[[#This Row],[Pupil Name]])>0,1,0)","v":0}]
[{"$f":"IF(Table1[[#This Row],[School/Group Name]]=\"\",\"\",Table1[[#This Row],[School/Group Name]])","v":""},{"$f":"IF(Table1[[#This Row],[Pupil Name]]=\"\",\"\",Table1[[#This Row],[Pupil Name]])","v":""},{"$f":"IF(Table1[[#This Row],[Gender (M/F)]]=\"\",\"\",Table1[[#This Row],[Gender (M/F)]])","v":""},{"$f":"IF(Table1[[#This Row],[DisAdv (Y/N)]]=\"\",\"\",Table1[[#This Row],[DisAdv (Y/N)]])","v":""},{"$f":"IF(Table1[[#This Row],[SEND (E,K,N)]]=\"\",\"\",Table1[[#This Row],[SEND (E,K,N)]])","v":""},"",{"$f":"IF(LEN(Table7[[#This Row],[Pupil Name]])>0,1,0)","v":0}]
[{"$f":"IF(Table1[[#This Row],[School/Group Name]]=\"\",\"\",Table1[[#This Row],[School/Group Name]])","v":""},{"$f":"IF(Table1[[#This Row],[Pupil Name]]=\"\",\"\",Table1[[#This Row],[Pupil Name]])","v":""},{"$f":"IF(Table1[[#This Row],[Gender (M/F)]]=\"\",\"\",Table1[[#This Row],[Gender (M/F)]])","v":""},{"$f":"IF(Table1[[#This Row],[DisAdv (Y/N)]]=\"\",\"\",Table1[[#This Row],[DisAdv (Y/N)]])","v":""},{"$f":"IF(Table1[[#This Row],[SEND (E,K,N)]]=\"\",\"\",Table1[[#This Row],[SEND (E,K,N)]])","v":""},"",{"$f":"IF(LEN(Table7[[#This Row],[Pupil Name]])>0,1,0)","v":0}]
[{"$f":"IF(Table1[[#This Row],[School/Group Name]]=\"\",\"\",Table1[[#This Row],[School/Group Name]])","v":""},{"$f":"IF(Table1[[#This Row],[Pupil Name]]=\"\",\"\",Table1[[#This Row],[Pupil Name]])","v":""},{"$f":"IF(Table1[[#This Row],[Gender (M/F)]]=\"\",\"\",Table1[[#This Row],[Gender (M/F)]])","v":""},{"$f":"IF(Table1[[#This Row],[DisAdv (Y/N)]]=\"\",\"\",Table1[[#This Row],[DisAdv (Y/N)]])","v":""},{"$f":"IF(Table1[[#This Row],[SEND (E,K,N)]]=\"\",\"\",Table1[[#This Row],[SEND (E,K,N)]])","v":""},"",{"$f":"IF(LEN(Table7[[#This Row],[Pupil Name]])>0,1,0)","v":0}]
[{"$f":"IF(Table1[[#This Row],[School/Group Name]]=\"\",\"\",Table1[[#This Row],[School/Group Name]])","v":""},{"$f":"IF(Table1[[#This Row],[Pupil Name]]=\"\",\"\",Table1[[#This Row],[Pupil Name]])","v":""},{"$f":"IF(Table1[[#This Row],[Gender (M/F)]]=\"\",\"\",Table1[[#This Row],[Gender (M/F)]])","v":""},{"$f":"IF(Table1[[#This Row],[DisAdv (Y/N)]]=\"\",\"\",Table1[[#This Row],[DisAdv (Y/N)]])","v":""},{"$f":"IF(Table1[[#This Row],[SEND (E,K,N)]]=\"\",\"\",Table1[[#This Row],[SEND (E,K,N)]])","v":""},"",{"$f":"IF(LEN(Table7[[#This Row],[Pupil Name]])>0,1,0)","v":0}]
[{"$f":"IF(Table1[[#This Row],[School/Group Name]]=\"\",\"\",Table1[[#This Row],[School/Group Name]])","v":""},{"$f":"IF(Table1[[#This Row],[Pupil Name]]=\"\",\"\",Table1[[#This Row],[Pupil Name]])","v":""},{"$f":"IF(Table1[[#This Row],[Gender (M/F)]]=\"\",\"\",Table1[[#This Row],[Gender (M/F)]])","v":""},{"$f":"IF(Table1[[#This Row],[DisAdv (Y/N)]]=\"\",\"\",Table1[[#This Row],[DisAdv (Y/N)]])","v":""},{"$f":"IF(Table1[[#This Row],[SEND (E,K,N)]]=\"\",\"\",Table1[[#This Row],[SEND (E,K,N)]])","v":""},"",{"$f":"IF(LEN(Table7[[#This Row],[Pupil Name]])>0,1,0)","v":0}]
[{"$f":"IF(Table1[[#This Row],[School/Group Name]]=\"\",\"\",Table1[[#This Row],[School/Group Name]])","v":""},{"$f":"IF(Table1[[#This Row],[Pupil Name]]=\"\",\"\",Table1[[#This Row],[Pupil Name]])","v":""},{"$f":"IF(Table1[[#This Row],[Gender (M/F)]]=\"\",\"\",Table1[[#This Row],[Gender (M/F)]])","v":""},{"$f":"IF(Table1[[#This Row],[DisAdv (Y/N)]]=\"\",\"\",Table1[[#This Row],[DisAdv (Y/N)]])","v":""},{"$f":"IF(Table1[[#This Row],[SEND (E,K,N)]]=\"\",\"\",Table1[[#This Row],[SEND (E,K,N)]])","v":""},"",{"$f":"IF(LEN(Table7[[#This Row],[Pupil Name]])>0,1,0)","v":0}]
[{"$f":"IF(Table1[[#This Row],[School/Group Name]]=\"\",\"\",Table1[[#This Row],[School/Group Name]])","v":""},{"$f":"IF(Table1[[#This Row],[Pupil Name]]=\"\",\"\",Table1[[#This Row],[Pupil Name]])","v":""},{"$f":"IF(Table1[[#This Row],[Gender (M/F)]]=\"\",\"\",Table1[[#This Row],[Gender (M/F)]])","v":""},{"$f":"IF(Table1[[#This Row],[DisAdv (Y/N)]]=\"\",\"\",Table1[[#This Row],[DisAdv (Y/N)]])","v":""},{"$f":"IF(Table1[[#This Row],[SEND (E,K,N)]]=\"\",\"\",Table1[[#This Row],[SEND (E,K,N)]])","v":""},"",{"$f":"IF(LEN(Table7[[#This Row],[Pupil Name]])>0,1,0)","v":0}]
[{"$f":"IF(Table1[[#This Row],[School/Group Name]]=\"\",\"\",Table1[[#This Row],[School/Group Name]])","v":""},{"$f":"IF(Table1[[#This Row],[Pupil Name]]=\"\",\"\",Table1[[#This Row],[Pupil Name]])","v":""},{"$f":"IF(Table1[[#This Row],[Gender (M/F)]]=\"\",\"\",Table1[[#This Row],[Gender (M/F)]])","v":""},{"$f":"IF(Table1[[#This Row],[DisAdv (Y/N)]]=\"\",\"\",Table1[[#This Row],[DisAdv (Y/N)]])","v":""},{"$f":"IF(Table1[[#This Row],[SEND (E,K,N)]]=\"\",\"\",Table1[[#This Row],[SEND (E,K,N)]])","v":""},"",{"$f":"IF(LEN(Table7[[#This Row],[Pupil Name]])>0,1,0)","v":0}]
[{"$f":"IF(Table1[[#This Row],[School/Group Name]]=\"\",\"\",Table1[[#This Row],[School/Group Name]])","v":""},{"$f":"IF(Table1[[#This Row],[Pupil Name]]=\"\",\"\",Table1[[#This Row],[Pupil Name]])","v":""},{"$f":"IF(Table1[[#This Row],[Gender (M/F)]]=\"\",\"\",Table1[[#This Row],[Gender (M/F)]])","v":""},{"$f":"IF(Table1[[#This Row],[DisAdv (Y/N)]]=\"\",\"\",Table1[[#This Row],[DisAdv (Y/N)]])","v":""},{"$f":"IF(Table1[[#This Row],[SEND (E,K,N)]]=\"\",\"\",Table1[[#This Row],[SEND (E,K,N)]])","v":""},"",{"$f":"IF(LEN(Table7[[#This Row],[Pupil Name]])>0,1,0)","v":0}]
[{"$f":"IF(Table1[[#This Row],[School/Group Name]]=\"\",\"\",Table1[[#This Row],[School/Group Name]])","v":""},{"$f":"IF(Table1[[#This Row],[Pupil Name]]=\"\",\"\",Table1[[#This Row],[Pupil Name]])","v":""},{"$f":"IF(Table1[[#This Row],[Gender (M/F)]]=\"\",\"\",Table1[[#This Row],[Gender (M/F)]])","v":""},{"$f":"IF(Table1[[#This Row],[DisAdv (Y/N)]]=\"\",\"\",Table1[[#This Row],[DisAdv (Y/N)]])","v":""},{"$f":"IF(Table1[[#This Row],[SEND (E,K,N)]]=\"\",\"\",Table1[[#This Row],[SEND (E,K,N)]])","v":""},"",{"$f":"IF(LEN(Table7[[#This Row],[Pupil Name]])>0,1,0)","v":0}]
[{"$f":"IF(Table1[[#This Row],[School/Group Name]]=\"\",\"\",Table1[[#This Row],[School/Group Name]])","v":""},{"$f":"IF(Table1[[#This Row],[Pupil Name]]=\"\",\"\",Table1[[#This Row],[Pupil Name]])","v":""},{"$f":"IF(Table1[[#This Row],[Gender (M/F)]]=\"\",\"\",Table1[[#This Row],[Gender (M/F)]])","v":""},{"$f":"IF(Table1[[#This Row],[DisAdv (Y/N)]]=\"\",\"\",Table1[[#This Row],[DisAdv (Y/N)]])","v":""},{"$f":"IF(Table1[[#This Row],[SEND (E,K,N)]]=\"\",\"\",Table1[[#This Row],[SEND (E,K,N)]])","v":""},"",{"$f":"IF(LEN(Table7[[#This Row],[Pupil Name]])>0,1,0)","v":0}]
[{"$f":"IF(Table1[[#This Row],[School/Group Name]]=\"\",\"\",Table1[[#This Row],[School/Group Name]])","v":""},{"$f":"IF(Table1[[#This Row],[Pupil Name]]=\"\",\"\",Table1[[#This Row],[Pupil Name]])","v":""},{"$f":"IF(Table1[[#This Row],[Gender (M/F)]]=\"\",\"\",Table1[[#This Row],[Gender (M/F)]])","v":""},{"$f":"IF(Table1[[#This Row],[DisAdv (Y/N)]]=\"\",\"\",Table1[[#This Row],[DisAdv (Y/N)]])","v":""},{"$f":"IF(Table1[[#This Row],[SEND (E,K,N)]]=\"\",\"\",Table1[[#This Row],[SEND (E,K,N)]])","v":""},"",{"$f":"IF(LEN(Table7[[#This Row],[Pupil Name]])>0,1,0)","v":0}]
[{"$f":"IF(Table1[[#This Row],[School/Group Name]]=\"\",\"\",Table1[[#This Row],[School/Group Name]])","v":""},{"$f":"IF(Table1[[#This Row],[Pupil Name]]=\"\",\"\",Table1[[#This Row],[Pupil Name]])","v":""},{"$f":"IF(Table1[[#This Row],[Gender (M/F)]]=\"\",\"\",Table1[[#This Row],[Gender (M/F)]])","v":""},{"$f":"IF(Table1[[#This Row],[DisAdv (Y/N)]]=\"\",\"\",Table1[[#This Row],[DisAdv (Y/N)]])","v":""},{"$f":"IF(Table1[[#This Row],[SEND (E,K,N)]]=\"\",\"\",Table1[[#This Row],[SEND (E,K,N)]])","v":""},"",{"$f":"IF(LEN(Table7[[#This Row],[Pupil Name]])>0,1,0)","v":0}]
[{"$f":"IF(Table1[[#This Row],[School/Group Name]]=\"\",\"\",Table1[[#This Row],[School/Group Name]])","v":""},{"$f":"IF(Table1[[#This Row],[Pupil Name]]=\"\",\"\",Table1[[#This Row],[Pupil Name]])","v":""},{"$f":"IF(Table1[[#This Row],[Gender (M/F)]]=\"\",\"\",Table1[[#This Row],[Gender (M/F)]])","v":""},{"$f":"IF(Table1[[#This Row],[DisAdv (Y/N)]]=\"\",\"\",Table1[[#This Row],[DisAdv (Y/N)]])","v":""},{"$f":"IF(Table1[[#This Row],[SEND (E,K,N)]]=\"\",\"\",Table1[[#This Row],[SEND (E,K,N)]])","v":""},"",{"$f":"IF(LEN(Table7[[#This Row],[Pupil Name]])>0,1,0)","v":0}]
[{"$f":"IF(Table1[[#This Row],[School/Group Name]]=\"\",\"\",Table1[[#This Row],[School/Group Name]])","v":""},{"$f":"IF(Table1[[#This Row],[Pupil Name]]=\"\",\"\",Table1[[#This Row],[Pupil Name]])","v":""},{"$f":"IF(Table1[[#This Row],[Gender (M/F)]]=\"\",\"\",Table1[[#This Row],[Gender (M/F)]])","v":""},{"$f":"IF(Table1[[#This Row],[DisAdv (Y/N)]]=\"\",\"\",Table1[[#This Row],[DisAdv (Y/N)]])","v":""},{"$f":"IF(Table1[[#This Row],[SEND (E,K,N)]]=\"\",\"\",Table1[[#This Row],[SEND (E,K,N)]])","v":""},"",{"$f":"IF(LEN(Table7[[#This Row],[Pupil Name]])>0,1,0)","v":0}]
[{"$f":"IF(Table1[[#This Row],[School/Group Name]]=\"\",\"\",Table1[[#This Row],[School/Group Name]])","v":""},{"$f":"IF(Table1[[#This Row],[Pupil Name]]=\"\",\"\",Table1[[#This Row],[Pupil Name]])","v":""},{"$f":"IF(Table1[[#This Row],[Gender (M/F)]]=\"\",\"\",Table1[[#This Row],[Gender (M/F)]])","v":""},{"$f":"IF(Table1[[#This Row],[DisAdv (Y/N)]]=\"\",\"\",Table1[[#This Row],[DisAdv (Y/N)]])","v":""},{"$f":"IF(Table1[[#This Row],[SEND (E,K,N)]]=\"\",\"\",Table1[[#This Row],[SEND (E,K,N)]])","v":""},"",{"$f":"IF(LEN(Table7[[#This Row],[Pupil Name]])>0,1,0)","v":0}]
[{"$f":"IF(Table1[[#This Row],[School/Group Name]]=\"\",\"\",Table1[[#This Row],[School/Group Name]])","v":""},{"$f":"IF(Table1[[#This Row],[Pupil Name]]=\"\",\"\",Table1[[#This Row],[Pupil Name]])","v":""},{"$f":"IF(Table1[[#This Row],[Gender (M/F)]]=\"\",\"\",Table1[[#This Row],[Gender (M/F)]])","v":""},{"$f":"IF(Table1[[#This Row],[DisAdv (Y/N)]]=\"\",\"\",Table1[[#This Row],[DisAdv (Y/N)]])","v":""},{"$f":"IF(Table1[[#This Row],[SEND (E,K,N)]]=\"\",\"\",Table1[[#This Row],[SEND (E,K,N)]])","v":""},"",{"$f":"IF(LEN(Table7[[#This Row],[Pupil Name]])>0,1,0)","v":0}]
[{"$f":"IF(Table1[[#This Row],[School/Group Name]]=\"\",\"\",Table1[[#This Row],[School/Group Name]])","v":""},{"$f":"IF(Table1[[#This Row],[Pupil Name]]=\"\",\"\",Table1[[#This Row],[Pupil Name]])","v":""},{"$f":"IF(Table1[[#This Row],[Gender (M/F)]]=\"\",\"\",Table1[[#This Row],[Gender (M/F)]])","v":""},{"$f":"IF(Table1[[#This Row],[DisAdv (Y/N)]]=\"\",\"\",Table1[[#This Row],[DisAdv (Y/N)]])","v":""},{"$f":"IF(Table1[[#This Row],[SEND (E,K,N)]]=\"\",\"\",Table1[[#This Row],[SEND (E,K,N)]])","v":""},"",{"$f":"IF(LEN(Table7[[#This Row],[Pupil Name]])>0,1,0)","v":0}]
[{"$f":"IF(Table1[[#This Row],[School/Group Name]]=\"\",\"\",Table1[[#This Row],[School/Group Name]])","v":""},{"$f":"IF(Table1[[#This Row],[Pupil Name]]=\"\",\"\",Table1[[#This Row],[Pupil Name]])","v":""},{"$f":"IF(Table1[[#This Row],[Gender (M/F)]]=\"\",\"\",Table1[[#This Row],[Gender (M/F)]])","v":""},{"$f":"IF(Table1[[#This Row],[DisAdv (Y/N)]]=\"\",\"\",Table1[[#This Row],[DisAdv (Y/N)]])","v":""},{"$f":"IF(Table1[[#This Row],[SEND (E,K,N)]]=\"\",\"\",Table1[[#This Row],[SEND (E,K,N)]])","v":""},"",{"$f":"IF(LEN(Table7[[#This Row],[Pupil Name]])>0,1,0)","v":0}]
[{"$f":"IF(Table1[[#This Row],[School/Group Name]]=\"\",\"\",Table1[[#This Row],[School/Group Name]])","v":""},{"$f":"IF(Table1[[#This Row],[Pupil Name]]=\"\",\"\",Table1[[#This Row],[Pupil Name]])","v":""},{"$f":"IF(Table1[[#This Row],[Gender (M/F)]]=\"\",\"\",Table1[[#This Row],[Gender (M/F)]])","v":""},{"$f":"IF(Table1[[#This Row],[DisAdv (Y/N)]]=\"\",\"\",Table1[[#This Row],[DisAdv (Y/N)]])","v":""},{"$f":"IF(Table1[[#This Row],[SEND (E,K,N)]]=\"\",\"\",Table1[[#This Row],[SEND (E,K,N)]])","v":""},"",{"$f":"IF(LEN(Table7[[#This Row],[Pupil Name]])>0,1,0)","v":0}]
[{"$f":"IF(Table1[[#This Row],[School/Group Name]]=\"\",\"\",Table1[[#This Row],[School/Group Name]])","v":""},{"$f":"IF(Table1[[#This Row],[Pupil Name]]=\"\",\"\",Table1[[#This Row],[Pupil Name]])","v":""},{"$f":"IF(Table1[[#This Row],[Gender (M/F)]]=\"\",\"\",Table1[[#This Row],[Gender (M/F)]])","v":""},{"$f":"IF(Table1[[#This Row],[DisAdv (Y/N)]]=\"\",\"\",Table1[[#This Row],[DisAdv (Y/N)]])","v":""},{"$f":"IF(Table1[[#This Row],[SEND (E,K,N)]]=\"\",\"\",Table1[[#This Row],[SEND (E,K,N)]])","v":""},"",{"$f":"IF(LEN(Table7[[#This Row],[Pupil Name]])>0,1,0)","v":0}]
[{"$f":"IF(Table1[[#This Row],[School/Group Name]]=\"\",\"\",Table1[[#This Row],[School/Group Name]])","v":""},{"$f":"IF(Table1[[#This Row],[Pupil Name]]=\"\",\"\",Table1[[#This Row],[Pupil Name]])","v":""},{"$f":"IF(Table1[[#This Row],[Gender (M/F)]]=\"\",\"\",Table1[[#This Row],[Gender (M/F)]])","v":""},{"$f":"IF(Table1[[#This Row],[DisAdv (Y/N)]]=\"\",\"\",Table1[[#This Row],[DisAdv (Y/N)]])","v":""},{"$f":"IF(Table1[[#This Row],[SEND (E,K,N)]]=\"\",\"\",Table1[[#This Row],[SEND (E,K,N)]])","v":""},"",{"$f":"IF(LEN(Table7[[#This Row],[Pupil Name]])>0,1,0)","v":0}]
[{"$f":"IF(Table1[[#This Row],[School/Group Name]]=\"\",\"\",Table1[[#This Row],[School/Group Name]])","v":""},{"$f":"IF(Table1[[#This Row],[Pupil Name]]=\"\",\"\",Table1[[#This Row],[Pupil Name]])","v":""},{"$f":"IF(Table1[[#This Row],[Gender (M/F)]]=\"\",\"\",Table1[[#This Row],[Gender (M/F)]])","v":""},{"$f":"IF(Table1[[#This Row],[DisAdv (Y/N)]]=\"\",\"\",Table1[[#This Row],[DisAdv (Y/N)]])","v":""},{"$f":"IF(Table1[[#This Row],[SEND (E,K,N)]]=\"\",\"\",Table1[[#This Row],[SEND (E,K,N)]])","v":""},"",{"$f":"IF(LEN(Table7[[#This Row],[Pupil Name]])>0,1,0)","v":0}]
[{"$f":"IF(Table1[[#This Row],[School/Group Name]]=\"\",\"\",Table1[[#This Row],[School/Group Name]])","v":""},{"$f":"IF(Table1[[#This Row],[Pupil Name]]=\"\",\"\",Table1[[#This Row],[Pupil Name]])","v":""},{"$f":"IF(Table1[[#This Row],[Gender (M/F)]]=\"\",\"\",Table1[[#This Row],[Gender (M/F)]])","v":""},{"$f":"IF(Table1[[#This Row],[DisAdv (Y/N)]]=\"\",\"\",Table1[[#This Row],[DisAdv (Y/N)]])","v":""},{"$f":"IF(Table1[[#This Row],[SEND (E,K,N)]]=\"\",\"\",Table1[[#This Row],[SEND (E,K,N)]])","v":""},"",{"$f":"IF(LEN(Table7[[#This Row],[Pupil Name]])>0,1,0)","v":0}]
[{"$f":"IF(Table1[[#This Row],[School/Group Name]]=\"\",\"\",Table1[[#This Row],[School/Group Name]])","v":""},{"$f":"IF(Table1[[#This Row],[Pupil Name]]=\"\",\"\",Table1[[#This Row],[Pupil Name]])","v":""},{"$f":"IF(Table1[[#This Row],[Gender (M/F)]]=\"\",\"\",Table1[[#This Row],[Gender (M/F)]])","v":""},{"$f":"IF(Table1[[#This Row],[DisAdv (Y/N)]]=\"\",\"\",Table1[[#This Row],[DisAdv (Y/N)]])","v":""},{"$f":"IF(Table1[[#This Row],[SEND (E,K,N)]]=\"\",\"\",Table1[[#This Row],[SEND (E,K,N)]])","v":""},"",{"$f":"IF(LEN(Table7[[#This Row],[Pupil Name]])>0,1,0)","v":0}]
[{"$f":"IF(Table1[[#This Row],[School/Group Name]]=\"\",\"\",Table1[[#This Row],[School/Group Name]])","v":""},{"$f":"IF(Table1[[#This Row],[Pupil Name]]=\"\",\"\",Table1[[#This Row],[Pupil Name]])","v":""},{"$f":"IF(Table1[[#This Row],[Gender (M/F)]]=\"\",\"\",Table1[[#This Row],[Gender (M/F)]])","v":""},{"$f":"IF(Table1[[#This Row],[DisAdv (Y/N)]]=\"\",\"\",Table1[[#This Row],[DisAdv (Y/N)]])","v":""},{"$f":"IF(Table1[[#This Row],[SEND (E,K,N)]]=\"\",\"\",Table1[[#This Row],[SEND (E,K,N)]])","v":""},"",{"$f":"IF(LEN(Table7[[#This Row],[Pupil Name]])>0,1,0)","v":0}]
[{"$f":"IF(Table1[[#This Row],[School/Group Name]]=\"\",\"\",Table1[[#This Row],[School/Group Name]])","v":""},{"$f":"IF(Table1[[#This Row],[Pupil Name]]=\"\",\"\",Table1[[#This Row],[Pupil Name]])","v":""},{"$f":"IF(Table1[[#This Row],[Gender (M/F)]]=\"\",\"\",Table1[[#This Row],[Gender (M/F)]])","v":""},{"$f":"IF(Table1[[#This Row],[DisAdv (Y/N)]]=\"\",\"\",Table1[[#This Row],[DisAdv (Y/N)]])","v":""},{"$f":"IF(Table1[[#This Row],[SEND (E,K,N)]]=\"\",\"\",Table1[[#This Row],[SEND (E,K,N)]])","v":""},"",{"$f":"IF(LEN(Table7[[#This Row],[Pupil Name]])>0,1,0)","v":0}]
[{"$f":"IF(Table1[[#This Row],[School/Group Name]]=\"\",\"\",Table1[[#This Row],[School/Group Name]])","v":""},{"$f":"IF(Table1[[#This Row],[Pupil Name]]=\"\",\"\",Table1[[#This Row],[Pupil Name]])","v":""},{"$f":"IF(Table1[[#This Row],[Gender (M/F)]]=\"\",\"\",Table1[[#This Row],[Gender (M/F)]])","v":""},{"$f":"IF(Table1[[#This Row],[DisAdv (Y/N)]]=\"\",\"\",Table1[[#This Row],[DisAdv (Y/N)]])","v":""},{"$f":"IF(Table1[[#This Row],[SEND (E,K,N)]]=\"\",\"\",Table1[[#This Row],[SEND (E,K,N)]])","v":""},"",{"$f":"IF(LEN(Table7[[#This Row],[Pupil Name]])>0,1,0)","v":0}]
[{"$f":"IF(Table1[[#This Row],[School/Group Name]]=\"\",\"\",Table1[[#This Row],[School/Group Name]])","v":""},{"$f":"IF(Table1[[#This Row],[Pupil Name]]=\"\",\"\",Table1[[#This Row],[Pupil Name]])","v":""},{"$f":"IF(Table1[[#This Row],[Gender (M/F)]]=\"\",\"\",Table1[[#This Row],[Gender (M/F)]])","v":""},{"$f":"IF(Table1[[#This Row],[DisAdv (Y/N)]]=\"\",\"\",Table1[[#This Row],[DisAdv (Y/N)]])","v":""},{"$f":"IF(Table1[[#This Row],[SEND (E,K,N)]]=\"\",\"\",Table1[[#This Row],[SEND (E,K,N)]])","v":""},"",{"$f":"IF(LEN(Table7[[#This Row],[Pupil Name]])>0,1,0)","v":0}]
[{"$f":"IF(Table1[[#This Row],[School/Group Name]]=\"\",\"\",Table1[[#This Row],[School/Group Name]])","v":""},{"$f":"IF(Table1[[#This Row],[Pupil Name]]=\"\",\"\",Table1[[#This Row],[Pupil Name]])","v":""},{"$f":"IF(Table1[[#This Row],[Gender (M/F)]]=\"\",\"\",Table1[[#This Row],[Gender (M/F)]])","v":""},{"$f":"IF(Table1[[#This Row],[DisAdv (Y/N)]]=\"\",\"\",Table1[[#This Row],[DisAdv (Y/N)]])","v":""},{"$f":"IF(Table1[[#This Row],[SEND (E,K,N)]]=\"\",\"\",Table1[[#This Row],[SEND (E,K,N)]])","v":""},"",{"$f":"IF(LEN(Table7[[#This Row],[Pupil Name]])>0,1,0)","v":0}]
[{"$f":"IF(Table1[[#This Row],[School/Group Name]]=\"\",\"\",Table1[[#This Row],[School/Group Name]])","v":""},{"$f":"IF(Table1[[#This Row],[Pupil Name]]=\"\",\"\",Table1[[#This Row],[Pupil Name]])","v":""},{"$f":"IF(Table1[[#This Row],[Gender (M/F)]]=\"\",\"\",Table1[[#This Row],[Gender (M/F)]])","v":""},{"$f":"IF(Table1[[#This Row],[DisAdv (Y/N)]]=\"\",\"\",Table1[[#This Row],[DisAdv (Y/N)]])","v":""},{"$f":"IF(Table1[[#This Row],[SEND (E,K,N)]]=\"\",\"\",Table1[[#This Row],[SEND (E,K,N)]])","v":""},"",{"$f":"IF(LEN(Table7[[#This Row],[Pupil Name]])>0,1,0)","v":0}]
[{"$f":"IF(Table1[[#This Row],[School/Group Name]]=\"\",\"\",Table1[[#This Row],[School/Group Name]])","v":""},{"$f":"IF(Table1[[#This Row],[Pupil Name]]=\"\",\"\",Table1[[#This Row],[Pupil Name]])","v":""},{"$f":"IF(Table1[[#This Row],[Gender (M/F)]]=\"\",\"\",Table1[[#This Row],[Gender (M/F)]])","v":""},{"$f":"IF(Table1[[#This Row],[DisAdv (Y/N)]]=\"\",\"\",Table1[[#This Row],[DisAdv (Y/N)]])","v":""},{"$f":"IF(Table1[[#This Row],[SEND (E,K,N)]]=\"\",\"\",Table1[[#This Row],[SEND (E,K,N)]])","v":""},"",{"$f":"IF(LEN(Table7[[#This Row],[Pupil Name]])>0,1,0)","v":0}]
[{"$f":"IF(Table1[[#This Row],[School/Group Name]]=\"\",\"\",Table1[[#This Row],[School/Group Name]])","v":""},{"$f":"IF(Table1[[#This Row],[Pupil Name]]=\"\",\"\",Table1[[#This Row],[Pupil Name]])","v":""},{"$f":"IF(Table1[[#This Row],[Gender (M/F)]]=\"\",\"\",Table1[[#This Row],[Gender (M/F)]])","v":""},{"$f":"IF(Table1[[#This Row],[DisAdv (Y/N)]]=\"\",\"\",Table1[[#This Row],[DisAdv (Y/N)]])","v":""},{"$f":"IF(Table1[[#This Row],[SEND (E,K,N)]]=\"\",\"\",Table1[[#This Row],[SEND (E,K,N)]])","v":""},"",{"$f":"IF(LEN(Table7[[#This Row],[Pupil Name]])>0,1,0)","v":0}]
[{"$f":"IF(Table1[[#This Row],[School/Group Name]]=\"\",\"\",Table1[[#This Row],[School/Group Name]])","v":""},{"$f":"IF(Table1[[#This Row],[Pupil Name]]=\"\",\"\",Table1[[#This Row],[Pupil Name]])","v":""},{"$f":"IF(Table1[[#This Row],[Gender (M/F)]]=\"\",\"\",Table1[[#This Row],[Gender (M/F)]])","v":""},{"$f":"IF(Table1[[#This Row],[DisAdv (Y/N)]]=\"\",\"\",Table1[[#This Row],[DisAdv (Y/N)]])","v":""},{"$f":"IF(Table1[[#This Row],[SEND (E,K,N)]]=\"\",\"\",Table1[[#This Row],[SEND (E,K,N)]])","v":""},"",{"$f":"IF(LEN(Table7[[#This Row],[Pupil Name]])>0,1,0)","v":0}]
[{"$f":"IF(Table1[[#This Row],[School/Group Name]]=\"\",\"\",Table1[[#This Row],[School/Group Name]])","v":""},{"$f":"IF(Table1[[#This Row],[Pupil Name]]=\"\",\"\",Table1[[#This Row],[Pupil Name]])","v":""},{"$f":"IF(Table1[[#This Row],[Gender (M/F)]]=\"\",\"\",Table1[[#This Row],[Gender (M/F)]])","v":""},{"$f":"IF(Table1[[#This Row],[DisAdv (Y/N)]]=\"\",\"\",Table1[[#This Row],[DisAdv (Y/N)]])","v":""},{"$f":"IF(Table1[[#This Row],[SEND (E,K,N)]]=\"\",\"\",Table1[[#This Row],[SEND (E,K,N)]])","v":""},{"$f":"IF(H391=\"\",\"\",(SUM(H391:AA391)))","v":""},{"$f":"IF(LEN(Table7[[#This Row],[Pupil Name]])>0,1,0)","v":0}]
[{"$f":"IF(Table1[[#This Row],[School/Group Name]]=\"\",\"\",Table1[[#This Row],[School/Group Name]])","v":""},{"$f":"IF(Table1[[#This Row],[Pupil Name]]=\"\",\"\",Table1[[#This Row],[Pupil Name]])","v":""},{"$f":"IF(Table1[[#This Row],[Gender (M/F)]]=\"\",\"\",Table1[[#This Row],[Gender (M/F)]])","v":""},{"$f":"IF(Table1[[#This Row],[DisAdv (Y/N)]]=\"\",\"\",Table1[[#This Row],[DisAdv (Y/N)]])","v":""},{"$f":"IF(Table1[[#This Row],[SEND (E,K,N)]]=\"\",\"\",Table1[[#This Row],[SEND (E,K,N)]])","v":""},"",{"$f":"IF(LEN(Table7[[#This Row],[Pupil Name]])>0,1,0)","v":0}]
[{"$f":"IF(Table1[[#This Row],[School/Group Name]]=\"\",\"\",Table1[[#This Row],[School/Group Name]])","v":""},{"$f":"IF(Table1[[#This Row],[Pupil Name]]=\"\",\"\",Table1[[#This Row],[Pupil Name]])","v":""},{"$f":"IF(Table1[[#This Row],[Gender (M/F)]]=\"\",\"\",Table1[[#This Row],[Gender (M/F)]])","v":""},{"$f":"IF(Table1[[#This Row],[DisAdv (Y/N)]]=\"\",\"\",Table1[[#This Row],[DisAdv (Y/N)]])","v":""},{"$f":"IF(Table1[[#This Row],[SEND (E,K,N)]]=\"\",\"\",Table1[[#This Row],[SEND (E,K,N)]])","v":""},"",{"$f":"IF(LEN(Table7[[#This Row],[Pupil Name]])>0,1,0)","v":0}]
[{"$f":"IF(Table1[[#This Row],[School/Group Name]]=\"\",\"\",Table1[[#This Row],[School/Group Name]])","v":""},{"$f":"IF(Table1[[#This Row],[Pupil Name]]=\"\",\"\",Table1[[#This Row],[Pupil Name]])","v":""},{"$f":"IF(Table1[[#This Row],[Gender (M/F)]]=\"\",\"\",Table1[[#This Row],[Gender (M/F)]])","v":""},{"$f":"IF(Table1[[#This Row],[DisAdv (Y/N)]]=\"\",\"\",Table1[[#This Row],[DisAdv (Y/N)]])","v":""},{"$f":"IF(Table1[[#This Row],[SEND (E,K,N)]]=\"\",\"\",Table1[[#This Row],[SEND (E,K,N)]])","v":""},"",{"$f":"IF(LEN(Table7[[#This Row],[Pupil Name]])>0,1,0)","v":0}]
[{"$f":"IF(Table1[[#This Row],[School/Group Name]]=\"\",\"\",Table1[[#This Row],[School/Group Name]])","v":""},{"$f":"IF(Table1[[#This Row],[Pupil Name]]=\"\",\"\",Table1[[#This Row],[Pupil Name]])","v":""},{"$f":"IF(Table1[[#This Row],[Gender (M/F)]]=\"\",\"\",Table1[[#This Row],[Gender (M/F)]])","v":""},{"$f":"IF(Table1[[#This Row],[DisAdv (Y/N)]]=\"\",\"\",Table1[[#This Row],[DisAdv (Y/N)]])","v":""},{"$f":"IF(Table1[[#This Row],[SEND (E,K,N)]]=\"\",\"\",Table1[[#This Row],[SEND (E,K,N)]])","v":""},"",{"$f":"IF(LEN(Table7[[#This Row],[Pupil Name]])>0,1,0)","v":0}]
[{"$f":"IF(Table1[[#This Row],[School/Group Name]]=\"\",\"\",Table1[[#This Row],[School/Group Name]])","v":""},{"$f":"IF(Table1[[#This Row],[Pupil Name]]=\"\",\"\",Table1[[#This Row],[Pupil Name]])","v":""},{"$f":"IF(Table1[[#This Row],[Gender (M/F)]]=\"\",\"\",Table1[[#This Row],[Gender (M/F)]])","v":""},{"$f":"IF(Table1[[#This Row],[DisAdv (Y/N)]]=\"\",\"\",Table1[[#This Row],[DisAdv (Y/N)]])","v":""},{"$f":"IF(Table1[[#This Row],[SEND (E,K,N)]]=\"\",\"\",Table1[[#This Row],[SEND (E,K,N)]])","v":""},"",{"$f":"IF(LEN(Table7[[#This Row],[Pupil Name]])>0,1,0)","v":0}]
[{"$f":"IF(Table1[[#This Row],[School/Group Name]]=\"\",\"\",Table1[[#This Row],[School/Group Name]])","v":""},{"$f":"IF(Table1[[#This Row],[Pupil Name]]=\"\",\"\",Table1[[#This Row],[Pupil Name]])","v":""},{"$f":"IF(Table1[[#This Row],[Gender (M/F)]]=\"\",\"\",Table1[[#This Row],[Gender (M/F)]])","v":""},{"$f":"IF(Table1[[#This Row],[DisAdv (Y/N)]]=\"\",\"\",Table1[[#This Row],[DisAdv (Y/N)]])","v":""},{"$f":"IF(Table1[[#This Row],[SEND (E,K,N)]]=\"\",\"\",Table1[[#This Row],[SEND (E,K,N)]])","v":""},"",{"$f":"IF(LEN(Table7[[#This Row],[Pupil Name]])>0,1,0)","v":0}]
[{"$f":"IF(Table1[[#This Row],[School/Group Name]]=\"\",\"\",Table1[[#This Row],[School/Group Name]])","v":""},{"$f":"IF(Table1[[#This Row],[Pupil Name]]=\"\",\"\",Table1[[#This Row],[Pupil Name]])","v":""},{"$f":"IF(Table1[[#This Row],[Gender (M/F)]]=\"\",\"\",Table1[[#This Row],[Gender (M/F)]])","v":""},{"$f":"IF(Table1[[#This Row],[DisAdv (Y/N)]]=\"\",\"\",Table1[[#This Row],[DisAdv (Y/N)]])","v":""},{"$f":"IF(Table1[[#This Row],[SEND (E,K,N)]]=\"\",\"\",Table1[[#This Row],[SEND (E,K,N)]])","v":""},"",{"$f":"IF(LEN(Table7[[#This Row],[Pupil Name]])>0,1,0)","v":0}]
[{"$f":"IF(Table1[[#This Row],[School/Group Name]]=\"\",\"\",Table1[[#This Row],[School/Group Name]])","v":""},{"$f":"IF(Table1[[#This Row],[Pupil Name]]=\"\",\"\",Table1[[#This Row],[Pupil Name]])","v":""},{"$f":"IF(Table1[[#This Row],[Gender (M/F)]]=\"\",\"\",Table1[[#This Row],[Gender (M/F)]])","v":""},{"$f":"IF(Table1[[#This Row],[DisAdv (Y/N)]]=\"\",\"\",Table1[[#This Row],[DisAdv (Y/N)]])","v":""},{"$f":"IF(Table1[[#This Row],[SEND (E,K,N)]]=\"\",\"\",Table1[[#This Row],[SEND (E,K,N)]])","v":""},"",{"$f":"IF(LEN(Table7[[#This Row],[Pupil Name]])>0,1,0)","v":0}]
[{"$f":"IF(Table1[[#This Row],[School/Group Name]]=\"\",\"\",Table1[[#This Row],[School/Group Name]])","v":""},{"$f":"IF(Table1[[#This Row],[Pupil Name]]=\"\",\"\",Table1[[#This Row],[Pupil Name]])","v":""},{"$f":"IF(Table1[[#This Row],[Gender (M/F)]]=\"\",\"\",Table1[[#This Row],[Gender (M/F)]])","v":""},{"$f":"IF(Table1[[#This Row],[DisAdv (Y/N)]]=\"\",\"\",Table1[[#This Row],[DisAdv (Y/N)]])","v":""},{"$f":"IF(Table1[[#This Row],[SEND (E,K,N)]]=\"\",\"\",Table1[[#This Row],[SEND (E,K,N)]])","v":""},"",{"$f":"IF(LEN(Table7[[#This Row],[Pupil Name]])>0,1,0)","v":0}]
[{"$f":"IF(Table1[[#This Row],[School/Group Name]]=\"\",\"\",Table1[[#This Row],[School/Group Name]])","v":""},{"$f":"IF(Table1[[#This Row],[Pupil Name]]=\"\",\"\",Table1[[#This Row],[Pupil Name]])","v":""},{"$f":"IF(Table1[[#This Row],[Gender (M/F)]]=\"\",\"\",Table1[[#This Row],[Gender (M/F)]])","v":""},{"$f":"IF(Table1[[#This Row],[DisAdv (Y/N)]]=\"\",\"\",Table1[[#This Row],[DisAdv (Y/N)]])","v":""},{"$f":"IF(Table1[[#This Row],[SEND (E,K,N)]]=\"\",\"\",Table1[[#This Row],[SEND (E,K,N)]])","v":""},"",{"$f":"IF(LEN(Table7[[#This Row],[Pupil Name]])>0,1,0)","v":0}]
[{"$f":"IF(Table1[[#This Row],[School/Group Name]]=\"\",\"\",Table1[[#This Row],[School/Group Name]])","v":""},{"$f":"IF(Table1[[#This Row],[Pupil Name]]=\"\",\"\",Table1[[#This Row],[Pupil Name]])","v":""},{"$f":"IF(Table1[[#This Row],[Gender (M/F)]]=\"\",\"\",Table1[[#This Row],[Gender (M/F)]])","v":""},{"$f":"IF(Table1[[#This Row],[DisAdv (Y/N)]]=\"\",\"\",Table1[[#This Row],[DisAdv (Y/N)]])","v":""},{"$f":"IF(Table1[[#This Row],[SEND (E,K,N)]]=\"\",\"\",Table1[[#This Row],[SEND (E,K,N)]])","v":""},"",{"$f":"IF(LEN(Table7[[#This Row],[Pupil Name]])>0,1,0)","v":0}]
[{"$f":"IF(Table1[[#This Row],[School/Group Name]]=\"\",\"\",Table1[[#This Row],[School/Group Name]])","v":""},{"$f":"IF(Table1[[#This Row],[Pupil Name]]=\"\",\"\",Table1[[#This Row],[Pupil Name]])","v":""},{"$f":"IF(Table1[[#This Row],[Gender (M/F)]]=\"\",\"\",Table1[[#This Row],[Gender (M/F)]])","v":""},{"$f":"IF(Table1[[#This Row],[DisAdv (Y/N)]]=\"\",\"\",Table1[[#This Row],[DisAdv (Y/N)]])","v":""},{"$f":"IF(Table1[[#This Row],[SEND (E,K,N)]]=\"\",\"\",Table1[[#This Row],[SEND (E,K,N)]])","v":""},"",{"$f":"IF(LEN(Table7[[#This Row],[Pupil Name]])>0,1,0)","v":0}]
[{"$f":"IF(Table1[[#This Row],[School/Group Name]]=\"\",\"\",Table1[[#This Row],[School/Group Name]])","v":""},{"$f":"IF(Table1[[#This Row],[Pupil Name]]=\"\",\"\",Table1[[#This Row],[Pupil Name]])","v":""},{"$f":"IF(Table1[[#This Row],[Gender (M/F)]]=\"\",\"\",Table1[[#This Row],[Gender (M/F)]])","v":""},{"$f":"IF(Table1[[#This Row],[DisAdv (Y/N)]]=\"\",\"\",Table1[[#This Row],[DisAdv (Y/N)]])","v":""},{"$f":"IF(Table1[[#This Row],[SEND (E,K,N)]]=\"\",\"\",Table1[[#This Row],[SEND (E,K,N)]])","v":""},"",{"$f":"IF(LEN(Table7[[#This Row],[Pupil Name]])>0,1,0)","v":0}]
[{"$f":"IF(Table1[[#This Row],[School/Group Name]]=\"\",\"\",Table1[[#This Row],[School/Group Name]])","v":""},{"$f":"IF(Table1[[#This Row],[Pupil Name]]=\"\",\"\",Table1[[#This Row],[Pupil Name]])","v":""},{"$f":"IF(Table1[[#This Row],[Gender (M/F)]]=\"\",\"\",Table1[[#This Row],[Gender (M/F)]])","v":""},{"$f":"IF(Table1[[#This Row],[DisAdv (Y/N)]]=\"\",\"\",Table1[[#This Row],[DisAdv (Y/N)]])","v":""},{"$f":"IF(Table1[[#This Row],[SEND (E,K,N)]]=\"\",\"\",Table1[[#This Row],[SEND (E,K,N)]])","v":""},"",{"$f":"IF(LEN(Table7[[#This Row],[Pupil Name]])>0,1,0)","v":0}]
[{"$f":"IF(Table1[[#This Row],[School/Group Name]]=\"\",\"\",Table1[[#This Row],[School/Group Name]])","v":""},{"$f":"IF(Table1[[#This Row],[Pupil Name]]=\"\",\"\",Table1[[#This Row],[Pupil Name]])","v":""},{"$f":"IF(Table1[[#This Row],[Gender (M/F)]]=\"\",\"\",Table1[[#This Row],[Gender (M/F)]])","v":""},{"$f":"IF(Table1[[#This Row],[DisAdv (Y/N)]]=\"\",\"\",Table1[[#This Row],[DisAdv (Y/N)]])","v":""},{"$f":"IF(Table1[[#This Row],[SEND (E,K,N)]]=\"\",\"\",Table1[[#This Row],[SEND (E,K,N)]])","v":""},"",{"$f":"IF(LEN(Table7[[#This Row],[Pupil Name]])>0,1,0)","v":0}]
[{"$f":"IF(Table1[[#This Row],[School/Group Name]]=\"\",\"\",Table1[[#This Row],[School/Group Name]])","v":""},{"$f":"IF(Table1[[#This Row],[Pupil Name]]=\"\",\"\",Table1[[#This Row],[Pupil Name]])","v":""},{"$f":"IF(Table1[[#This Row],[Gender (M/F)]]=\"\",\"\",Table1[[#This Row],[Gender (M/F)]])","v":""},{"$f":"IF(Table1[[#This Row],[DisAdv (Y/N)]]=\"\",\"\",Table1[[#This Row],[DisAdv (Y/N)]])","v":""},{"$f":"IF(Table1[[#This Row],[SEND (E,K,N)]]=\"\",\"\",Table1[[#This Row],[SEND (E,K,N)]])","v":""},"",{"$f":"IF(LEN(Table7[[#This Row],[Pupil Name]])>0,1,0)","v":0}]
[{"$f":"IF(Table1[[#This Row],[School/Group Name]]=\"\",\"\",Table1[[#This Row],[School/Group Name]])","v":""},{"$f":"IF(Table1[[#This Row],[Pupil Name]]=\"\",\"\",Table1[[#This Row],[Pupil Name]])","v":""},{"$f":"IF(Table1[[#This Row],[Gender (M/F)]]=\"\",\"\",Table1[[#This Row],[Gender (M/F)]])","v":""},{"$f":"IF(Table1[[#This Row],[DisAdv (Y/N)]]=\"\",\"\",Table1[[#This Row],[DisAdv (Y/N)]])","v":""},{"$f":"IF(Table1[[#This Row],[SEND (E,K,N)]]=\"\",\"\",Table1[[#This Row],[SEND (E,K,N)]])","v":""},"",{"$f":"IF(LEN(Table7[[#This Row],[Pupil Name]])>0,1,0)","v":0}]
[{"$f":"IF(Table1[[#This Row],[School/Group Name]]=\"\",\"\",Table1[[#This Row],[School/Group Name]])","v":""},{"$f":"IF(Table1[[#This Row],[Pupil Name]]=\"\",\"\",Table1[[#This Row],[Pupil Name]])","v":""},{"$f":"IF(Table1[[#This Row],[Gender (M/F)]]=\"\",\"\",Table1[[#This Row],[Gender (M/F)]])","v":""},{"$f":"IF(Table1[[#This Row],[DisAdv (Y/N)]]=\"\",\"\",Table1[[#This Row],[DisAdv (Y/N)]])","v":""},{"$f":"IF(Table1[[#This Row],[SEND (E,K,N)]]=\"\",\"\",Table1[[#This Row],[SEND (E,K,N)]])","v":""},"",{"$f":"IF(LEN(Table7[[#This Row],[Pupil Name]])>0,1,0)","v":0}]
[{"$f":"IF(Table1[[#This Row],[School/Group Name]]=\"\",\"\",Table1[[#This Row],[School/Group Name]])","v":""},{"$f":"IF(Table1[[#This Row],[Pupil Name]]=\"\",\"\",Table1[[#This Row],[Pupil Name]])","v":""},{"$f":"IF(Table1[[#This Row],[Gender (M/F)]]=\"\",\"\",Table1[[#This Row],[Gender (M/F)]])","v":""},{"$f":"IF(Table1[[#This Row],[DisAdv (Y/N)]]=\"\",\"\",Table1[[#This Row],[DisAdv (Y/N)]])","v":""},{"$f":"IF(Table1[[#This Row],[SEND (E,K,N)]]=\"\",\"\",Table1[[#This Row],[SEND (E,K,N)]])","v":""},"",{"$f":"IF(LEN(Table7[[#This Row],[Pupil Name]])>0,1,0)","v":0}]
[{"$f":"IF(Table1[[#This Row],[School/Group Name]]=\"\",\"\",Table1[[#This Row],[School/Group Name]])","v":""},{"$f":"IF(Table1[[#This Row],[Pupil Name]]=\"\",\"\",Table1[[#This Row],[Pupil Name]])","v":""},{"$f":"IF(Table1[[#This Row],[Gender (M/F)]]=\"\",\"\",Table1[[#This Row],[Gender (M/F)]])","v":""},{"$f":"IF(Table1[[#This Row],[DisAdv (Y/N)]]=\"\",\"\",Table1[[#This Row],[DisAdv (Y/N)]])","v":""},{"$f":"IF(Table1[[#This Row],[SEND (E,K,N)]]=\"\",\"\",Table1[[#This Row],[SEND (E,K,N)]])","v":""},"",{"$f":"IF(LEN(Table7[[#This Row],[Pupil Name]])>0,1,0)","v":0}]
[{"$f":"IF(Table1[[#This Row],[School/Group Name]]=\"\",\"\",Table1[[#This Row],[School/Group Name]])","v":""},{"$f":"IF(Table1[[#This Row],[Pupil Name]]=\"\",\"\",Table1[[#This Row],[Pupil Name]])","v":""},{"$f":"IF(Table1[[#This Row],[Gender (M/F)]]=\"\",\"\",Table1[[#This Row],[Gender (M/F)]])","v":""},{"$f":"IF(Table1[[#This Row],[DisAdv (Y/N)]]=\"\",\"\",Table1[[#This Row],[DisAdv (Y/N)]])","v":""},{"$f":"IF(Table1[[#This Row],[SEND (E,K,N)]]=\"\",\"\",Table1[[#This Row],[SEND (E,K,N)]])","v":""},"",{"$f":"IF(LEN(Table7[[#This Row],[Pupil Name]])>0,1,0)","v":0}]
[{"$f":"IF(Table1[[#This Row],[School/Group Name]]=\"\",\"\",Table1[[#This Row],[School/Group Name]])","v":""},{"$f":"IF(Table1[[#This Row],[Pupil Name]]=\"\",\"\",Table1[[#This Row],[Pupil Name]])","v":""},{"$f":"IF(Table1[[#This Row],[Gender (M/F)]]=\"\",\"\",Table1[[#This Row],[Gender (M/F)]])","v":""},{"$f":"IF(Table1[[#This Row],[DisAdv (Y/N)]]=\"\",\"\",Table1[[#This Row],[DisAdv (Y/N)]])","v":""},{"$f":"IF(Table1[[#This Row],[SEND (E,K,N)]]=\"\",\"\",Table1[[#This Row],[SEND (E,K,N)]])","v":""},"",{"$f":"IF(LEN(Table7[[#This Row],[Pupil Name]])>0,1,0)","v":0}]
[{"$f":"IF(Table1[[#This Row],[School/Group Name]]=\"\",\"\",Table1[[#This Row],[School/Group Name]])","v":""},{"$f":"IF(Table1[[#This Row],[Pupil Name]]=\"\",\"\",Table1[[#This Row],[Pupil Name]])","v":""},{"$f":"IF(Table1[[#This Row],[Gender (M/F)]]=\"\",\"\",Table1[[#This Row],[Gender (M/F)]])","v":""},{"$f":"IF(Table1[[#This Row],[DisAdv (Y/N)]]=\"\",\"\",Table1[[#This Row],[DisAdv (Y/N)]])","v":""},{"$f":"IF(Table1[[#This Row],[SEND (E,K,N)]]=\"\",\"\",Table1[[#This Row],[SEND (E,K,N)]])","v":""},"",{"$f":"IF(LEN(Table7[[#This Row],[Pupil Name]])>0,1,0)","v":0}]
[{"$f":"IF(Table1[[#This Row],[School/Group Name]]=\"\",\"\",Table1[[#This Row],[School/Group Name]])","v":""},{"$f":"IF(Table1[[#This Row],[Pupil Name]]=\"\",\"\",Table1[[#This Row],[Pupil Name]])","v":""},{"$f":"IF(Table1[[#This Row],[Gender (M/F)]]=\"\",\"\",Table1[[#This Row],[Gender (M/F)]])","v":""},{"$f":"IF(Table1[[#This Row],[DisAdv (Y/N)]]=\"\",\"\",Table1[[#This Row],[DisAdv (Y/N)]])","v":""},{"$f":"IF(Table1[[#This Row],[SEND (E,K,N)]]=\"\",\"\",Table1[[#This Row],[SEND (E,K,N)]])","v":""},"",{"$f":"IF(LEN(Table7[[#This Row],[Pupil Name]])>0,1,0)","v":0}]
[{"$f":"IF(Table1[[#This Row],[School/Group Name]]=\"\",\"\",Table1[[#This Row],[School/Group Name]])","v":""},{"$f":"IF(Table1[[#This Row],[Pupil Name]]=\"\",\"\",Table1[[#This Row],[Pupil Name]])","v":""},{"$f":"IF(Table1[[#This Row],[Gender (M/F)]]=\"\",\"\",Table1[[#This Row],[Gender (M/F)]])","v":""},{"$f":"IF(Table1[[#This Row],[DisAdv (Y/N)]]=\"\",\"\",Table1[[#This Row],[DisAdv (Y/N)]])","v":""},{"$f":"IF(Table1[[#This Row],[SEND (E,K,N)]]=\"\",\"\",Table1[[#This Row],[SEND (E,K,N)]])","v":""},"",{"$f":"IF(LEN(Table7[[#This Row],[Pupil Name]])>0,1,0)","v":0}]
[{"$f":"IF(Table1[[#This Row],[School/Group Name]]=\"\",\"\",Table1[[#This Row],[School/Group Name]])","v":""},{"$f":"IF(Table1[[#This Row],[Pupil Name]]=\"\",\"\",Table1[[#This Row],[Pupil Name]])","v":""},{"$f":"IF(Table1[[#This Row],[Gender (M/F)]]=\"\",\"\",Table1[[#This Row],[Gender (M/F)]])","v":""},{"$f":"IF(Table1[[#This Row],[DisAdv (Y/N)]]=\"\",\"\",Table1[[#This Row],[DisAdv (Y/N)]])","v":""},{"$f":"IF(Table1[[#This Row],[SEND (E,K,N)]]=\"\",\"\",Table1[[#This Row],[SEND (E,K,N)]])","v":""},"",{"$f":"IF(LEN(Table7[[#This Row],[Pupil Name]])>0,1,0)","v":0}]
[{"$f":"IF(Table1[[#This Row],[School/Group Name]]=\"\",\"\",Table1[[#This Row],[School/Group Name]])","v":""},{"$f":"IF(Table1[[#This Row],[Pupil Name]]=\"\",\"\",Table1[[#This Row],[Pupil Name]])","v":""},{"$f":"IF(Table1[[#This Row],[Gender (M/F)]]=\"\",\"\",Table1[[#This Row],[Gender (M/F)]])","v":""},{"$f":"IF(Table1[[#This Row],[DisAdv (Y/N)]]=\"\",\"\",Table1[[#This Row],[DisAdv (Y/N)]])","v":""},{"$f":"IF(Table1[[#This Row],[SEND (E,K,N)]]=\"\",\"\",Table1[[#This Row],[SEND (E,K,N)]])","v":""},"",{"$f":"IF(LEN(Table7[[#This Row],[Pupil Name]])>0,1,0)","v":0}]
[{"$f":"IF(Table1[[#This Row],[School/Group Name]]=\"\",\"\",Table1[[#This Row],[School/Group Name]])","v":""},{"$f":"IF(Table1[[#This Row],[Pupil Name]]=\"\",\"\",Table1[[#This Row],[Pupil Name]])","v":""},{"$f":"IF(Table1[[#This Row],[Gender (M/F)]]=\"\",\"\",Table1[[#This Row],[Gender (M/F)]])","v":""},{"$f":"IF(Table1[[#This Row],[DisAdv (Y/N)]]=\"\",\"\",Table1[[#This Row],[DisAdv (Y/N)]])","v":""},{"$f":"IF(Table1[[#This Row],[SEND (E,K,N)]]=\"\",\"\",Table1[[#This Row],[SEND (E,K,N)]])","v":""},"",{"$f":"IF(LEN(Table7[[#This Row],[Pupil Name]])>0,1,0)","v":0}]
[{"$f":"IF(Table1[[#This Row],[School/Group Name]]=\"\",\"\",Table1[[#This Row],[School/Group Name]])","v":""},{"$f":"IF(Table1[[#This Row],[Pupil Name]]=\"\",\"\",Table1[[#This Row],[Pupil Name]])","v":""},{"$f":"IF(Table1[[#This Row],[Gender (M/F)]]=\"\",\"\",Table1[[#This Row],[Gender (M/F)]])","v":""},{"$f":"IF(Table1[[#This Row],[DisAdv (Y/N)]]=\"\",\"\",Table1[[#This Row],[DisAdv (Y/N)]])","v":""},{"$f":"IF(Table1[[#This Row],[SEND (E,K,N)]]=\"\",\"\",Table1[[#This Row],[SEND (E,K,N)]])","v":""},"",{"$f":"IF(LEN(Table7[[#This Row],[Pupil Name]])>0,1,0)","v":0}]
[{"$f":"IF(Table1[[#This Row],[School/Group Name]]=\"\",\"\",Table1[[#This Row],[School/Group Name]])","v":""},{"$f":"IF(Table1[[#This Row],[Pupil Name]]=\"\",\"\",Table1[[#This Row],[Pupil Name]])","v":""},{"$f":"IF(Table1[[#This Row],[Gender (M/F)]]=\"\",\"\",Table1[[#This Row],[Gender (M/F)]])","v":""},{"$f":"IF(Table1[[#This Row],[DisAdv (Y/N)]]=\"\",\"\",Table1[[#This Row],[DisAdv (Y/N)]])","v":""},{"$f":"IF(Table1[[#This Row],[SEND (E,K,N)]]=\"\",\"\",Table1[[#This Row],[SEND (E,K,N)]])","v":""},"",{"$f":"IF(LEN(Table7[[#This Row],[Pupil Name]])>0,1,0)","v":0}]
[{"$f":"IF(Table1[[#This Row],[School/Group Name]]=\"\",\"\",Table1[[#This Row],[School/Group Name]])","v":""},{"$f":"IF(Table1[[#This Row],[Pupil Name]]=\"\",\"\",Table1[[#This Row],[Pupil Name]])","v":""},{"$f":"IF(Table1[[#This Row],[Gender (M/F)]]=\"\",\"\",Table1[[#This Row],[Gender (M/F)]])","v":""},{"$f":"IF(Table1[[#This Row],[DisAdv (Y/N)]]=\"\",\"\",Table1[[#This Row],[DisAdv (Y/N)]])","v":""},{"$f":"IF(Table1[[#This Row],[SEND (E,K,N)]]=\"\",\"\",Table1[[#This Row],[SEND (E,K,N)]])","v":""},"",{"$f":"IF(LEN(Table7[[#This Row],[Pupil Name]])>0,1,0)","v":0}]
[{"$f":"IF(Table1[[#This Row],[School/Group Name]]=\"\",\"\",Table1[[#This Row],[School/Group Name]])","v":""},{"$f":"IF(Table1[[#This Row],[Pupil Name]]=\"\",\"\",Table1[[#This Row],[Pupil Name]])","v":""},{"$f":"IF(Table1[[#This Row],[Gender (M/F)]]=\"\",\"\",Table1[[#This Row],[Gender (M/F)]])","v":""},{"$f":"IF(Table1[[#This Row],[DisAdv (Y/N)]]=\"\",\"\",Table1[[#This Row],[DisAdv (Y/N)]])","v":""},{"$f":"IF(Table1[[#This Row],[SEND (E,K,N)]]=\"\",\"\",Table1[[#This Row],[SEND (E,K,N)]])","v":""},"",{"$f":"IF(LEN(Table7[[#This Row],[Pupil Name]])>0,1,0)","v":0}]
[{"$f":"IF(Table1[[#This Row],[School/Group Name]]=\"\",\"\",Table1[[#This Row],[School/Group Name]])","v":""},{"$f":"IF(Table1[[#This Row],[Pupil Name]]=\"\",\"\",Table1[[#This Row],[Pupil Name]])","v":""},{"$f":"IF(Table1[[#This Row],[Gender (M/F)]]=\"\",\"\",Table1[[#This Row],[Gender (M/F)]])","v":""},{"$f":"IF(Table1[[#This Row],[DisAdv (Y/N)]]=\"\",\"\",Table1[[#This Row],[DisAdv (Y/N)]])","v":""},{"$f":"IF(Table1[[#This Row],[SEND (E,K,N)]]=\"\",\"\",Table1[[#This Row],[SEND (E,K,N)]])","v":""},"",{"$f":"IF(LEN(Table7[[#This Row],[Pupil Name]])>0,1,0)","v":0}]
[{"$f":"IF(Table1[[#This Row],[School/Group Name]]=\"\",\"\",Table1[[#This Row],[School/Group Name]])","v":""},{"$f":"IF(Table1[[#This Row],[Pupil Name]]=\"\",\"\",Table1[[#This Row],[Pupil Name]])","v":""},{"$f":"IF(Table1[[#This Row],[Gender (M/F)]]=\"\",\"\",Table1[[#This Row],[Gender (M/F)]])","v":""},{"$f":"IF(Table1[[#This Row],[DisAdv (Y/N)]]=\"\",\"\",Table1[[#This Row],[DisAdv (Y/N)]])","v":""},{"$f":"IF(Table1[[#This Row],[SEND (E,K,N)]]=\"\",\"\",Table1[[#This Row],[SEND (E,K,N)]])","v":""},"",{"$f":"IF(LEN(Table7[[#This Row],[Pupil Name]])>0,1,0)","v":0}]
[{"$f":"IF(Table1[[#This Row],[School/Group Name]]=\"\",\"\",Table1[[#This Row],[School/Group Name]])","v":""},{"$f":"IF(Table1[[#This Row],[Pupil Name]]=\"\",\"\",Table1[[#This Row],[Pupil Name]])","v":""},{"$f":"IF(Table1[[#This Row],[Gender (M/F)]]=\"\",\"\",Table1[[#This Row],[Gender (M/F)]])","v":""},{"$f":"IF(Table1[[#This Row],[DisAdv (Y/N)]]=\"\",\"\",Table1[[#This Row],[DisAdv (Y/N)]])","v":""},{"$f":"IF(Table1[[#This Row],[SEND (E,K,N)]]=\"\",\"\",Table1[[#This Row],[SEND (E,K,N)]])","v":""},"",{"$f":"IF(LEN(Table7[[#This Row],[Pupil Name]])>0,1,0)","v":0}]
[{"$f":"IF(Table1[[#This Row],[School/Group Name]]=\"\",\"\",Table1[[#This Row],[School/Group Name]])","v":""},{"$f":"IF(Table1[[#This Row],[Pupil Name]]=\"\",\"\",Table1[[#This Row],[Pupil Name]])","v":""},{"$f":"IF(Table1[[#This Row],[Gender (M/F)]]=\"\",\"\",Table1[[#This Row],[Gender (M/F)]])","v":""},{"$f":"IF(Table1[[#This Row],[DisAdv (Y/N)]]=\"\",\"\",Table1[[#This Row],[DisAdv (Y/N)]])","v":""},{"$f":"IF(Table1[[#This Row],[SEND (E,K,N)]]=\"\",\"\",Table1[[#This Row],[SEND (E,K,N)]])","v":""},"",{"$f":"IF(LEN(Table7[[#This Row],[Pupil Name]])>0,1,0)","v":0}]
[{"$f":"IF(Table1[[#This Row],[School/Group Name]]=\"\",\"\",Table1[[#This Row],[School/Group Name]])","v":""},{"$f":"IF(Table1[[#This Row],[Pupil Name]]=\"\",\"\",Table1[[#This Row],[Pupil Name]])","v":""},{"$f":"IF(Table1[[#This Row],[Gender (M/F)]]=\"\",\"\",Table1[[#This Row],[Gender (M/F)]])","v":""},{"$f":"IF(Table1[[#This Row],[DisAdv (Y/N)]]=\"\",\"\",Table1[[#This Row],[DisAdv (Y/N)]])","v":""},{"$f":"IF(Table1[[#This Row],[SEND (E,K,N)]]=\"\",\"\",Table1[[#This Row],[SEND (E,K,N)]])","v":""},"",{"$f":"IF(LEN(Table7[[#This Row],[Pupil Name]])>0,1,0)","v":0}]
[{"$f":"IF(Table1[[#This Row],[School/Group Name]]=\"\",\"\",Table1[[#This Row],[School/Group Name]])","v":""},{"$f":"IF(Table1[[#This Row],[Pupil Name]]=\"\",\"\",Table1[[#This Row],[Pupil Name]])","v":""},{"$f":"IF(Table1[[#This Row],[Gender (M/F)]]=\"\",\"\",Table1[[#This Row],[Gender (M/F)]])","v":""},{"$f":"IF(Table1[[#This Row],[DisAdv (Y/N)]]=\"\",\"\",Table1[[#This Row],[DisAdv (Y/N)]])","v":""},{"$f":"IF(Table1[[#This Row],[SEND (E,K,N)]]=\"\",\"\",Table1[[#This Row],[SEND (E,K,N)]])","v":""},"",{"$f":"IF(LEN(Table7[[#This Row],[Pupil Name]])>0,1,0)","v":0}]
[{"$f":"IF(Table1[[#This Row],[School/Group Name]]=\"\",\"\",Table1[[#This Row],[School/Group Name]])","v":""},{"$f":"IF(Table1[[#This Row],[Pupil Name]]=\"\",\"\",Table1[[#This Row],[Pupil Name]])","v":""},{"$f":"IF(Table1[[#This Row],[Gender (M/F)]]=\"\",\"\",Table1[[#This Row],[Gender (M/F)]])","v":""},{"$f":"IF(Table1[[#This Row],[DisAdv (Y/N)]]=\"\",\"\",Table1[[#This Row],[DisAdv (Y/N)]])","v":""},{"$f":"IF(Table1[[#This Row],[SEND (E,K,N)]]=\"\",\"\",Table1[[#This Row],[SEND (E,K,N)]])","v":""},"",{"$f":"IF(LEN(Table7[[#This Row],[Pupil Name]])>0,1,0)","v":0}]
[{"$f":"IF(Table1[[#This Row],[School/Group Name]]=\"\",\"\",Table1[[#This Row],[School/Group Name]])","v":""},{"$f":"IF(Table1[[#This Row],[Pupil Name]]=\"\",\"\",Table1[[#This Row],[Pupil Name]])","v":""},{"$f":"IF(Table1[[#This Row],[Gender (M/F)]]=\"\",\"\",Table1[[#This Row],[Gender (M/F)]])","v":""},{"$f":"IF(Table1[[#This Row],[DisAdv (Y/N)]]=\"\",\"\",Table1[[#This Row],[DisAdv (Y/N)]])","v":""},{"$f":"IF(Table1[[#This Row],[SEND (E,K,N)]]=\"\",\"\",Table1[[#This Row],[SEND (E,K,N)]])","v":""},"",{"$f":"IF(LEN(Table7[[#This Row],[Pupil Name]])>0,1,0)","v":0}]
[{"$f":"IF(Table1[[#This Row],[School/Group Name]]=\"\",\"\",Table1[[#This Row],[School/Group Name]])","v":""},{"$f":"IF(Table1[[#This Row],[Pupil Name]]=\"\",\"\",Table1[[#This Row],[Pupil Name]])","v":""},{"$f":"IF(Table1[[#This Row],[Gender (M/F)]]=\"\",\"\",Table1[[#This Row],[Gender (M/F)]])","v":""},{"$f":"IF(Table1[[#This Row],[DisAdv (Y/N)]]=\"\",\"\",Table1[[#This Row],[DisAdv (Y/N)]])","v":""},{"$f":"IF(Table1[[#This Row],[SEND (E,K,N)]]=\"\",\"\",Table1[[#This Row],[SEND (E,K,N)]])","v":""},"",{"$f":"IF(LEN(Table7[[#This Row],[Pupil Name]])>0,1,0)","v":0}]
[{"$f":"IF(Table1[[#This Row],[School/Group Name]]=\"\",\"\",Table1[[#This Row],[School/Group Name]])","v":""},{"$f":"IF(Table1[[#This Row],[Pupil Name]]=\"\",\"\",Table1[[#This Row],[Pupil Name]])","v":""},{"$f":"IF(Table1[[#This Row],[Gender (M/F)]]=\"\",\"\",Table1[[#This Row],[Gender (M/F)]])","v":""},{"$f":"IF(Table1[[#This Row],[DisAdv (Y/N)]]=\"\",\"\",Table1[[#This Row],[DisAdv (Y/N)]])","v":""},{"$f":"IF(Table1[[#This Row],[SEND (E,K,N)]]=\"\",\"\",Table1[[#This Row],[SEND (E,K,N)]])","v":""},"",{"$f":"IF(LEN(Table7[[#This Row],[Pupil Name]])>0,1,0)","v":0}]
[{"$f":"IF(Table1[[#This Row],[School/Group Name]]=\"\",\"\",Table1[[#This Row],[School/Group Name]])","v":""},{"$f":"IF(Table1[[#This Row],[Pupil Name]]=\"\",\"\",Table1[[#This Row],[Pupil Name]])","v":""},{"$f":"IF(Table1[[#This Row],[Gender (M/F)]]=\"\",\"\",Table1[[#This Row],[Gender (M/F)]])","v":""},{"$f":"IF(Table1[[#This Row],[DisAdv (Y/N)]]=\"\",\"\",Table1[[#This Row],[DisAdv (Y/N)]])","v":""},{"$f":"IF(Table1[[#This Row],[SEND (E,K,N)]]=\"\",\"\",Table1[[#This Row],[SEND (E,K,N)]])","v":""},"",{"$f":"IF(LEN(Table7[[#This Row],[Pupil Name]])>0,1,0)","v":0}]
[{"$f":"IF(Table1[[#This Row],[School/Group Name]]=\"\",\"\",Table1[[#This Row],[School/Group Name]])","v":""},{"$f":"IF(Table1[[#This Row],[Pupil Name]]=\"\",\"\",Table1[[#This Row],[Pupil Name]])","v":""},{"$f":"IF(Table1[[#This Row],[Gender (M/F)]]=\"\",\"\",Table1[[#This Row],[Gender (M/F)]])","v":""},{"$f":"IF(Table1[[#This Row],[DisAdv (Y/N)]]=\"\",\"\",Table1[[#This Row],[DisAdv (Y/N)]])","v":""},{"$f":"IF(Table1[[#This Row],[SEND (E,K,N)]]=\"\",\"\",Table1[[#This Row],[SEND (E,K,N)]])","v":""},"",{"$f":"IF(LEN(Table7[[#This Row],[Pupil Name]])>0,1,0)","v":0}]
[{"$f":"IF(Table1[[#This Row],[School/Group Name]]=\"\",\"\",Table1[[#This Row],[School/Group Name]])","v":""},{"$f":"IF(Table1[[#This Row],[Pupil Name]]=\"\",\"\",Table1[[#This Row],[Pupil Name]])","v":""},{"$f":"IF(Table1[[#This Row],[Gender (M/F)]]=\"\",\"\",Table1[[#This Row],[Gender (M/F)]])","v":""},{"$f":"IF(Table1[[#This Row],[DisAdv (Y/N)]]=\"\",\"\",Table1[[#This Row],[DisAdv (Y/N)]])","v":""},{"$f":"IF(Table1[[#This Row],[SEND (E,K,N)]]=\"\",\"\",Table1[[#This Row],[SEND (E,K,N)]])","v":""},"",{"$f":"IF(LEN(Table7[[#This Row],[Pupil Name]])>0,1,0)","v":0}]
[{"$f":"IF(Table1[[#This Row],[School/Group Name]]=\"\",\"\",Table1[[#This Row],[School/Group Name]])","v":""},{"$f":"IF(Table1[[#This Row],[Pupil Name]]=\"\",\"\",Table1[[#This Row],[Pupil Name]])","v":""},{"$f":"IF(Table1[[#This Row],[Gender (M/F)]]=\"\",\"\",Table1[[#This Row],[Gender (M/F)]])","v":""},{"$f":"IF(Table1[[#This Row],[DisAdv (Y/N)]]=\"\",\"\",Table1[[#This Row],[DisAdv (Y/N)]])","v":""},{"$f":"IF(Table1[[#This Row],[SEND (E,K,N)]]=\"\",\"\",Table1[[#This Row],[SEND (E,K,N)]])","v":""},"",{"$f":"IF(LEN(Table7[[#This Row],[Pupil Name]])>0,1,0)","v":0}]
[{"$f":"IF(Table1[[#This Row],[School/Group Name]]=\"\",\"\",Table1[[#This Row],[School/Group Name]])","v":""},{"$f":"IF(Table1[[#This Row],[Pupil Name]]=\"\",\"\",Table1[[#This Row],[Pupil Name]])","v":""},{"$f":"IF(Table1[[#This Row],[Gender (M/F)]]=\"\",\"\",Table1[[#This Row],[Gender (M/F)]])","v":""},{"$f":"IF(Table1[[#This Row],[DisAdv (Y/N)]]=\"\",\"\",Table1[[#This Row],[DisAdv (Y/N)]])","v":""},{"$f":"IF(Table1[[#This Row],[SEND (E,K,N)]]=\"\",\"\",Table1[[#This Row],[SEND (E,K,N)]])","v":""},"",{"$f":"IF(LEN(Table7[[#This Row],[Pupil Name]])>0,1,0)","v":0}]
[{"$f":"IF(Table1[[#This Row],[School/Group Name]]=\"\",\"\",Table1[[#This Row],[School/Group Name]])","v":""},{"$f":"IF(Table1[[#This Row],[Pupil Name]]=\"\",\"\",Table1[[#This Row],[Pupil Name]])","v":""},{"$f":"IF(Table1[[#This Row],[Gender (M/F)]]=\"\",\"\",Table1[[#This Row],[Gender (M/F)]])","v":""},{"$f":"IF(Table1[[#This Row],[DisAdv (Y/N)]]=\"\",\"\",Table1[[#This Row],[DisAdv (Y/N)]])","v":""},{"$f":"IF(Table1[[#This Row],[SEND (E,K,N)]]=\"\",\"\",Table1[[#This Row],[SEND (E,K,N)]])","v":""},"",{"$f":"IF(LEN(Table7[[#This Row],[Pupil Name]])>0,1,0)","v":0}]
[{"$f":"IF(Table1[[#This Row],[School/Group Name]]=\"\",\"\",Table1[[#This Row],[School/Group Name]])","v":""},{"$f":"IF(Table1[[#This Row],[Pupil Name]]=\"\",\"\",Table1[[#This Row],[Pupil Name]])","v":""},{"$f":"IF(Table1[[#This Row],[Gender (M/F)]]=\"\",\"\",Table1[[#This Row],[Gender (M/F)]])","v":""},{"$f":"IF(Table1[[#This Row],[DisAdv (Y/N)]]=\"\",\"\",Table1[[#This Row],[DisAdv (Y/N)]])","v":""},{"$f":"IF(Table1[[#This Row],[SEND (E,K,N)]]=\"\",\"\",Table1[[#This Row],[SEND (E,K,N)]])","v":""},"",{"$f":"IF(LEN(Table7[[#This Row],[Pupil Name]])>0,1,0)","v":0}]
[{"$f":"IF(Table1[[#This Row],[School/Group Name]]=\"\",\"\",Table1[[#This Row],[School/Group Name]])","v":""},{"$f":"IF(Table1[[#This Row],[Pupil Name]]=\"\",\"\",Table1[[#This Row],[Pupil Name]])","v":""},{"$f":"IF(Table1[[#This Row],[Gender (M/F)]]=\"\",\"\",Table1[[#This Row],[Gender (M/F)]])","v":""},{"$f":"IF(Table1[[#This Row],[DisAdv (Y/N)]]=\"\",\"\",Table1[[#This Row],[DisAdv (Y/N)]])","v":""},{"$f":"IF(Table1[[#This Row],[SEND (E,K,N)]]=\"\",\"\",Table1[[#This Row],[SEND (E,K,N)]])","v":""},"",{"$f":"IF(LEN(Table7[[#This Row],[Pupil Name]])>0,1,0)","v":0}]
[{"$f":"IF(Table1[[#This Row],[School/Group Name]]=\"\",\"\",Table1[[#This Row],[School/Group Name]])","v":""},{"$f":"IF(Table1[[#This Row],[Pupil Name]]=\"\",\"\",Table1[[#This Row],[Pupil Name]])","v":""},{"$f":"IF(Table1[[#This Row],[Gender (M/F)]]=\"\",\"\",Table1[[#This Row],[Gender (M/F)]])","v":""},{"$f":"IF(Table1[[#This Row],[DisAdv (Y/N)]]=\"\",\"\",Table1[[#This Row],[DisAdv (Y/N)]])","v":""},{"$f":"IF(Table1[[#This Row],[SEND (E,K,N)]]=\"\",\"\",Table1[[#This Row],[SEND (E,K,N)]])","v":""},"",{"$f":"IF(LEN(Table7[[#This Row],[Pupil Name]])>0,1,0)","v":0}]
[{"$f":"IF(Table1[[#This Row],[School/Group Name]]=\"\",\"\",Table1[[#This Row],[School/Group Name]])","v":""},{"$f":"IF(Table1[[#This Row],[Pupil Name]]=\"\",\"\",Table1[[#This Row],[Pupil Name]])","v":""},{"$f":"IF(Table1[[#This Row],[Gender (M/F)]]=\"\",\"\",Table1[[#This Row],[Gender (M/F)]])","v":""},{"$f":"IF(Table1[[#This Row],[DisAdv (Y/N)]]=\"\",\"\",Table1[[#This Row],[DisAdv (Y/N)]])","v":""},{"$f":"IF(Table1[[#This Row],[SEND (E,K,N)]]=\"\",\"\",Table1[[#This Row],[SEND (E,K,N)]])","v":""},"",{"$f":"IF(LEN(Table7[[#This Row],[Pupil Name]])>0,1,0)","v":0}]
[{"$f":"IF(Table1[[#This Row],[School/Group Name]]=\"\",\"\",Table1[[#This Row],[School/Group Name]])","v":""},{"$f":"IF(Table1[[#This Row],[Pupil Name]]=\"\",\"\",Table1[[#This Row],[Pupil Name]])","v":""},{"$f":"IF(Table1[[#This Row],[Gender (M/F)]]=\"\",\"\",Table1[[#This Row],[Gender (M/F)]])","v":""},{"$f":"IF(Table1[[#This Row],[DisAdv (Y/N)]]=\"\",\"\",Table1[[#This Row],[DisAdv (Y/N)]])","v":""},{"$f":"IF(Table1[[#This Row],[SEND (E,K,N)]]=\"\",\"\",Table1[[#This Row],[SEND (E,K,N)]])","v":""},"",{"$f":"IF(LEN(Table7[[#This Row],[Pupil Name]])>0,1,0)","v":0}]
[{"$f":"IF(Table1[[#This Row],[School/Group Name]]=\"\",\"\",Table1[[#This Row],[School/Group Name]])","v":""},{"$f":"IF(Table1[[#This Row],[Pupil Name]]=\"\",\"\",Table1[[#This Row],[Pupil Name]])","v":""},{"$f":"IF(Table1[[#This Row],[Gender (M/F)]]=\"\",\"\",Table1[[#This Row],[Gender (M/F)]])","v":""},{"$f":"IF(Table1[[#This Row],[DisAdv (Y/N)]]=\"\",\"\",Table1[[#This Row],[DisAdv (Y/N)]])","v":""},{"$f":"IF(Table1[[#This Row],[SEND (E,K,N)]]=\"\",\"\",Table1[[#This Row],[SEND (E,K,N)]])","v":""},"",{"$f":"IF(LEN(Table7[[#This Row],[Pupil Name]])>0,1,0)","v":0}]
[{"$f":"IF(Table1[[#This Row],[School/Group Name]]=\"\",\"\",Table1[[#This Row],[School/Group Name]])","v":""},{"$f":"IF(Table1[[#This Row],[Pupil Name]]=\"\",\"\",Table1[[#This Row],[Pupil Name]])","v":""},{"$f":"IF(Table1[[#This Row],[Gender (M/F)]]=\"\",\"\",Table1[[#This Row],[Gender (M/F)]])","v":""},{"$f":"IF(Table1[[#This Row],[DisAdv (Y/N)]]=\"\",\"\",Table1[[#This Row],[DisAdv (Y/N)]])","v":""},{"$f":"IF(Table1[[#This Row],[SEND (E,K,N)]]=\"\",\"\",Table1[[#This Row],[SEND (E,K,N)]])","v":""},"",{"$f":"IF(LEN(Table7[[#This Row],[Pupil Name]])>0,1,0)","v":0}]
[{"$f":"IF(Table1[[#This Row],[School/Group Name]]=\"\",\"\",Table1[[#This Row],[School/Group Name]])","v":""},{"$f":"IF(Table1[[#This Row],[Pupil Name]]=\"\",\"\",Table1[[#This Row],[Pupil Name]])","v":""},{"$f":"IF(Table1[[#This Row],[Gender (M/F)]]=\"\",\"\",Table1[[#This Row],[Gender (M/F)]])","v":""},{"$f":"IF(Table1[[#This Row],[DisAdv (Y/N)]]=\"\",\"\",Table1[[#This Row],[DisAdv (Y/N)]])","v":""},{"$f":"IF(Table1[[#This Row],[SEND (E,K,N)]]=\"\",\"\",Table1[[#This Row],[SEND (E,K,N)]])","v":""},"",{"$f":"IF(LEN(Table7[[#This Row],[Pupil Name]])>0,1,0)","v":0}]
[{"$f":"IF(Table1[[#This Row],[School/Group Name]]=\"\",\"\",Table1[[#This Row],[School/Group Name]])","v":""},{"$f":"IF(Table1[[#This Row],[Pupil Name]]=\"\",\"\",Table1[[#This Row],[Pupil Name]])","v":""},{"$f":"IF(Table1[[#This Row],[Gender (M/F)]]=\"\",\"\",Table1[[#This Row],[Gender (M/F)]])","v":""},{"$f":"IF(Table1[[#This Row],[DisAdv (Y/N)]]=\"\",\"\",Table1[[#This Row],[DisAdv (Y/N)]])","v":""},{"$f":"IF(Table1[[#This Row],[SEND (E,K,N)]]=\"\",\"\",Table1[[#This Row],[SEND (E,K,N)]])","v":""},"",{"$f":"IF(LEN(Table7[[#This Row],[Pupil Name]])>0,1,0)","v":0}]
[{"$f":"IF(Table1[[#This Row],[School/Group Name]]=\"\",\"\",Table1[[#This Row],[School/Group Name]])","v":""},{"$f":"IF(Table1[[#This Row],[Pupil Name]]=\"\",\"\",Table1[[#This Row],[Pupil Name]])","v":""},{"$f":"IF(Table1[[#This Row],[Gender (M/F)]]=\"\",\"\",Table1[[#This Row],[Gender (M/F)]])","v":""},{"$f":"IF(Table1[[#This Row],[DisAdv (Y/N)]]=\"\",\"\",Table1[[#This Row],[DisAdv (Y/N)]])","v":""},{"$f":"IF(Table1[[#This Row],[SEND (E,K,N)]]=\"\",\"\",Table1[[#This Row],[SEND (E,K,N)]])","v":""},"",{"$f":"IF(LEN(Table7[[#This Row],[Pupil Name]])>0,1,0)","v":0}]
[{"$f":"IF(Table1[[#This Row],[School/Group Name]]=\"\",\"\",Table1[[#This Row],[School/Group Name]])","v":""},{"$f":"IF(Table1[[#This Row],[Pupil Name]]=\"\",\"\",Table1[[#This Row],[Pupil Name]])","v":""},{"$f":"IF(Table1[[#This Row],[Gender (M/F)]]=\"\",\"\",Table1[[#This Row],[Gender (M/F)]])","v":""},{"$f":"IF(Table1[[#This Row],[DisAdv (Y/N)]]=\"\",\"\",Table1[[#This Row],[DisAdv (Y/N)]])","v":""},{"$f":"IF(Table1[[#This Row],[SEND (E,K,N)]]=\"\",\"\",Table1[[#This Row],[SEND (E,K,N)]])","v":""},"",{"$f":"IF(LEN(Table7[[#This Row],[Pupil Name]])>0,1,0)","v":0}]
[{"$f":"IF(Table1[[#This Row],[School/Group Name]]=\"\",\"\",Table1[[#This Row],[School/Group Name]])","v":""},{"$f":"IF(Table1[[#This Row],[Pupil Name]]=\"\",\"\",Table1[[#This Row],[Pupil Name]])","v":""},{"$f":"IF(Table1[[#This Row],[Gender (M/F)]]=\"\",\"\",Table1[[#This Row],[Gender (M/F)]])","v":""},{"$f":"IF(Table1[[#This Row],[DisAdv (Y/N)]]=\"\",\"\",Table1[[#This Row],[DisAdv (Y/N)]])","v":""},{"$f":"IF(Table1[[#This Row],[SEND (E,K,N)]]=\"\",\"\",Table1[[#This Row],[SEND (E,K,N)]])","v":""},"",{"$f":"IF(LEN(Table7[[#This Row],[Pupil Name]])>0,1,0)","v":0}]
[{"$f":"IF(Table1[[#This Row],[School/Group Name]]=\"\",\"\",Table1[[#This Row],[School/Group Name]])","v":""},{"$f":"IF(Table1[[#This Row],[Pupil Name]]=\"\",\"\",Table1[[#This Row],[Pupil Name]])","v":""},{"$f":"IF(Table1[[#This Row],[Gender (M/F)]]=\"\",\"\",Table1[[#This Row],[Gender (M/F)]])","v":""},{"$f":"IF(Table1[[#This Row],[DisAdv (Y/N)]]=\"\",\"\",Table1[[#This Row],[DisAdv (Y/N)]])","v":""},{"$f":"IF(Table1[[#This Row],[SEND (E,K,N)]]=\"\",\"\",Table1[[#This Row],[SEND (E,K,N)]])","v":""},"",{"$f":"IF(LEN(Table7[[#This Row],[Pupil Name]])>0,1,0)","v":0}]
[{"$f":"IF(Table1[[#This Row],[School/Group Name]]=\"\",\"\",Table1[[#This Row],[School/Group Name]])","v":""},{"$f":"IF(Table1[[#This Row],[Pupil Name]]=\"\",\"\",Table1[[#This Row],[Pupil Name]])","v":""},{"$f":"IF(Table1[[#This Row],[Gender (M/F)]]=\"\",\"\",Table1[[#This Row],[Gender (M/F)]])","v":""},{"$f":"IF(Table1[[#This Row],[DisAdv (Y/N)]]=\"\",\"\",Table1[[#This Row],[DisAdv (Y/N)]])","v":""},{"$f":"IF(Table1[[#This Row],[SEND (E,K,N)]]=\"\",\"\",Table1[[#This Row],[SEND (E,K,N)]])","v":""},"",{"$f":"IF(LEN(Table7[[#This Row],[Pupil Name]])>0,1,0)","v":0}]
[{"$f":"IF(Table1[[#This Row],[School/Group Name]]=\"\",\"\",Table1[[#This Row],[School/Group Name]])","v":""},{"$f":"IF(Table1[[#This Row],[Pupil Name]]=\"\",\"\",Table1[[#This Row],[Pupil Name]])","v":""},{"$f":"IF(Table1[[#This Row],[Gender (M/F)]]=\"\",\"\",Table1[[#This Row],[Gender (M/F)]])","v":""},{"$f":"IF(Table1[[#This Row],[DisAdv (Y/N)]]=\"\",\"\",Table1[[#This Row],[DisAdv (Y/N)]])","v":""},{"$f":"IF(Table1[[#This Row],[SEND (E,K,N)]]=\"\",\"\",Table1[[#This Row],[SEND (E,K,N)]])","v":""},"",{"$f":"IF(LEN(Table7[[#This Row],[Pupil Name]])>0,1,0)","v":0}]
[{"$f":"IF(Table1[[#This Row],[School/Group Name]]=\"\",\"\",Table1[[#This Row],[School/Group Name]])","v":""},{"$f":"IF(Table1[[#This Row],[Pupil Name]]=\"\",\"\",Table1[[#This Row],[Pupil Name]])","v":""},{"$f":"IF(Table1[[#This Row],[Gender (M/F)]]=\"\",\"\",Table1[[#This Row],[Gender (M/F)]])","v":""},{"$f":"IF(Table1[[#This Row],[DisAdv (Y/N)]]=\"\",\"\",Table1[[#This Row],[DisAdv (Y/N)]])","v":""},{"$f":"IF(Table1[[#This Row],[SEND (E,K,N)]]=\"\",\"\",Table1[[#This Row],[SEND (E,K,N)]])","v":""},{"$f":"IF(H455=\"\",\"\",(SUM(H455:AA455)))","v":""},{"$f":"IF(LEN(Table7[[#This Row],[Pupil Name]])>0,1,0)","v":0}]
[{"$f":"IF(Table1[[#This Row],[School/Group Name]]=\"\",\"\",Table1[[#This Row],[School/Group Name]])","v":""},{"$f":"IF(Table1[[#This Row],[Pupil Name]]=\"\",\"\",Table1[[#This Row],[Pupil Name]])","v":""},{"$f":"IF(Table1[[#This Row],[Gender (M/F)]]=\"\",\"\",Table1[[#This Row],[Gender (M/F)]])","v":""},{"$f":"IF(Table1[[#This Row],[DisAdv (Y/N)]]=\"\",\"\",Table1[[#This Row],[DisAdv (Y/N)]])","v":""},{"$f":"IF(Table1[[#This Row],[SEND (E,K,N)]]=\"\",\"\",Table1[[#This Row],[SEND (E,K,N)]])","v":""},"",{"$f":"IF(LEN(Table7[[#This Row],[Pupil Name]])>0,1,0)","v":0}]
[{"$f":"IF(Table1[[#This Row],[School/Group Name]]=\"\",\"\",Table1[[#This Row],[School/Group Name]])","v":""},{"$f":"IF(Table1[[#This Row],[Pupil Name]]=\"\",\"\",Table1[[#This Row],[Pupil Name]])","v":""},{"$f":"IF(Table1[[#This Row],[Gender (M/F)]]=\"\",\"\",Table1[[#This Row],[Gender (M/F)]])","v":""},{"$f":"IF(Table1[[#This Row],[DisAdv (Y/N)]]=\"\",\"\",Table1[[#This Row],[DisAdv (Y/N)]])","v":""},{"$f":"IF(Table1[[#This Row],[SEND (E,K,N)]]=\"\",\"\",Table1[[#This Row],[SEND (E,K,N)]])","v":""},"",{"$f":"IF(LEN(Table7[[#This Row],[Pupil Name]])>0,1,0)","v":0}]
[{"$f":"IF(Table1[[#This Row],[School/Group Name]]=\"\",\"\",Table1[[#This Row],[School/Group Name]])","v":""},{"$f":"IF(Table1[[#This Row],[Pupil Name]]=\"\",\"\",Table1[[#This Row],[Pupil Name]])","v":""},{"$f":"IF(Table1[[#This Row],[Gender (M/F)]]=\"\",\"\",Table1[[#This Row],[Gender (M/F)]])","v":""},{"$f":"IF(Table1[[#This Row],[DisAdv (Y/N)]]=\"\",\"\",Table1[[#This Row],[DisAdv (Y/N)]])","v":""},{"$f":"IF(Table1[[#This Row],[SEND (E,K,N)]]=\"\",\"\",Table1[[#This Row],[SEND (E,K,N)]])","v":""},"",{"$f":"IF(LEN(Table7[[#This Row],[Pupil Name]])>0,1,0)","v":0}]
[{"$f":"IF(Table1[[#This Row],[School/Group Name]]=\"\",\"\",Table1[[#This Row],[School/Group Name]])","v":""},{"$f":"IF(Table1[[#This Row],[Pupil Name]]=\"\",\"\",Table1[[#This Row],[Pupil Name]])","v":""},{"$f":"IF(Table1[[#This Row],[Gender (M/F)]]=\"\",\"\",Table1[[#This Row],[Gender (M/F)]])","v":""},{"$f":"IF(Table1[[#This Row],[DisAdv (Y/N)]]=\"\",\"\",Table1[[#This Row],[DisAdv (Y/N)]])","v":""},{"$f":"IF(Table1[[#This Row],[SEND (E,K,N)]]=\"\",\"\",Table1[[#This Row],[SEND (E,K,N)]])","v":""},"",{"$f":"IF(LEN(Table7[[#This Row],[Pupil Name]])>0,1,0)","v":0}]
[{"$f":"IF(Table1[[#This Row],[School/Group Name]]=\"\",\"\",Table1[[#This Row],[School/Group Name]])","v":""},{"$f":"IF(Table1[[#This Row],[Pupil Name]]=\"\",\"\",Table1[[#This Row],[Pupil Name]])","v":""},{"$f":"IF(Table1[[#This Row],[Gender (M/F)]]=\"\",\"\",Table1[[#This Row],[Gender (M/F)]])","v":""},{"$f":"IF(Table1[[#This Row],[DisAdv (Y/N)]]=\"\",\"\",Table1[[#This Row],[DisAdv (Y/N)]])","v":""},{"$f":"IF(Table1[[#This Row],[SEND (E,K,N)]]=\"\",\"\",Table1[[#This Row],[SEND (E,K,N)]])","v":""},"",{"$f":"IF(LEN(Table7[[#This Row],[Pupil Name]])>0,1,0)","v":0}]
[{"$f":"IF(Table1[[#This Row],[School/Group Name]]=\"\",\"\",Table1[[#This Row],[School/Group Name]])","v":""},{"$f":"IF(Table1[[#This Row],[Pupil Name]]=\"\",\"\",Table1[[#This Row],[Pupil Name]])","v":""},{"$f":"IF(Table1[[#This Row],[Gender (M/F)]]=\"\",\"\",Table1[[#This Row],[Gender (M/F)]])","v":""},{"$f":"IF(Table1[[#This Row],[DisAdv (Y/N)]]=\"\",\"\",Table1[[#This Row],[DisAdv (Y/N)]])","v":""},{"$f":"IF(Table1[[#This Row],[SEND (E,K,N)]]=\"\",\"\",Table1[[#This Row],[SEND (E,K,N)]])","v":""},"",{"$f":"IF(LEN(Table7[[#This Row],[Pupil Name]])>0,1,0)","v":0}]
[{"$f":"IF(Table1[[#This Row],[School/Group Name]]=\"\",\"\",Table1[[#This Row],[School/Group Name]])","v":""},{"$f":"IF(Table1[[#This Row],[Pupil Name]]=\"\",\"\",Table1[[#This Row],[Pupil Name]])","v":""},{"$f":"IF(Table1[[#This Row],[Gender (M/F)]]=\"\",\"\",Table1[[#This Row],[Gender (M/F)]])","v":""},{"$f":"IF(Table1[[#This Row],[DisAdv (Y/N)]]=\"\",\"\",Table1[[#This Row],[DisAdv (Y/N)]])","v":""},{"$f":"IF(Table1[[#This Row],[SEND (E,K,N)]]=\"\",\"\",Table1[[#This Row],[SEND (E,K,N)]])","v":""},"",{"$f":"IF(LEN(Table7[[#This Row],[Pupil Name]])>0,1,0)","v":0}]
[{"$f":"IF(Table1[[#This Row],[School/Group Name]]=\"\",\"\",Table1[[#This Row],[School/Group Name]])","v":""},{"$f":"IF(Table1[[#This Row],[Pupil Name]]=\"\",\"\",Table1[[#This Row],[Pupil Name]])","v":""},{"$f":"IF(Table1[[#This Row],[Gender (M/F)]]=\"\",\"\",Table1[[#This Row],[Gender (M/F)]])","v":""},{"$f":"IF(Table1[[#This Row],[DisAdv (Y/N)]]=\"\",\"\",Table1[[#This Row],[DisAdv (Y/N)]])","v":""},{"$f":"IF(Table1[[#This Row],[SEND (E,K,N)]]=\"\",\"\",Table1[[#This Row],[SEND (E,K,N)]])","v":""},"",{"$f":"IF(LEN(Table7[[#This Row],[Pupil Name]])>0,1,0)","v":0}]
[{"$f":"IF(Table1[[#This Row],[School/Group Name]]=\"\",\"\",Table1[[#This Row],[School/Group Name]])","v":""},{"$f":"IF(Table1[[#This Row],[Pupil Name]]=\"\",\"\",Table1[[#This Row],[Pupil Name]])","v":""},{"$f":"IF(Table1[[#This Row],[Gender (M/F)]]=\"\",\"\",Table1[[#This Row],[Gender (M/F)]])","v":""},{"$f":"IF(Table1[[#This Row],[DisAdv (Y/N)]]=\"\",\"\",Table1[[#This Row],[DisAdv (Y/N)]])","v":""},{"$f":"IF(Table1[[#This Row],[SEND (E,K,N)]]=\"\",\"\",Table1[[#This Row],[SEND (E,K,N)]])","v":""},"",{"$f":"IF(LEN(Table7[[#This Row],[Pupil Name]])>0,1,0)","v":0}]
[{"$f":"IF(Table1[[#This Row],[School/Group Name]]=\"\",\"\",Table1[[#This Row],[School/Group Name]])","v":""},{"$f":"IF(Table1[[#This Row],[Pupil Name]]=\"\",\"\",Table1[[#This Row],[Pupil Name]])","v":""},{"$f":"IF(Table1[[#This Row],[Gender (M/F)]]=\"\",\"\",Table1[[#This Row],[Gender (M/F)]])","v":""},{"$f":"IF(Table1[[#This Row],[DisAdv (Y/N)]]=\"\",\"\",Table1[[#This Row],[DisAdv (Y/N)]])","v":""},{"$f":"IF(Table1[[#This Row],[SEND (E,K,N)]]=\"\",\"\",Table1[[#This Row],[SEND (E,K,N)]])","v":""},"",{"$f":"IF(LEN(Table7[[#This Row],[Pupil Name]])>0,1,0)","v":0}]
[{"$f":"IF(Table1[[#This Row],[School/Group Name]]=\"\",\"\",Table1[[#This Row],[School/Group Name]])","v":""},{"$f":"IF(Table1[[#This Row],[Pupil Name]]=\"\",\"\",Table1[[#This Row],[Pupil Name]])","v":""},{"$f":"IF(Table1[[#This Row],[Gender (M/F)]]=\"\",\"\",Table1[[#This Row],[Gender (M/F)]])","v":""},{"$f":"IF(Table1[[#This Row],[DisAdv (Y/N)]]=\"\",\"\",Table1[[#This Row],[DisAdv (Y/N)]])","v":""},{"$f":"IF(Table1[[#This Row],[SEND (E,K,N)]]=\"\",\"\",Table1[[#This Row],[SEND (E,K,N)]])","v":""},"",{"$f":"IF(LEN(Table7[[#This Row],[Pupil Name]])>0,1,0)","v":0}]
[{"$f":"IF(Table1[[#This Row],[School/Group Name]]=\"\",\"\",Table1[[#This Row],[School/Group Name]])","v":""},{"$f":"IF(Table1[[#This Row],[Pupil Name]]=\"\",\"\",Table1[[#This Row],[Pupil Name]])","v":""},{"$f":"IF(Table1[[#This Row],[Gender (M/F)]]=\"\",\"\",Table1[[#This Row],[Gender (M/F)]])","v":""},{"$f":"IF(Table1[[#This Row],[DisAdv (Y/N)]]=\"\",\"\",Table1[[#This Row],[DisAdv (Y/N)]])","v":""},{"$f":"IF(Table1[[#This Row],[SEND (E,K,N)]]=\"\",\"\",Table1[[#This Row],[SEND (E,K,N)]])","v":""},"",{"$f":"IF(LEN(Table7[[#This Row],[Pupil Name]])>0,1,0)","v":0}]
[{"$f":"IF(Table1[[#This Row],[School/Group Name]]=\"\",\"\",Table1[[#This Row],[School/Group Name]])","v":""},{"$f":"IF(Table1[[#This Row],[Pupil Name]]=\"\",\"\",Table1[[#This Row],[Pupil Name]])","v":""},{"$f":"IF(Table1[[#This Row],[Gender (M/F)]]=\"\",\"\",Table1[[#This Row],[Gender (M/F)]])","v":""},{"$f":"IF(Table1[[#This Row],[DisAdv (Y/N)]]=\"\",\"\",Table1[[#This Row],[DisAdv (Y/N)]])","v":""},{"$f":"IF(Table1[[#This Row],[SEND (E,K,N)]]=\"\",\"\",Table1[[#This Row],[SEND (E,K,N)]])","v":""},"",{"$f":"IF(LEN(Table7[[#This Row],[Pupil Name]])>0,1,0)","v":0}]
[{"$f":"IF(Table1[[#This Row],[School/Group Name]]=\"\",\"\",Table1[[#This Row],[School/Group Name]])","v":""},{"$f":"IF(Table1[[#This Row],[Pupil Name]]=\"\",\"\",Table1[[#This Row],[Pupil Name]])","v":""},{"$f":"IF(Table1[[#This Row],[Gender (M/F)]]=\"\",\"\",Table1[[#This Row],[Gender (M/F)]])","v":""},{"$f":"IF(Table1[[#This Row],[DisAdv (Y/N)]]=\"\",\"\",Table1[[#This Row],[DisAdv (Y/N)]])","v":""},{"$f":"IF(Table1[[#This Row],[SEND (E,K,N)]]=\"\",\"\",Table1[[#This Row],[SEND (E,K,N)]])","v":""},"",{"$f":"IF(LEN(Table7[[#This Row],[Pupil Name]])>0,1,0)","v":0}]
[{"$f":"IF(Table1[[#This Row],[School/Group Name]]=\"\",\"\",Table1[[#This Row],[School/Group Name]])","v":""},{"$f":"IF(Table1[[#This Row],[Pupil Name]]=\"\",\"\",Table1[[#This Row],[Pupil Name]])","v":""},{"$f":"IF(Table1[[#This Row],[Gender (M/F)]]=\"\",\"\",Table1[[#This Row],[Gender (M/F)]])","v":""},{"$f":"IF(Table1[[#This Row],[DisAdv (Y/N)]]=\"\",\"\",Table1[[#This Row],[DisAdv (Y/N)]])","v":""},{"$f":"IF(Table1[[#This Row],[SEND (E,K,N)]]=\"\",\"\",Table1[[#This Row],[SEND (E,K,N)]])","v":""},"",{"$f":"IF(LEN(Table7[[#This Row],[Pupil Name]])>0,1,0)","v":0}]
[{"$f":"IF(Table1[[#This Row],[School/Group Name]]=\"\",\"\",Table1[[#This Row],[School/Group Name]])","v":""},{"$f":"IF(Table1[[#This Row],[Pupil Name]]=\"\",\"\",Table1[[#This Row],[Pupil Name]])","v":""},{"$f":"IF(Table1[[#This Row],[Gender (M/F)]]=\"\",\"\",Table1[[#This Row],[Gender (M/F)]])","v":""},{"$f":"IF(Table1[[#This Row],[DisAdv (Y/N)]]=\"\",\"\",Table1[[#This Row],[DisAdv (Y/N)]])","v":""},{"$f":"IF(Table1[[#This Row],[SEND (E,K,N)]]=\"\",\"\",Table1[[#This Row],[SEND (E,K,N)]])","v":""},"",{"$f":"IF(LEN(Table7[[#This Row],[Pupil Name]])>0,1,0)","v":0}]
[{"$f":"IF(Table1[[#This Row],[School/Group Name]]=\"\",\"\",Table1[[#This Row],[School/Group Name]])","v":""},{"$f":"IF(Table1[[#This Row],[Pupil Name]]=\"\",\"\",Table1[[#This Row],[Pupil Name]])","v":""},{"$f":"IF(Table1[[#This Row],[Gender (M/F)]]=\"\",\"\",Table1[[#This Row],[Gender (M/F)]])","v":""},{"$f":"IF(Table1[[#This Row],[DisAdv (Y/N)]]=\"\",\"\",Table1[[#This Row],[DisAdv (Y/N)]])","v":""},{"$f":"IF(Table1[[#This Row],[SEND (E,K,N)]]=\"\",\"\",Table1[[#This Row],[SEND (E,K,N)]])","v":""},"",{"$f":"IF(LEN(Table7[[#This Row],[Pupil Name]])>0,1,0)","v":0}]
[{"$f":"IF(Table1[[#This Row],[School/Group Name]]=\"\",\"\",Table1[[#This Row],[School/Group Name]])","v":""},{"$f":"IF(Table1[[#This Row],[Pupil Name]]=\"\",\"\",Table1[[#This Row],[Pupil Name]])","v":""},{"$f":"IF(Table1[[#This Row],[Gender (M/F)]]=\"\",\"\",Table1[[#This Row],[Gender (M/F)]])","v":""},{"$f":"IF(Table1[[#This Row],[DisAdv (Y/N)]]=\"\",\"\",Table1[[#This Row],[DisAdv (Y/N)]])","v":""},{"$f":"IF(Table1[[#This Row],[SEND (E,K,N)]]=\"\",\"\",Table1[[#This Row],[SEND (E,K,N)]])","v":""},"",{"$f":"IF(LEN(Table7[[#This Row],[Pupil Name]])>0,1,0)","v":0}]
[{"$f":"IF(Table1[[#This Row],[School/Group Name]]=\"\",\"\",Table1[[#This Row],[School/Group Name]])","v":""},{"$f":"IF(Table1[[#This Row],[Pupil Name]]=\"\",\"\",Table1[[#This Row],[Pupil Name]])","v":""},{"$f":"IF(Table1[[#This Row],[Gender (M/F)]]=\"\",\"\",Table1[[#This Row],[Gender (M/F)]])","v":""},{"$f":"IF(Table1[[#This Row],[DisAdv (Y/N)]]=\"\",\"\",Table1[[#This Row],[DisAdv (Y/N)]])","v":""},{"$f":"IF(Table1[[#This Row],[SEND (E,K,N)]]=\"\",\"\",Table1[[#This Row],[SEND (E,K,N)]])","v":""},"",{"$f":"IF(LEN(Table7[[#This Row],[Pupil Name]])>0,1,0)","v":0}]
[{"$f":"IF(Table1[[#This Row],[School/Group Name]]=\"\",\"\",Table1[[#This Row],[School/Group Name]])","v":""},{"$f":"IF(Table1[[#This Row],[Pupil Name]]=\"\",\"\",Table1[[#This Row],[Pupil Name]])","v":""},{"$f":"IF(Table1[[#This Row],[Gender (M/F)]]=\"\",\"\",Table1[[#This Row],[Gender (M/F)]])","v":""},{"$f":"IF(Table1[[#This Row],[DisAdv (Y/N)]]=\"\",\"\",Table1[[#This Row],[DisAdv (Y/N)]])","v":""},{"$f":"IF(Table1[[#This Row],[SEND (E,K,N)]]=\"\",\"\",Table1[[#This Row],[SEND (E,K,N)]])","v":""},"",{"$f":"IF(LEN(Table7[[#This Row],[Pupil Name]])>0,1,0)","v":0}]
[{"$f":"IF(Table1[[#This Row],[School/Group Name]]=\"\",\"\",Table1[[#This Row],[School/Group Name]])","v":""},{"$f":"IF(Table1[[#This Row],[Pupil Name]]=\"\",\"\",Table1[[#This Row],[Pupil Name]])","v":""},{"$f":"IF(Table1[[#This Row],[Gender (M/F)]]=\"\",\"\",Table1[[#This Row],[Gender (M/F)]])","v":""},{"$f":"IF(Table1[[#This Row],[DisAdv (Y/N)]]=\"\",\"\",Table1[[#This Row],[DisAdv (Y/N)]])","v":""},{"$f":"IF(Table1[[#This Row],[SEND (E,K,N)]]=\"\",\"\",Table1[[#This Row],[SEND (E,K,N)]])","v":""},"",{"$f":"IF(LEN(Table7[[#This Row],[Pupil Name]])>0,1,0)","v":0}]
[{"$f":"IF(Table1[[#This Row],[School/Group Name]]=\"\",\"\",Table1[[#This Row],[School/Group Name]])","v":""},{"$f":"IF(Table1[[#This Row],[Pupil Name]]=\"\",\"\",Table1[[#This Row],[Pupil Name]])","v":""},{"$f":"IF(Table1[[#This Row],[Gender (M/F)]]=\"\",\"\",Table1[[#This Row],[Gender (M/F)]])","v":""},{"$f":"IF(Table1[[#This Row],[DisAdv (Y/N)]]=\"\",\"\",Table1[[#This Row],[DisAdv (Y/N)]])","v":""},{"$f":"IF(Table1[[#This Row],[SEND (E,K,N)]]=\"\",\"\",Table1[[#This Row],[SEND (E,K,N)]])","v":""},"",{"$f":"IF(LEN(Table7[[#This Row],[Pupil Name]])>0,1,0)","v":0}]
[{"$f":"IF(Table1[[#This Row],[School/Group Name]]=\"\",\"\",Table1[[#This Row],[School/Group Name]])","v":""},{"$f":"IF(Table1[[#This Row],[Pupil Name]]=\"\",\"\",Table1[[#This Row],[Pupil Name]])","v":""},{"$f":"IF(Table1[[#This Row],[Gender (M/F)]]=\"\",\"\",Table1[[#This Row],[Gender (M/F)]])","v":""},{"$f":"IF(Table1[[#This Row],[DisAdv (Y/N)]]=\"\",\"\",Table1[[#This Row],[DisAdv (Y/N)]])","v":""},{"$f":"IF(Table1[[#This Row],[SEND (E,K,N)]]=\"\",\"\",Table1[[#This Row],[SEND (E,K,N)]])","v":""},"",{"$f":"IF(LEN(Table7[[#This Row],[Pupil Name]])>0,1,0)","v":0}]
[{"$f":"IF(Table1[[#This Row],[School/Group Name]]=\"\",\"\",Table1[[#This Row],[School/Group Name]])","v":""},{"$f":"IF(Table1[[#This Row],[Pupil Name]]=\"\",\"\",Table1[[#This Row],[Pupil Name]])","v":""},{"$f":"IF(Table1[[#This Row],[Gender (M/F)]]=\"\",\"\",Table1[[#This Row],[Gender (M/F)]])","v":""},{"$f":"IF(Table1[[#This Row],[DisAdv (Y/N)]]=\"\",\"\",Table1[[#This Row],[DisAdv (Y/N)]])","v":""},{"$f":"IF(Table1[[#This Row],[SEND (E,K,N)]]=\"\",\"\",Table1[[#This Row],[SEND (E,K,N)]])","v":""},"",{"$f":"IF(LEN(Table7[[#This Row],[Pupil Name]])>0,1,0)","v":0}]
[{"$f":"IF(Table1[[#This Row],[School/Group Name]]=\"\",\"\",Table1[[#This Row],[School/Group Name]])","v":""},{"$f":"IF(Table1[[#This Row],[Pupil Name]]=\"\",\"\",Table1[[#This Row],[Pupil Name]])","v":""},{"$f":"IF(Table1[[#This Row],[Gender (M/F)]]=\"\",\"\",Table1[[#This Row],[Gender (M/F)]])","v":""},{"$f":"IF(Table1[[#This Row],[DisAdv (Y/N)]]=\"\",\"\",Table1[[#This Row],[DisAdv (Y/N)]])","v":""},{"$f":"IF(Table1[[#This Row],[SEND (E,K,N)]]=\"\",\"\",Table1[[#This Row],[SEND (E,K,N)]])","v":""},"",{"$f":"IF(LEN(Table7[[#This Row],[Pupil Name]])>0,1,0)","v":0}]
[{"$f":"IF(Table1[[#This Row],[School/Group Name]]=\"\",\"\",Table1[[#This Row],[School/Group Name]])","v":""},{"$f":"IF(Table1[[#This Row],[Pupil Name]]=\"\",\"\",Table1[[#This Row],[Pupil Name]])","v":""},{"$f":"IF(Table1[[#This Row],[Gender (M/F)]]=\"\",\"\",Table1[[#This Row],[Gender (M/F)]])","v":""},{"$f":"IF(Table1[[#This Row],[DisAdv (Y/N)]]=\"\",\"\",Table1[[#This Row],[DisAdv (Y/N)]])","v":""},{"$f":"IF(Table1[[#This Row],[SEND (E,K,N)]]=\"\",\"\",Table1[[#This Row],[SEND (E,K,N)]])","v":""},"",{"$f":"IF(LEN(Table7[[#This Row],[Pupil Name]])>0,1,0)","v":0}]
[{"$f":"IF(Table1[[#This Row],[School/Group Name]]=\"\",\"\",Table1[[#This Row],[School/Group Name]])","v":""},{"$f":"IF(Table1[[#This Row],[Pupil Name]]=\"\",\"\",Table1[[#This Row],[Pupil Name]])","v":""},{"$f":"IF(Table1[[#This Row],[Gender (M/F)]]=\"\",\"\",Table1[[#This Row],[Gender (M/F)]])","v":""},{"$f":"IF(Table1[[#This Row],[DisAdv (Y/N)]]=\"\",\"\",Table1[[#This Row],[DisAdv (Y/N)]])","v":""},{"$f":"IF(Table1[[#This Row],[SEND (E,K,N)]]=\"\",\"\",Table1[[#This Row],[SEND (E,K,N)]])","v":""},"",{"$f":"IF(LEN(Table7[[#This Row],[Pupil Name]])>0,1,0)","v":0}]
[{"$f":"IF(Table1[[#This Row],[School/Group Name]]=\"\",\"\",Table1[[#This Row],[School/Group Name]])","v":""},{"$f":"IF(Table1[[#This Row],[Pupil Name]]=\"\",\"\",Table1[[#This Row],[Pupil Name]])","v":""},{"$f":"IF(Table1[[#This Row],[Gender (M/F)]]=\"\",\"\",Table1[[#This Row],[Gender (M/F)]])","v":""},{"$f":"IF(Table1[[#This Row],[DisAdv (Y/N)]]=\"\",\"\",Table1[[#This Row],[DisAdv (Y/N)]])","v":""},{"$f":"IF(Table1[[#This Row],[SEND (E,K,N)]]=\"\",\"\",Table1[[#This Row],[SEND (E,K,N)]])","v":""},"",{"$f":"IF(LEN(Table7[[#This Row],[Pupil Name]])>0,1,0)","v":0}]
[{"$f":"IF(Table1[[#This Row],[School/Group Name]]=\"\",\"\",Table1[[#This Row],[School/Group Name]])","v":""},{"$f":"IF(Table1[[#This Row],[Pupil Name]]=\"\",\"\",Table1[[#This Row],[Pupil Name]])","v":""},{"$f":"IF(Table1[[#This Row],[Gender (M/F)]]=\"\",\"\",Table1[[#This Row],[Gender (M/F)]])","v":""},{"$f":"IF(Table1[[#This Row],[DisAdv (Y/N)]]=\"\",\"\",Table1[[#This Row],[DisAdv (Y/N)]])","v":""},{"$f":"IF(Table1[[#This Row],[SEND (E,K,N)]]=\"\",\"\",Table1[[#This Row],[SEND (E,K,N)]])","v":""},"",{"$f":"IF(LEN(Table7[[#This Row],[Pupil Name]])>0,1,0)","v":0}]
[{"$f":"IF(Table1[[#This Row],[School/Group Name]]=\"\",\"\",Table1[[#This Row],[School/Group Name]])","v":""},{"$f":"IF(Table1[[#This Row],[Pupil Name]]=\"\",\"\",Table1[[#This Row],[Pupil Name]])","v":""},{"$f":"IF(Table1[[#This Row],[Gender (M/F)]]=\"\",\"\",Table1[[#This Row],[Gender (M/F)]])","v":""},{"$f":"IF(Table1[[#This Row],[DisAdv (Y/N)]]=\"\",\"\",Table1[[#This Row],[DisAdv (Y/N)]])","v":""},{"$f":"IF(Table1[[#This Row],[SEND (E,K,N)]]=\"\",\"\",Table1[[#This Row],[SEND (E,K,N)]])","v":""},"",{"$f":"IF(LEN(Table7[[#This Row],[Pupil Name]])>0,1,0)","v":0}]
[{"$f":"IF(Table1[[#This Row],[School/Group Name]]=\"\",\"\",Table1[[#This Row],[School/Group Name]])","v":""},{"$f":"IF(Table1[[#This Row],[Pupil Name]]=\"\",\"\",Table1[[#This Row],[Pupil Name]])","v":""},{"$f":"IF(Table1[[#This Row],[Gender (M/F)]]=\"\",\"\",Table1[[#This Row],[Gender (M/F)]])","v":""},{"$f":"IF(Table1[[#This Row],[DisAdv (Y/N)]]=\"\",\"\",Table1[[#This Row],[DisAdv (Y/N)]])","v":""},{"$f":"IF(Table1[[#This Row],[SEND (E,K,N)]]=\"\",\"\",Table1[[#This Row],[SEND (E,K,N)]])","v":""},"",{"$f":"IF(LEN(Table7[[#This Row],[Pupil Name]])>0,1,0)","v":0}]
[{"$f":"IF(Table1[[#This Row],[School/Group Name]]=\"\",\"\",Table1[[#This Row],[School/Group Name]])","v":""},{"$f":"IF(Table1[[#This Row],[Pupil Name]]=\"\",\"\",Table1[[#This Row],[Pupil Name]])","v":""},{"$f":"IF(Table1[[#This Row],[Gender (M/F)]]=\"\",\"\",Table1[[#This Row],[Gender (M/F)]])","v":""},{"$f":"IF(Table1[[#This Row],[DisAdv (Y/N)]]=\"\",\"\",Table1[[#This Row],[DisAdv (Y/N)]])","v":""},{"$f":"IF(Table1[[#This Row],[SEND (E,K,N)]]=\"\",\"\",Table1[[#This Row],[SEND (E,K,N)]])","v":""},"",{"$f":"IF(LEN(Table7[[#This Row],[Pupil Name]])>0,1,0)","v":0}]
[{"$f":"IF(Table1[[#This Row],[School/Group Name]]=\"\",\"\",Table1[[#This Row],[School/Group Name]])","v":""},{"$f":"IF(Table1[[#This Row],[Pupil Name]]=\"\",\"\",Table1[[#This Row],[Pupil Name]])","v":""},{"$f":"IF(Table1[[#This Row],[Gender (M/F)]]=\"\",\"\",Table1[[#This Row],[Gender (M/F)]])","v":""},{"$f":"IF(Table1[[#This Row],[DisAdv (Y/N)]]=\"\",\"\",Table1[[#This Row],[DisAdv (Y/N)]])","v":""},{"$f":"IF(Table1[[#This Row],[SEND (E,K,N)]]=\"\",\"\",Table1[[#This Row],[SEND (E,K,N)]])","v":""},"",{"$f":"IF(LEN(Table7[[#This Row],[Pupil Name]])>0,1,0)","v":0}]
[{"$f":"IF(Table1[[#This Row],[School/Group Name]]=\"\",\"\",Table1[[#This Row],[School/Group Name]])","v":""},{"$f":"IF(Table1[[#This Row],[Pupil Name]]=\"\",\"\",Table1[[#This Row],[Pupil Name]])","v":""},{"$f":"IF(Table1[[#This Row],[Gender (M/F)]]=\"\",\"\",Table1[[#This Row],[Gender (M/F)]])","v":""},{"$f":"IF(Table1[[#This Row],[DisAdv (Y/N)]]=\"\",\"\",Table1[[#This Row],[DisAdv (Y/N)]])","v":""},{"$f":"IF(Table1[[#This Row],[SEND (E,K,N)]]=\"\",\"\",Table1[[#This Row],[SEND (E,K,N)]])","v":""},"",{"$f":"IF(LEN(Table7[[#This Row],[Pupil Name]])>0,1,0)","v":0}]
[{"$f":"IF(Table1[[#This Row],[School/Group Name]]=\"\",\"\",Table1[[#This Row],[School/Group Name]])","v":""},{"$f":"IF(Table1[[#This Row],[Pupil Name]]=\"\",\"\",Table1[[#This Row],[Pupil Name]])","v":""},{"$f":"IF(Table1[[#This Row],[Gender (M/F)]]=\"\",\"\",Table1[[#This Row],[Gender (M/F)]])","v":""},{"$f":"IF(Table1[[#This Row],[DisAdv (Y/N)]]=\"\",\"\",Table1[[#This Row],[DisAdv (Y/N)]])","v":""},{"$f":"IF(Table1[[#This Row],[SEND (E,K,N)]]=\"\",\"\",Table1[[#This Row],[SEND (E,K,N)]])","v":""},"",{"$f":"IF(LEN(Table7[[#This Row],[Pupil Name]])>0,1,0)","v":0}]
[{"$f":"IF(Table1[[#This Row],[School/Group Name]]=\"\",\"\",Table1[[#This Row],[School/Group Name]])","v":""},{"$f":"IF(Table1[[#This Row],[Pupil Name]]=\"\",\"\",Table1[[#This Row],[Pupil Name]])","v":""},{"$f":"IF(Table1[[#This Row],[Gender (M/F)]]=\"\",\"\",Table1[[#This Row],[Gender (M/F)]])","v":""},{"$f":"IF(Table1[[#This Row],[DisAdv (Y/N)]]=\"\",\"\",Table1[[#This Row],[DisAdv (Y/N)]])","v":""},{"$f":"IF(Table1[[#This Row],[SEND (E,K,N)]]=\"\",\"\",Table1[[#This Row],[SEND (E,K,N)]])","v":""},"",{"$f":"IF(LEN(Table7[[#This Row],[Pupil Name]])>0,1,0)","v":0}]
[{"$f":"IF(Table1[[#This Row],[School/Group Name]]=\"\",\"\",Table1[[#This Row],[School/Group Name]])","v":""},{"$f":"IF(Table1[[#This Row],[Pupil Name]]=\"\",\"\",Table1[[#This Row],[Pupil Name]])","v":""},{"$f":"IF(Table1[[#This Row],[Gender (M/F)]]=\"\",\"\",Table1[[#This Row],[Gender (M/F)]])","v":""},{"$f":"IF(Table1[[#This Row],[DisAdv (Y/N)]]=\"\",\"\",Table1[[#This Row],[DisAdv (Y/N)]])","v":""},{"$f":"IF(Table1[[#This Row],[SEND (E,K,N)]]=\"\",\"\",Table1[[#This Row],[SEND (E,K,N)]])","v":""},"",{"$f":"IF(LEN(Table7[[#This Row],[Pupil Name]])>0,1,0)","v":0}]
[{"$f":"IF(Table1[[#This Row],[School/Group Name]]=\"\",\"\",Table1[[#This Row],[School/Group Name]])","v":""},{"$f":"IF(Table1[[#This Row],[Pupil Name]]=\"\",\"\",Table1[[#This Row],[Pupil Name]])","v":""},{"$f":"IF(Table1[[#This Row],[Gender (M/F)]]=\"\",\"\",Table1[[#This Row],[Gender (M/F)]])","v":""},{"$f":"IF(Table1[[#This Row],[DisAdv (Y/N)]]=\"\",\"\",Table1[[#This Row],[DisAdv (Y/N)]])","v":""},{"$f":"IF(Table1[[#This Row],[SEND (E,K,N)]]=\"\",\"\",Table1[[#This Row],[SEND (E,K,N)]])","v":""},"",{"$f":"IF(LEN(Table7[[#This Row],[Pupil Name]])>0,1,0)","v":0}]
[{"$f":"IF(Table1[[#This Row],[School/Group Name]]=\"\",\"\",Table1[[#This Row],[School/Group Name]])","v":""},{"$f":"IF(Table1[[#This Row],[Pupil Name]]=\"\",\"\",Table1[[#This Row],[Pupil Name]])","v":""},{"$f":"IF(Table1[[#This Row],[Gender (M/F)]]=\"\",\"\",Table1[[#This Row],[Gender (M/F)]])","v":""},{"$f":"IF(Table1[[#This Row],[DisAdv (Y/N)]]=\"\",\"\",Table1[[#This Row],[DisAdv (Y/N)]])","v":""},{"$f":"IF(Table1[[#This Row],[SEND (E,K,N)]]=\"\",\"\",Table1[[#This Row],[SEND (E,K,N)]])","v":""},"",{"$f":"IF(LEN(Table7[[#This Row],[Pupil Name]])>0,1,0)","v":0}]
[{"$f":"IF(Table1[[#This Row],[School/Group Name]]=\"\",\"\",Table1[[#This Row],[School/Group Name]])","v":""},{"$f":"IF(Table1[[#This Row],[Pupil Name]]=\"\",\"\",Table1[[#This Row],[Pupil Name]])","v":""},{"$f":"IF(Table1[[#This Row],[Gender (M/F)]]=\"\",\"\",Table1[[#This Row],[Gender (M/F)]])","v":""},{"$f":"IF(Table1[[#This Row],[DisAdv (Y/N)]]=\"\",\"\",Table1[[#This Row],[DisAdv (Y/N)]])","v":""},{"$f":"IF(Table1[[#This Row],[SEND (E,K,N)]]=\"\",\"\",Table1[[#This Row],[SEND (E,K,N)]])","v":""},"",{"$f":"IF(LEN(Table7[[#This Row],[Pupil Name]])>0,1,0)","v":0}]
[{"$f":"IF(Table1[[#This Row],[School/Group Name]]=\"\",\"\",Table1[[#This Row],[School/Group Name]])","v":""},{"$f":"IF(Table1[[#This Row],[Pupil Name]]=\"\",\"\",Table1[[#This Row],[Pupil Name]])","v":""},{"$f":"IF(Table1[[#This Row],[Gender (M/F)]]=\"\",\"\",Table1[[#This Row],[Gender (M/F)]])","v":""},{"$f":"IF(Table1[[#This Row],[DisAdv (Y/N)]]=\"\",\"\",Table1[[#This Row],[DisAdv (Y/N)]])","v":""},{"$f":"IF(Table1[[#This Row],[SEND (E,K,N)]]=\"\",\"\",Table1[[#This Row],[SEND (E,K,N)]])","v":""},"",{"$f":"IF(LEN(Table7[[#This Row],[Pupil Name]])>0,1,0)","v":0}]
[{"$f":"IF(Table1[[#This Row],[School/Group Name]]=\"\",\"\",Table1[[#This Row],[School/Group Name]])","v":""},{"$f":"IF(Table1[[#This Row],[Pupil Name]]=\"\",\"\",Table1[[#This Row],[Pupil Name]])","v":""},{"$f":"IF(Table1[[#This Row],[Gender (M/F)]]=\"\",\"\",Table1[[#This Row],[Gender (M/F)]])","v":""},{"$f":"IF(Table1[[#This Row],[DisAdv (Y/N)]]=\"\",\"\",Table1[[#This Row],[DisAdv (Y/N)]])","v":""},{"$f":"IF(Table1[[#This Row],[SEND (E,K,N)]]=\"\",\"\",Table1[[#This Row],[SEND (E,K,N)]])","v":""},"",{"$f":"IF(LEN(Table7[[#This Row],[Pupil Name]])>0,1,0)","v":0}]
[{"$f":"IF(Table1[[#This Row],[School/Group Name]]=\"\",\"\",Table1[[#This Row],[School/Group Name]])","v":""},{"$f":"IF(Table1[[#This Row],[Pupil Name]]=\"\",\"\",Table1[[#This Row],[Pupil Name]])","v":""},{"$f":"IF(Table1[[#This Row],[Gender (M/F)]]=\"\",\"\",Table1[[#This Row],[Gender (M/F)]])","v":""},{"$f":"IF(Table1[[#This Row],[DisAdv (Y/N)]]=\"\",\"\",Table1[[#This Row],[DisAdv (Y/N)]])","v":""},{"$f":"IF(Table1[[#This Row],[SEND (E,K,N)]]=\"\",\"\",Table1[[#This Row],[SEND (E,K,N)]])","v":""},"",{"$f":"IF(LEN(Table7[[#This Row],[Pupil Name]])>0,1,0)","v":0}]
[{"$f":"IF(Table1[[#This Row],[School/Group Name]]=\"\",\"\",Table1[[#This Row],[School/Group Name]])","v":""},{"$f":"IF(Table1[[#This Row],[Pupil Name]]=\"\",\"\",Table1[[#This Row],[Pupil Name]])","v":""},{"$f":"IF(Table1[[#This Row],[Gender (M/F)]]=\"\",\"\",Table1[[#This Row],[Gender (M/F)]])","v":""},{"$f":"IF(Table1[[#This Row],[DisAdv (Y/N)]]=\"\",\"\",Table1[[#This Row],[DisAdv (Y/N)]])","v":""},{"$f":"IF(Table1[[#This Row],[SEND (E,K,N)]]=\"\",\"\",Table1[[#This Row],[SEND (E,K,N)]])","v":""},"",{"$f":"IF(LEN(Table7[[#This Row],[Pupil Name]])>0,1,0)","v":0}]
[{"$f":"IF(Table1[[#This Row],[School/Group Name]]=\"\",\"\",Table1[[#This Row],[School/Group Name]])","v":""},{"$f":"IF(Table1[[#This Row],[Pupil Name]]=\"\",\"\",Table1[[#This Row],[Pupil Name]])","v":""},{"$f":"IF(Table1[[#This Row],[Gender (M/F)]]=\"\",\"\",Table1[[#This Row],[Gender (M/F)]])","v":""},{"$f":"IF(Table1[[#This Row],[DisAdv (Y/N)]]=\"\",\"\",Table1[[#This Row],[DisAdv (Y/N)]])","v":""},{"$f":"IF(Table1[[#This Row],[SEND (E,K,N)]]=\"\",\"\",Table1[[#This Row],[SEND (E,K,N)]])","v":""},"",{"$f":"IF(LEN(Table7[[#This Row],[Pupil Name]])>0,1,0)","v":0}]